{"text_format":"1","workbook":"xlsx","n_sheets":12,"sheets":["Rangliste","Punktestand","Vorrunde","Endplatzierung","Finalrunde","Teilnehmerliste","Teams","Stat_05710","Stat_Final","Stat_Final_Teams","Stat_Platzierung","Stat_Teams_Ort"],"not_rendered":{"charts":17,"images":0,"macros":1,"external_links":0,"defined_names":15,"comments":0,"pivot_tables":0},"unopened":[],"bounds":{"document_bytes":16777216,"sheet_cells":100000,"rows_first":2000,"rows_last":500,"rows_between":2000,"halvings":0,"cell_chars":16384,"cell_head_chars":4096},"cells_cut":0,"cells_raw":0,"read":"whole","date_system":"1900"}

{"sheet":"Rangliste","index":0,"n_rows":104,"n_cols":26,"rows_kept":104,"cut":false,"hidden":false,"merged":[]}
["Stand:",{"$f":"NOW()","v":"2026-07-16T00:29:24.390"},null,null,null,null,"Stand:","2026-07-16T00:27:46.050"]
[null,{"$f":"CONCATENATE(Punktestand!Q7,Punktestand!P7,Punktestand!Q8)","v":"nach 102 von 104 Spielen"},null,null,null,null,null,"nach 102 von 104 Spielen"]
[null,null,null,null,null,null,null,null,null,null,null,null,null,null,null,"Name des Mitspielers eingeben:"]
["Rang","Name","Punkte","+/-","Rang Hilf",null,"Rang","Name","Punkte","Rang Hilf",null,"Makro",null,null,null,"Weltmeister ausgeschieden",null,"10 Punkte gemacht - Vorrunde",null,null,null,null,"Extrapunkte - Finalrunde"]
[{"$f":"IF(C5=\"\",\"\",IF(C5>0,1,\"\"))","v":1},"Stefan Wullschleger",4033,{"$f":"IFERROR(VLOOKUP(B5,$H$5:$J$104,3,FALSE)-E5,\"\")","v":1},{"$f":"IFERROR(_xlfn.RANK.EQ(C5,$C$5:$C$104,0),\"\")","v":1},null,{"$f":"IF(I5=\"\",\"\",IF(I5>=0,1,\"\"))","v":1},"Agnes Isenschmid",3693,{"$f":"IFERROR(_xlfn.RANK.EQ(I5,$I$5:$I$104,0),\"\")","v":1},null,null,null,null,null,"Manfred Brunner",null,{"$f":"Vorrunde!C9","v":1},{"$f":"Vorrunde!D9","v":"Mexiko"},{"$f":"Vorrunde!E9","v":"Südafrika"},{"$f":"Vorrunde!HO9","v":"Ruben Antonelli, André Bartholet, Roger Bartholet, Pongsapat Nott Boonaek, Manfred Brunner, Philip Brunner, Lisa D'Acunto, Vinci D'Acunto, Rafael Derungs, Dino Duvnjak, Stefan Gygli, André Lanz, Franz Lischer, Julian Merkli, Martin Rohner, Martin Schawalder, Yannick Schilliger, Bruno Silva, Aleandro Silvestri, Armando Thormann, Christoph Wälti, Markus Wagner"},null,{"$f":"Finalrunde!C11","v":73},{"$f":"Finalrunde!D11","v":"Südafrika"},{"$f":"Finalrunde!E11","v":"Kanada"},{"$f":"Finalrunde!EW11","v":"Roger Bartholet"}]
[{"$f":"IF(C6=\"\",\"\",IF(C6=C5,\"\",2))","v":2},"Agnes Isenschmid",4023,-1,2,null,{"$f":"IF(I6=\"\",\"\",IF(I6=I5,\"\",2))","v":2},"Stefan Wullschleger",3603,{"$f":"IFERROR(_xlfn.RANK.EQ(I6,$I$5:$I$104,0),\"\")","v":2},null,null,null,null,null,"Vinci D'Acunto",null,{"$f":"Vorrunde!C10","v":2},{"$f":"Vorrunde!D10","v":"Südkorea"},{"$f":"Vorrunde!E10","v":"Tschechien"},{"$f":"Vorrunde!HO10","v":"Panos Agorastos, Mara Beck, Manuel Brunner, Oli Christiansen, Laurent Grosse, Robin Gygli, Florian Haab, Agnes Isenschmid, Martin Marthaler, Lynn Rüegg, Evelyne Schenk"},null,{"$f":"Finalrunde!C12","v":74},{"$f":"Finalrunde!D12","v":"Deutschland"},{"$f":"Finalrunde!E12","v":"Paraguay"},{"$f":"Finalrunde!EW12","v":""}]
[{"$f":"IF(C7=\"\",\"\",IF(C7=C6,\"\",3))","v":3},"Martin Rohner",3637,19,3,null,{"$f":"IF(I7=\"\",\"\",IF(I7=I6,\"\",3))","v":3},"Marc Lütolf",3579,3,null,null,null,null,null,"Erich Schommarz",null,{"$f":"Vorrunde!C11","v":3},{"$f":"Vorrunde!D11","v":"Kanada"},{"$f":"Vorrunde!E11","v":"Bosnien-Herz."},{"$f":"Vorrunde!HO11","v":"Panos Agorastos, Oli Christiansen, Javier Cruz, Leo Rodrigues da Costa, Lisa D'Acunto, Andreia Gomes, Franz Lischer, Martin Marthaler, Petra Rauscher, Michael Rüegg, Yannick Schilliger, Aleandro Silvestri, Armando Thormann, Christoph Wälti"},null,{"$f":"Finalrunde!C13","v":75},{"$f":"Finalrunde!D13","v":"Holland"},{"$f":"Finalrunde!E13","v":"Marokko"},{"$f":"Finalrunde!EW13","v":"André Lanz, Yannick Schilliger"}]
[{"$f":"IF(C8=\"\",\"\",IF(C8=C7,\"\",4))","v":4},"André Lanz",3622,3,4,null,{"$f":"IF(I8=\"\",\"\",IF(I8=I7,\"\",4))","v":4},"Armando Thormann",3531,4,null,null,null,null,null,"Stefan Zachmann",null,{"$f":"Vorrunde!C12","v":4},{"$f":"Vorrunde!D12","v":"USA"},{"$f":"Vorrunde!E12","v":"Paraguay"},{"$f":"Vorrunde!HO12","v":"Ralph Schuster"},null,{"$f":"Finalrunde!C14","v":76},{"$f":"Finalrunde!D14","v":"Brasilien"},{"$f":"Finalrunde!E14","v":"Japan"},{"$f":"Finalrunde!EW14","v":"Panos Agorastos, Peter Balazs, André Bartholet, Michael Bosshart, Rafael Derungs, Armin Duvnjak, Dino Duvnjak, Andreas Isenschmid, Michael Isenschmid, Tanja Kistler, Michael Prucha, Martin Schawalder, Markus Wagner, Stefan Wullschleger"}]
[{"$f":"IF(C9=\"\",\"\",IF(C9=C8,\"\",5))","v":5},"Marc Lütolf",3579,-2,5,null,{"$f":"IF(I9=\"\",\"\",IF(I9=I8,\"\",5))","v":5},"Florian Haab",3496,5,null,null,null,null,null,"Ben Marthaler",null,{"$f":"Vorrunde!C13","v":5},{"$f":"Vorrunde!D13","v":"Haiti"},{"$f":"Vorrunde!E13","v":"Schottland"},{"$f":"Vorrunde!HO13","v":"André Bartholet, André Burkart, Oli Christiansen, Rafael Derungs, Dino Duvnjak, Djuma Duvnjak, Andreia Gomes, Pascal Keller, Tanja Kistler, Martin Marthaler, Petra Rauscher, Lynn Rüegg, Michael Rüegg"},null,{"$f":"Finalrunde!C15","v":77},{"$f":"Finalrunde!D15","v":"Frankreich"},{"$f":"Finalrunde!E15","v":"Schweden"},{"$f":"Finalrunde!EW15","v":"Leo Rodrigues da Costa, Florian González, Aleandro Silvestri"}]
[{"$f":"IF(C10=\"\",\"\",IF(C10=C9,\"\",6))","v":6},"Armando Thormann",3531,-2,6,null,{"$f":"IF(I10=\"\",\"\",IF(I10=I9,\"\",6))","v":6},"Sabine Rüegg",3492,6,null,null,null,null,null,"Yiannis Agorastos",null,{"$f":"Vorrunde!C14","v":6},{"$f":"Vorrunde!D14","v":"Australien"},{"$f":"Vorrunde!E14","v":"Türkei"},{"$f":"Vorrunde!HO14","v":"Aya Bartholet"},null,{"$f":"Finalrunde!C16","v":78},{"$f":"Finalrunde!D16","v":"Elfenbeinküste"},{"$f":"Finalrunde!E16","v":"Norwegen"},{"$f":"Finalrunde!EW16","v":"Oli Christiansen, Javier Cruz, Rui Gomes, André Lanz, Lynn Rüegg, Evelyne Schenk, Yannick Schilliger, Armando Thormann"}]
[{"$f":"IF(C11=\"\",\"\",IF(C11=C10,\"\",7))","v":7},"Florian Haab",3496,-2,7,null,{"$f":"IF(I11=\"\",\"\",IF(I11=I10,\"\",7))","v":7},"André Lanz",3472,7,null,"Einzelne Makros",null,null,null,"Philippe Bartholet",null,{"$f":"Vorrunde!C15","v":7},{"$f":"Vorrunde!D15","v":"Brasilien"},{"$f":"Vorrunde!E15","v":"Marokko"},{"$f":"Vorrunde!HO15","v":"Peter Balazs, Manfred Brunner, Philip Brunner, Timothy Gygli, André Lanz, Martin Schawalder, Armando Thormann"},null,{"$f":"Finalrunde!C17","v":79},{"$f":"Finalrunde!D17","v":"Mexiko"},{"$f":"Finalrunde!E17","v":"Ecuador"},{"$f":"Finalrunde!EW17","v":""}]
[{"$f":"IF(C12=\"\",\"\",IF(C12=C11,\"\",8))","v":8},"Sabine Rüegg",3492,-2,8,null,{"$f":"IF(I12=\"\",\"\",IF(I12=I11,\"\",8))","v":8},"Mara Beck",3466,8,null,null,null,null,null,"Rafael Derungs",null,{"$f":"Vorrunde!C16","v":8},{"$f":"Vorrunde!D16","v":"Katar"},{"$f":"Vorrunde!E16","v":"Schweiz"},{"$f":"Vorrunde!HO16","v":"Andreia Gomes"},null,{"$f":"Finalrunde!C18","v":80},{"$f":"Finalrunde!D18","v":"England"},{"$f":"Finalrunde!E18","v":"DR Kongo"},{"$f":"Finalrunde!EW18","v":"Javier Cruz"}]
[{"$f":"IF(C13=\"\",\"\",IF(C13=C12,\"\",9))","v":9},"Javier Cruz",3478,5,9,null,{"$f":"IF(I13=\"\",\"\",IF(I13=I12,\"\",9))","v":9},"Michael Isenschmid",3444,9,null,null,null,null,null,"Florian González",null,{"$f":"Vorrunde!C17","v":9},{"$f":"Vorrunde!D17","v":"Elfenbeinküste"},{"$f":"Vorrunde!E17","v":"Ecuador"},{"$f":"Vorrunde!HO17","v":"Oli Christiansen, Pascal Keller, Michael Rüegg"},null,{"$f":"Finalrunde!C19","v":81},{"$f":"Finalrunde!D19","v":"USA"},{"$f":"Finalrunde!E19","v":"Bosnien-Herz."},{"$f":"Finalrunde!EW19","v":"Rafael Derungs, Reto Gygli, Reto Treichler"}]
[{"$f":"IF(C14=\"\",\"\",IF(C14=C13,\"\",10))","v":10},"Mara Beck",3466,-2,10,null,{"$f":"IF(I14=\"\",\"\",IF(I14=I13,\"\",10))","v":10},"Yannick Schilliger",3413,10,null,null,null,null,null,"Nicolas Mack",null,{"$f":"Vorrunde!C18","v":10},{"$f":"Vorrunde!D18","v":"Deutschland"},{"$f":"Vorrunde!E18","v":"Curacao"},{"$f":"Vorrunde!HO18","v":""},null,{"$f":"Finalrunde!C20","v":82},{"$f":"Finalrunde!D20","v":"Belgien"},{"$f":"Finalrunde!E20","v":"Senegal"},{"$f":"Finalrunde!EW20","v":""}]
[{"$f":"IF(C15=\"\",\"\",IF(C15=C14,\"\",11))","v":11},"Markus Wagner",3453,9,11,null,{"$f":"IF(I15=\"\",\"\",IF(I15=I14,\"\",11))","v":11},"Michael Bosshart",3410,11,null,null,null,null,null,"Jingwen Wang",null,{"$f":"Vorrunde!C19","v":11},{"$f":"Vorrunde!D19","v":"Holland"},{"$f":"Vorrunde!E19","v":"Japan"},{"$f":"Vorrunde!HO19","v":"Ambra Antonelli, Ruben Antonelli, Javier Cruz, Lisa D'Acunto, Niva D'Acunto, Vinci D'Acunto, Rui Gomes, Agnes Isenschmid, Telmo Oliveira, Lechena Pek, Stefan Principe, Jingwen Wang"},null,{"$f":"Finalrunde!C21","v":83},{"$f":"Finalrunde!D21","v":"Portugal"},{"$f":"Finalrunde!E21","v":"Kroatien"},{"$f":"Finalrunde!EW21","v":"Yiannis Agorastos, Stefan Gygli, Sabine Rüegg"}]
[{"$f":"IF(C16=\"\",\"\",IF(C16=C15,\"\",12))","v":12},"Michael Isenschmid",3444,-3,12,null,{"$f":"IF(I16=\"\",\"\",IF(I16=I15,\"\",12))","v":12},"Aleandro Silvestri",3336,12,null,null,null,null,null,"Panos Agorastos",null,{"$f":"Vorrunde!C20","v":12},{"$f":"Vorrunde!D20","v":"Schweden"},{"$f":"Vorrunde!E20","v":"Tunesien"},{"$f":"Vorrunde!HO20","v":""},null,{"$f":"Finalrunde!C22","v":84},{"$f":"Finalrunde!D22","v":"Spanien"},{"$f":"Finalrunde!E22","v":"Österreich"},{"$f":"Finalrunde!EW22","v":"Mara Beck, Pongsapat Nott Boonaek, Leo Rodrigues da Costa, Vinci D'Acunto, Laurent Grosse, Florian Haab, Agnes Isenschmid, Franz Lischer, Telmo Oliveira, Stefan Principe, Michael Rüegg, Sabine Rüegg, Armando Thormann, Jingwen Wang"}]
[{"$f":"IF(C17=\"\",\"\",IF(C17=C16,\"\",13))","v":13},"Yannick Schilliger",3413,-3,13,null,{"$f":"IF(I17=\"\",\"\",IF(I17=I16,\"\",13))","v":13},"Djuma Duvnjak",3330,13,null,null,null,null,null,"Ruben Antonelli",null,{"$f":"Vorrunde!C21","v":13},{"$f":"Vorrunde!D21","v":"Saudi-Arabien"},{"$f":"Vorrunde!E21","v":"Uruguay"},{"$f":"Vorrunde!HO21","v":"Marco Antonelli, Ruben Antonelli, Deliz González, Martin Oroshi"},null,{"$f":"Finalrunde!C23","v":85},{"$f":"Finalrunde!D23","v":"Schweiz"},{"$f":"Finalrunde!E23","v":"Algerien"},{"$f":"Finalrunde!EW23","v":"Roger Bartholet, Vinci D'Acunto, Dino Duvnjak, Djuma Duvnjak, Reto Gygli, Robin Gygli, Stefan Gygli, Philipp Meyer, Stefan Principe, Armando Thormann"}]
[{"$f":"IF(C18=\"\",\"\",IF(C18=C17,\"\",14))","v":14},"Michael Bosshart",3410,-3,14,null,{"$f":"IF(I18=\"\",\"\",IF(I18=I17,\"\",14))","v":14},"Javier Cruz",3328,14,null,null,null,null,null,"Leo Rodrigues da Costa",null,{"$f":"Vorrunde!C22","v":14},{"$f":"Vorrunde!D22","v":"Spanien"},{"$f":"Vorrunde!E22","v":"Kap Verde"},{"$f":"Vorrunde!HO22","v":""},null,{"$f":"Finalrunde!C24","v":86},{"$f":"Finalrunde!D24","v":"Argentinien"},{"$f":"Finalrunde!E24","v":"Kap Verde"},{"$f":"Finalrunde!EW24","v":""}]
[{"$f":"IF(C19=\"\",\"\",IF(C19=C18,\"\",15))","v":15},"Pongsapat Nott Boonaek",3380,8,15,null,{"$f":"IF(I19=\"\",\"\",IF(I19=I18,\"\",15))","v":15},"Nicolas Mack",3323,15,null,null,null,null,null,"Armin Duvnjak",null,{"$f":"Vorrunde!C23","v":15},{"$f":"Vorrunde!D23","v":"Iran"},{"$f":"Vorrunde!E23","v":"Neuseeland"},{"$f":"Vorrunde!HO23","v":"Manuel Brunner, Ralph Schuster"},null,{"$f":"Finalrunde!C25","v":87},{"$f":"Finalrunde!D25","v":"Kolumbien"},{"$f":"Finalrunde!E25","v":"Ghana"},{"$f":"Finalrunde!EW25","v":"Vinci D'Acunto"}]
[{"$f":"IF(C20=\"\",\"\",IF(C20=C19,\"\",16))","v":16},"Michael Prucha",3358,12,16,null,{"$f":"IF(I20=\"\",\"\",IF(I20=I19,\"\",16))","v":16},"Florian González",3319,16,null,null,null,null,null,"Andreia Gomes",null,{"$f":"Vorrunde!C24","v":16},{"$f":"Vorrunde!D24","v":"Belgien"},{"$f":"Vorrunde!E24","v":"Ägypten"},{"$f":"Vorrunde!HO24","v":"Panos Agorastos, Rui Gomes, Timothy Gygli, Aiden Jones, Ben Marthaler, Elias Marty, Stefan Principe, Michael Rüegg, Christoph Wälti"},null,{"$f":"Finalrunde!C26","v":88},{"$f":"Finalrunde!D26","v":"Australien"},{"$f":"Finalrunde!E26","v":"Ägypten"},{"$f":"Finalrunde!EW26","v":""}]
[{"$f":"IF(C21=\"\",\"\",IF(C21=C20,\"\",17))","v":17},"Aleandro Silvestri",3336,-5,17,null,{"$f":"IF(I21=\"\",\"\",IF(I21=I20,\"\",17))","v":17},"Julian Merkli",3302,17,null,null,null,null,null,"Rui Gomes",null,{"$f":"Vorrunde!C25","v":17},{"$f":"Vorrunde!D25","v":"Frankreich"},{"$f":"Vorrunde!E25","v":"Senegal"},{"$f":"Vorrunde!HO25","v":"Ambra Antonelli, Ruben Antonelli, Aya Bartholet, Pongsapat Nott Boonaek, Michael Bosshart, Nicolas Brunner, Leo Rodrigues da Costa, Armin Duvnjak, Florian González, Laurent Grosse, Sarina Gygli, Timothy Gygli, Florian Haab, Agnes Isenschmid, Michael Isenschmid, Elias Marty, Julian Merkli, Petra Rauscher, Sabine Rüegg, Yannick Schilliger, Reto Treichler, Christoph Wälti"}]
[{"$f":"IF(C22=\"\",\"\",IF(C22=C21,\"\",18))","v":18},"Djuma Duvnjak",3330,-5,18,null,{"$f":"IF(I22=\"\",\"\",IF(I22=I21,\"\",18))","v":18},"Dino Duvnjak",3300,18,null,null,null,null,null,"Selina Gygli",null,{"$f":"Vorrunde!C26","v":18},{"$f":"Vorrunde!D26","v":"Irak"},{"$f":"Vorrunde!E26","v":"Norwegen"},{"$f":"Vorrunde!HO26","v":""},null,{"$f":"Finalrunde!C28","v":89},{"$f":"Finalrunde!D28","v":"Paraguay"},{"$f":"Finalrunde!E28","v":"Frankreich"},{"$f":"Finalrunde!EW28","v":""}]
[{"$f":"IF(C23=\"\",\"\",IF(C23=C22,\"\",19))","v":19},"Nicolas Mack",3323,-4,19,null,{"$f":"IF(I23=\"\",\"\",IF(I23=I22,\"\",19))","v":19},"Marco Antonelli",3299,19,null,null,null,null,null,"Telmo Oliveira",null,{"$f":"Vorrunde!C27","v":19},{"$f":"Vorrunde!D27","v":"Argentinien"},{"$f":"Vorrunde!E27","v":"Algerien"},{"$f":"Vorrunde!HO27","v":"Ruben Antonelli, Philippe Bartholet, Mara Beck, Manfred Brunner, Philip Brunner, Leo Rodrigues da Costa, Andreia Gomes, Timothy Gygli, Florian Haab, Nicolas Mack, Mauro Marini, Martin Marthaler, Ivo und Brigitte Rüdemann, Bruno Silva, Reto Treichler, Marc Walthard"},null,{"$f":"Finalrunde!C29","v":90},{"$f":"Finalrunde!D29","v":"Kanada"},{"$f":"Finalrunde!E29","v":"Marokko"},{"$f":"Finalrunde!EW29","v":"Ruben Antonelli"}]
[{"$f":"IF(C24=\"\",\"\",IF(C24=C23,\"\",20))","v":20},"Florian González",3319,-4,20,null,{"$f":"IF(I24=\"\",\"\",IF(I24=I23,\"\",20))","v":20},"Markus Wagner",3273,20,null,null,null,null,null,"Lynn Rüegg",null,{"$f":"Vorrunde!C28","v":20},{"$f":"Vorrunde!D28","v":"Österreich"},{"$f":"Vorrunde!E28","v":"Jordanien"},{"$f":"Vorrunde!HO28","v":"Dino Duvnjak, Florian Haab, Michael Isenschmid"},null,{"$f":"Finalrunde!C30","v":91},{"$f":"Finalrunde!D30","v":"Brasilien"},{"$f":"Finalrunde!E30","v":"Norwegen"},{"$f":"Finalrunde!EW30","v":"Agnes Isenschmid, Marc Lütolf, Sabine Rüegg"}]
[{"$f":"IF(C25=\"\",\"\",IF(C25=C24,\"\",21))","v":21},"Julian Merkli",3302,-4,21,null,{"$f":"IF(I25=\"\",\"\",IF(I25=I24,\"\",21))","v":21},"Andreas Isenschmid",3241,21,null,null,null,null,null,"Bruno Silva",null,{"$f":"Vorrunde!C29","v":21},{"$f":"Vorrunde!D29","v":"Ghana"},{"$f":"Vorrunde!E29","v":"Panama"},{"$f":"Vorrunde!HO29","v":"Nicolas Brunner, André Burkart, Oli Christiansen, Lisa D'Acunto, Dino Duvnjak, Djuma Duvnjak, Florian González, Selina Gygli, Stefan Gygli, Timothy Gygli, Pascal Keller, Marc Lütolf, Lynn Rüegg, Michael Rüegg, Christoph Wälti, Markus Wagner"},null,{"$f":"Finalrunde!C31","v":92},{"$f":"Finalrunde!D31","v":"Mexiko"},{"$f":"Finalrunde!E31","v":"England"},{"$f":"Finalrunde!EW31","v":""}]
[{"$f":"IF(C26=\"\",\"\",IF(C26=C25,\"\",22))","v":22},"Dino Duvnjak",3300,-4,22,null,{"$f":"IF(I26=\"\",\"\",IF(I26=I25,\"\",22))","v":22},"Martin Rohner",3207,22,null,null,null,null,null,"Lea Treichler",null,{"$f":"Vorrunde!C30","v":22},{"$f":"Vorrunde!D30","v":"England"},{"$f":"Vorrunde!E30","v":"Kroatien"},{"$f":"Vorrunde!HO30","v":"Nicolas Brunner, Lynn Rüegg, Lea Treichler"},null,{"$f":"Finalrunde!C32","v":93},{"$f":"Finalrunde!D32","v":"Portugal"},{"$f":"Finalrunde!E32","v":"Spanien"},{"$f":"Finalrunde!EW32","v":""}]
[{"$f":"IF(C27=\"\",\"\",IF(C27=C26,\"\",23))","v":23},"Marco Antonelli",3299,-4,23,null,{"$f":"IF(I27=\"\",\"\",IF(I27=I26,\"\",23))","v":23},"Pongsapat Nott Boonaek",3200,23,null,null,null,null,null,"Philip Brunner",null,{"$f":"Vorrunde!C31","v":23},{"$f":"Vorrunde!D31","v":"Portugal"},{"$f":"Vorrunde!E31","v":"DR Kongo"},{"$f":"Vorrunde!HO31","v":""},null,{"$f":"Finalrunde!C33","v":94},{"$f":"Finalrunde!D33","v":"USA"},{"$f":"Finalrunde!E33","v":"Belgien"},{"$f":"Finalrunde!EW33","v":""}]
[{"$f":"IF(C28=\"\",\"\",IF(C28=C27,\"\",24))","v":24},"Martin Schawalder",3263,10,24,null,{"$f":"IF(I28=\"\",\"\",IF(I28=I27,\"\",24))","v":24},"Lisa D'Acunto",3192,24,null,null,null,null,null,"Ambra Antonelli",null,{"$f":"Vorrunde!C32","v":24},{"$f":"Vorrunde!D32","v":"Usbekistan"},{"$f":"Vorrunde!E32","v":"Kolumbien"},{"$f":"Vorrunde!HO32","v":"Mara Beck, Goran Djukic, Michael Isenschmid, Yannick Schilliger, Ralph Schuster"},null,{"$f":"Finalrunde!C34","v":95},{"$f":"Finalrunde!D34","v":"Argentinien"},{"$f":"Finalrunde!E34","v":"Ägypten"},{"$f":"Finalrunde!EW34","v":"Manuel Brunner"}]
[{"$f":"IF(C29=\"\",\"\",IF(C29=C28,\"\",25))","v":""},"Aya Bartholet",3263,18,24,null,{"$f":"IF(I29=\"\",\"\",IF(I29=I28,\"\",25))","v":25},"Timothy Gygli",3184,25,null,null,null,null,null,"Roger Bartholet",null,{"$f":"Vorrunde!C33","v":25},{"$f":"Vorrunde!D33","v":"Tschechien"},{"$f":"Vorrunde!E33","v":"Südafrika"},{"$f":"Vorrunde!HO33","v":"Aya Bartholet, Manfred Brunner, Manuel Brunner, André Burkart, Rui Gomes, Deliz González, Laurent Grosse, Robin Gygli, Stefan Gygli, Andreas Isenschmid, André Lanz, Franz Lischer, Marc Lütolf, Julian Merkli, Lynn Rüegg, Michael Rüegg, Evelyne Schenk, Yannick Schilliger, Ralph Schuster, Christoph Wälti"},null,{"$f":"Finalrunde!C35","v":96},{"$f":"Finalrunde!D35","v":"Schweiz"},{"$f":"Finalrunde!E35","v":"Kolumbien"},{"$f":"Finalrunde!EW35","v":""}]
[{"$f":"IF(C30=\"\",\"\",IF(C30=C29,\"\",26))","v":26},"Andreas Isenschmid",3241,-5,26,null,{"$f":"IF(I30=\"\",\"\",IF(I30=I29,\"\",26))","v":26},"Telmo Oliveira",3182,26,null,null,null,null,null,"Peter Balazs",null,{"$f":"Vorrunde!C34","v":26},{"$f":"Vorrunde!D34","v":"Schweiz"},{"$f":"Vorrunde!E34","v":"Bosnien-Herz."},{"$f":"Vorrunde!HO34","v":"Nicolas Brunner, Stefan Principe"}]
[{"$f":"IF(C31=\"\",\"\",IF(C31=C30,\"\",27))","v":27},"Bruno Silva",3218,8,27,null,{"$f":"IF(I31=\"\",\"\",IF(I31=I30,\"\",27))","v":""},"Robin Gygli",3182,26,null,null,null,null,null,"André Bartholet",null,{"$f":"Vorrunde!C35","v":27},{"$f":"Vorrunde!D35","v":"Kanada"},{"$f":"Vorrunde!E35","v":"Katar"},{"$f":"Vorrunde!HO35","v":""},null,{"$f":"Finalrunde!C37","v":97},{"$f":"Finalrunde!D37","v":"Frankreich"},{"$f":"Finalrunde!E37","v":"Marokko"},{"$f":"Finalrunde!EW37","v":"Nicolas Brunner, Leo Rodrigues da Costa, Rafael Derungs, Armin Duvnjak, Julian Merkli"}]
[{"$f":"IF(C32=\"\",\"\",IF(C32=C31,\"\",28))","v":28},"Peter Balazs",3202,8,28,null,{"$f":"IF(I32=\"\",\"\",IF(I32=I31,\"\",28))","v":28},"Michael Prucha",3178,28,null,null,null,null,null,"Pongsapat Nott Boonaek",null,{"$f":"Vorrunde!C36","v":28},{"$f":"Vorrunde!D36","v":"Mexiko"},{"$f":"Vorrunde!E36","v":"Südkorea"},{"$f":"Vorrunde!HO36","v":"André Bartholet, Lisa D'Acunto, Niva D'Acunto, Vinci D'Acunto, Dino Duvnjak, Djuma Duvnjak, Florian González, Sarina Gygli, Aiden Jones, Pascal Keller, Philipp Meyer"},null,{"$f":"Finalrunde!C38","v":98},{"$f":"Finalrunde!D38","v":"Spanien"},{"$f":"Finalrunde!E38","v":"Belgien"},{"$f":"Finalrunde!EW38","v":"Panos Agorastos, Peter Balazs, Philippe Bartholet, Mara Beck, Pongsapat Nott Boonaek, Dino Duvnjak, Djuma Duvnjak, Deliz González, Florian González, Andreas Isenschmid, Michael Isenschmid, Tanja Kistler, Marc Lütolf, Nicolas Mack, Julian Merkli, Martin Oroshi, Aleandro Silvestri, Stefan Wullschleger"}]
[{"$f":"IF(C33=\"\",\"\",IF(C33=C32,\"\",29))","v":29},"Lisa D'Acunto",3192,-5,29,null,{"$f":"IF(I33=\"\",\"\",IF(I33=I32,\"\",29))","v":29},"Ivo und Brigitte Rüdemann",3170,29,null,null,null,null,null,"Manuel Brunner",null,{"$f":"Vorrunde!C37","v":29},{"$f":"Vorrunde!D37","v":"Brasilien"},{"$f":"Vorrunde!E37","v":"Haiti"},{"$f":"Vorrunde!HO37","v":"Panos Agorastos, Aya Bartholet, Philippe Bartholet, Pongsapat Nott Boonaek, Michael Bosshart, Philip Brunner, Javier Cruz, Rafael Derungs, Goran Djukic, Dino Duvnjak, Djuma Duvnjak, Selina Gygli, Florian Haab, Agnes Isenschmid, André Lanz, Julian Merkli, Ivo und Brigitte Rüdemann, Michael Rüegg, Sabine Rüegg, Martin Schawalder, Marc Walthard, Stefan Wullschleger"},null,{"$f":"Finalrunde!C39","v":99},{"$f":"Finalrunde!D39","v":"Norwegen"},{"$f":"Finalrunde!E39","v":"England"},{"$f":"Finalrunde!EW39","v":"Agnes Isenschmid, Marc Lütolf"}]
[{"$f":"IF(C34=\"\",\"\",IF(C34=C33,\"\",30))","v":30},"Timothy Gygli",3184,-5,30,null,{"$f":"IF(I34=\"\",\"\",IF(I34=I33,\"\",30))","v":30},"Leo Rodrigues da Costa",3159,30,null,null,null,null,null,"Nicolas Brunner",null,{"$f":"Vorrunde!C38","v":30},{"$f":"Vorrunde!D38","v":"Schottland"},{"$f":"Vorrunde!E38","v":"Marokko"},{"$f":"Vorrunde!HO38","v":"André Bartholet, Manuel Brunner, André Burkart, Rafael Derungs, Dino Duvnjak, Djuma Duvnjak, Aiden Jones, Pascal Keller, Elias Marty"},null,{"$f":"Finalrunde!C40","v":100},{"$f":"Finalrunde!D40","v":"Argentinien"},{"$f":"Finalrunde!E40","v":"Schweiz"},{"$f":"Finalrunde!EW40","v":"Mauro Marini, Sabine Rüegg"}]
[{"$f":"IF(C35=\"\",\"\",IF(C35=C34,\"\",31))","v":31},"Telmo Oliveira",3182,-5,31,null,{"$f":"IF(I35=\"\",\"\",IF(I35=I34,\"\",31))","v":31},"Reto Gygli",3129,31,null,null,null,null,null,"André Burkart",null,{"$f":"Vorrunde!C39","v":31},{"$f":"Vorrunde!D39","v":"Türkei"},{"$f":"Vorrunde!E39","v":"Paraguay"},{"$f":"Vorrunde!HO39","v":"Stefan Gygli, Pascal Keller"}]
[{"$f":"IF(C36=\"\",\"\",IF(C36=C35,\"\",32))","v":""},"Robin Gygli",3182,-5,31,null,{"$f":"IF(I36=\"\",\"\",IF(I36=I35,\"\",32))","v":32},"Lechena Pek",3122,32,null,null,null,null,null,"Lisa D'Acunto",null,{"$f":"Vorrunde!C40","v":32},{"$f":"Vorrunde!D40","v":"USA"},{"$f":"Vorrunde!E40","v":"Australien"},{"$f":"Vorrunde!HO40","v":"Marco Antonelli, Ruben Antonelli, Peter Balazs, Philip Brunner, Leo Rodrigues da Costa, Rui Gomes, Robin Gygli, Florian Haab, Agnes Isenschmid, Nicolas Mack, Martin Oroshi, Michael Prucha, Aleandro Silvestri, Markus Wagner"},null,{"$f":"Finalrunde!C42","v":101},{"$f":"Finalrunde!D42","v":"Frankreich"},{"$f":"Finalrunde!E42","v":"Spanien"},{"$f":"Finalrunde!EW42","v":""}]
[{"$f":"IF(C37=\"\",\"\",IF(C37=C36,\"\",33))","v":33},"Ivo und Brigitte Rüdemann",3170,-4,33,null,{"$f":"IF(I37=\"\",\"\",IF(I37=I36,\"\",33))","v":33},"Stefan Gygli",3101,33,null,null,null,null,null,"Goran Djukic",null,{"$f":"Vorrunde!C41","v":33},{"$f":"Vorrunde!D41","v":"Deutschland"},{"$f":"Vorrunde!E41","v":"Elfenbeinküste"},{"$f":"Vorrunde!HO41","v":"Panos Agorastos, Ruben Antonelli, Aya Bartholet, Nicolas Brunner, Philip Brunner, Rafael Derungs, Deliz González, Laurent Grosse, André Lanz, Marc Lütolf, Philipp Meyer, Michael Prucha, Michael Rüegg, Martin Schawalder, Yannick Schilliger, Erich Schommarz, Bruno Silva, Reto Treichler, Stefan Wullschleger"},null,{"$f":"Finalrunde!C43","v":102},{"$f":"Finalrunde!D43","v":"England"},{"$f":"Finalrunde!E43","v":"Argentinien"},{"$f":"Finalrunde!EW43","v":"Martin Marthaler, Martin Rohner, Stefan Wullschleger"}]
[{"$f":"IF(C38=\"\",\"\",IF(C38=C37,\"\",34))","v":34},"Nicolas Brunner",3162,4,34,null,{"$f":"IF(I38=\"\",\"\",IF(I38=I37,\"\",34))","v":34},"Martin Schawalder",3083,34,null,null,null,null,null,"Robin Gygli",null,{"$f":"Vorrunde!C42","v":34},{"$f":"Vorrunde!D42","v":"Ecuador"},{"$f":"Vorrunde!E42","v":"Curacao"},{"$f":"Vorrunde!HO42","v":"Rui Gomes, Lechena Pek, Evelyne Schenk"}]
[{"$f":"IF(C39=\"\",\"\",IF(C39=C38,\"\",35))","v":35},"Leo Rodrigues da Costa",3159,-5,35,null,{"$f":"IF(I39=\"\",\"\",IF(I39=I38,\"\",35))","v":35},"Bruno Silva",3068,35,null,null,null,null,null,"Timothy Gygli",null,{"$f":"Vorrunde!C43","v":35},{"$f":"Vorrunde!D43","v":"Holland"},{"$f":"Vorrunde!E43","v":"Schweden"},{"$f":"Vorrunde!HO43","v":""},null,{"$f":"Finalrunde!C45","v":103},{"$f":"Finalrunde!D45","v":"Frankreich"},{"$f":"Finalrunde!E45","v":"England"},{"$f":"Finalrunde!EW45","v":""}]
[{"$f":"IF(C40=\"\",\"\",IF(C40=C39,\"\",36))","v":36},"Reto Gygli",3129,-5,36,null,{"$f":"IF(I40=\"\",\"\",IF(I40=I39,\"\",36))","v":36},"Peter Balazs",3022,36,null,null,null,null,null,"Aiden Jones",null,{"$f":"Vorrunde!C44","v":36},{"$f":"Vorrunde!D44","v":"Tunesien"},{"$f":"Vorrunde!E44","v":"Japan"},{"$f":"Vorrunde!HO44","v":""}]
[{"$f":"IF(C41=\"\",\"\",IF(C41=C40,\"\",37))","v":37},"Sarina Gygli",3125,21,37,null,{"$f":"IF(I41=\"\",\"\",IF(I41=I40,\"\",37))","v":37},"André Bartholet",3005,37,null,null,null,null,null,"Pascal Keller",null,{"$f":"Vorrunde!C45","v":37},{"$f":"Vorrunde!D45","v":"Uruguay"},{"$f":"Vorrunde!E45","v":"Kap Verde"},{"$f":"Vorrunde!HO45","v":"Rui Gomes"},null,{"$f":"Finalrunde!C47","v":104},{"$f":"Finalrunde!D47","v":"Spanien"},{"$f":"Finalrunde!E47","v":"Argentinien"},{"$f":"Finalrunde!EW47","v":""}]
[{"$f":"IF(C42=\"\",\"\",IF(C42=C41,\"\",38))","v":38},"Lechena Pek",3122,-6,38,null,{"$f":"IF(I42=\"\",\"\",IF(I42=I41,\"\",38))","v":38},"Nicolas Brunner",2982,38,null,null,null,null,null,"Franz Lischer",null,{"$f":"Vorrunde!C46","v":38},{"$f":"Vorrunde!D46","v":"Spanien"},{"$f":"Vorrunde!E46","v":"Saudi-Arabien"},{"$f":"Vorrunde!HO46","v":"Roger Bartholet, Armin Duvnjak, Robin Gygli, Stefan Gygli, Philipp Meyer, Lea Treichler, Christoph Wälti"}]
[{"$f":"IF(C43=\"\",\"\",IF(C43=C42,\"\",39))","v":39},"Elias Marty",3108,4,39,null,{"$f":"IF(I43=\"\",\"\",IF(I43=I42,\"\",39))","v":39},"Michael Rüegg",2972,39,null,null,null,null,null,"Mauro Marini",null,{"$f":"Vorrunde!C47","v":39},{"$f":"Vorrunde!D47","v":"Belgien"},{"$f":"Vorrunde!E47","v":"Iran"},{"$f":"Vorrunde!HO47","v":""}]
[{"$f":"IF(C44=\"\",\"\",IF(C44=C43,\"\",40))","v":40},"Stefan Gygli",3101,-7,40,null,{"$f":"IF(I44=\"\",\"\",IF(I44=I43,\"\",40))","v":40},"Rafael Derungs",2944,40,null,null,null,null,null,"Philipp Meyer",null,{"$f":"Vorrunde!C48","v":40},{"$f":"Vorrunde!D48","v":"Neuseeland"},{"$f":"Vorrunde!E48","v":"Ägypten"},{"$f":"Vorrunde!HO48","v":"Peter Balazs, Nicolas Brunner, Niva D'Acunto, Vinci D'Acunto, Armin Duvnjak, Agnes Isenschmid, Michael Isenschmid, André Lanz, Martin Oroshi"}]
[{"$f":"IF(C45=\"\",\"\",IF(C45=C44,\"\",41))","v":41},"Martin Marthaler",3094,27,41,null,{"$f":"IF(I45=\"\",\"\",IF(I45=I44,\"\",41))","v":41},"Rui Gomes",2943,41,null,null,null,null,null,"Martin Oroshi",null,{"$f":"Vorrunde!C49","v":41},{"$f":"Vorrunde!D49","v":"Norwegen"},{"$f":"Vorrunde!E49","v":"Senegal"},{"$f":"Vorrunde!HO49","v":"Nicolas Brunner, Lynn Rüegg"}]
[{"$f":"IF(C46=\"\",\"\",IF(C46=C45,\"\",42))","v":42},"Rui Gomes",3093,-1,42,null,{"$f":"IF(I46=\"\",\"\",IF(I46=I45,\"\",42))","v":42},"Aya Bartholet",2933,42,null,null,null,null,null,"Stefan Principe",null,{"$f":"Vorrunde!C50","v":42},{"$f":"Vorrunde!D50","v":"Frankreich"},{"$f":"Vorrunde!E50","v":"Irak"},{"$f":"Vorrunde!HO50","v":"Ambra Antonelli, Ruben Antonelli, Roger Bartholet, Michael Bosshart, Manfred Brunner, Philip Brunner, Leo Rodrigues da Costa, Rafael Derungs, Goran Djukic, Rui Gomes, Laurent Grosse, Robin Gygli, Stefan Gygli, Florian Haab, Agnes Isenschmid, Andreas Isenschmid, André Lanz, Franz Lischer, Nicolas Mack, Petra Rauscher, Martin Rohner, Martin Schawalder, Yannick Schilliger, Erich Schommarz, Aleandro Silvestri, Markus Wagner, Marc Walthard, Jingwen Wang"}]
[{"$f":"IF(C47=\"\",\"\",IF(C47=C46,\"\",43))","v":43},"Rafael Derungs",3044,-3,43,null,{"$f":"IF(I47=\"\",\"\",IF(I47=I46,\"\",43))","v":43},"Elias Marty",2928,43,null,null,null,null,null,"Petra Rauscher",null,{"$f":"Vorrunde!C51","v":43},{"$f":"Vorrunde!D51","v":"Argentinien"},{"$f":"Vorrunde!E51","v":"Österreich"},{"$f":"Vorrunde!HO51","v":"André Bartholet, Philippe Bartholet, Roger Bartholet, Pongsapat Nott Boonaek, Lisa D'Acunto, Goran Djukic, Laurent Grosse, Tanja Kistler, Franz Lischer, Nicolas Mack, Elias Marty, Julian Merkli, Martin Rohner, Ivo und Brigitte Rüdemann, Martin Schawalder, Markus Wagner"}]
[{"$f":"IF(C48=\"\",\"\",IF(C48=C47,\"\",44))","v":44},"André Bartholet",3005,-7,44,null,{"$f":"IF(I48=\"\",\"\",IF(I48=I47,\"\",44))","v":44},"Philip Brunner",2926,44,null,null,null,null,null,"Armando Thormann",null,{"$f":"Vorrunde!C52","v":44},{"$f":"Vorrunde!D52","v":"Jordanien"},{"$f":"Vorrunde!E52","v":"Algerien"},{"$f":"Vorrunde!HO52","v":"Panos Agorastos, Peter Balazs, Mara Beck, Reto Gygli, Selina Gygli, Andreas Isenschmid, Nicolas Mack, Ben Marthaler, Philipp Meyer, Martin Oroshi, Petra Rauscher, Michael Rüegg, Reto Treichler, Stefan Wullschleger"}]
[{"$f":"IF(C49=\"\",\"\",IF(C49=C48,\"\",45))","v":45},"Michael Rüegg",2972,-6,45,null,{"$f":"IF(I49=\"\",\"\",IF(I49=I48,\"\",45))","v":45},"Christoph Wälti",2923,45,null,null,null,null,null,"Reto Treichler",null,{"$f":"Vorrunde!C53","v":45},{"$f":"Vorrunde!D53","v":"England"},{"$f":"Vorrunde!E53","v":"Ghana"},{"$f":"Vorrunde!HO53","v":""}]
[{"$f":"IF(C50=\"\",\"\",IF(C50=C49,\"\",46))","v":46},"Mauro Marini",2965,13,46,null,{"$f":"IF(I50=\"\",\"\",IF(I50=I49,\"\",46))","v":46},"Pascal Keller",2905,46,null,null,null,null,null,"Christoph Wälti",null,{"$f":"Vorrunde!C54","v":46},{"$f":"Vorrunde!D54","v":"Panama"},{"$f":"Vorrunde!E54","v":"Kroatien"},{"$f":"Vorrunde!HO54","v":"André Bartholet, Aya Bartholet, Philippe Bartholet, André Burkart, Vinci D'Acunto, Dino Duvnjak, Sarina Gygli, Stefan Gygli, Aiden Jones, Pascal Keller, Franz Lischer, Bruno Silva"}]
[{"$f":"IF(C51=\"\",\"\",IF(C51=C50,\"\",47))","v":47},"Philip Brunner",2926,-3,47,null,{"$f":"IF(I51=\"\",\"\",IF(I51=I50,\"\",47))","v":47},"Reto Treichler",2898,47,null,null,null,null,null,"Oli Christiansen",null,{"$f":"Vorrunde!C55","v":47},{"$f":"Vorrunde!D55","v":"Portugal"},{"$f":"Vorrunde!E55","v":"Usbekistan"},{"$f":"Vorrunde!HO55","v":"Rui Gomes, Lea Treichler, Stefan Zachmann"}]
[{"$f":"IF(C52=\"\",\"\",IF(C52=C51,\"\",48))","v":48},"Oli Christiansen",2924,14,48,null,{"$f":"IF(I52=\"\",\"\",IF(I52=I51,\"\",48))","v":48},"Deliz González",2886,48,null,null,null,null,null,"Dino Duvnjak",null,{"$f":"Vorrunde!C56","v":48},{"$f":"Vorrunde!D56","v":"Kolumbien"},{"$f":"Vorrunde!E56","v":"DR Kongo"},{"$f":"Vorrunde!HO56","v":"André Bartholet, Philippe Bartholet, Manuel Brunner, Oli Christiansen, Andreia Gomes, Pascal Keller, Bruno Silva"}]
[{"$f":"IF(C53=\"\",\"\",IF(C53=C52,\"\",49))","v":49},"Christoph Wälti",2923,-4,49,null,{"$f":"IF(I53=\"\",\"\",IF(I53=I52,\"\",49))","v":49},"Evelyne Schenk",2885,49,null,null,null,null,null,"Reto Gygli",null,{"$f":"Vorrunde!C57","v":49},{"$f":"Vorrunde!D57","v":"Schottland"},{"$f":"Vorrunde!E57","v":"Brasilien"},{"$f":"Vorrunde!HO57","v":"Manfred Brunner, Goran Djukic, Florian González, Florian Haab, Ben Marthaler, Lechena Pek"}]
[{"$f":"IF(C54=\"\",\"\",IF(C54=C53,\"\",50))","v":50},"Pascal Keller",2905,-4,50,null,{"$f":"IF(I54=\"\",\"\",IF(I54=I53,\"\",50))","v":50},"Lynn Rüegg",2872,50,null,null,null,null,null,"Stefan Gygli",null,{"$f":"Vorrunde!C58","v":50},{"$f":"Vorrunde!D58","v":"Marokko"},{"$f":"Vorrunde!E58","v":"Haiti"},{"$f":"Vorrunde!HO58","v":""}]
[{"$f":"IF(C55=\"\",\"\",IF(C55=C54,\"\",51))","v":51},"Reto Treichler",2898,-4,51,null,{"$f":"IF(I55=\"\",\"\",IF(I55=I54,\"\",51))","v":""},"André Burkart",2872,50,null,null,null,null,null,"Michael Isenschmid",null,{"$f":"Vorrunde!C59","v":51},{"$f":"Vorrunde!D59","v":"Schweiz"},{"$f":"Vorrunde!E59","v":"Kanada"},{"$f":"Vorrunde!HO59","v":"Panos Agorastos, Yiannis Agorastos, Ambra Antonelli, Peter Balazs, Mara Beck, Michael Bosshart, Oli Christiansen, Leo Rodrigues da Costa, Niva D'Acunto, Goran Djukic, Reto Gygli, Florian Haab, Agnes Isenschmid, Andreas Isenschmid, Aiden Jones, André Lanz, Ben Marthaler, Martin Oroshi, Martin Rohner, Ivo und Brigitte Rüdemann, Michael Rüegg, Sabine Rüegg, Erich Schommarz, Armando Thormann, Reto Treichler, Christoph Wälti, Markus Wagner, Stefan Wullschleger"}]
[{"$f":"IF(C56=\"\",\"\",IF(C56=C55,\"\",52))","v":52},"Deliz González",2886,-4,52,null,{"$f":"IF(I56=\"\",\"\",IF(I56=I55,\"\",52))","v":52},"Erich Schommarz",2853,52,null,null,null,null,null,"Michael Rüegg",null,{"$f":"Vorrunde!C60","v":52},{"$f":"Vorrunde!D60","v":"Bosnien-Herz."},{"$f":"Vorrunde!E60","v":"Katar"},{"$f":"Vorrunde!HO60","v":"Armin Duvnjak, Agnes Isenschmid, Andreas Isenschmid, Michael Isenschmid, Elias Marty, Ralph Schuster, Stefan Zachmann"}]
[{"$f":"IF(C57=\"\",\"\",IF(C57=C56,\"\",53))","v":53},"Evelyne Schenk",2885,-4,53,null,{"$f":"IF(I57=\"\",\"\",IF(I57=I56,\"\",53))","v":""},"Tanja Kistler",2853,52,null,null,null,null,null,"Yannick Schilliger",null,{"$f":"Vorrunde!C61","v":53},{"$f":"Vorrunde!D61","v":"Tschechien"},{"$f":"Vorrunde!E61","v":"Mexiko"},{"$f":"Vorrunde!HO61","v":"Manfred Brunner, Timothy Gygli, Marc Lütolf"}]
[{"$f":"IF(C58=\"\",\"\",IF(C58=C57,\"\",54))","v":54},"Lynn Rüegg",2872,-4,54,null,{"$f":"IF(I58=\"\",\"\",IF(I58=I57,\"\",54))","v":54},"Armin Duvnjak",2849,54,null,null,null,null,null,null,null,{"$f":"Vorrunde!C62","v":54},{"$f":"Vorrunde!D62","v":"Südafrika"},{"$f":"Vorrunde!E62","v":"Südkorea"},{"$f":"Vorrunde!HO62","v":"Aya Bartholet, Roger Bartholet, Florian González, Tanja Kistler, Martin Marthaler, Elias Marty, Telmo Oliveira, Ivo und Brigitte Rüdemann"}]
[{"$f":"IF(C59=\"\",\"\",IF(C59=C58,\"\",55))","v":""},"André Burkart",2872,-4,54,null,{"$f":"IF(I59=\"\",\"\",IF(I59=I58,\"\",55))","v":55},"Stefan Principe",2839,55,null,null,null,null,null,null,null,{"$f":"Vorrunde!C63","v":55},{"$f":"Vorrunde!D63","v":"Curacao"},{"$f":"Vorrunde!E63","v":"Elfenbeinküste"},{"$f":"Vorrunde!HO63","v":"Philippe Bartholet, Roger Bartholet, Michael Bosshart, Philip Brunner, André Burkart, Leo Rodrigues da Costa, Florian González, Robin Gygli, Florian Haab, Agnes Isenschmid, Andreas Isenschmid, Marc Lütolf, Nicolas Mack, Martin Marthaler, Julian Merkli, Michael Prucha, Martin Rohner, Martin Schawalder, Yannick Schilliger, Bruno Silva, Lea Treichler, Christoph Wälti, Marc Walthard"}]
[{"$f":"IF(C60=\"\",\"\",IF(C60=C59,\"\",56))","v":56},"Erich Schommarz",2853,-4,56,null,{"$f":"IF(I60=\"\",\"\",IF(I60=I59,\"\",56))","v":56},"Franz Lischer",2822,56,null,null,null,null,null,null,null,{"$f":"Vorrunde!C64","v":56},{"$f":"Vorrunde!D64","v":"Ecuador"},{"$f":"Vorrunde!E64","v":"Deutschland"},{"$f":"Vorrunde!HO64","v":"Roger Bartholet"}]
[{"$f":"IF(C61=\"\",\"\",IF(C61=C60,\"\",57))","v":""},"Tanja Kistler",2853,-4,56,null,{"$f":"IF(I61=\"\",\"\",IF(I61=I60,\"\",57))","v":57},"Laurent Grosse",2813,57,null,null,null,null,null,null,null,{"$f":"Vorrunde!C65","v":57},{"$f":"Vorrunde!D65","v":"Japan"},{"$f":"Vorrunde!E65","v":"Schweden"},{"$f":"Vorrunde!HO65","v":"Yiannis Agorastos, Peter Balazs, Niva D'Acunto, Vinci D'Acunto, Laurent Grosse, Reto Gygli, Robin Gygli, Stefan Gygli, Andreas Isenschmid, André Lanz, Marc Lütolf, Nicolas Mack, Martin Marthaler, Julian Merkli, Martin Oroshi, Ivo und Brigitte Rüdemann, Yannick Schilliger, Erich Schommarz, Aleandro Silvestri, Lea Treichler, Reto Treichler, Markus Wagner"}]
[{"$f":"IF(C62=\"\",\"\",IF(C62=C61,\"\",58))","v":58},"Armin Duvnjak",2849,-4,58,null,{"$f":"IF(I62=\"\",\"\",IF(I62=I61,\"\",58))","v":58},"Sarina Gygli",2795,58,null,null,null,null,null,null,null,{"$f":"Vorrunde!C66","v":58},{"$f":"Vorrunde!D66","v":"Tunesien"},{"$f":"Vorrunde!E66","v":"Holland"},{"$f":"Vorrunde!HO66","v":"Mara Beck, Pongsapat Nott Boonaek, Javier Cruz, Armin Duvnjak, Michael Isenschmid, Franz Lischer, Stefan Zachmann"}]
[{"$f":"IF(C63=\"\",\"\",IF(C63=C62,\"\",59))","v":59},"Stefan Principe",2839,-4,59,null,{"$f":"IF(I63=\"\",\"\",IF(I63=I62,\"\",59))","v":59},"Mauro Marini",2785,59,null,null,null,null,null,null,null,{"$f":"Vorrunde!C67","v":59},{"$f":"Vorrunde!D67","v":"Türkei"},{"$f":"Vorrunde!E67","v":"USA"},{"$f":"Vorrunde!HO67","v":"Ambra Antonelli"}]
[{"$f":"IF(C64=\"\",\"\",IF(C64=C63,\"\",60))","v":60},"Franz Lischer",2822,-4,60,null,{"$f":"IF(I64=\"\",\"\",IF(I64=I63,\"\",60))","v":60},"Philippe Bartholet",2781,60,null,null,null,null,null,null,null,{"$f":"Vorrunde!C68","v":60},{"$f":"Vorrunde!D68","v":"Paraguay"},{"$f":"Vorrunde!E68","v":"Australien"},{"$f":"Vorrunde!HO68","v":"André Bartholet, Julian Merkli, Lynn Rüegg, Christoph Wälti"}]
[{"$f":"IF(C65=\"\",\"\",IF(C65=C64,\"\",61))","v":61},"Laurent Grosse",2813,-4,61,null,{"$f":"IF(I65=\"\",\"\",IF(I65=I64,\"\",61))","v":61},"Panos Agorastos",2750,61,null,null,null,null,null,null,null,{"$f":"Vorrunde!C69","v":61},{"$f":"Vorrunde!D69","v":"Norwegen"},{"$f":"Vorrunde!E69","v":"Frankreich"},{"$f":"Vorrunde!HO69","v":"Roger Bartholet, Nicolas Brunner, Mauro Marini, Stefan Principe"}]
[{"$f":"IF(C66=\"\",\"\",IF(C66=C65,\"\",62))","v":62},"Philippe Bartholet",2781,-2,62,null,{"$f":"IF(I66=\"\",\"\",IF(I66=I65,\"\",62))","v":62},"Oli Christiansen",2744,62,null,null,null,null,null,null,null,{"$f":"Vorrunde!C70","v":62},{"$f":"Vorrunde!D70","v":"Senegal"},{"$f":"Vorrunde!E70","v":"Irak"},{"$f":"Vorrunde!HO70","v":""}]
[{"$f":"IF(C67=\"\",\"\",IF(C67=C66,\"\",63))","v":63},"Panos Agorastos",2750,-2,63,null,{"$f":"IF(I67=\"\",\"\",IF(I67=I66,\"\",63))","v":63},"Niva D'Acunto",2738,63,null,null,null,null,null,null,null,{"$f":"Vorrunde!C71","v":63},{"$f":"Vorrunde!D71","v":"Ägypten"},{"$f":"Vorrunde!E71","v":"Iran"},{"$f":"Vorrunde!HO71","v":"Peter Balazs, Mara Beck, Philip Brunner, Leo Rodrigues da Costa, Rafael Derungs, Goran Djukic, Djuma Duvnjak, Andreia Gomes, Deliz González, Florian González, Laurent Grosse, Sarina Gygli, Florian Haab, Aiden Jones, André Lanz, Franz Lischer, Nicolas Mack, Michael Prucha, Martin Schawalder, Erich Schommarz, Aleandro Silvestri, Reto Treichler, Markus Wagner, Marc Walthard, Stefan Zachmann"}]
[{"$f":"IF(C68=\"\",\"\",IF(C68=C67,\"\",64))","v":64},"Niva D'Acunto",2738,-1,64,null,{"$f":"IF(I68=\"\",\"\",IF(I68=I67,\"\",64))","v":64},"Ruben Antonelli",2716,64,null,null,null,null,null,null,null,{"$f":"Vorrunde!C72","v":64},{"$f":"Vorrunde!D72","v":"Neuseeland"},{"$f":"Vorrunde!E72","v":"Belgien"},{"$f":"Vorrunde!HO72","v":""}]
[{"$f":"IF(C69=\"\",\"\",IF(C69=C68,\"\",65))","v":65},"Ruben Antonelli",2716,{"$f":"IFERROR(VLOOKUP(B69,$H$5:$J$104,3,FALSE)-E69,\"\")","v":-1},{"$f":"IFERROR(_xlfn.RANK.EQ(C69,$C$5:$C$104,0),\"\")","v":65},null,{"$f":"IF(I69=\"\",\"\",IF(I69=I68,\"\",65))","v":65},"Petra Rauscher",2703,65,null,null,null,null,null,null,null,{"$f":"Vorrunde!C73","v":65},{"$f":"Vorrunde!D73","v":"Kap Verde"},{"$f":"Vorrunde!E73","v":"Saudi-Arabien"},{"$f":"Vorrunde!HO73","v":"Manfred Brunner, Manuel Brunner, André Burkart, Niva D'Acunto, Andreia Gomes, Florian González, Stefan Gygli, Franz Lischer, Martin Marthaler, Julian Merkli, Martin Oroshi, Ivo und Brigitte Rüdemann, Lynn Rüegg, Christoph Wälti, Jingwen Wang"}]
[{"$f":"IF(C70=\"\",\"\",IF(C70=C69,\"\",66))","v":66},"Petra Rauscher",2703,-1,66,null,{"$f":"IF(I70=\"\",\"\",IF(I70=I69,\"\",66))","v":66},"Martin Oroshi",2685,{"$f":"IFERROR(_xlfn.RANK.EQ(I70,$I$5:$I$104,0),\"\")","v":66},null,null,null,null,null,null,null,{"$f":"Vorrunde!C74","v":66},{"$f":"Vorrunde!D74","v":"Uruguay"},{"$f":"Vorrunde!E74","v":"Spanien"},{"$f":"Vorrunde!HO74","v":"André Bartholet, André Burkart, Oli Christiansen, Pascal Keller, Philipp Meyer, Lea Treichler"}]
[{"$f":"IF(C71=\"\",\"\",IF(C71=C70,\"\",67))","v":67},"Martin Oroshi",2685,-1,67,null,{"$f":"IF(I71=\"\",\"\",IF(I71=I70,\"\",67))","v":67},"Philipp Meyer",2666,67,null,null,null,null,null,null,null,{"$f":"Vorrunde!C75","v":67},{"$f":"Vorrunde!D75","v":"Panama"},{"$f":"Vorrunde!E75","v":"England"},{"$f":"Vorrunde!HO75","v":"Peter Balazs, Aya Bartholet, Philip Brunner, Oli Christiansen, Rafael Derungs, Dino Duvnjak, Andreia Gomes, Deliz González, Florian González, Laurent Grosse, Selina Gygli, Aiden Jones, André Lanz, Nicolas Mack, Telmo Oliveira, Ivo und Brigitte Rüdemann, Martin Schawalder, Yannick Schilliger, Markus Wagner, Marc Walthard, Stefan Wullschleger"}]
[{"$f":"IF(C72=\"\",\"\",IF(C72=C71,\"\",68))","v":68},"Philipp Meyer",2666,-1,68,null,{"$f":"IF(I72=\"\",\"\",IF(I72=I71,\"\",68))","v":68},"Martin Marthaler",2664,68,null,null,null,null,null,null,null,{"$f":"Vorrunde!C76","v":68},{"$f":"Vorrunde!D76","v":"Kroatien"},{"$f":"Vorrunde!E76","v":"Ghana"},{"$f":"Vorrunde!HO76","v":"Panos Agorastos, Philippe Bartholet, Mara Beck, Michael Bosshart, Philip Brunner, Leo Rodrigues da Costa, Niva D'Acunto, Vinci D'Acunto, Rafael Derungs, Armin Duvnjak, Deliz González, Florian González, Reto Gygli, Agnes Isenschmid, Andreas Isenschmid, Tanja Kistler, Nicolas Mack, Philipp Meyer, Telmo Oliveira, Martin Oroshi, Petra Rauscher, Sabine Rüegg, Evelyne Schenk, Erich Schommarz, Aleandro Silvestri, Reto Treichler, Marc Walthard, Stefan Wullschleger"}]
[{"$f":"IF(C73=\"\",\"\",IF(C73=C72,\"\",69))","v":69},"Yiannis Agorastos",2640,0,69,null,{"$f":"IF(I73=\"\",\"\",IF(I73=I72,\"\",69))","v":69},"Yiannis Agorastos",2640,69,null,null,null,null,null,null,null,{"$f":"Vorrunde!C77","v":69},{"$f":"Vorrunde!D77","v":"Algerien"},{"$f":"Vorrunde!E77","v":"Österreich"},{"$f":"Vorrunde!HO77","v":""}]
[{"$f":"IF(C74=\"\",\"\",IF(C74=C73,\"\",70))","v":70},"Jingwen Wang",2638,0,70,null,{"$f":"IF(I74=\"\",\"\",IF(I74=I73,\"\",70))","v":70},"Jingwen Wang",2638,70,null,null,null,null,null,null,null,{"$f":"Vorrunde!C78","v":70},{"$f":"Vorrunde!D78","v":"Jordanien"},{"$f":"Vorrunde!E78","v":"Argentinien"},{"$f":"Vorrunde!HO78","v":"Yiannis Agorastos, Ambra Antonelli, Marco Antonelli, Agnes Isenschmid, Andreas Isenschmid, Michael Isenschmid, Elias Marty, Petra Rauscher"}]
[{"$f":"IF(C75=\"\",\"\",IF(C75=C74,\"\",71))","v":71},"Lea Treichler",2574,0,71,null,{"$f":"IF(I75=\"\",\"\",IF(I75=I74,\"\",71))","v":71},"Lea Treichler",2574,71,null,null,null,null,null,null,null,{"$f":"Vorrunde!C79","v":71},{"$f":"Vorrunde!D79","v":"Kolumbien"},{"$f":"Vorrunde!E79","v":"Portugal"},{"$f":"Vorrunde!HO79","v":"Franz Lischer"}]
[{"$f":"IF(C76=\"\",\"\",IF(C76=C75,\"\",72))","v":72},"Aiden Jones",2561,0,72,null,{"$f":"IF(I76=\"\",\"\",IF(I76=I75,\"\",72))","v":72},"Aiden Jones",2561,72,null,null,null,null,null,null,null,{"$f":"Vorrunde!C80","v":72},{"$f":"Vorrunde!D80","v":"DR Kongo"},{"$f":"Vorrunde!E80","v":"Usbekistan"},{"$f":"Vorrunde!HO80","v":"Michael Isenschmid, Lechena Pek, Evelyne Schenk, Ralph Schuster"}]
[{"$f":"IF(C77=\"\",\"\",IF(C77=C76,\"\",73))","v":73},"Manuel Brunner",2548,0,73,null,{"$f":"IF(I77=\"\",\"\",IF(I77=I76,\"\",73))","v":73},"Manuel Brunner",2548,73]
[{"$f":"IF(C78=\"\",\"\",IF(C78=C77,\"\",74))","v":74},"Vinci D'Acunto",2519,0,74,null,{"$f":"IF(I78=\"\",\"\",IF(I78=I77,\"\",74))","v":74},"Vinci D'Acunto",2519,74]
[{"$f":"IF(C79=\"\",\"\",IF(C79=C78,\"\",75))","v":75},"Goran Djukic",2468,0,75,null,{"$f":"IF(I79=\"\",\"\",IF(I79=I78,\"\",75))","v":75},"Goran Djukic",2468,75]
[{"$f":"IF(C80=\"\",\"\",IF(C80=C79,\"\",76))","v":76},"Ralph Schuster",2441,4,76,null,{"$f":"IF(I80=\"\",\"\",IF(I80=I79,\"\",76))","v":76},"Roger Bartholet",2411,76]
[{"$f":"IF(C81=\"\",\"\",IF(C81=C80,\"\",77))","v":77},"Roger Bartholet",2411,-1,77,null,{"$f":"IF(I81=\"\",\"\",IF(I81=I80,\"\",77))","v":77},"Marc Walthard",2406,77]
[{"$f":"IF(C82=\"\",\"\",IF(C82=C81,\"\",78))","v":78},"Marc Walthard",2406,-1,78,null,{"$f":"IF(I82=\"\",\"\",IF(I82=I81,\"\",78))","v":78},"Selina Gygli",2392,78]
[{"$f":"IF(C83=\"\",\"\",IF(C83=C82,\"\",79))","v":79},"Selina Gygli",2392,-1,79,null,{"$f":"IF(I83=\"\",\"\",IF(I83=I82,\"\",79))","v":79},"Stefan Zachmann",2379,79]
[{"$f":"IF(C84=\"\",\"\",IF(C84=C83,\"\",80))","v":80},"Stefan Zachmann",2379,-1,80,null,{"$f":"IF(I84=\"\",\"\",IF(I84=I83,\"\",80))","v":80},"Ralph Schuster",2261,80]
[{"$f":"IF(C85=\"\",\"\",IF(C85=C84,\"\",81))","v":81},"Ambra Antonelli",2224,0,81,null,{"$f":"IF(I85=\"\",\"\",IF(I85=I84,\"\",81))","v":81},"Ambra Antonelli",2224,81]
[{"$f":"IF(C86=\"\",\"\",IF(C86=C85,\"\",82))","v":82},"Andreia Gomes",2113,0,82,null,{"$f":"IF(I86=\"\",\"\",IF(I86=I85,\"\",82))","v":82},"Andreia Gomes",2113,82]
[{"$f":"IF(C87=\"\",\"\",IF(C87=C86,\"\",83))","v":83},"Manfred Brunner",1997,0,83,null,{"$f":"IF(I87=\"\",\"\",IF(I87=I86,\"\",83))","v":83},"Manfred Brunner",1997,83]
[{"$f":"IF(C88=\"\",\"\",IF(C88=C87,\"\",84))","v":84},"Ben Marthaler",1646,0,84,null,{"$f":"IF(I88=\"\",\"\",IF(I88=I87,\"\",84))","v":84},"Ben Marthaler",1646,84]
[{"$f":"IF(C89=\"\",\"\",IF(C89=C88,\"\",85))","v":""},"","","","",null,{"$f":"IF(I89=\"\",\"\",IF(I89=I88,\"\",85))","v":""},"","",""]
[{"$f":"IF(C90=\"\",\"\",IF(C90=C89,\"\",86))","v":""},"","","","",null,{"$f":"IF(I90=\"\",\"\",IF(I90=I89,\"\",86))","v":""},"","",""]
[{"$f":"IF(C91=\"\",\"\",IF(C91=C90,\"\",87))","v":""},"","","","",null,{"$f":"IF(I91=\"\",\"\",IF(I91=I90,\"\",87))","v":""},"","",""]
[{"$f":"IF(C92=\"\",\"\",IF(C92=C91,\"\",88))","v":""},"","","","",null,{"$f":"IF(I92=\"\",\"\",IF(I92=I91,\"\",88))","v":""},"","",""]
[{"$f":"IF(C93=\"\",\"\",IF(C93=C92,\"\",89))","v":""},"","","","",null,{"$f":"IF(I93=\"\",\"\",IF(I93=I92,\"\",89))","v":""},"","",""]
[{"$f":"IF(C94=\"\",\"\",IF(C94=C93,\"\",90))","v":""},"","","","",null,{"$f":"IF(I94=\"\",\"\",IF(I94=I93,\"\",90))","v":""},"","",""]
[{"$f":"IF(C95=\"\",\"\",IF(C95=C94,\"\",91))","v":""},"","","","",null,{"$f":"IF(I95=\"\",\"\",IF(I95=I94,\"\",91))","v":""},"","",""]
[{"$f":"IF(C96=\"\",\"\",IF(C96=C95,\"\",92))","v":""},"","","","",null,{"$f":"IF(I96=\"\",\"\",IF(I96=I95,\"\",92))","v":""},"","",""]
[{"$f":"IF(C97=\"\",\"\",IF(C97=C96,\"\",93))","v":""},"","","","",null,{"$f":"IF(I97=\"\",\"\",IF(I97=I96,\"\",93))","v":""},"","",""]
[{"$f":"IF(C98=\"\",\"\",IF(C98=C97,\"\",94))","v":""},"","","","",null,{"$f":"IF(I98=\"\",\"\",IF(I98=I97,\"\",94))","v":""},"","",""]
[{"$f":"IF(C99=\"\",\"\",IF(C99=C98,\"\",95))","v":""},"","","","",null,{"$f":"IF(I99=\"\",\"\",IF(I99=I98,\"\",95))","v":""},"","",""]
[{"$f":"IF(C100=\"\",\"\",IF(C100=C99,\"\",96))","v":""},"","","","",null,{"$f":"IF(I100=\"\",\"\",IF(I100=I99,\"\",96))","v":""},"","",""]
[{"$f":"IF(C101=\"\",\"\",IF(C101=C100,\"\",97))","v":""},"","","","",null,{"$f":"IF(I101=\"\",\"\",IF(I101=I100,\"\",97))","v":""},"","",""]
[{"$f":"IF(C102=\"\",\"\",IF(C102=C101,\"\",98))","v":""},"","","","",null,{"$f":"IF(I102=\"\",\"\",IF(I102=I101,\"\",98))","v":""},"","",""]
[{"$f":"IF(C103=\"\",\"\",IF(C103=C102,\"\",99))","v":""},"","","","",null,{"$f":"IF(I103=\"\",\"\",IF(I103=I102,\"\",99))","v":""},"","",""]
[{"$f":"IF(C104=\"\",\"\",IF(C104=C103,\"\",100))","v":""},"","","","",null,{"$f":"IF(I104=\"\",\"\",IF(I104=I103,\"\",100))","v":""},"","",""]

{"sheet":"Punktestand","index":1,"n_rows":111,"n_cols":17,"rows_kept":111,"cut":false,"hidden":false,"merged":[]}
[{"$f":"Teams!$B$54","v":"WM 2026 by Rogerinho (www.fcbouncer.ch)"}]
[]
["Punktestand",null,"Spieler 1 - 100",null,"Anzahl Spieler:",{"$f":"COUNTIF(B7:B106,\"??*\")","v":84}]
[]
[null,null,"Punkte","Punkte","Punkte","Punkte",null,"Rang",null,"Rang",null,"Punkte",null,null,"Spiel"]
["Nr.","Name","Vorrunde","Endplatzierung","Finalrunde","Total",null,"Zeile",null,"Tabelle",null,"Total",null,null,"Nr."]
[{"$f":"Teilnehmerliste!A6","v":1},{"$f":"Teilnehmerliste!B6 &\" \"&Teilnehmerliste!C6","v":"Panos Agorastos"},{"$f":"Vorrunde!$K$81","v":290},{"$f":"Endplatzierung!$F$58","v":260},{"$f":"Finalrunde!$N$50","v":2200},{"$f":"IF(Teilnehmerliste!B6=\"\",\"\",SUM(C7:E7))","v":2750},null,{"$f":"IFERROR(_xlfn.RANK.EQ(F7,$F$7:$F$106,0),\"\")","v":63},null,{"$f":"IF(ROWS($J$7:J7)<=$F$3,SMALL($H$7:$H$106,ROWS($J$7:J7)),\"\")","v":1},{"$f":"IF($H7=\"\",\"\",INDEX($B$7:$H$106,_xlfn.AGGREGATE(14,6,ROW($H$7:$H$106)-ROW($H$7)+1/($H$7:$H$106=J7),COUNTIF($J$7:J7,J7)),1))","v":"Stefan Wullschleger"},{"$f":"IF($H7=\"\",\"\",INDEX($B$7:$H$106,_xlfn.AGGREGATE(14,6,ROW($H$7:$H$106)-ROW($H$7)+1/($H$7:$H$106=J7),COUNTIF($J$7:J7,J7)),5))","v":4033},null,{"$f":"ISBLANK(Vorrunde!F9)","v":false},1,{"$f":"COUNTIF(N7:N111,FALSE)","v":102},"nach "]
[{"$f":"Teilnehmerliste!A7","v":2},{"$f":"Teilnehmerliste!B7 &\" \"&Teilnehmerliste!C7","v":"Yiannis Agorastos"},{"$f":"Vorrunde!$O$81","v":210},{"$f":"Endplatzierung!$H$58","v":260},{"$f":"Finalrunde!$U$50","v":2170},{"$f":"IF(Teilnehmerliste!B7=\"\",\"\",SUM(C8:E8))","v":2640},null,{"$f":"IFERROR(_xlfn.RANK.EQ(F8,$F$7:$F$106,0),\"\")","v":69},null,{"$f":"IF(ROWS($J$7:$J$7)<=$F$3,SMALL($H$7:$H$106,ROWS($J$7:J8)),\"\")","v":2},{"$f":"IF($H8=\"\",\"\",INDEX($B$7:$H$106,_xlfn.AGGREGATE(14,6,ROW($H$7:$H$106)-ROW($H$7)+1/($H$7:$H$106=J8),COUNTIF($J$7:J8,J8)),1))","v":"Agnes Isenschmid"},{"$f":"IF($H8=\"\",\"\",INDEX($B$7:$H$106,_xlfn.AGGREGATE(14,6,ROW($H$7:$H$106)-ROW($H$7)+1/($H$7:$H$106=J8),COUNTIF($J$7:J8,J8)),5))","v":4023},null,{"$f":"ISBLANK(Vorrunde!F10)","v":false},2,null," von 104 Spielen"]
[{"$f":"Teilnehmerliste!A8","v":3},{"$f":"Teilnehmerliste!B8 &\" \"&Teilnehmerliste!C8","v":"Ambra Antonelli"},{"$f":"Vorrunde!$S$81","v":224},{"$f":"Endplatzierung!$J$58","v":260},{"$f":"Finalrunde!$AB$50","v":1740},{"$f":"IF(Teilnehmerliste!B8=\"\",\"\",SUM(C9:E9))","v":2224},null,81,null,{"$f":"IF(ROWS($J$7:$J$7)<=$F$3,SMALL($H$7:$H$106,ROWS($J$7:J9)),\"\")","v":3},{"$f":"IF($H9=\"\",\"\",INDEX($B$7:$H$106,_xlfn.AGGREGATE(14,6,ROW($H$7:$H$106)-ROW($H$7)+1/($H$7:$H$106=J9),COUNTIF($J$7:J9,J9)),1))","v":"Martin Rohner"},{"$f":"IF($H9=\"\",\"\",INDEX($B$7:$H$106,_xlfn.AGGREGATE(14,6,ROW($H$7:$H$106)-ROW($H$7)+1/($H$7:$H$106=J9),COUNTIF($J$7:J9,J9)),5))","v":3637},null,{"$f":"ISBLANK(Vorrunde!F11)","v":false},3]
[{"$f":"Teilnehmerliste!A9","v":4},{"$f":"Teilnehmerliste!B9 &\" \"&Teilnehmerliste!C9","v":"Marco Antonelli"},{"$f":"Vorrunde!$W$81","v":239},{"$f":"Endplatzierung!$L$58","v":300},{"$f":"Finalrunde!$AI$50","v":2760},{"$f":"IF(Teilnehmerliste!B9=\"\",\"\",SUM(C10:E10))","v":3299},null,23,null,{"$f":"IF(ROWS($J$7:$J$7)<=$F$3,SMALL($H$7:$H$106,ROWS($J$7:J10)),\"\")","v":4},{"$f":"IF($H10=\"\",\"\",INDEX($B$7:$H$106,_xlfn.AGGREGATE(14,6,ROW($H$7:$H$106)-ROW($H$7)+1/($H$7:$H$106=J10),COUNTIF($J$7:J10,J10)),1))","v":"André Lanz"},{"$f":"IF($H10=\"\",\"\",INDEX($B$7:$H$106,_xlfn.AGGREGATE(14,6,ROW($H$7:$H$106)-ROW($H$7)+1/($H$7:$H$106=J10),COUNTIF($J$7:J10,J10)),5))","v":3622},null,{"$f":"ISBLANK(Vorrunde!F12)","v":false},4]
[{"$f":"Teilnehmerliste!A10","v":5},{"$f":"Teilnehmerliste!B10 &\" \"&Teilnehmerliste!C10","v":"Ruben Antonelli"},{"$f":"Vorrunde!$AA$81","v":296},{"$f":"Endplatzierung!$N$58","v":360},{"$f":"Finalrunde!$AP$50","v":2060},{"$f":"IF(Teilnehmerliste!B10=\"\",\"\",SUM(C11:E11))","v":2716},null,65,null,{"$f":"IF(ROWS($J$7:$J$7)<=$F$3,SMALL($H$7:$H$106,ROWS($J$7:J11)),\"\")","v":5},{"$f":"IF($H11=\"\",\"\",INDEX($B$7:$H$106,_xlfn.AGGREGATE(14,6,ROW($H$7:$H$106)-ROW($H$7)+1/($H$7:$H$106=J11),COUNTIF($J$7:J11,J11)),1))","v":"Marc Lütolf"},{"$f":"IF($H11=\"\",\"\",INDEX($B$7:$H$106,_xlfn.AGGREGATE(14,6,ROW($H$7:$H$106)-ROW($H$7)+1/($H$7:$H$106=J11),COUNTIF($J$7:J11,J11)),5))","v":3579},null,{"$f":"ISBLANK(Vorrunde!F13)","v":false},5]
[{"$f":"Teilnehmerliste!A11","v":6},{"$f":"Teilnehmerliste!B11 &\" \"&Teilnehmerliste!C11","v":"Peter Balazs"},{"$f":"Vorrunde!$AE$81","v":292},{"$f":"Endplatzierung!$P$58","v":400},{"$f":"Finalrunde!$AW$50","v":2510},{"$f":"IF(Teilnehmerliste!B11=\"\",\"\",SUM(C12:E12))","v":3202},null,28,null,{"$f":"IF(ROWS($J$7:$J$7)<=$F$3,SMALL($H$7:$H$106,ROWS($J$7:J12)),\"\")","v":6},{"$f":"IF($H12=\"\",\"\",INDEX($B$7:$H$106,_xlfn.AGGREGATE(14,6,ROW($H$7:$H$106)-ROW($H$7)+1/($H$7:$H$106=J12),COUNTIF($J$7:J12,J12)),1))","v":"Armando Thormann"},{"$f":"IF($H12=\"\",\"\",INDEX($B$7:$H$106,_xlfn.AGGREGATE(14,6,ROW($H$7:$H$106)-ROW($H$7)+1/($H$7:$H$106=J12),COUNTIF($J$7:J12,J12)),5))","v":3531},null,{"$f":"ISBLANK(Vorrunde!F14)","v":false},6]
[{"$f":"Teilnehmerliste!A12","v":7},{"$f":"Teilnehmerliste!B12 &\" \"&Teilnehmerliste!C12","v":"André Bartholet"},{"$f":"Vorrunde!$AI$81","v":265},{"$f":"Endplatzierung!$R$58","v":340},{"$f":"Finalrunde!$BD$50","v":2400},{"$f":"IF(Teilnehmerliste!B12=\"\",\"\",SUM(C13:E13))","v":3005},null,44,null,{"$f":"IF(ROWS($J$7:$J$7)<=$F$3,SMALL($H$7:$H$106,ROWS($J$7:J13)),\"\")","v":7},{"$f":"IF($H13=\"\",\"\",INDEX($B$7:$H$106,_xlfn.AGGREGATE(14,6,ROW($H$7:$H$106)-ROW($H$7)+1/($H$7:$H$106=J13),COUNTIF($J$7:J13,J13)),1))","v":"Florian Haab"},{"$f":"IF($H13=\"\",\"\",INDEX($B$7:$H$106,_xlfn.AGGREGATE(14,6,ROW($H$7:$H$106)-ROW($H$7)+1/($H$7:$H$106=J13),COUNTIF($J$7:J13,J13)),5))","v":3496},null,{"$f":"ISBLANK(Vorrunde!F15)","v":false},7]
[{"$f":"Teilnehmerliste!A13","v":8},{"$f":"Teilnehmerliste!B13 &\" \"&Teilnehmerliste!C13","v":"Aya Bartholet"},{"$f":"Vorrunde!$AM$81","v":213},{"$f":"Endplatzierung!$T$58","v":160},{"$f":"Finalrunde!$BK$50","v":2890},{"$f":"IF(Teilnehmerliste!B13=\"\",\"\",SUM(C14:E14))","v":3263},null,24,null,{"$f":"IF(ROWS($J$7:$J$7)<=$F$3,SMALL($H$7:$H$106,ROWS($J$7:J14)),\"\")","v":8},{"$f":"IF($H14=\"\",\"\",INDEX($B$7:$H$106,_xlfn.AGGREGATE(14,6,ROW($H$7:$H$106)-ROW($H$7)+1/($H$7:$H$106=J14),COUNTIF($J$7:J14,J14)),1))","v":"Sabine Rüegg"},{"$f":"IF($H14=\"\",\"\",INDEX($B$7:$H$106,_xlfn.AGGREGATE(14,6,ROW($H$7:$H$106)-ROW($H$7)+1/($H$7:$H$106=J14),COUNTIF($J$7:J14,J14)),5))","v":3492},null,{"$f":"ISBLANK(Vorrunde!F16)","v":false},8]
[{"$f":"Teilnehmerliste!A14","v":9},{"$f":"Teilnehmerliste!B14 &\" \"&Teilnehmerliste!C14","v":"Philippe Bartholet"},{"$f":"Vorrunde!$AQ$81","v":271},{"$f":"Endplatzierung!$V$58","v":220},{"$f":"Finalrunde!$BR$50","v":2290},{"$f":"IF(Teilnehmerliste!B14=\"\",\"\",SUM(C15:E15))","v":2781},null,62,null,{"$f":"IF(ROWS($J$7:$J$7)<=$F$3,SMALL($H$7:$H$106,ROWS($J$7:J15)),\"\")","v":9},{"$f":"IF($H15=\"\",\"\",INDEX($B$7:$H$106,_xlfn.AGGREGATE(14,6,ROW($H$7:$H$106)-ROW($H$7)+1/($H$7:$H$106=J15),COUNTIF($J$7:J15,J15)),1))","v":"Javier Cruz"},{"$f":"IF($H15=\"\",\"\",INDEX($B$7:$H$106,_xlfn.AGGREGATE(14,6,ROW($H$7:$H$106)-ROW($H$7)+1/($H$7:$H$106=J15),COUNTIF($J$7:J15,J15)),5))","v":3478},null,{"$f":"ISBLANK(Vorrunde!F17)","v":false},9]
[{"$f":"Teilnehmerliste!A15","v":10},{"$f":"Teilnehmerliste!B15 &\" \"&Teilnehmerliste!C15","v":"Roger Bartholet"},{"$f":"Vorrunde!$AU$81","v":271},{"$f":"Endplatzierung!$X$58","v":260},{"$f":"Finalrunde!$BY$50","v":1880},{"$f":"IF(Teilnehmerliste!B15=\"\",\"\",SUM(C16:E16))","v":2411},null,77,null,{"$f":"IF(ROWS($J$7:$J$7)<=$F$3,SMALL($H$7:$H$106,ROWS($J$7:J16)),\"\")","v":10},{"$f":"IF($H16=\"\",\"\",INDEX($B$7:$H$106,_xlfn.AGGREGATE(14,6,ROW($H$7:$H$106)-ROW($H$7)+1/($H$7:$H$106=J16),COUNTIF($J$7:J16,J16)),1))","v":"Mara Beck"},{"$f":"IF($H16=\"\",\"\",INDEX($B$7:$H$106,_xlfn.AGGREGATE(14,6,ROW($H$7:$H$106)-ROW($H$7)+1/($H$7:$H$106=J16),COUNTIF($J$7:J16,J16)),5))","v":3466},null,{"$f":"ISBLANK(Vorrunde!F18)","v":false},10]
[{"$f":"Teilnehmerliste!A16","v":11},{"$f":"Teilnehmerliste!B16 &\" \"&Teilnehmerliste!C16","v":"Mara Beck"},{"$f":"Vorrunde!$AY$81","v":296},{"$f":"Endplatzierung!$Z$58","v":280},{"$f":"Finalrunde!$CF$50","v":2890},{"$f":"IF(Teilnehmerliste!B16=\"\",\"\",SUM(C17:E17))","v":3466},null,10,null,{"$f":"IF(ROWS($J$7:$J$7)<=$F$3,SMALL($H$7:$H$106,ROWS($J$7:J17)),\"\")","v":11},{"$f":"IF($H17=\"\",\"\",INDEX($B$7:$H$106,_xlfn.AGGREGATE(14,6,ROW($H$7:$H$106)-ROW($H$7)+1/($H$7:$H$106=J17),COUNTIF($J$7:J17,J17)),1))","v":"Markus Wagner"},{"$f":"IF($H17=\"\",\"\",INDEX($B$7:$H$106,_xlfn.AGGREGATE(14,6,ROW($H$7:$H$106)-ROW($H$7)+1/($H$7:$H$106=J17),COUNTIF($J$7:J17,J17)),5))","v":3453},null,{"$f":"ISBLANK(Vorrunde!F19)","v":false},11]
[{"$f":"Teilnehmerliste!A17","v":12},{"$f":"Teilnehmerliste!B17 &\" \"&Teilnehmerliste!C17","v":"Pongsapat Nott Boonaek"},{"$f":"Vorrunde!$BC$81","v":270},{"$f":"Endplatzierung!$AB$58","v":380},{"$f":"Finalrunde!$CM$50","v":2730},{"$f":"IF(Teilnehmerliste!B17=\"\",\"\",SUM(C18:E18))","v":3380},null,15,null,{"$f":"IF(ROWS($J$7:$J$7)<=$F$3,SMALL($H$7:$H$106,ROWS($J$7:J18)),\"\")","v":12},{"$f":"IF($H18=\"\",\"\",INDEX($B$7:$H$106,_xlfn.AGGREGATE(14,6,ROW($H$7:$H$106)-ROW($H$7)+1/($H$7:$H$106=J18),COUNTIF($J$7:J18,J18)),1))","v":"Michael Isenschmid"},{"$f":"IF($H18=\"\",\"\",INDEX($B$7:$H$106,_xlfn.AGGREGATE(14,6,ROW($H$7:$H$106)-ROW($H$7)+1/($H$7:$H$106=J18),COUNTIF($J$7:J18,J18)),5))","v":3444},null,{"$f":"ISBLANK(Vorrunde!F20)","v":false},12]
[{"$f":"Teilnehmerliste!A18","v":13},{"$f":"Teilnehmerliste!B18 &\" \"&Teilnehmerliste!C18","v":"Michael Bosshart"},{"$f":"Vorrunde!$BG$81","v":270},{"$f":"Endplatzierung!$AD$58","v":300},{"$f":"Finalrunde!$CT$50","v":2840},{"$f":"IF(Teilnehmerliste!B18=\"\",\"\",SUM(C19:E19))","v":3410},null,14,null,{"$f":"IF(ROWS($J$7:$J$7)<=$F$3,SMALL($H$7:$H$106,ROWS($J$7:J19)),\"\")","v":13},{"$f":"IF($H19=\"\",\"\",INDEX($B$7:$H$106,_xlfn.AGGREGATE(14,6,ROW($H$7:$H$106)-ROW($H$7)+1/($H$7:$H$106=J19),COUNTIF($J$7:J19,J19)),1))","v":"Yannick Schilliger"},{"$f":"IF($H19=\"\",\"\",INDEX($B$7:$H$106,_xlfn.AGGREGATE(14,6,ROW($H$7:$H$106)-ROW($H$7)+1/($H$7:$H$106=J19),COUNTIF($J$7:J19,J19)),5))","v":3413},null,{"$f":"ISBLANK(Vorrunde!F21)","v":false},13]
[{"$f":"Teilnehmerliste!A19","v":14},{"$f":"Teilnehmerliste!B19 &\" \"&Teilnehmerliste!C19","v":"Manfred Brunner"},{"$f":"Vorrunde!$BK$81","v":287},{"$f":"Endplatzierung!$AF$58","v":240},{"$f":"Finalrunde!$DA$50","v":1470},{"$f":"IF(Teilnehmerliste!B19=\"\",\"\",SUM(C20:E20))","v":1997},null,83,null,{"$f":"IF(ROWS($J$7:$J$7)<=$F$3,SMALL($H$7:$H$106,ROWS($J$7:J20)),\"\")","v":14},{"$f":"IF($H20=\"\",\"\",INDEX($B$7:$H$106,_xlfn.AGGREGATE(14,6,ROW($H$7:$H$106)-ROW($H$7)+1/($H$7:$H$106=J20),COUNTIF($J$7:J20,J20)),1))","v":"Michael Bosshart"},{"$f":"IF($H20=\"\",\"\",INDEX($B$7:$H$106,_xlfn.AGGREGATE(14,6,ROW($H$7:$H$106)-ROW($H$7)+1/($H$7:$H$106=J20),COUNTIF($J$7:J20,J20)),5))","v":3410},null,{"$f":"ISBLANK(Vorrunde!F22)","v":false},14]
[{"$f":"Teilnehmerliste!A20","v":15},{"$f":"Teilnehmerliste!B20 &\" \"&Teilnehmerliste!C20","v":"Manuel Brunner"},{"$f":"Vorrunde!$BO$81","v":248},{"$f":"Endplatzierung!$AH$58","v":200},{"$f":"Finalrunde!$DH$50","v":2100},{"$f":"IF(Teilnehmerliste!B20=\"\",\"\",SUM(C21:E21))","v":2548},null,73,null,{"$f":"IF(ROWS($J$7:$J$7)<=$F$3,SMALL($H$7:$H$106,ROWS($J$7:J21)),\"\")","v":15},{"$f":"IF($H21=\"\",\"\",INDEX($B$7:$H$106,_xlfn.AGGREGATE(14,6,ROW($H$7:$H$106)-ROW($H$7)+1/($H$7:$H$106=J21),COUNTIF($J$7:J21,J21)),1))","v":"Pongsapat Nott Boonaek"},{"$f":"IF($H21=\"\",\"\",INDEX($B$7:$H$106,_xlfn.AGGREGATE(14,6,ROW($H$7:$H$106)-ROW($H$7)+1/($H$7:$H$106=J21),COUNTIF($J$7:J21,J21)),5))","v":3380},null,{"$f":"ISBLANK(Vorrunde!F23)","v":false},15]
[{"$f":"Teilnehmerliste!A21","v":16},{"$f":"Teilnehmerliste!B21 &\" \"&Teilnehmerliste!C21","v":"Nicolas Brunner"},{"$f":"Vorrunde!$BS$81","v":292},{"$f":"Endplatzierung!$AJ$58","v":260},{"$f":"Finalrunde!$DO$50","v":2610},{"$f":"IF(Teilnehmerliste!B21=\"\",\"\",SUM(C22:E22))","v":3162},null,34,null,{"$f":"IF(ROWS($J$7:$J$7)<=$F$3,SMALL($H$7:$H$106,ROWS($J$7:J22)),\"\")","v":16},{"$f":"IF($H22=\"\",\"\",INDEX($B$7:$H$106,_xlfn.AGGREGATE(14,6,ROW($H$7:$H$106)-ROW($H$7)+1/($H$7:$H$106=J22),COUNTIF($J$7:J22,J22)),1))","v":"Michael Prucha"},{"$f":"IF($H22=\"\",\"\",INDEX($B$7:$H$106,_xlfn.AGGREGATE(14,6,ROW($H$7:$H$106)-ROW($H$7)+1/($H$7:$H$106=J22),COUNTIF($J$7:J22,J22)),5))","v":3358},null,{"$f":"ISBLANK(Vorrunde!F24)","v":false},16]
[{"$f":"Teilnehmerliste!A22","v":17},{"$f":"Teilnehmerliste!B22 &\" \"&Teilnehmerliste!C22","v":"Philip Brunner"},{"$f":"Vorrunde!$BW$81","v":286},{"$f":"Endplatzierung!$AL$58","v":320},{"$f":"Finalrunde!$DV$50","v":2320},{"$f":"IF(Teilnehmerliste!B22=\"\",\"\",SUM(C23:E23))","v":2926},null,47,null,{"$f":"IF(ROWS($J$7:$J$7)<=$F$3,SMALL($H$7:$H$106,ROWS($J$7:J23)),\"\")","v":17},{"$f":"IF($H23=\"\",\"\",INDEX($B$7:$H$106,_xlfn.AGGREGATE(14,6,ROW($H$7:$H$106)-ROW($H$7)+1/($H$7:$H$106=J23),COUNTIF($J$7:J23,J23)),1))","v":"Aleandro Silvestri"},{"$f":"IF($H23=\"\",\"\",INDEX($B$7:$H$106,_xlfn.AGGREGATE(14,6,ROW($H$7:$H$106)-ROW($H$7)+1/($H$7:$H$106=J23),COUNTIF($J$7:J23,J23)),5))","v":3336},null,{"$f":"ISBLANK(Vorrunde!F25)","v":false},17]
[{"$f":"Teilnehmerliste!A23","v":18},{"$f":"Teilnehmerliste!B23 &\" \"&Teilnehmerliste!C23","v":"André Burkart"},{"$f":"Vorrunde!$CA$81","v":272},{"$f":"Endplatzierung!$AN$58","v":260},{"$f":"Finalrunde!$EC$50","v":2340},{"$f":"IF(Teilnehmerliste!B23=\"\",\"\",SUM(C24:E24))","v":2872},null,54,null,{"$f":"IF(ROWS($J$7:$J$7)<=$F$3,SMALL($H$7:$H$106,ROWS($J$7:J24)),\"\")","v":18},{"$f":"IF($H24=\"\",\"\",INDEX($B$7:$H$106,_xlfn.AGGREGATE(14,6,ROW($H$7:$H$106)-ROW($H$7)+1/($H$7:$H$106=J24),COUNTIF($J$7:J24,J24)),1))","v":"Djuma Duvnjak"},{"$f":"IF($H24=\"\",\"\",INDEX($B$7:$H$106,_xlfn.AGGREGATE(14,6,ROW($H$7:$H$106)-ROW($H$7)+1/($H$7:$H$106=J24),COUNTIF($J$7:J24,J24)),5))","v":3330},null,{"$f":"ISBLANK(Vorrunde!F26)","v":false},18]
[{"$f":"Teilnehmerliste!A24","v":19},{"$f":"Teilnehmerliste!B24 &\" \"&Teilnehmerliste!C24","v":"Oli Christiansen"},{"$f":"Vorrunde!$CE$81","v":254},{"$f":"Endplatzierung!$AP$58","v":300},{"$f":"Finalrunde!$EJ$50","v":2370},{"$f":"IF(Teilnehmerliste!B24=\"\",\"\",SUM(C25:E25))","v":2924},null,48,null,{"$f":"IF(ROWS($J$7:$J$7)<=$F$3,SMALL($H$7:$H$106,ROWS($J$7:J25)),\"\")","v":19},{"$f":"IF($H25=\"\",\"\",INDEX($B$7:$H$106,_xlfn.AGGREGATE(14,6,ROW($H$7:$H$106)-ROW($H$7)+1/($H$7:$H$106=J25),COUNTIF($J$7:J25,J25)),1))","v":"Nicolas Mack"},{"$f":"IF($H25=\"\",\"\",INDEX($B$7:$H$106,_xlfn.AGGREGATE(14,6,ROW($H$7:$H$106)-ROW($H$7)+1/($H$7:$H$106=J25),COUNTIF($J$7:J25,J25)),5))","v":3323},null,{"$f":"ISBLANK(Vorrunde!F27)","v":false},19]
[{"$f":"Teilnehmerliste!A25","v":20},{"$f":"Teilnehmerliste!B25 &\" \"&Teilnehmerliste!C25","v":"Javier Cruz"},{"$f":"Vorrunde!$CI$81","v":258},{"$f":"Endplatzierung!$AR$58","v":300},{"$f":"Finalrunde!$EQ$50","v":2920},{"$f":"IF(Teilnehmerliste!B25=\"\",\"\",SUM(C26:E26))","v":3478},null,9,null,{"$f":"IF(ROWS($J$7:$J$7)<=$F$3,SMALL($H$7:$H$106,ROWS($J$7:J26)),\"\")","v":20},{"$f":"IF($H26=\"\",\"\",INDEX($B$7:$H$106,_xlfn.AGGREGATE(14,6,ROW($H$7:$H$106)-ROW($H$7)+1/($H$7:$H$106=J26),COUNTIF($J$7:J26,J26)),1))","v":"Florian González"},{"$f":"IF($H26=\"\",\"\",INDEX($B$7:$H$106,_xlfn.AGGREGATE(14,6,ROW($H$7:$H$106)-ROW($H$7)+1/($H$7:$H$106=J26),COUNTIF($J$7:J26,J26)),5))","v":3319},null,{"$f":"ISBLANK(Vorrunde!F28)","v":false},20]
[{"$f":"Teilnehmerliste!A26","v":21},{"$f":"Teilnehmerliste!B26 &\" \"&Teilnehmerliste!C26","v":"Leo Rodrigues da Costa"},{"$f":"Vorrunde!$CM$81","v":289},{"$f":"Endplatzierung!$AT$58","v":400},{"$f":"Finalrunde!$N$100","v":2470},{"$f":"IF(Teilnehmerliste!B26=\"\",\"\",SUM(C27:E27))","v":3159},null,35,null,{"$f":"IF(ROWS($J$7:$J$7)<=$F$3,SMALL($H$7:$H$106,ROWS($J$7:J27)),\"\")","v":21},{"$f":"IF($H27=\"\",\"\",INDEX($B$7:$H$106,_xlfn.AGGREGATE(14,6,ROW($H$7:$H$106)-ROW($H$7)+1/($H$7:$H$106=J27),COUNTIF($J$7:J27,J27)),1))","v":"Julian Merkli"},{"$f":"IF($H27=\"\",\"\",INDEX($B$7:$H$106,_xlfn.AGGREGATE(14,6,ROW($H$7:$H$106)-ROW($H$7)+1/($H$7:$H$106=J27),COUNTIF($J$7:J27,J27)),5))","v":3302},null,{"$f":"ISBLANK(Vorrunde!F29)","v":false},21]
[{"$f":"Teilnehmerliste!A27","v":22},{"$f":"Teilnehmerliste!B27 &\" \"&Teilnehmerliste!C27","v":"Lisa D'Acunto"},{"$f":"Vorrunde!$CQ$81","v":252},{"$f":"Endplatzierung!$AV$58","v":360},{"$f":"Finalrunde!$U$100","v":2580},{"$f":"IF(Teilnehmerliste!B27=\"\",\"\",SUM(C28:E28))","v":3192},null,29,null,{"$f":"IF(ROWS($J$7:$J$7)<=$F$3,SMALL($H$7:$H$106,ROWS($J$7:J28)),\"\")","v":22},{"$f":"IF($H28=\"\",\"\",INDEX($B$7:$H$106,_xlfn.AGGREGATE(14,6,ROW($H$7:$H$106)-ROW($H$7)+1/($H$7:$H$106=J28),COUNTIF($J$7:J28,J28)),1))","v":"Dino Duvnjak"},{"$f":"IF($H28=\"\",\"\",INDEX($B$7:$H$106,_xlfn.AGGREGATE(14,6,ROW($H$7:$H$106)-ROW($H$7)+1/($H$7:$H$106=J28),COUNTIF($J$7:J28,J28)),5))","v":3300},null,{"$f":"ISBLANK(Vorrunde!F30)","v":false},22]
[{"$f":"Teilnehmerliste!A28","v":23},{"$f":"Teilnehmerliste!B28 &\" \"&Teilnehmerliste!C28","v":"Niva D'Acunto"},{"$f":"Vorrunde!$CU$81","v":268},{"$f":"Endplatzierung!$AX$58","v":280},{"$f":"Finalrunde!$AB$100","v":2190},{"$f":"IF(Teilnehmerliste!B28=\"\",\"\",SUM(C29:E29))","v":2738},null,64,null,{"$f":"IF(ROWS($J$7:$J$7)<=$F$3,SMALL($H$7:$H$106,ROWS($J$7:J29)),\"\")","v":23},{"$f":"IF($H29=\"\",\"\",INDEX($B$7:$H$106,_xlfn.AGGREGATE(14,6,ROW($H$7:$H$106)-ROW($H$7)+1/($H$7:$H$106=J29),COUNTIF($J$7:J29,J29)),1))","v":"Marco Antonelli"},{"$f":"IF($H29=\"\",\"\",INDEX($B$7:$H$106,_xlfn.AGGREGATE(14,6,ROW($H$7:$H$106)-ROW($H$7)+1/($H$7:$H$106=J29),COUNTIF($J$7:J29,J29)),5))","v":3299},null,{"$f":"ISBLANK(Vorrunde!F31)","v":false},23]
[{"$f":"Teilnehmerliste!A29","v":24},{"$f":"Teilnehmerliste!B29 &\" \"&Teilnehmerliste!C29","v":"Vinci D'Acunto"},{"$f":"Vorrunde!$CY$81","v":279},{"$f":"Endplatzierung!$AZ$58","v":320},{"$f":"Finalrunde!$AI$100","v":1920},{"$f":"IF(Teilnehmerliste!B29=\"\",\"\",SUM(C30:E30))","v":2519},null,74,null,{"$f":"IF(ROWS($J$7:$J$7)<=$F$3,SMALL($H$7:$H$106,ROWS($J$7:J30)),\"\")","v":24},{"$f":"IF($H30=\"\",\"\",INDEX($B$7:$H$106,_xlfn.AGGREGATE(14,6,ROW($H$7:$H$106)-ROW($H$7)+1/($H$7:$H$106=J30),COUNTIF($J$7:J30,J30)),1))","v":"Martin Schawalder"},{"$f":"IF($H30=\"\",\"\",INDEX($B$7:$H$106,_xlfn.AGGREGATE(14,6,ROW($H$7:$H$106)-ROW($H$7)+1/($H$7:$H$106=J30),COUNTIF($J$7:J30,J30)),5))","v":3263},null,{"$f":"ISBLANK(Vorrunde!F32)","v":false},24]
[{"$f":"Teilnehmerliste!A30","v":25},{"$f":"Teilnehmerliste!B30 &\" \"&Teilnehmerliste!C30","v":"Rafael Derungs"},{"$f":"Vorrunde!$DC$81","v":274},{"$f":"Endplatzierung!$BB$58","v":280},{"$f":"Finalrunde!$AP$100","v":2490},{"$f":"IF(Teilnehmerliste!B30=\"\",\"\",SUM(C31:E31))","v":3044},null,43,null,{"$f":"IF(ROWS($J$7:$J$7)<=$F$3,SMALL($H$7:$H$106,ROWS($J$7:J31)),\"\")","v":24},{"$f":"IF($H31=\"\",\"\",INDEX($B$7:$H$106,_xlfn.AGGREGATE(14,6,ROW($H$7:$H$106)-ROW($H$7)+1/($H$7:$H$106=J31),COUNTIF($J$7:J31,J31)),1))","v":"Aya Bartholet"},{"$f":"IF($H31=\"\",\"\",INDEX($B$7:$H$106,_xlfn.AGGREGATE(14,6,ROW($H$7:$H$106)-ROW($H$7)+1/($H$7:$H$106=J31),COUNTIF($J$7:J31,J31)),5))","v":3263},null,{"$f":"ISBLANK(Vorrunde!F33)","v":false},25]
[{"$f":"Teilnehmerliste!A31","v":26},{"$f":"Teilnehmerliste!B31 &\" \"&Teilnehmerliste!C31","v":"Goran Djukic"},{"$f":"Vorrunde!$DG$81","v":268},{"$f":"Endplatzierung!$BD$58","v":260},{"$f":"Finalrunde!$AW$100","v":1940},{"$f":"IF(Teilnehmerliste!B31=\"\",\"\",SUM(C32:E32))","v":2468},null,75,null,{"$f":"IF(ROWS($J$7:$J$7)<=$F$3,SMALL($H$7:$H$106,ROWS($J$7:J32)),\"\")","v":26},{"$f":"IF($H32=\"\",\"\",INDEX($B$7:$H$106,_xlfn.AGGREGATE(14,6,ROW($H$7:$H$106)-ROW($H$7)+1/($H$7:$H$106=J32),COUNTIF($J$7:J32,J32)),1))","v":"Andreas Isenschmid"},{"$f":"IF($H32=\"\",\"\",INDEX($B$7:$H$106,_xlfn.AGGREGATE(14,6,ROW($H$7:$H$106)-ROW($H$7)+1/($H$7:$H$106=J32),COUNTIF($J$7:J32,J32)),5))","v":3241},null,{"$f":"ISBLANK(Vorrunde!F34)","v":false},26]
[{"$f":"Teilnehmerliste!A32","v":27},{"$f":"Teilnehmerliste!B32 &\" \"&Teilnehmerliste!C32","v":"Armin Duvnjak"},{"$f":"Vorrunde!$DK$81","v":249},{"$f":"Endplatzierung!$BF$58","v":340},{"$f":"Finalrunde!$BD$100","v":2260},{"$f":"IF(Teilnehmerliste!B32=\"\",\"\",SUM(C33:E33))","v":2849},null,58,null,{"$f":"IF(ROWS($J$7:$J$7)<=$F$3,SMALL($H$7:$H$106,ROWS($J$7:J33)),\"\")","v":27},{"$f":"IF($H33=\"\",\"\",INDEX($B$7:$H$106,_xlfn.AGGREGATE(14,6,ROW($H$7:$H$106)-ROW($H$7)+1/($H$7:$H$106=J33),COUNTIF($J$7:J33,J33)),1))","v":"Bruno Silva"},{"$f":"IF($H33=\"\",\"\",INDEX($B$7:$H$106,_xlfn.AGGREGATE(14,6,ROW($H$7:$H$106)-ROW($H$7)+1/($H$7:$H$106=J33),COUNTIF($J$7:J33,J33)),5))","v":3218},null,{"$f":"ISBLANK(Vorrunde!F35)","v":false},27]
[{"$f":"Teilnehmerliste!A33","v":28},{"$f":"Teilnehmerliste!B33 &\" \"&Teilnehmerliste!C33","v":"Dino Duvnjak"},{"$f":"Vorrunde!$DO$81","v":280},{"$f":"Endplatzierung!$BH$58","v":260},{"$f":"Finalrunde!$BK$100","v":2760},{"$f":"IF(Teilnehmerliste!B33=\"\",\"\",SUM(C34:E34))","v":3300},null,22,null,{"$f":"IF(ROWS($J$7:$J$7)<=$F$3,SMALL($H$7:$H$106,ROWS($J$7:J34)),\"\")","v":28},{"$f":"IF($H34=\"\",\"\",INDEX($B$7:$H$106,_xlfn.AGGREGATE(14,6,ROW($H$7:$H$106)-ROW($H$7)+1/($H$7:$H$106=J34),COUNTIF($J$7:J34,J34)),1))","v":"Peter Balazs"},{"$f":"IF($H34=\"\",\"\",INDEX($B$7:$H$106,_xlfn.AGGREGATE(14,6,ROW($H$7:$H$106)-ROW($H$7)+1/($H$7:$H$106=J34),COUNTIF($J$7:J34,J34)),5))","v":3202},null,{"$f":"ISBLANK(Vorrunde!F36)","v":false},28]
[{"$f":"Teilnehmerliste!A34","v":29},{"$f":"Teilnehmerliste!B34 &\" \"&Teilnehmerliste!C34","v":"Djuma Duvnjak"},{"$f":"Vorrunde!$DS$81","v":280},{"$f":"Endplatzierung!$BJ$58","v":340},{"$f":"Finalrunde!$BR$100","v":2710},{"$f":"IF(Teilnehmerliste!B34=\"\",\"\",SUM(C35:E35))","v":3330},null,18,null,{"$f":"IF(ROWS($J$7:$J$7)<=$F$3,SMALL($H$7:$H$106,ROWS($J$7:J35)),\"\")","v":29},{"$f":"IF($H35=\"\",\"\",INDEX($B$7:$H$106,_xlfn.AGGREGATE(14,6,ROW($H$7:$H$106)-ROW($H$7)+1/($H$7:$H$106=J35),COUNTIF($J$7:J35,J35)),1))","v":"Lisa D'Acunto"},{"$f":"IF($H35=\"\",\"\",INDEX($B$7:$H$106,_xlfn.AGGREGATE(14,6,ROW($H$7:$H$106)-ROW($H$7)+1/($H$7:$H$106=J35),COUNTIF($J$7:J35,J35)),5))","v":3192},null,{"$f":"ISBLANK(Vorrunde!F37)","v":false},29]
[{"$f":"Teilnehmerliste!A35","v":30},{"$f":"Teilnehmerliste!B35 &\" \"&Teilnehmerliste!C35","v":"Andreia Gomes"},{"$f":"Vorrunde!$DW$81","v":243},{"$f":"Endplatzierung!$BL$58","v":180},{"$f":"Finalrunde!$BY$100","v":1690},{"$f":"IF(Teilnehmerliste!B35=\"\",\"\",SUM(C36:E36))","v":2113},null,82,null,{"$f":"IF(ROWS($J$7:$J$7)<=$F$3,SMALL($H$7:$H$106,ROWS($J$7:J36)),\"\")","v":30},{"$f":"IF($H36=\"\",\"\",INDEX($B$7:$H$106,_xlfn.AGGREGATE(14,6,ROW($H$7:$H$106)-ROW($H$7)+1/($H$7:$H$106=J36),COUNTIF($J$7:J36,J36)),1))","v":"Timothy Gygli"},{"$f":"IF($H36=\"\",\"\",INDEX($B$7:$H$106,_xlfn.AGGREGATE(14,6,ROW($H$7:$H$106)-ROW($H$7)+1/($H$7:$H$106=J36),COUNTIF($J$7:J36,J36)),5))","v":3184},null,{"$f":"ISBLANK(Vorrunde!F38)","v":false},30]
[{"$f":"Teilnehmerliste!A36","v":31},{"$f":"Teilnehmerliste!B36 &\" \"&Teilnehmerliste!C36","v":"Rui Gomes"},{"$f":"Vorrunde!$EA$81","v":283},{"$f":"Endplatzierung!$BN$58","v":320},{"$f":"Finalrunde!$CF$100","v":2490},{"$f":"IF(Teilnehmerliste!B36=\"\",\"\",SUM(C37:E37))","v":3093},null,42,null,{"$f":"IF(ROWS($J$7:$J$7)<=$F$3,SMALL($H$7:$H$106,ROWS($J$7:J37)),\"\")","v":31},{"$f":"IF($H37=\"\",\"\",INDEX($B$7:$H$106,_xlfn.AGGREGATE(14,6,ROW($H$7:$H$106)-ROW($H$7)+1/($H$7:$H$106=J37),COUNTIF($J$7:J37,J37)),1))","v":"Telmo Oliveira"},{"$f":"IF($H37=\"\",\"\",INDEX($B$7:$H$106,_xlfn.AGGREGATE(14,6,ROW($H$7:$H$106)-ROW($H$7)+1/($H$7:$H$106=J37),COUNTIF($J$7:J37,J37)),5))","v":3182},null,{"$f":"ISBLANK(Vorrunde!F39)","v":false},31]
[{"$f":"Teilnehmerliste!A37","v":32},{"$f":"Teilnehmerliste!B37 &\" \"&Teilnehmerliste!C37","v":"Deliz González"},{"$f":"Vorrunde!$EE$81","v":246},{"$f":"Endplatzierung!$BP$58","v":140},{"$f":"Finalrunde!$CM$100","v":2500},{"$f":"IF(Teilnehmerliste!B37=\"\",\"\",SUM(C38:E38))","v":2886},null,52,null,{"$f":"IF(ROWS($J$7:$J$7)<=$F$3,SMALL($H$7:$H$106,ROWS($J$7:J38)),\"\")","v":31},{"$f":"IF($H38=\"\",\"\",INDEX($B$7:$H$106,_xlfn.AGGREGATE(14,6,ROW($H$7:$H$106)-ROW($H$7)+1/($H$7:$H$106=J38),COUNTIF($J$7:J38,J38)),1))","v":"Robin Gygli"},{"$f":"IF($H38=\"\",\"\",INDEX($B$7:$H$106,_xlfn.AGGREGATE(14,6,ROW($H$7:$H$106)-ROW($H$7)+1/($H$7:$H$106=J38),COUNTIF($J$7:J38,J38)),5))","v":3182},null,{"$f":"ISBLANK(Vorrunde!F40)","v":false},32]
[{"$f":"Teilnehmerliste!A38","v":33},{"$f":"Teilnehmerliste!B38 &\" \"&Teilnehmerliste!C38","v":"Florian González"},{"$f":"Vorrunde!$EI$81","v":259},{"$f":"Endplatzierung!$BR$58","v":280},{"$f":"Finalrunde!$CT$100","v":2780},{"$f":"IF(Teilnehmerliste!B38=\"\",\"\",SUM(C39:E39))","v":3319},null,20,null,{"$f":"IF(ROWS($J$7:$J$7)<=$F$3,SMALL($H$7:$H$106,ROWS($J$7:J39)),\"\")","v":33},{"$f":"IF($H39=\"\",\"\",INDEX($B$7:$H$106,_xlfn.AGGREGATE(14,6,ROW($H$7:$H$106)-ROW($H$7)+1/($H$7:$H$106=J39),COUNTIF($J$7:J39,J39)),1))","v":"Ivo und Brigitte Rüdemann"},{"$f":"IF($H39=\"\",\"\",INDEX($B$7:$H$106,_xlfn.AGGREGATE(14,6,ROW($H$7:$H$106)-ROW($H$7)+1/($H$7:$H$106=J39),COUNTIF($J$7:J39,J39)),5))","v":3170},null,{"$f":"ISBLANK(Vorrunde!F41)","v":false},33]
[{"$f":"Teilnehmerliste!A39","v":34},{"$f":"Teilnehmerliste!B39 &\" \"&Teilnehmerliste!C39","v":"Laurent Grosse"},{"$f":"Vorrunde!$EM$81","v":243},{"$f":"Endplatzierung!$BT$58","v":220},{"$f":"Finalrunde!$DA$100","v":2350},{"$f":"IF(Teilnehmerliste!B39=\"\",\"\",SUM(C40:E40))","v":2813},null,61,null,{"$f":"IF(ROWS($J$7:$J$7)<=$F$3,SMALL($H$7:$H$106,ROWS($J$7:J40)),\"\")","v":34},{"$f":"IF($H40=\"\",\"\",INDEX($B$7:$H$106,_xlfn.AGGREGATE(14,6,ROW($H$7:$H$106)-ROW($H$7)+1/($H$7:$H$106=J40),COUNTIF($J$7:J40,J40)),1))","v":"Nicolas Brunner"},{"$f":"IF($H40=\"\",\"\",INDEX($B$7:$H$106,_xlfn.AGGREGATE(14,6,ROW($H$7:$H$106)-ROW($H$7)+1/($H$7:$H$106=J40),COUNTIF($J$7:J40,J40)),5))","v":3162},null,{"$f":"ISBLANK(Vorrunde!F42)","v":false},34]
[{"$f":"Teilnehmerliste!A40","v":35},{"$f":"Teilnehmerliste!B40 &\" \"&Teilnehmerliste!C40","v":"Reto Gygli"},{"$f":"Vorrunde!$EQ$81","v":249},{"$f":"Endplatzierung!$BV$58","v":260},{"$f":"Finalrunde!$DH$100","v":2620},{"$f":"IF(Teilnehmerliste!B40=\"\",\"\",SUM(C41:E41))","v":3129},null,36,null,{"$f":"IF(ROWS($J$7:$J$7)<=$F$3,SMALL($H$7:$H$106,ROWS($J$7:J41)),\"\")","v":35},{"$f":"IF($H41=\"\",\"\",INDEX($B$7:$H$106,_xlfn.AGGREGATE(14,6,ROW($H$7:$H$106)-ROW($H$7)+1/($H$7:$H$106=J41),COUNTIF($J$7:J41,J41)),1))","v":"Leo Rodrigues da Costa"},{"$f":"IF($H41=\"\",\"\",INDEX($B$7:$H$106,_xlfn.AGGREGATE(14,6,ROW($H$7:$H$106)-ROW($H$7)+1/($H$7:$H$106=J41),COUNTIF($J$7:J41,J41)),5))","v":3159},null,{"$f":"ISBLANK(Vorrunde!F43)","v":false},35]
[{"$f":"Teilnehmerliste!A41","v":36},{"$f":"Teilnehmerliste!B41 &\" \"&Teilnehmerliste!C41","v":"Robin Gygli"},{"$f":"Vorrunde!$EU$81","v":282},{"$f":"Endplatzierung!$BX$58","v":280},{"$f":"Finalrunde!$DO$100","v":2620},{"$f":"IF(Teilnehmerliste!B41=\"\",\"\",SUM(C42:E42))","v":3182},null,31,null,{"$f":"IF(ROWS($J$7:$J$7)<=$F$3,SMALL($H$7:$H$106,ROWS($J$7:J42)),\"\")","v":36},{"$f":"IF($H42=\"\",\"\",INDEX($B$7:$H$106,_xlfn.AGGREGATE(14,6,ROW($H$7:$H$106)-ROW($H$7)+1/($H$7:$H$106=J42),COUNTIF($J$7:J42,J42)),1))","v":"Reto Gygli"},{"$f":"IF($H42=\"\",\"\",INDEX($B$7:$H$106,_xlfn.AGGREGATE(14,6,ROW($H$7:$H$106)-ROW($H$7)+1/($H$7:$H$106=J42),COUNTIF($J$7:J42,J42)),5))","v":3129},null,{"$f":"ISBLANK(Vorrunde!F44)","v":false},36]
[{"$f":"Teilnehmerliste!A42","v":37},{"$f":"Teilnehmerliste!B42 &\" \"&Teilnehmerliste!C42","v":"Sarina Gygli"},{"$f":"Vorrunde!$EY$81","v":245},{"$f":"Endplatzierung!$BZ$58","v":220},{"$f":"Finalrunde!$DV$100","v":2660},{"$f":"IF(Teilnehmerliste!B42=\"\",\"\",SUM(C43:E43))","v":3125},null,37,null,{"$f":"IF(ROWS($J$7:$J$7)<=$F$3,SMALL($H$7:$H$106,ROWS($J$7:J43)),\"\")","v":37},{"$f":"IF($H43=\"\",\"\",INDEX($B$7:$H$106,_xlfn.AGGREGATE(14,6,ROW($H$7:$H$106)-ROW($H$7)+1/($H$7:$H$106=J43),COUNTIF($J$7:J43,J43)),1))","v":"Sarina Gygli"},{"$f":"IF($H43=\"\",\"\",INDEX($B$7:$H$106,_xlfn.AGGREGATE(14,6,ROW($H$7:$H$106)-ROW($H$7)+1/($H$7:$H$106=J43),COUNTIF($J$7:J43,J43)),5))","v":3125},null,{"$f":"ISBLANK(Vorrunde!F45)","v":false},37]
[{"$f":"Teilnehmerliste!A43","v":38},{"$f":"Teilnehmerliste!B43 &\" \"&Teilnehmerliste!C43","v":"Selina Gygli"},{"$f":"Vorrunde!$FC$81","v":212},{"$f":"Endplatzierung!$CB$58","v":180},{"$f":"Finalrunde!$EC$100","v":2000},{"$f":"IF(Teilnehmerliste!B43=\"\",\"\",SUM(C44:E44))","v":2392},null,79,null,{"$f":"IF(ROWS($J$7:$J$7)<=$F$3,SMALL($H$7:$H$106,ROWS($J$7:J44)),\"\")","v":38},{"$f":"IF($H44=\"\",\"\",INDEX($B$7:$H$106,_xlfn.AGGREGATE(14,6,ROW($H$7:$H$106)-ROW($H$7)+1/($H$7:$H$106=J44),COUNTIF($J$7:J44,J44)),1))","v":"Lechena Pek"},{"$f":"IF($H44=\"\",\"\",INDEX($B$7:$H$106,_xlfn.AGGREGATE(14,6,ROW($H$7:$H$106)-ROW($H$7)+1/($H$7:$H$106=J44),COUNTIF($J$7:J44,J44)),5))","v":3122},null,{"$f":"ISBLANK(Vorrunde!F46)","v":false},38]
[{"$f":"Teilnehmerliste!A44","v":39},{"$f":"Teilnehmerliste!B44 &\" \"&Teilnehmerliste!C44","v":"Stefan Gygli"},{"$f":"Vorrunde!$FG$81","v":251},{"$f":"Endplatzierung!$CD$58","v":300},{"$f":"Finalrunde!$EJ$100","v":2550},{"$f":"IF(Teilnehmerliste!B44=\"\",\"\",SUM(C45:E45))","v":3101},null,40,null,{"$f":"IF(ROWS($J$7:$J$7)<=$F$3,SMALL($H$7:$H$106,ROWS($J$7:J45)),\"\")","v":39},{"$f":"IF($H45=\"\",\"\",INDEX($B$7:$H$106,_xlfn.AGGREGATE(14,6,ROW($H$7:$H$106)-ROW($H$7)+1/($H$7:$H$106=J45),COUNTIF($J$7:J45,J45)),1))","v":"Elias Marty"},{"$f":"IF($H45=\"\",\"\",INDEX($B$7:$H$106,_xlfn.AGGREGATE(14,6,ROW($H$7:$H$106)-ROW($H$7)+1/($H$7:$H$106=J45),COUNTIF($J$7:J45,J45)),5))","v":3108},null,{"$f":"ISBLANK(Vorrunde!F47)","v":false},39]
[{"$f":"Teilnehmerliste!A45","v":40},{"$f":"Teilnehmerliste!B45 &\" \"&Teilnehmerliste!C45","v":"Timothy Gygli"},{"$f":"Vorrunde!$FK$81","v":274},{"$f":"Endplatzierung!$CF$58","v":300},{"$f":"Finalrunde!$EQ$100","v":2610},{"$f":"IF(Teilnehmerliste!B45=\"\",\"\",SUM(C46:E46))","v":3184},null,30,null,{"$f":"IF(ROWS($J$7:$J$7)<=$F$3,SMALL($H$7:$H$106,ROWS($J$7:J46)),\"\")","v":40},{"$f":"IF($H46=\"\",\"\",INDEX($B$7:$H$106,_xlfn.AGGREGATE(14,6,ROW($H$7:$H$106)-ROW($H$7)+1/($H$7:$H$106=J46),COUNTIF($J$7:J46,J46)),1))","v":"Stefan Gygli"},{"$f":"IF($H46=\"\",\"\",INDEX($B$7:$H$106,_xlfn.AGGREGATE(14,6,ROW($H$7:$H$106)-ROW($H$7)+1/($H$7:$H$106=J46),COUNTIF($J$7:J46,J46)),5))","v":3101},null,{"$f":"ISBLANK(Vorrunde!F48)","v":false},40]
[{"$f":"Teilnehmerliste!A46","v":41},{"$f":"Teilnehmerliste!B46 &\" \"&Teilnehmerliste!C46","v":"Florian Haab"},{"$f":"Vorrunde!$FO$81","v":306},{"$f":"Endplatzierung!$CH$58","v":320},{"$f":"Finalrunde!$N$150","v":2870},{"$f":"IF(Teilnehmerliste!B46=\"\",\"\",SUM(C47:E47))","v":3496},null,7,null,{"$f":"IF(ROWS($J$7:$J$7)<=$F$3,SMALL($H$7:$H$106,ROWS($J$7:J47)),\"\")","v":41},{"$f":"IF($H47=\"\",\"\",INDEX($B$7:$H$106,_xlfn.AGGREGATE(14,6,ROW($H$7:$H$106)-ROW($H$7)+1/($H$7:$H$106=J47),COUNTIF($J$7:J47,J47)),1))","v":"Martin Marthaler"},{"$f":"IF($H47=\"\",\"\",INDEX($B$7:$H$106,_xlfn.AGGREGATE(14,6,ROW($H$7:$H$106)-ROW($H$7)+1/($H$7:$H$106=J47),COUNTIF($J$7:J47,J47)),5))","v":3094},null,{"$f":"ISBLANK(Vorrunde!F49)","v":false},41]
[{"$f":"Teilnehmerliste!A47","v":42},{"$f":"Teilnehmerliste!B47 &\" \"&Teilnehmerliste!C47","v":"Agnes Isenschmid"},{"$f":"Vorrunde!$FS$81","v":273},{"$f":"Endplatzierung!$CJ$58","v":360},{"$f":"Finalrunde!$U$150","v":3390},{"$f":"IF(Teilnehmerliste!B47=\"\",\"\",SUM(C48:E48))","v":4023},null,2,null,{"$f":"IF(ROWS($J$7:$J$7)<=$F$3,SMALL($H$7:$H$106,ROWS($J$7:J48)),\"\")","v":42},{"$f":"IF($H48=\"\",\"\",INDEX($B$7:$H$106,_xlfn.AGGREGATE(14,6,ROW($H$7:$H$106)-ROW($H$7)+1/($H$7:$H$106=J48),COUNTIF($J$7:J48,J48)),1))","v":"Rui Gomes"},{"$f":"IF($H48=\"\",\"\",INDEX($B$7:$H$106,_xlfn.AGGREGATE(14,6,ROW($H$7:$H$106)-ROW($H$7)+1/($H$7:$H$106=J48),COUNTIF($J$7:J48,J48)),5))","v":3093},null,{"$f":"ISBLANK(Vorrunde!F50)","v":false},42]
[{"$f":"Teilnehmerliste!A48","v":43},{"$f":"Teilnehmerliste!B48 &\" \"&Teilnehmerliste!C48","v":"Andreas Isenschmid"},{"$f":"Vorrunde!$FW$81","v":271},{"$f":"Endplatzierung!$CL$58","v":220},{"$f":"Finalrunde!$AB$150","v":2750},{"$f":"IF(Teilnehmerliste!B48=\"\",\"\",SUM(C49:E49))","v":3241},null,26,null,{"$f":"IF(ROWS($J$7:$J$7)<=$F$3,SMALL($H$7:$H$106,ROWS($J$7:J49)),\"\")","v":43},{"$f":"IF($H49=\"\",\"\",INDEX($B$7:$H$106,_xlfn.AGGREGATE(14,6,ROW($H$7:$H$106)-ROW($H$7)+1/($H$7:$H$106=J49),COUNTIF($J$7:J49,J49)),1))","v":"Rafael Derungs"},{"$f":"IF($H49=\"\",\"\",INDEX($B$7:$H$106,_xlfn.AGGREGATE(14,6,ROW($H$7:$H$106)-ROW($H$7)+1/($H$7:$H$106=J49),COUNTIF($J$7:J49,J49)),5))","v":3044},null,{"$f":"ISBLANK(Vorrunde!F51)","v":false},43]
[{"$f":"Teilnehmerliste!A49","v":44},{"$f":"Teilnehmerliste!B49 &\" \"&Teilnehmerliste!C49","v":"Michael Isenschmid"},{"$f":"Vorrunde!$GA$81","v":284},{"$f":"Endplatzierung!$CN$58","v":280},{"$f":"Finalrunde!$AI$150","v":2880},{"$f":"IF(Teilnehmerliste!B49=\"\",\"\",SUM(C50:E50))","v":3444},null,12,null,{"$f":"IF(ROWS($J$7:$J$7)<=$F$3,SMALL($H$7:$H$106,ROWS($J$7:J50)),\"\")","v":44},{"$f":"IF($H50=\"\",\"\",INDEX($B$7:$H$106,_xlfn.AGGREGATE(14,6,ROW($H$7:$H$106)-ROW($H$7)+1/($H$7:$H$106=J50),COUNTIF($J$7:J50,J50)),1))","v":"André Bartholet"},{"$f":"IF($H50=\"\",\"\",INDEX($B$7:$H$106,_xlfn.AGGREGATE(14,6,ROW($H$7:$H$106)-ROW($H$7)+1/($H$7:$H$106=J50),COUNTIF($J$7:J50,J50)),5))","v":3005},null,{"$f":"ISBLANK(Vorrunde!F52)","v":false},44]
[{"$f":"Teilnehmerliste!A50","v":45},{"$f":"Teilnehmerliste!B50 &\" \"&Teilnehmerliste!C50","v":"Aiden Jones"},{"$f":"Vorrunde!$GE$81","v":251},{"$f":"Endplatzierung!$CP$58","v":260},{"$f":"Finalrunde!$AP$150","v":2050},{"$f":"IF(Teilnehmerliste!B50=\"\",\"\",SUM(C51:E51))","v":2561},null,72,null,{"$f":"IF(ROWS($J$7:$J$7)<=$F$3,SMALL($H$7:$H$106,ROWS($J$7:J51)),\"\")","v":45},{"$f":"IF($H51=\"\",\"\",INDEX($B$7:$H$106,_xlfn.AGGREGATE(14,6,ROW($H$7:$H$106)-ROW($H$7)+1/($H$7:$H$106=J51),COUNTIF($J$7:J51,J51)),1))","v":"Michael Rüegg"},{"$f":"IF($H51=\"\",\"\",INDEX($B$7:$H$106,_xlfn.AGGREGATE(14,6,ROW($H$7:$H$106)-ROW($H$7)+1/($H$7:$H$106=J51),COUNTIF($J$7:J51,J51)),5))","v":2972},null,{"$f":"ISBLANK(Vorrunde!F53)","v":false},45]
[{"$f":"Teilnehmerliste!A51","v":46},{"$f":"Teilnehmerliste!B51 &\" \"&Teilnehmerliste!C51","v":"Pascal Keller"},{"$f":"Vorrunde!$GI$81","v":285},{"$f":"Endplatzierung!$CR$58","v":300},{"$f":"Finalrunde!$AW$150","v":2320},{"$f":"IF(Teilnehmerliste!B51=\"\",\"\",SUM(C52:E52))","v":2905},null,50,null,{"$f":"IF(ROWS($J$7:$J$7)<=$F$3,SMALL($H$7:$H$106,ROWS($J$7:J52)),\"\")","v":46},{"$f":"IF($H52=\"\",\"\",INDEX($B$7:$H$106,_xlfn.AGGREGATE(14,6,ROW($H$7:$H$106)-ROW($H$7)+1/($H$7:$H$106=J52),COUNTIF($J$7:J52,J52)),1))","v":"Mauro Marini"},{"$f":"IF($H52=\"\",\"\",INDEX($B$7:$H$106,_xlfn.AGGREGATE(14,6,ROW($H$7:$H$106)-ROW($H$7)+1/($H$7:$H$106=J52),COUNTIF($J$7:J52,J52)),5))","v":2965},null,{"$f":"ISBLANK(Vorrunde!F54)","v":false},46]
[{"$f":"Teilnehmerliste!A52","v":47},{"$f":"Teilnehmerliste!B52 &\" \"&Teilnehmerliste!C52","v":"Tanja Kistler"},{"$f":"Vorrunde!$GM$81","v":263},{"$f":"Endplatzierung!$CT$58","v":280},{"$f":"Finalrunde!$BD$150","v":2310},{"$f":"IF(Teilnehmerliste!B52=\"\",\"\",SUM(C53:E53))","v":2853},null,56,null,{"$f":"IF(ROWS($J$7:$J$7)<=$F$3,SMALL($H$7:$H$106,ROWS($J$7:J53)),\"\")","v":47},{"$f":"IF($H53=\"\",\"\",INDEX($B$7:$H$106,_xlfn.AGGREGATE(14,6,ROW($H$7:$H$106)-ROW($H$7)+1/($H$7:$H$106=J53),COUNTIF($J$7:J53,J53)),1))","v":"Philip Brunner"},{"$f":"IF($H53=\"\",\"\",INDEX($B$7:$H$106,_xlfn.AGGREGATE(14,6,ROW($H$7:$H$106)-ROW($H$7)+1/($H$7:$H$106=J53),COUNTIF($J$7:J53,J53)),5))","v":2926},null,{"$f":"ISBLANK(Vorrunde!F55)","v":false},47]
[{"$f":"Teilnehmerliste!A53","v":48},{"$f":"Teilnehmerliste!B53 &\" \"&Teilnehmerliste!C53","v":"André Lanz"},{"$f":"Vorrunde!$GQ$81","v":312},{"$f":"Endplatzierung!$CV$58","v":260},{"$f":"Finalrunde!$BK$150","v":3050},{"$f":"IF(Teilnehmerliste!B53=\"\",\"\",SUM(C54:E54))","v":3622},null,4,null,{"$f":"IF(ROWS($J$7:$J$7)<=$F$3,SMALL($H$7:$H$106,ROWS($J$7:J54)),\"\")","v":48},{"$f":"IF($H54=\"\",\"\",INDEX($B$7:$H$106,_xlfn.AGGREGATE(14,6,ROW($H$7:$H$106)-ROW($H$7)+1/($H$7:$H$106=J54),COUNTIF($J$7:J54,J54)),1))","v":"Oli Christiansen"},{"$f":"IF($H54=\"\",\"\",INDEX($B$7:$H$106,_xlfn.AGGREGATE(14,6,ROW($H$7:$H$106)-ROW($H$7)+1/($H$7:$H$106=J54),COUNTIF($J$7:J54,J54)),5))","v":2924},null,{"$f":"ISBLANK(Vorrunde!F56)","v":false},48]
[{"$f":"Teilnehmerliste!A54","v":49},{"$f":"Teilnehmerliste!B54 &\" \"&Teilnehmerliste!C54","v":"Franz Lischer"},{"$f":"Vorrunde!$GU$81","v":312},{"$f":"Endplatzierung!$CX$58","v":240},{"$f":"Finalrunde!$BR$150","v":2270},{"$f":"IF(Teilnehmerliste!B54=\"\",\"\",SUM(C55:E55))","v":2822},null,60,null,{"$f":"IF(ROWS($J$7:$J$7)<=$F$3,SMALL($H$7:$H$106,ROWS($J$7:J55)),\"\")","v":49},{"$f":"IF($H55=\"\",\"\",INDEX($B$7:$H$106,_xlfn.AGGREGATE(14,6,ROW($H$7:$H$106)-ROW($H$7)+1/($H$7:$H$106=J55),COUNTIF($J$7:J55,J55)),1))","v":"Christoph Wälti"},{"$f":"IF($H55=\"\",\"\",INDEX($B$7:$H$106,_xlfn.AGGREGATE(14,6,ROW($H$7:$H$106)-ROW($H$7)+1/($H$7:$H$106=J55),COUNTIF($J$7:J55,J55)),5))","v":2923},null,{"$f":"ISBLANK(Vorrunde!F57)","v":false},49]
[{"$f":"Teilnehmerliste!A55","v":50},{"$f":"Teilnehmerliste!B55 &\" \"&Teilnehmerliste!C55","v":"Marc Lütolf"},{"$f":"Vorrunde!$GY$81","v":269},{"$f":"Endplatzierung!$CZ$58","v":260},{"$f":"Finalrunde!$BY$150","v":3050},{"$f":"IF(Teilnehmerliste!B55=\"\",\"\",SUM(C56:E56))","v":3579},null,5,null,{"$f":"IF(ROWS($J$7:$J$7)<=$F$3,SMALL($H$7:$H$106,ROWS($J$7:J56)),\"\")","v":50},{"$f":"IF($H56=\"\",\"\",INDEX($B$7:$H$106,_xlfn.AGGREGATE(14,6,ROW($H$7:$H$106)-ROW($H$7)+1/($H$7:$H$106=J56),COUNTIF($J$7:J56,J56)),1))","v":"Pascal Keller"},{"$f":"IF($H56=\"\",\"\",INDEX($B$7:$H$106,_xlfn.AGGREGATE(14,6,ROW($H$7:$H$106)-ROW($H$7)+1/($H$7:$H$106=J56),COUNTIF($J$7:J56,J56)),5))","v":2905},null,{"$f":"ISBLANK(Vorrunde!F58)","v":false},50]
[{"$f":"Teilnehmerliste!A56","v":51},{"$f":"Teilnehmerliste!B56 &\" \"&Teilnehmerliste!C56","v":"Nicolas Mack"},{"$f":"Vorrunde!$K$162","v":283},{"$f":"Endplatzierung!$F$116","v":240},{"$f":"Finalrunde!$CF$150","v":2800},{"$f":"IF(Teilnehmerliste!B56=\"\",\"\",SUM(C57:E57))","v":3323},null,19,null,{"$f":"IF(ROWS($J$7:$J$7)<=$F$3,SMALL($H$7:$H$106,ROWS($J$7:J57)),\"\")","v":51},{"$f":"IF($H57=\"\",\"\",INDEX($B$7:$H$106,_xlfn.AGGREGATE(14,6,ROW($H$7:$H$106)-ROW($H$7)+1/($H$7:$H$106=J57),COUNTIF($J$7:J57,J57)),1))","v":"Reto Treichler"},{"$f":"IF($H57=\"\",\"\",INDEX($B$7:$H$106,_xlfn.AGGREGATE(14,6,ROW($H$7:$H$106)-ROW($H$7)+1/($H$7:$H$106=J57),COUNTIF($J$7:J57,J57)),5))","v":2898},null,{"$f":"ISBLANK(Vorrunde!F59)","v":false},51]
[{"$f":"Teilnehmerliste!A57","v":52},{"$f":"Teilnehmerliste!B57 &\" \"&Teilnehmerliste!C57","v":"Mauro Marini"},{"$f":"Vorrunde!$O$162","v":245},{"$f":"Endplatzierung!$H$116","v":300},{"$f":"Finalrunde!$CM$150","v":2420},{"$f":"IF(Teilnehmerliste!B57=\"\",\"\",SUM(C58:E58))","v":2965},null,46,null,{"$f":"IF(ROWS($J$7:$J$7)<=$F$3,SMALL($H$7:$H$106,ROWS($J$7:J58)),\"\")","v":52},{"$f":"IF($H58=\"\",\"\",INDEX($B$7:$H$106,_xlfn.AGGREGATE(14,6,ROW($H$7:$H$106)-ROW($H$7)+1/($H$7:$H$106=J58),COUNTIF($J$7:J58,J58)),1))","v":"Deliz González"},{"$f":"IF($H58=\"\",\"\",INDEX($B$7:$H$106,_xlfn.AGGREGATE(14,6,ROW($H$7:$H$106)-ROW($H$7)+1/($H$7:$H$106=J58),COUNTIF($J$7:J58,J58)),5))","v":2886},null,{"$f":"ISBLANK(Vorrunde!F60)","v":false},52]
[{"$f":"Teilnehmerliste!A58","v":53},{"$f":"Teilnehmerliste!B58 &\" \"&Teilnehmerliste!C58","v":"Ben Marthaler"},{"$f":"Vorrunde!$S$162","v":206},{"$f":"Endplatzierung!$J$116","v":220},{"$f":"Finalrunde!$CT$150","v":1220},{"$f":"IF(Teilnehmerliste!B58=\"\",\"\",SUM(C59:E59))","v":1646},null,84,null,{"$f":"IF(ROWS($J$7:$J$7)<=$F$3,SMALL($H$7:$H$106,ROWS($J$7:J59)),\"\")","v":53},{"$f":"IF($H59=\"\",\"\",INDEX($B$7:$H$106,_xlfn.AGGREGATE(14,6,ROW($H$7:$H$106)-ROW($H$7)+1/($H$7:$H$106=J59),COUNTIF($J$7:J59,J59)),1))","v":"Evelyne Schenk"},{"$f":"IF($H59=\"\",\"\",INDEX($B$7:$H$106,_xlfn.AGGREGATE(14,6,ROW($H$7:$H$106)-ROW($H$7)+1/($H$7:$H$106=J59),COUNTIF($J$7:J59,J59)),5))","v":2885},null,{"$f":"ISBLANK(Vorrunde!F61)","v":false},53]
[{"$f":"Teilnehmerliste!A59","v":54},{"$f":"Teilnehmerliste!B59 &\" \"&Teilnehmerliste!C59","v":"Martin Marthaler"},{"$f":"Vorrunde!$W$162","v":224},{"$f":"Endplatzierung!$L$116","v":140},{"$f":"Finalrunde!$DA$150","v":2730},{"$f":"IF(Teilnehmerliste!B59=\"\",\"\",SUM(C60:E60))","v":3094},null,41,null,{"$f":"IF(ROWS($J$7:$J$7)<=$F$3,SMALL($H$7:$H$106,ROWS($J$7:J60)),\"\")","v":54},{"$f":"IF($H60=\"\",\"\",INDEX($B$7:$H$106,_xlfn.AGGREGATE(14,6,ROW($H$7:$H$106)-ROW($H$7)+1/($H$7:$H$106=J60),COUNTIF($J$7:J60,J60)),1))","v":"Lynn Rüegg"},{"$f":"IF($H60=\"\",\"\",INDEX($B$7:$H$106,_xlfn.AGGREGATE(14,6,ROW($H$7:$H$106)-ROW($H$7)+1/($H$7:$H$106=J60),COUNTIF($J$7:J60,J60)),5))","v":2872},null,{"$f":"ISBLANK(Vorrunde!F62)","v":false},54]
[{"$f":"Teilnehmerliste!A60","v":55},{"$f":"Teilnehmerliste!B60 &\" \"&Teilnehmerliste!C60","v":"Elias Marty"},{"$f":"Vorrunde!$AA$162","v":238},{"$f":"Endplatzierung!$N$116","v":180},{"$f":"Finalrunde!$DH$150","v":2690},{"$f":"IF(Teilnehmerliste!B60=\"\",\"\",SUM(C61:E61))","v":3108},null,39,null,{"$f":"IF(ROWS($J$7:$J$7)<=$F$3,SMALL($H$7:$H$106,ROWS($J$7:J61)),\"\")","v":54},{"$f":"IF($H61=\"\",\"\",INDEX($B$7:$H$106,_xlfn.AGGREGATE(14,6,ROW($H$7:$H$106)-ROW($H$7)+1/($H$7:$H$106=J61),COUNTIF($J$7:J61,J61)),1))","v":"André Burkart"},{"$f":"IF($H61=\"\",\"\",INDEX($B$7:$H$106,_xlfn.AGGREGATE(14,6,ROW($H$7:$H$106)-ROW($H$7)+1/($H$7:$H$106=J61),COUNTIF($J$7:J61,J61)),5))","v":2872},null,{"$f":"ISBLANK(Vorrunde!F63)","v":false},55]
[{"$f":"Teilnehmerliste!A61","v":56},{"$f":"Teilnehmerliste!B61 &\" \"&Teilnehmerliste!C61","v":"Julian Merkli"},{"$f":"Vorrunde!$AE$162","v":242},{"$f":"Endplatzierung!$P$116","v":300},{"$f":"Finalrunde!$DO$150","v":2760},{"$f":"IF(Teilnehmerliste!B61=\"\",\"\",SUM(C62:E62))","v":3302},null,21,null,{"$f":"IF(ROWS($J$7:$J$7)<=$F$3,SMALL($H$7:$H$106,ROWS($J$7:J62)),\"\")","v":56},{"$f":"IF($H62=\"\",\"\",INDEX($B$7:$H$106,_xlfn.AGGREGATE(14,6,ROW($H$7:$H$106)-ROW($H$7)+1/($H$7:$H$106=J62),COUNTIF($J$7:J62,J62)),1))","v":"Erich Schommarz"},{"$f":"IF($H62=\"\",\"\",INDEX($B$7:$H$106,_xlfn.AGGREGATE(14,6,ROW($H$7:$H$106)-ROW($H$7)+1/($H$7:$H$106=J62),COUNTIF($J$7:J62,J62)),5))","v":2853},null,{"$f":"ISBLANK(Vorrunde!F64)","v":false},56]
[{"$f":"Teilnehmerliste!A62","v":57},{"$f":"Teilnehmerliste!B62 &\" \"&Teilnehmerliste!C62","v":"Philipp Meyer"},{"$f":"Vorrunde!$AI$162","v":256},{"$f":"Endplatzierung!$R$116","v":300},{"$f":"Finalrunde!$DV$150","v":2110},{"$f":"IF(Teilnehmerliste!B62=\"\",\"\",SUM(C63:E63))","v":2666},null,68,null,{"$f":"IF(ROWS($J$7:$J$7)<=$F$3,SMALL($H$7:$H$106,ROWS($J$7:J63)),\"\")","v":56},{"$f":"IF($H63=\"\",\"\",INDEX($B$7:$H$106,_xlfn.AGGREGATE(14,6,ROW($H$7:$H$106)-ROW($H$7)+1/($H$7:$H$106=J63),COUNTIF($J$7:J63,J63)),1))","v":"Tanja Kistler"},{"$f":"IF($H63=\"\",\"\",INDEX($B$7:$H$106,_xlfn.AGGREGATE(14,6,ROW($H$7:$H$106)-ROW($H$7)+1/($H$7:$H$106=J63),COUNTIF($J$7:J63,J63)),5))","v":2853},null,{"$f":"ISBLANK(Vorrunde!F65)","v":false},57]
[{"$f":"Teilnehmerliste!A63","v":58},{"$f":"Teilnehmerliste!B63 &\" \"&Teilnehmerliste!C63","v":"Telmo Oliveira"},{"$f":"Vorrunde!$AM$162","v":262},{"$f":"Endplatzierung!$T$116","v":280},{"$f":"Finalrunde!$EC$150","v":2640},{"$f":"IF(Teilnehmerliste!B63=\"\",\"\",SUM(C64:E64))","v":3182},null,31,null,{"$f":"IF(ROWS($J$7:$J$7)<=$F$3,SMALL($H$7:$H$106,ROWS($J$7:J64)),\"\")","v":58},{"$f":"IF($H64=\"\",\"\",INDEX($B$7:$H$106,_xlfn.AGGREGATE(14,6,ROW($H$7:$H$106)-ROW($H$7)+1/($H$7:$H$106=J64),COUNTIF($J$7:J64,J64)),1))","v":"Armin Duvnjak"},{"$f":"IF($H64=\"\",\"\",INDEX($B$7:$H$106,_xlfn.AGGREGATE(14,6,ROW($H$7:$H$106)-ROW($H$7)+1/($H$7:$H$106=J64),COUNTIF($J$7:J64,J64)),5))","v":2849},null,{"$f":"ISBLANK(Vorrunde!F66)","v":false},58]
[{"$f":"Teilnehmerliste!A64","v":59},{"$f":"Teilnehmerliste!B64 &\" \"&Teilnehmerliste!C64","v":"Martin Oroshi"},{"$f":"Vorrunde!$AQ$162","v":275},{"$f":"Endplatzierung!$V$116","v":300},{"$f":"Finalrunde!$EJ$150","v":2110},{"$f":"IF(Teilnehmerliste!B64=\"\",\"\",SUM(C65:E65))","v":2685},null,67,null,{"$f":"IF(ROWS($J$7:$J$7)<=$F$3,SMALL($H$7:$H$106,ROWS($J$7:J65)),\"\")","v":59},{"$f":"IF($H65=\"\",\"\",INDEX($B$7:$H$106,_xlfn.AGGREGATE(14,6,ROW($H$7:$H$106)-ROW($H$7)+1/($H$7:$H$106=J65),COUNTIF($J$7:J65,J65)),1))","v":"Stefan Principe"},{"$f":"IF($H65=\"\",\"\",INDEX($B$7:$H$106,_xlfn.AGGREGATE(14,6,ROW($H$7:$H$106)-ROW($H$7)+1/($H$7:$H$106=J65),COUNTIF($J$7:J65,J65)),5))","v":2839},null,{"$f":"ISBLANK(Vorrunde!F67)","v":false},59]
[{"$f":"Teilnehmerliste!A65","v":60},{"$f":"Teilnehmerliste!B65 &\" \"&Teilnehmerliste!C65","v":"Lechena Pek"},{"$f":"Vorrunde!$AU$162","v":242},{"$f":"Endplatzierung!$X$116","v":280},{"$f":"Finalrunde!$EQ$150","v":2600},{"$f":"IF(Teilnehmerliste!B65=\"\",\"\",SUM(C66:E66))","v":3122},null,38,null,{"$f":"IF(ROWS($J$7:$J$7)<=$F$3,SMALL($H$7:$H$106,ROWS($J$7:J66)),\"\")","v":60},{"$f":"IF($H66=\"\",\"\",INDEX($B$7:$H$106,_xlfn.AGGREGATE(14,6,ROW($H$7:$H$106)-ROW($H$7)+1/($H$7:$H$106=J66),COUNTIF($J$7:J66,J66)),1))","v":"Franz Lischer"},{"$f":"IF($H66=\"\",\"\",INDEX($B$7:$H$106,_xlfn.AGGREGATE(14,6,ROW($H$7:$H$106)-ROW($H$7)+1/($H$7:$H$106=J66),COUNTIF($J$7:J66,J66)),5))","v":2822},null,{"$f":"ISBLANK(Vorrunde!F68)","v":false},60]
[{"$f":"Teilnehmerliste!A66","v":61},{"$f":"Teilnehmerliste!B66 &\" \"&Teilnehmerliste!C66","v":"Stefan Principe"},{"$f":"Vorrunde!$AY$162","v":259},{"$f":"Endplatzierung!$Z$116","v":300},{"$f":"Finalrunde!$N$200","v":2280},{"$f":"IF(Teilnehmerliste!B66=\"\",\"\",SUM(C67:E67))","v":2839},null,59,null,{"$f":"IF(ROWS($J$7:$J$7)<=$F$3,SMALL($H$7:$H$106,ROWS($J$7:J67)),\"\")","v":61},{"$f":"IF($H67=\"\",\"\",INDEX($B$7:$H$106,_xlfn.AGGREGATE(14,6,ROW($H$7:$H$106)-ROW($H$7)+1/($H$7:$H$106=J67),COUNTIF($J$7:J67,J67)),1))","v":"Laurent Grosse"},{"$f":"IF($H67=\"\",\"\",INDEX($B$7:$H$106,_xlfn.AGGREGATE(14,6,ROW($H$7:$H$106)-ROW($H$7)+1/($H$7:$H$106=J67),COUNTIF($J$7:J67,J67)),5))","v":2813},null,{"$f":"ISBLANK(Vorrunde!F69)","v":false},61]
[{"$f":"Teilnehmerliste!A67","v":62},{"$f":"Teilnehmerliste!B67 &\" \"&Teilnehmerliste!C67","v":"Michael Prucha"},{"$f":"Vorrunde!$BC$162","v":248},{"$f":"Endplatzierung!$AB$116","v":280},{"$f":"Finalrunde!$U$200","v":2830},{"$f":"IF(Teilnehmerliste!B67=\"\",\"\",SUM(C68:E68))","v":3358},null,16,null,{"$f":"IF(ROWS($J$7:$J$7)<=$F$3,SMALL($H$7:$H$106,ROWS($J$7:J68)),\"\")","v":62},{"$f":"IF($H68=\"\",\"\",INDEX($B$7:$H$106,_xlfn.AGGREGATE(14,6,ROW($H$7:$H$106)-ROW($H$7)+1/($H$7:$H$106=J68),COUNTIF($J$7:J68,J68)),1))","v":"Philippe Bartholet"},{"$f":"IF($H68=\"\",\"\",INDEX($B$7:$H$106,_xlfn.AGGREGATE(14,6,ROW($H$7:$H$106)-ROW($H$7)+1/($H$7:$H$106=J68),COUNTIF($J$7:J68,J68)),5))","v":2781},null,{"$f":"ISBLANK(Vorrunde!F70)","v":false},62]
[{"$f":"Teilnehmerliste!A68","v":63},{"$f":"Teilnehmerliste!B68 &\" \"&Teilnehmerliste!C68","v":"Petra Rauscher"},{"$f":"Vorrunde!$BG$162","v":253},{"$f":"Endplatzierung!$AD$116","v":200},{"$f":"Finalrunde!$AB$200","v":2250},{"$f":"IF(Teilnehmerliste!B68=\"\",\"\",SUM(C69:E69))","v":2703},null,66,null,{"$f":"IF(ROWS($J$7:$J$7)<=$F$3,SMALL($H$7:$H$106,ROWS($J$7:J69)),\"\")","v":63},{"$f":"IF($H69=\"\",\"\",INDEX($B$7:$H$106,_xlfn.AGGREGATE(14,6,ROW($H$7:$H$106)-ROW($H$7)+1/($H$7:$H$106=J69),COUNTIF($J$7:J69,J69)),1))","v":"Panos Agorastos"},{"$f":"IF($H69=\"\",\"\",INDEX($B$7:$H$106,_xlfn.AGGREGATE(14,6,ROW($H$7:$H$106)-ROW($H$7)+1/($H$7:$H$106=J69),COUNTIF($J$7:J69,J69)),5))","v":2750},null,{"$f":"ISBLANK(Vorrunde!F71)","v":false},63]
[{"$f":"Teilnehmerliste!A69","v":64},{"$f":"Teilnehmerliste!B69 &\" \"&Teilnehmerliste!C69","v":"Martin Rohner"},{"$f":"Vorrunde!$BK$162","v":227},{"$f":"Endplatzierung!$AF$116","v":240},{"$f":"Finalrunde!$AI$200","v":3170},{"$f":"IF(Teilnehmerliste!B69=\"\",\"\",SUM(C70:E70))","v":3637},null,3,null,{"$f":"IF(ROWS($J$7:$J$7)<=$F$3,SMALL($H$7:$H$106,ROWS($J$7:J70)),\"\")","v":64},{"$f":"IF($H70=\"\",\"\",INDEX($B$7:$H$106,_xlfn.AGGREGATE(14,6,ROW($H$7:$H$106)-ROW($H$7)+1/($H$7:$H$106=J70),COUNTIF($J$7:J70,J70)),1))","v":"Niva D'Acunto"},{"$f":"IF($H70=\"\",\"\",INDEX($B$7:$H$106,_xlfn.AGGREGATE(14,6,ROW($H$7:$H$106)-ROW($H$7)+1/($H$7:$H$106=J70),COUNTIF($J$7:J70,J70)),5))","v":2738},null,{"$f":"ISBLANK(Vorrunde!F72)","v":false},64]
[{"$f":"Teilnehmerliste!A70","v":65},{"$f":"Teilnehmerliste!B70 &\" \"&Teilnehmerliste!C70","v":"Ivo und Brigitte Rüdemann"},{"$f":"Vorrunde!$BO$162","v":260},{"$f":"Endplatzierung!$AH$116","v":240},{"$f":"Finalrunde!$AP$200","v":2670},{"$f":"IF(Teilnehmerliste!B70=\"\",\"\",SUM(C71:E71))","v":3170},null,33,null,{"$f":"IF(ROWS($J$7:$J$7)<=$F$3,SMALL($H$7:$H$106,ROWS($J$7:J71)),\"\")","v":65},{"$f":"IF($H71=\"\",\"\",INDEX($B$7:$H$106,_xlfn.AGGREGATE(14,6,ROW($H$7:$H$106)-ROW($H$7)+1/($H$7:$H$106=J71),COUNTIF($J$7:J71,J71)),1))","v":"Ruben Antonelli"},{"$f":"IF($H71=\"\",\"\",INDEX($B$7:$H$106,_xlfn.AGGREGATE(14,6,ROW($H$7:$H$106)-ROW($H$7)+1/($H$7:$H$106=J71),COUNTIF($J$7:J71,J71)),5))","v":2716},null,{"$f":"ISBLANK(Vorrunde!F73)","v":false},65]
[{"$f":"Teilnehmerliste!A71","v":66},{"$f":"Teilnehmerliste!B71 &\" \"&Teilnehmerliste!C71","v":"Lynn Rüegg"},{"$f":"Vorrunde!$BS$162","v":252},{"$f":"Endplatzierung!$AJ$116","v":360},{"$f":"Finalrunde!$AW$200","v":2260},{"$f":"IF(Teilnehmerliste!B71=\"\",\"\",SUM(C72:E72))","v":2872},null,{"$f":"IFERROR(_xlfn.RANK.EQ(F72,$F$7:$F$106,0),\"\")","v":54},null,{"$f":"IF(ROWS($J$7:$J$7)<=$F$3,SMALL($H$7:$H$106,ROWS($J$7:J72)),\"\")","v":66},{"$f":"IF($H72=\"\",\"\",INDEX($B$7:$H$106,_xlfn.AGGREGATE(14,6,ROW($H$7:$H$106)-ROW($H$7)+1/($H$7:$H$106=J72),COUNTIF($J$7:J72,J72)),1))","v":"Petra Rauscher"},{"$f":"IF($H72=\"\",\"\",INDEX($B$7:$H$106,_xlfn.AGGREGATE(14,6,ROW($H$7:$H$106)-ROW($H$7)+1/($H$7:$H$106=J72),COUNTIF($J$7:J72,J72)),5))","v":2703},null,{"$f":"ISBLANK(Vorrunde!F74)","v":false},66]
[{"$f":"Teilnehmerliste!A72","v":67},{"$f":"Teilnehmerliste!B72 &\" \"&Teilnehmerliste!C72","v":"Michael Rüegg"},{"$f":"Vorrunde!$BW$162","v":262},{"$f":"Endplatzierung!$AL$116","v":260},{"$f":"Finalrunde!$BD$200","v":2450},{"$f":"IF(Teilnehmerliste!B72=\"\",\"\",SUM(C73:E73))","v":2972},null,45,null,{"$f":"IF(ROWS($J$7:$J$7)<=$F$3,SMALL($H$7:$H$106,ROWS($J$7:J73)),\"\")","v":67},{"$f":"IF($H73=\"\",\"\",INDEX($B$7:$H$106,_xlfn.AGGREGATE(14,6,ROW($H$7:$H$106)-ROW($H$7)+1/($H$7:$H$106=J73),COUNTIF($J$7:J73,J73)),1))","v":"Martin Oroshi"},{"$f":"IF($H73=\"\",\"\",INDEX($B$7:$H$106,_xlfn.AGGREGATE(14,6,ROW($H$7:$H$106)-ROW($H$7)+1/($H$7:$H$106=J73),COUNTIF($J$7:J73,J73)),5))","v":2685},null,{"$f":"ISBLANK(Vorrunde!F75)","v":false},67]
[{"$f":"Teilnehmerliste!A73","v":68},{"$f":"Teilnehmerliste!B73 &\" \"&Teilnehmerliste!C73","v":"Sabine Rüegg"},{"$f":"Vorrunde!$CA$162","v":272},{"$f":"Endplatzierung!$AN$116","v":300},{"$f":"Finalrunde!$BK$200","v":2920},{"$f":"IF(Teilnehmerliste!B73=\"\",\"\",SUM(C74:E74))","v":3492},null,8,null,{"$f":"IF(ROWS($J$7:$J$7)<=$F$3,SMALL($H$7:$H$106,ROWS($J$7:J74)),\"\")","v":68},{"$f":"IF($H74=\"\",\"\",INDEX($B$7:$H$106,_xlfn.AGGREGATE(14,6,ROW($H$7:$H$106)-ROW($H$7)+1/($H$7:$H$106=J74),COUNTIF($J$7:J74,J74)),1))","v":"Philipp Meyer"},{"$f":"IF($H74=\"\",\"\",INDEX($B$7:$H$106,_xlfn.AGGREGATE(14,6,ROW($H$7:$H$106)-ROW($H$7)+1/($H$7:$H$106=J74),COUNTIF($J$7:J74,J74)),5))","v":2666},null,{"$f":"ISBLANK(Vorrunde!F76)","v":false},68]
[{"$f":"Teilnehmerliste!A74","v":69},{"$f":"Teilnehmerliste!B74 &\" \"&Teilnehmerliste!C74","v":"Martin Schawalder"},{"$f":"Vorrunde!$CE$162","v":283},{"$f":"Endplatzierung!$AP$116","v":220},{"$f":"Finalrunde!$BR$200","v":2760},{"$f":"IF(Teilnehmerliste!B74=\"\",\"\",SUM(C75:E75))","v":3263},null,24,null,{"$f":"IF(ROWS($J$7:$J$7)<=$F$3,SMALL($H$7:$H$106,ROWS($J$7:J75)),\"\")","v":69},{"$f":"IF($H75=\"\",\"\",INDEX($B$7:$H$106,_xlfn.AGGREGATE(14,6,ROW($H$7:$H$106)-ROW($H$7)+1/($H$7:$H$106=J75),COUNTIF($J$7:J75,J75)),1))","v":"Yiannis Agorastos"},{"$f":"IF($H75=\"\",\"\",INDEX($B$7:$H$106,_xlfn.AGGREGATE(14,6,ROW($H$7:$H$106)-ROW($H$7)+1/($H$7:$H$106=J75),COUNTIF($J$7:J75,J75)),5))","v":2640},null,{"$f":"ISBLANK(Vorrunde!F77)","v":false},69]
[{"$f":"Teilnehmerliste!A75","v":70},{"$f":"Teilnehmerliste!B75 &\" \"&Teilnehmerliste!C75","v":"Evelyne Schenk"},{"$f":"Vorrunde!$CI$162","v":245},{"$f":"Endplatzierung!$AR$116","v":260},{"$f":"Finalrunde!$BY$200","v":2380},{"$f":"IF(Teilnehmerliste!B75=\"\",\"\",SUM(C76:E76))","v":2885},null,53,null,{"$f":"IF(ROWS($J$7:$J$7)<=$F$3,SMALL($H$7:$H$106,ROWS($J$7:J76)),\"\")","v":70},{"$f":"IF($H76=\"\",\"\",INDEX($B$7:$H$106,_xlfn.AGGREGATE(14,6,ROW($H$7:$H$106)-ROW($H$7)+1/($H$7:$H$106=J76),COUNTIF($J$7:J76,J76)),1))","v":"Jingwen Wang"},{"$f":"IF($H76=\"\",\"\",INDEX($B$7:$H$106,_xlfn.AGGREGATE(14,6,ROW($H$7:$H$106)-ROW($H$7)+1/($H$7:$H$106=J76),COUNTIF($J$7:J76,J76)),5))","v":2638},null,{"$f":"ISBLANK(Vorrunde!F78)","v":false},70]
[{"$f":"Teilnehmerliste!A76","v":71},{"$f":"Teilnehmerliste!B76 &\" \"&Teilnehmerliste!C76","v":"Yannick Schilliger"},{"$f":"Vorrunde!$CM$162","v":283},{"$f":"Endplatzierung!$AT$116","v":300},{"$f":"Finalrunde!$CF$200","v":2830},{"$f":"IF(Teilnehmerliste!B76=\"\",\"\",SUM(C77:E77))","v":3413},null,13,null,{"$f":"IF(ROWS($J$7:$J$7)<=$F$3,SMALL($H$7:$H$106,ROWS($J$7:J77)),\"\")","v":71},{"$f":"IF($H77=\"\",\"\",INDEX($B$7:$H$106,_xlfn.AGGREGATE(14,6,ROW($H$7:$H$106)-ROW($H$7)+1/($H$7:$H$106=J77),COUNTIF($J$7:J77,J77)),1))","v":"Lea Treichler"},{"$f":"IF($H77=\"\",\"\",INDEX($B$7:$H$106,_xlfn.AGGREGATE(14,6,ROW($H$7:$H$106)-ROW($H$7)+1/($H$7:$H$106=J77),COUNTIF($J$7:J77,J77)),5))","v":2574},null,{"$f":"ISBLANK(Vorrunde!F79)","v":false},71]
[{"$f":"Teilnehmerliste!A77","v":72},{"$f":"Teilnehmerliste!B77 &\" \"&Teilnehmerliste!C77","v":"Erich Schommarz"},{"$f":"Vorrunde!$CQ$162","v":263},{"$f":"Endplatzierung!$AV$116","v":340},{"$f":"Finalrunde!$CM$200","v":2250},{"$f":"IF(Teilnehmerliste!B77=\"\",\"\",SUM(C78:E78))","v":2853},null,56,null,{"$f":"IF(ROWS($J$7:$J$7)<=$F$3,SMALL($H$7:$H$106,ROWS($J$7:J78)),\"\")","v":72},{"$f":"IF($H78=\"\",\"\",INDEX($B$7:$H$106,_xlfn.AGGREGATE(14,6,ROW($H$7:$H$106)-ROW($H$7)+1/($H$7:$H$106=J78),COUNTIF($J$7:J78,J78)),1))","v":"Aiden Jones"},{"$f":"IF($H78=\"\",\"\",INDEX($B$7:$H$106,_xlfn.AGGREGATE(14,6,ROW($H$7:$H$106)-ROW($H$7)+1/($H$7:$H$106=J78),COUNTIF($J$7:J78,J78)),5))","v":2561},null,{"$f":"ISBLANK(Vorrunde!F80)","v":false},72]
[{"$f":"Teilnehmerliste!A78","v":73},{"$f":"Teilnehmerliste!B78 &\" \"&Teilnehmerliste!C78","v":"Ralph Schuster"},{"$f":"Vorrunde!$CU$162","v":241},{"$f":"Endplatzierung!$AX$116","v":240},{"$f":"Finalrunde!$CT$200","v":1960},{"$f":"IF(Teilnehmerliste!B78=\"\",\"\",SUM(C79:E79))","v":2441},null,76,null,{"$f":"IF(ROWS($J$7:$J$7)<=$F$3,SMALL($H$7:$H$106,ROWS($J$7:J79)),\"\")","v":73},{"$f":"IF($H79=\"\",\"\",INDEX($B$7:$H$106,_xlfn.AGGREGATE(14,6,ROW($H$7:$H$106)-ROW($H$7)+1/($H$7:$H$106=J79),COUNTIF($J$7:J79,J79)),1))","v":"Manuel Brunner"},{"$f":"IF($H79=\"\",\"\",INDEX($B$7:$H$106,_xlfn.AGGREGATE(14,6,ROW($H$7:$H$106)-ROW($H$7)+1/($H$7:$H$106=J79),COUNTIF($J$7:J79,J79)),5))","v":2548},null,{"$f":"ISBLANK(Finalrunde!F11)","v":false},73]
[{"$f":"Teilnehmerliste!A79","v":74},{"$f":"Teilnehmerliste!B79 &\" \"&Teilnehmerliste!C79","v":"Bruno Silva"},{"$f":"Vorrunde!$CY$162","v":268},{"$f":"Endplatzierung!$AZ$116","v":360},{"$f":"Finalrunde!$DA$200","v":2590},{"$f":"IF(Teilnehmerliste!B79=\"\",\"\",SUM(C80:E80))","v":3218},null,27,null,{"$f":"IF(ROWS($J$7:$J$7)<=$F$3,SMALL($H$7:$H$106,ROWS($J$7:J80)),\"\")","v":74},{"$f":"IF($H80=\"\",\"\",INDEX($B$7:$H$106,_xlfn.AGGREGATE(14,6,ROW($H$7:$H$106)-ROW($H$7)+1/($H$7:$H$106=J80),COUNTIF($J$7:J80,J80)),1))","v":"Vinci D'Acunto"},{"$f":"IF($H80=\"\",\"\",INDEX($B$7:$H$106,_xlfn.AGGREGATE(14,6,ROW($H$7:$H$106)-ROW($H$7)+1/($H$7:$H$106=J80),COUNTIF($J$7:J80,J80)),5))","v":2519},null,{"$f":"ISBLANK(Finalrunde!F12)","v":false},74]
[{"$f":"Teilnehmerliste!A80","v":75},{"$f":"Teilnehmerliste!B80 &\" \"&Teilnehmerliste!C80","v":"Aleandro Silvestri"},{"$f":"Vorrunde!$DC$162","v":306},{"$f":"Endplatzierung!$BB$116","v":380},{"$f":"Finalrunde!$DH$200","v":2650},{"$f":"IF(Teilnehmerliste!B80=\"\",\"\",SUM(C81:E81))","v":3336},null,17,null,{"$f":"IF(ROWS($J$7:$J$7)<=$F$3,SMALL($H$7:$H$106,ROWS($J$7:J81)),\"\")","v":75},{"$f":"IF($H81=\"\",\"\",INDEX($B$7:$H$106,_xlfn.AGGREGATE(14,6,ROW($H$7:$H$106)-ROW($H$7)+1/($H$7:$H$106=J81),COUNTIF($J$7:J81,J81)),1))","v":"Goran Djukic"},{"$f":"IF($H81=\"\",\"\",INDEX($B$7:$H$106,_xlfn.AGGREGATE(14,6,ROW($H$7:$H$106)-ROW($H$7)+1/($H$7:$H$106=J81),COUNTIF($J$7:J81,J81)),5))","v":2468},null,{"$f":"ISBLANK(Finalrunde!F13)","v":false},75]
[{"$f":"Teilnehmerliste!A81","v":76},{"$f":"Teilnehmerliste!B81 &\" \"&Teilnehmerliste!C81","v":"Armando Thormann"},{"$f":"Vorrunde!$DG$162","v":271},{"$f":"Endplatzierung!$BD$116","v":380},{"$f":"Finalrunde!$DO$200","v":2880},{"$f":"IF(Teilnehmerliste!B81=\"\",\"\",SUM(C82:E82))","v":3531},null,6,null,{"$f":"IF(ROWS($J$7:$J$7)<=$F$3,SMALL($H$7:$H$106,ROWS($J$7:J82)),\"\")","v":76},{"$f":"IF($H82=\"\",\"\",INDEX($B$7:$H$106,_xlfn.AGGREGATE(14,6,ROW($H$7:$H$106)-ROW($H$7)+1/($H$7:$H$106=J82),COUNTIF($J$7:J82,J82)),1))","v":"Ralph Schuster"},{"$f":"IF($H82=\"\",\"\",INDEX($B$7:$H$106,_xlfn.AGGREGATE(14,6,ROW($H$7:$H$106)-ROW($H$7)+1/($H$7:$H$106=J82),COUNTIF($J$7:J82,J82)),5))","v":2441},null,{"$f":"ISBLANK(Finalrunde!F14)","v":false},76]
[{"$f":"Teilnehmerliste!A82","v":77},{"$f":"Teilnehmerliste!B82 &\" \"&Teilnehmerliste!C82","v":"Lea Treichler"},{"$f":"Vorrunde!$DK$162","v":274},{"$f":"Endplatzierung!$BF$116","v":300},{"$f":"Finalrunde!$DV$200","v":2000},{"$f":"IF(Teilnehmerliste!B82=\"\",\"\",SUM(C83:E83))","v":2574},null,71,null,{"$f":"IF(ROWS($J$7:$J$7)<=$F$3,SMALL($H$7:$H$106,ROWS($J$7:J83)),\"\")","v":77},{"$f":"IF($H83=\"\",\"\",INDEX($B$7:$H$106,_xlfn.AGGREGATE(14,6,ROW($H$7:$H$106)-ROW($H$7)+1/($H$7:$H$106=J83),COUNTIF($J$7:J83,J83)),1))","v":"Roger Bartholet"},{"$f":"IF($H83=\"\",\"\",INDEX($B$7:$H$106,_xlfn.AGGREGATE(14,6,ROW($H$7:$H$106)-ROW($H$7)+1/($H$7:$H$106=J83),COUNTIF($J$7:J83,J83)),5))","v":2411},null,{"$f":"ISBLANK(Finalrunde!F15)","v":false},77]
[{"$f":"Teilnehmerliste!A83","v":78},{"$f":"Teilnehmerliste!B83 &\" \"&Teilnehmerliste!C83","v":"Reto Treichler"},{"$f":"Vorrunde!$DO$162","v":278},{"$f":"Endplatzierung!$BH$116","v":320},{"$f":"Finalrunde!$EC$200","v":2300},{"$f":"IF(Teilnehmerliste!B83=\"\",\"\",SUM(C84:E84))","v":2898},null,51,null,{"$f":"IF(ROWS($J$7:$J$7)<=$F$3,SMALL($H$7:$H$106,ROWS($J$7:J84)),\"\")","v":78},{"$f":"IF($H84=\"\",\"\",INDEX($B$7:$H$106,_xlfn.AGGREGATE(14,6,ROW($H$7:$H$106)-ROW($H$7)+1/($H$7:$H$106=J84),COUNTIF($J$7:J84,J84)),1))","v":"Marc Walthard"},{"$f":"IF($H84=\"\",\"\",INDEX($B$7:$H$106,_xlfn.AGGREGATE(14,6,ROW($H$7:$H$106)-ROW($H$7)+1/($H$7:$H$106=J84),COUNTIF($J$7:J84,J84)),5))","v":2406},null,{"$f":"ISBLANK(Finalrunde!F16)","v":false},78]
[{"$f":"Teilnehmerliste!A84","v":79},{"$f":"Teilnehmerliste!B84 &\" \"&Teilnehmerliste!C84","v":"Christoph Wälti"},{"$f":"Vorrunde!$DS$162","v":313},{"$f":"Endplatzierung!$BJ$116","v":320},{"$f":"Finalrunde!$EJ$200","v":2290},{"$f":"IF(Teilnehmerliste!B84=\"\",\"\",SUM(C85:E85))","v":2923},null,49,null,{"$f":"IF(ROWS($J$7:$J$7)<=$F$3,SMALL($H$7:$H$106,ROWS($J$7:J85)),\"\")","v":79},{"$f":"IF($H85=\"\",\"\",INDEX($B$7:$H$106,_xlfn.AGGREGATE(14,6,ROW($H$7:$H$106)-ROW($H$7)+1/($H$7:$H$106=J85),COUNTIF($J$7:J85,J85)),1))","v":"Selina Gygli"},{"$f":"IF($H85=\"\",\"\",INDEX($B$7:$H$106,_xlfn.AGGREGATE(14,6,ROW($H$7:$H$106)-ROW($H$7)+1/($H$7:$H$106=J85),COUNTIF($J$7:J85,J85)),5))","v":2392},null,{"$f":"ISBLANK(Finalrunde!F17)","v":false},79]
[{"$f":"Teilnehmerliste!A85","v":80},{"$f":"Teilnehmerliste!B85 &\" \"&Teilnehmerliste!C85","v":"Markus Wagner"},{"$f":"Vorrunde!$DW$162","v":283},{"$f":"Endplatzierung!$BL$116","v":320},{"$f":"Finalrunde!$EQ$200","v":2850},{"$f":"IF(Teilnehmerliste!B85=\"\",\"\",SUM(C86:E86))","v":3453},null,11,null,{"$f":"IF(ROWS($J$7:$J$7)<=$F$3,SMALL($H$7:$H$106,ROWS($J$7:J86)),\"\")","v":80},{"$f":"IF($H86=\"\",\"\",INDEX($B$7:$H$106,_xlfn.AGGREGATE(14,6,ROW($H$7:$H$106)-ROW($H$7)+1/($H$7:$H$106=J86),COUNTIF($J$7:J86,J86)),1))","v":"Stefan Zachmann"},{"$f":"IF($H86=\"\",\"\",INDEX($B$7:$H$106,_xlfn.AGGREGATE(14,6,ROW($H$7:$H$106)-ROW($H$7)+1/($H$7:$H$106=J86),COUNTIF($J$7:J86,J86)),5))","v":2379},null,{"$f":"ISBLANK(Finalrunde!F18)","v":false},80]
[{"$f":"Teilnehmerliste!A86","v":81},{"$f":"Teilnehmerliste!B86 &\" \"&Teilnehmerliste!C86","v":"Marc Walthard"},{"$f":"Vorrunde!$EA$162","v":266},{"$f":"Endplatzierung!$BN$116","v":200},{"$f":"Finalrunde!$N$250","v":1940},{"$f":"IF(Teilnehmerliste!B86=\"\",\"\",SUM(C87:E87))","v":2406},null,78,null,{"$f":"IF(ROWS($J$7:$J$7)<=$F$3,SMALL($H$7:$H$106,ROWS($J$7:J87)),\"\")","v":81},{"$f":"IF($H87=\"\",\"\",INDEX($B$7:$H$106,_xlfn.AGGREGATE(14,6,ROW($H$7:$H$106)-ROW($H$7)+1/($H$7:$H$106=J87),COUNTIF($J$7:J87,J87)),1))","v":"Ambra Antonelli"},{"$f":"IF($H87=\"\",\"\",INDEX($B$7:$H$106,_xlfn.AGGREGATE(14,6,ROW($H$7:$H$106)-ROW($H$7)+1/($H$7:$H$106=J87),COUNTIF($J$7:J87,J87)),5))","v":2224},null,{"$f":"ISBLANK(Finalrunde!F19)","v":false},81]
[{"$f":"Teilnehmerliste!A87","v":82},{"$f":"Teilnehmerliste!B87 &\" \"&Teilnehmerliste!C87","v":"Jingwen Wang"},{"$f":"Vorrunde!$EE$162","v":208},{"$f":"Endplatzierung!$BP$116","v":180},{"$f":"Finalrunde!$U$250","v":2250},{"$f":"IF(Teilnehmerliste!B87=\"\",\"\",SUM(C88:E88))","v":2638},null,70,null,{"$f":"IF(ROWS($J$7:$J$7)<=$F$3,SMALL($H$7:$H$106,ROWS($J$7:J88)),\"\")","v":82},{"$f":"IF($H88=\"\",\"\",INDEX($B$7:$H$106,_xlfn.AGGREGATE(14,6,ROW($H$7:$H$106)-ROW($H$7)+1/($H$7:$H$106=J88),COUNTIF($J$7:J88,J88)),1))","v":"Andreia Gomes"},{"$f":"IF($H88=\"\",\"\",INDEX($B$7:$H$106,_xlfn.AGGREGATE(14,6,ROW($H$7:$H$106)-ROW($H$7)+1/($H$7:$H$106=J88),COUNTIF($J$7:J88,J88)),5))","v":2113},null,{"$f":"ISBLANK(Finalrunde!F20)","v":false},82]
[{"$f":"Teilnehmerliste!A88","v":83},{"$f":"Teilnehmerliste!B88 &\" \"&Teilnehmerliste!C88","v":"Stefan Wullschleger"},{"$f":"Vorrunde!$EI$162","v":273},{"$f":"Endplatzierung!$BR$116","v":380},{"$f":"Finalrunde!$AB$250","v":3380},{"$f":"IF(Teilnehmerliste!B88=\"\",\"\",SUM(C89:E89))","v":4033},null,1,null,{"$f":"IF(ROWS($J$7:$J$7)<=$F$3,SMALL($H$7:$H$106,ROWS($J$7:J89)),\"\")","v":83},{"$f":"IF($H89=\"\",\"\",INDEX($B$7:$H$106,_xlfn.AGGREGATE(14,6,ROW($H$7:$H$106)-ROW($H$7)+1/($H$7:$H$106=J89),COUNTIF($J$7:J89,J89)),1))","v":"Manfred Brunner"},{"$f":"IF($H89=\"\",\"\",INDEX($B$7:$H$106,_xlfn.AGGREGATE(14,6,ROW($H$7:$H$106)-ROW($H$7)+1/($H$7:$H$106=J89),COUNTIF($J$7:J89,J89)),5))","v":1997},null,{"$f":"ISBLANK(Finalrunde!F21)","v":false},83]
[{"$f":"Teilnehmerliste!A89","v":84},{"$f":"Teilnehmerliste!B89 &\" \"&Teilnehmerliste!C89","v":"Stefan Zachmann"},{"$f":"Vorrunde!$EM$162","v":209},{"$f":"Endplatzierung!$BT$116","v":240},{"$f":"Finalrunde!$AI$250","v":1930},{"$f":"IF(Teilnehmerliste!B89=\"\",\"\",SUM(C90:E90))","v":2379},null,80,null,{"$f":"IF(ROWS($J$7:$J$7)<=$F$3,SMALL($H$7:$H$106,ROWS($J$7:J90)),\"\")","v":84},{"$f":"IF($H90=\"\",\"\",INDEX($B$7:$H$106,_xlfn.AGGREGATE(14,6,ROW($H$7:$H$106)-ROW($H$7)+1/($H$7:$H$106=J90),COUNTIF($J$7:J90,J90)),1))","v":"Ben Marthaler"},{"$f":"IF($H90=\"\",\"\",INDEX($B$7:$H$106,_xlfn.AGGREGATE(14,6,ROW($H$7:$H$106)-ROW($H$7)+1/($H$7:$H$106=J90),COUNTIF($J$7:J90,J90)),5))","v":1646},null,{"$f":"ISBLANK(Finalrunde!F22)","v":false},84]
[{"$f":"Teilnehmerliste!A90","v":85},{"$f":"Teilnehmerliste!B90 &\" \"&Teilnehmerliste!C90","v":" "},{"$f":"Vorrunde!$EQ$162","v":0},{"$f":"Endplatzierung!$BV$116","v":0},{"$f":"Finalrunde!$AP$250","v":0},{"$f":"IF(Teilnehmerliste!B90=\"\",\"\",SUM(C91:E91))","v":""},null,"",null,{"$f":"IF(ROWS($J$7:$J$7)<=$F$3,SMALL($H$7:$H$106,ROWS($J$7:J91)),\"\")","v":{"$error":"#NUM!"}},{"$f":"IF($H91=\"\",\"\",INDEX($B$7:$H$106,_xlfn.AGGREGATE(14,6,ROW($H$7:$H$106)-ROW($H$7)+1/($H$7:$H$106=J91),COUNTIF($J$7:J91,J91)),1))","v":""},{"$f":"IF($H91=\"\",\"\",INDEX($B$7:$H$106,_xlfn.AGGREGATE(14,6,ROW($H$7:$H$106)-ROW($H$7)+1/($H$7:$H$106=J91),COUNTIF($J$7:J91,J91)),5))","v":""},null,{"$f":"ISBLANK(Finalrunde!F23)","v":false},85]
[{"$f":"Teilnehmerliste!A91","v":86},{"$f":"Teilnehmerliste!B91 &\" \"&Teilnehmerliste!C91","v":" "},{"$f":"Vorrunde!$EU$162","v":0},{"$f":"Endplatzierung!$BX$116","v":0},{"$f":"Finalrunde!$AW$250","v":0},{"$f":"IF(Teilnehmerliste!B91=\"\",\"\",SUM(C92:E92))","v":""},null,"",null,{"$f":"IF(ROWS($J$7:$J$7)<=$F$3,SMALL($H$7:$H$106,ROWS($J$7:J92)),\"\")","v":{"$error":"#NUM!"}},{"$f":"IF($H92=\"\",\"\",INDEX($B$7:$H$106,_xlfn.AGGREGATE(14,6,ROW($H$7:$H$106)-ROW($H$7)+1/($H$7:$H$106=J92),COUNTIF($J$7:J92,J92)),1))","v":""},{"$f":"IF($H92=\"\",\"\",INDEX($B$7:$H$106,_xlfn.AGGREGATE(14,6,ROW($H$7:$H$106)-ROW($H$7)+1/($H$7:$H$106=J92),COUNTIF($J$7:J92,J92)),5))","v":""},null,{"$f":"ISBLANK(Finalrunde!F24)","v":false},86]
[{"$f":"Teilnehmerliste!A92","v":87},{"$f":"Teilnehmerliste!B92 &\" \"&Teilnehmerliste!C92","v":" "},{"$f":"Vorrunde!$EY$162","v":0},{"$f":"Endplatzierung!$BZ$116","v":0},{"$f":"Finalrunde!$BD$250","v":0},{"$f":"IF(Teilnehmerliste!B92=\"\",\"\",SUM(C93:E93))","v":""},null,"",null,{"$f":"IF(ROWS($J$7:$J$7)<=$F$3,SMALL($H$7:$H$106,ROWS($J$7:J93)),\"\")","v":{"$error":"#NUM!"}},{"$f":"IF($H93=\"\",\"\",INDEX($B$7:$H$106,_xlfn.AGGREGATE(14,6,ROW($H$7:$H$106)-ROW($H$7)+1/($H$7:$H$106=J93),COUNTIF($J$7:J93,J93)),1))","v":""},{"$f":"IF($H93=\"\",\"\",INDEX($B$7:$H$106,_xlfn.AGGREGATE(14,6,ROW($H$7:$H$106)-ROW($H$7)+1/($H$7:$H$106=J93),COUNTIF($J$7:J93,J93)),5))","v":""},null,{"$f":"ISBLANK(Finalrunde!F25)","v":false},87]
[{"$f":"Teilnehmerliste!A93","v":88},{"$f":"Teilnehmerliste!B93 &\" \"&Teilnehmerliste!C93","v":" "},{"$f":"Vorrunde!$FC$162","v":0},{"$f":"Endplatzierung!$CB$116","v":0},{"$f":"Finalrunde!$BK$250","v":0},{"$f":"IF(Teilnehmerliste!B93=\"\",\"\",SUM(C94:E94))","v":""},null,"",null,{"$f":"IF(ROWS($J$7:$J$7)<=$F$3,SMALL($H$7:$H$106,ROWS($J$7:J94)),\"\")","v":{"$error":"#NUM!"}},{"$f":"IF($H94=\"\",\"\",INDEX($B$7:$H$106,_xlfn.AGGREGATE(14,6,ROW($H$7:$H$106)-ROW($H$7)+1/($H$7:$H$106=J94),COUNTIF($J$7:J94,J94)),1))","v":""},{"$f":"IF($H94=\"\",\"\",INDEX($B$7:$H$106,_xlfn.AGGREGATE(14,6,ROW($H$7:$H$106)-ROW($H$7)+1/($H$7:$H$106=J94),COUNTIF($J$7:J94,J94)),5))","v":""},null,{"$f":"ISBLANK(Finalrunde!F26)","v":false},88]
[{"$f":"Teilnehmerliste!A94","v":89},{"$f":"Teilnehmerliste!B94 &\" \"&Teilnehmerliste!C94","v":" "},{"$f":"Vorrunde!$FG$162","v":0},{"$f":"Endplatzierung!$CD$116","v":0},{"$f":"Finalrunde!$BR$250","v":0},{"$f":"IF(Teilnehmerliste!B94=\"\",\"\",SUM(C95:E95))","v":""},null,"",null,{"$f":"IF(ROWS($J$7:$J$7)<=$F$3,SMALL($H$7:$H$106,ROWS($J$7:J95)),\"\")","v":{"$error":"#NUM!"}},{"$f":"IF($H95=\"\",\"\",INDEX($B$7:$H$106,_xlfn.AGGREGATE(14,6,ROW($H$7:$H$106)-ROW($H$7)+1/($H$7:$H$106=J95),COUNTIF($J$7:J95,J95)),1))","v":""},{"$f":"IF($H95=\"\",\"\",INDEX($B$7:$H$106,_xlfn.AGGREGATE(14,6,ROW($H$7:$H$106)-ROW($H$7)+1/($H$7:$H$106=J95),COUNTIF($J$7:J95,J95)),5))","v":""},null,{"$f":"ISBLANK(Finalrunde!F28)","v":false},89]
[{"$f":"Teilnehmerliste!A95","v":90},{"$f":"Teilnehmerliste!B95 &\" \"&Teilnehmerliste!C95","v":" "},{"$f":"Vorrunde!$FK$162","v":0},{"$f":"Endplatzierung!$CF$116","v":0},{"$f":"Finalrunde!$BY$250","v":0},{"$f":"IF(Teilnehmerliste!B95=\"\",\"\",SUM(C96:E96))","v":""},null,"",null,{"$f":"IF(ROWS($J$7:$J$7)<=$F$3,SMALL($H$7:$H$106,ROWS($J$7:J96)),\"\")","v":{"$error":"#NUM!"}},{"$f":"IF($H96=\"\",\"\",INDEX($B$7:$H$106,_xlfn.AGGREGATE(14,6,ROW($H$7:$H$106)-ROW($H$7)+1/($H$7:$H$106=J96),COUNTIF($J$7:J96,J96)),1))","v":""},{"$f":"IF($H96=\"\",\"\",INDEX($B$7:$H$106,_xlfn.AGGREGATE(14,6,ROW($H$7:$H$106)-ROW($H$7)+1/($H$7:$H$106=J96),COUNTIF($J$7:J96,J96)),5))","v":""},null,{"$f":"ISBLANK(Finalrunde!F29)","v":false},90]
[{"$f":"Teilnehmerliste!A96","v":91},{"$f":"Teilnehmerliste!B96 &\" \"&Teilnehmerliste!C96","v":" "},{"$f":"Vorrunde!$FO$162","v":0},{"$f":"Endplatzierung!$CH$116","v":0},{"$f":"Finalrunde!$CF$250","v":0},{"$f":"IF(Teilnehmerliste!B96=\"\",\"\",SUM(C97:E97))","v":""},null,"",null,{"$f":"IF(ROWS($J$7:$J$7)<=$F$3,SMALL($H$7:$H$106,ROWS($J$7:J97)),\"\")","v":{"$error":"#NUM!"}},{"$f":"IF($H97=\"\",\"\",INDEX($B$7:$H$106,_xlfn.AGGREGATE(14,6,ROW($H$7:$H$106)-ROW($H$7)+1/($H$7:$H$106=J97),COUNTIF($J$7:J97,J97)),1))","v":""},{"$f":"IF($H97=\"\",\"\",INDEX($B$7:$H$106,_xlfn.AGGREGATE(14,6,ROW($H$7:$H$106)-ROW($H$7)+1/($H$7:$H$106=J97),COUNTIF($J$7:J97,J97)),5))","v":""},null,{"$f":"ISBLANK(Finalrunde!F30)","v":false},91]
[{"$f":"Teilnehmerliste!A97","v":92},{"$f":"Teilnehmerliste!B97 &\" \"&Teilnehmerliste!C97","v":" "},{"$f":"Vorrunde!$FS$162","v":0},{"$f":"Endplatzierung!$CJ$116","v":0},{"$f":"Finalrunde!$CM$250","v":0},{"$f":"IF(Teilnehmerliste!B97=\"\",\"\",SUM(C98:E98))","v":""},null,"",null,{"$f":"IF(ROWS($J$7:$J$7)<=$F$3,SMALL($H$7:$H$106,ROWS($J$7:J98)),\"\")","v":{"$error":"#NUM!"}},{"$f":"IF($H98=\"\",\"\",INDEX($B$7:$H$106,_xlfn.AGGREGATE(14,6,ROW($H$7:$H$106)-ROW($H$7)+1/($H$7:$H$106=J98),COUNTIF($J$7:J98,J98)),1))","v":""},{"$f":"IF($H98=\"\",\"\",INDEX($B$7:$H$106,_xlfn.AGGREGATE(14,6,ROW($H$7:$H$106)-ROW($H$7)+1/($H$7:$H$106=J98),COUNTIF($J$7:J98,J98)),5))","v":""},null,{"$f":"ISBLANK(Finalrunde!F31)","v":false},92]
[{"$f":"Teilnehmerliste!A98","v":93},{"$f":"Teilnehmerliste!B98 &\" \"&Teilnehmerliste!C98","v":" "},{"$f":"Vorrunde!$FW$162","v":0},{"$f":"Endplatzierung!$CL$116","v":0},{"$f":"Finalrunde!$CT$250","v":0},{"$f":"IF(Teilnehmerliste!B98=\"\",\"\",SUM(C99:E99))","v":""},null,"",null,{"$f":"IF(ROWS($J$7:$J$7)<=$F$3,SMALL($H$7:$H$106,ROWS($J$7:J99)),\"\")","v":{"$error":"#NUM!"}},{"$f":"IF($H99=\"\",\"\",INDEX($B$7:$H$106,_xlfn.AGGREGATE(14,6,ROW($H$7:$H$106)-ROW($H$7)+1/($H$7:$H$106=J99),COUNTIF($J$7:J99,J99)),1))","v":""},{"$f":"IF($H99=\"\",\"\",INDEX($B$7:$H$106,_xlfn.AGGREGATE(14,6,ROW($H$7:$H$106)-ROW($H$7)+1/($H$7:$H$106=J99),COUNTIF($J$7:J99,J99)),5))","v":""},null,{"$f":"ISBLANK(Finalrunde!F32)","v":false},93]
[{"$f":"Teilnehmerliste!A99","v":94},{"$f":"Teilnehmerliste!B99 &\" \"&Teilnehmerliste!C99","v":" "},{"$f":"Vorrunde!$GA$162","v":0},{"$f":"Endplatzierung!$CN$116","v":0},{"$f":"Finalrunde!$DA$250","v":0},{"$f":"IF(Teilnehmerliste!B99=\"\",\"\",SUM(C100:E100))","v":""},null,"",null,{"$f":"IF(ROWS($J$7:$J$7)<=$F$3,SMALL($H$7:$H$106,ROWS($J$7:J100)),\"\")","v":{"$error":"#NUM!"}},{"$f":"IF($H100=\"\",\"\",INDEX($B$7:$H$106,_xlfn.AGGREGATE(14,6,ROW($H$7:$H$106)-ROW($H$7)+1/($H$7:$H$106=J100),COUNTIF($J$7:J100,J100)),1))","v":""},{"$f":"IF($H100=\"\",\"\",INDEX($B$7:$H$106,_xlfn.AGGREGATE(14,6,ROW($H$7:$H$106)-ROW($H$7)+1/($H$7:$H$106=J100),COUNTIF($J$7:J100,J100)),5))","v":""},null,{"$f":"ISBLANK(Finalrunde!F33)","v":false},94]
[{"$f":"Teilnehmerliste!A100","v":95},{"$f":"Teilnehmerliste!B100 &\" \"&Teilnehmerliste!C100","v":" "},{"$f":"Vorrunde!$GE$162","v":0},{"$f":"Endplatzierung!$CP$116","v":0},{"$f":"Finalrunde!$DH$250","v":0},{"$f":"IF(Teilnehmerliste!B100=\"\",\"\",SUM(C101:E101))","v":""},null,"",null,{"$f":"IF(ROWS($J$7:$J$7)<=$F$3,SMALL($H$7:$H$106,ROWS($J$7:J101)),\"\")","v":{"$error":"#NUM!"}},{"$f":"IF($H101=\"\",\"\",INDEX($B$7:$H$106,_xlfn.AGGREGATE(14,6,ROW($H$7:$H$106)-ROW($H$7)+1/($H$7:$H$106=J101),COUNTIF($J$7:J101,J101)),1))","v":""},{"$f":"IF($H101=\"\",\"\",INDEX($B$7:$H$106,_xlfn.AGGREGATE(14,6,ROW($H$7:$H$106)-ROW($H$7)+1/($H$7:$H$106=J101),COUNTIF($J$7:J101,J101)),5))","v":""},null,{"$f":"ISBLANK(Finalrunde!F34)","v":false},95]
[{"$f":"Teilnehmerliste!A101","v":96},{"$f":"Teilnehmerliste!B101 &\" \"&Teilnehmerliste!C101","v":" "},{"$f":"Vorrunde!$GI$162","v":0},{"$f":"Endplatzierung!$CR$116","v":0},{"$f":"Finalrunde!$DO$250","v":0},{"$f":"IF(Teilnehmerliste!B101=\"\",\"\",SUM(C102:E102))","v":""},null,"",null,{"$f":"IF(ROWS($J$7:$J$7)<=$F$3,SMALL($H$7:$H$106,ROWS($J$7:J102)),\"\")","v":{"$error":"#NUM!"}},{"$f":"IF($H102=\"\",\"\",INDEX($B$7:$H$106,_xlfn.AGGREGATE(14,6,ROW($H$7:$H$106)-ROW($H$7)+1/($H$7:$H$106=J102),COUNTIF($J$7:J102,J102)),1))","v":""},{"$f":"IF($H102=\"\",\"\",INDEX($B$7:$H$106,_xlfn.AGGREGATE(14,6,ROW($H$7:$H$106)-ROW($H$7)+1/($H$7:$H$106=J102),COUNTIF($J$7:J102,J102)),5))","v":""},null,{"$f":"ISBLANK(Finalrunde!F35)","v":false},96]
[{"$f":"Teilnehmerliste!A102","v":97},{"$f":"Teilnehmerliste!B102 &\" \"&Teilnehmerliste!C102","v":" "},{"$f":"Vorrunde!$GM$162","v":0},{"$f":"Endplatzierung!$CT$116","v":0},{"$f":"Finalrunde!$DV$250","v":0},{"$f":"IF(Teilnehmerliste!B102=\"\",\"\",SUM(C103:E103))","v":""},null,"",null,{"$f":"IF(ROWS($J$7:$J$7)<=$F$3,SMALL($H$7:$H$106,ROWS($J$7:J103)),\"\")","v":{"$error":"#NUM!"}},{"$f":"IF($H103=\"\",\"\",INDEX($B$7:$H$106,_xlfn.AGGREGATE(14,6,ROW($H$7:$H$106)-ROW($H$7)+1/($H$7:$H$106=J103),COUNTIF($J$7:J103,J103)),1))","v":""},{"$f":"IF($H103=\"\",\"\",INDEX($B$7:$H$106,_xlfn.AGGREGATE(14,6,ROW($H$7:$H$106)-ROW($H$7)+1/($H$7:$H$106=J103),COUNTIF($J$7:J103,J103)),5))","v":""},null,{"$f":"ISBLANK(Finalrunde!F37)","v":false},97]
[{"$f":"Teilnehmerliste!A103","v":98},{"$f":"Teilnehmerliste!B103 &\" \"&Teilnehmerliste!C103","v":" "},{"$f":"Vorrunde!$GQ$162","v":0},{"$f":"Endplatzierung!$CV$116","v":0},{"$f":"Finalrunde!$EC$250","v":0},{"$f":"IF(Teilnehmerliste!B103=\"\",\"\",SUM(C104:E104))","v":""},null,"",null,{"$f":"IF(ROWS($J$7:$J$7)<=$F$3,SMALL($H$7:$H$106,ROWS($J$7:J104)),\"\")","v":{"$error":"#NUM!"}},{"$f":"IF($H104=\"\",\"\",INDEX($B$7:$H$106,_xlfn.AGGREGATE(14,6,ROW($H$7:$H$106)-ROW($H$7)+1/($H$7:$H$106=J104),COUNTIF($J$7:J104,J104)),1))","v":""},{"$f":"IF($H104=\"\",\"\",INDEX($B$7:$H$106,_xlfn.AGGREGATE(14,6,ROW($H$7:$H$106)-ROW($H$7)+1/($H$7:$H$106=J104),COUNTIF($J$7:J104,J104)),5))","v":""},null,{"$f":"ISBLANK(Finalrunde!F38)","v":false},98]
[{"$f":"Teilnehmerliste!A104","v":99},{"$f":"Teilnehmerliste!B104 &\" \"&Teilnehmerliste!C104","v":" "},{"$f":"Vorrunde!$GU$162","v":0},{"$f":"Endplatzierung!$CX$116","v":0},{"$f":"Finalrunde!$EJ$250","v":0},{"$f":"IF(Teilnehmerliste!B104=\"\",\"\",SUM(C105:E105))","v":""},null,"",null,{"$f":"IF(ROWS($J$7:$J$7)<=$F$3,SMALL($H$7:$H$106,ROWS($J$7:J105)),\"\")","v":{"$error":"#NUM!"}},{"$f":"IF($H105=\"\",\"\",INDEX($B$7:$H$106,_xlfn.AGGREGATE(14,6,ROW($H$7:$H$106)-ROW($H$7)+1/($H$7:$H$106=J105),COUNTIF($J$7:J105,J105)),1))","v":""},{"$f":"IF($H105=\"\",\"\",INDEX($B$7:$H$106,_xlfn.AGGREGATE(14,6,ROW($H$7:$H$106)-ROW($H$7)+1/($H$7:$H$106=J105),COUNTIF($J$7:J105,J105)),5))","v":""},null,{"$f":"ISBLANK(Finalrunde!F39)","v":false},99]
[{"$f":"Teilnehmerliste!A105","v":100},{"$f":"Teilnehmerliste!B105 &\" \"&Teilnehmerliste!C105","v":" "},{"$f":"Vorrunde!$GY$162","v":0},{"$f":"Endplatzierung!$CZ$116","v":0},{"$f":"Finalrunde!$EQ$250","v":0},{"$f":"IF(Teilnehmerliste!B105=\"\",\"\",SUM(C106:E106))","v":""},null,"",null,{"$f":"IF(ROWS($J$7:$J$7)<=$F$3,SMALL($H$7:$H$106,ROWS($J$7:J106)),\"\")","v":{"$error":"#NUM!"}},{"$f":"IF($H106=\"\",\"\",INDEX($B$7:$H$106,_xlfn.AGGREGATE(14,6,ROW($H$7:$H$106)-ROW($H$7)+1/($H$7:$H$106=J106),COUNTIF($J$7:J106,J106)),1))","v":""},{"$f":"IF($H106=\"\",\"\",INDEX($B$7:$H$106,_xlfn.AGGREGATE(14,6,ROW($H$7:$H$106)-ROW($H$7)+1/($H$7:$H$106=J106),COUNTIF($J$7:J106,J106)),5))","v":""},null,{"$f":"ISBLANK(Finalrunde!F40)","v":false},100]
[null,null,null,null,null,null,null,null,null,null,null,null,null,{"$f":"ISBLANK(Finalrunde!F42)","v":false},101]
[null,null,null,null,null,null,null,null,null,null,null,null,null,{"$f":"ISBLANK(Finalrunde!F43)","v":false},102]
[null,null,null,null,null,null,null,null,null,null,null,null,null,{"$f":"ISBLANK(Finalrunde!F45)","v":true},103]
[null,null,null,null,null,null,null,null,null,null,null,null,null,{"$f":"ISBLANK(Finalrunde!F47)","v":true},104]
[null,null,null,null,null,null,null,null,null,null,null,null,null,{"$f":"ISBLANK(Finalrunde!F48)","v":true},105]

{"sheet":"Vorrunde","index":2,"n_rows":162,"n_cols":225,"rows_kept":162,"cut":false,"hidden":false,"merged":[[88,200,88,201],[88,204,88,205],[88,184,88,185],[88,188,88,189],[88,192,88,193],[88,196,88,197],[88,180,88,181],[88,152,88,153],[88,156,88,157],[88,160,88,161],[88,164,88,165],[88,168,88,169],[88,172,88,173],[88,176,88,177],[88,136,88,137],[88,140,88,141],[88,144,88,145],[88,148,88,149],[88,120,88,121],[88,124,88,125],[88,128,88,129],[88,132,88,133],[88,104,88,105],[88,108,88,109],[88,112,88,113],[88,116,88,117],[88,88,88,89],[88,92,88,93],[88,96,88,97],[88,100,88,101],[88,72,88,73],[88,76,88,77],[88,80,88,81],[88,84,88,85],[88,56,88,57],[88,60,88,61],[88,64,88,65],[88,68,88,69],[88,40,88,41],[88,44,88,45],[88,48,88,49],[88,52,88,53],[88,5,88,6],[88,8,88,9],[88,12,88,13],[88,16,88,17],[88,20,88,21],[88,24,88,25],[88,28,88,29],[88,32,88,33],[88,36,88,37],[83,0,83,1],[7,200,7,201],[7,204,7,205],[7,192,7,193],[7,196,7,197],[7,184,7,185],[7,188,7,189],[7,176,7,177],[7,180,7,181],[7,168,7,169],[7,172,7,173],[7,160,7,161],[7,164,7,165],[7,152,7,153],[7,156,7,157],[7,144,7,145],[7,148,7,149],[7,136,7,137],[7,140,7,141],[7,128,7,129],[7,132,7,133],[7,120,7,121],[7,124,7,125],[7,112,7,113],[7,116,7,117],[7,104,7,105],[7,108,7,109],[7,96,7,97],[7,100,7,101],[7,88,7,89],[7,92,7,93],[7,80,7,81],[7,84,7,85],[7,72,7,73],[7,76,7,77],[7,64,7,65],[7,68,7,69],[7,56,7,57],[7,60,7,61],[7,48,7,49],[7,52,7,53],[7,40,7,41],[7,44,7,45],[7,32,7,33],[7,36,7,37],[7,28,7,29],[2,0,2,1],[7,24,7,25],[7,16,7,17],[7,20,7,21],[7,8,7,9],[7,12,7,13]]}
[{"$f":"Teams!$B$54","v":"WM 2026 by Rogerinho (www.fcbouncer.ch)"}]
[]
["Vorrunde",null,null,"Spieler 1 - 50"]
["10 Punkte für korrektes Resultat",null,null,null,null,null,null,null,{"$f":"Teilnehmerliste!$B6","v":"Panos"},null,null,null,{"$f":"Teilnehmerliste!$B7","v":"Yiannis"},null,null,null,{"$f":"Teilnehmerliste!$B8","v":"Ambra"},null,null,null,{"$f":"Teilnehmerliste!$B9","v":"Marco"},null,null,null,{"$f":"Teilnehmerliste!$B10","v":"Ruben"},null,null,null,{"$f":"Teilnehmerliste!$B11","v":"Peter"},null,null,null,{"$f":"Teilnehmerliste!$B12","v":"André"},null,null,null,{"$f":"Teilnehmerliste!$B13","v":"Aya"},null,null,null,{"$f":"Teilnehmerliste!$B14","v":"Philippe"},null,null,null,{"$f":"Teilnehmerliste!$B15","v":"Roger"},null,null,null,{"$f":"Teilnehmerliste!$B16","v":"Mara"},null,null,null,{"$f":"Teilnehmerliste!$B17","v":"Pongsapat Nott"},null,null,null,{"$f":"Teilnehmerliste!$B18","v":"Michael"},null,null,null,{"$f":"Teilnehmerliste!$B19","v":"Manfred"},null,null,null,{"$f":"Teilnehmerliste!$B20","v":"Manuel"},null,null,null,{"$f":"Teilnehmerliste!$B21","v":"Nicolas"},null,null,null,{"$f":"Teilnehmerliste!$B22","v":"Philip"},null,null,null,{"$f":"Teilnehmerliste!$B23","v":"André"},null,null,null,{"$f":"Teilnehmerliste!$B24","v":"Oli"},null,null,null,{"$f":"Teilnehmerliste!$B25","v":"Javier"},null,null,null,{"$f":"Teilnehmerliste!$B26","v":"Leo"},null,null,null,{"$f":"Teilnehmerliste!$B27","v":"Lisa"},null,null,null,{"$f":"Teilnehmerliste!$B28","v":"Niva"},null,null,null,{"$f":"Teilnehmerliste!$B29","v":"Vinci"},null,null,null,{"$f":"Teilnehmerliste!$B30","v":"Rafael"},null,null,null,{"$f":"Teilnehmerliste!$B31","v":"Goran"},null,null,null,{"$f":"Teilnehmerliste!$B32","v":"Armin"},null,null,null,{"$f":"Teilnehmerliste!$B33","v":"Dino"},null,null,null,{"$f":"Teilnehmerliste!$B34","v":"Djuma"},null,null,null,{"$f":"Teilnehmerliste!$B35","v":"Andreia"},null,null,null,{"$f":"Teilnehmerliste!$B36","v":"Rui"},null,null,null,{"$f":"Teilnehmerliste!$B37","v":"Deliz"},null,null,null,{"$f":"Teilnehmerliste!$B38","v":"Florian"},null,null,null,{"$f":"Teilnehmerliste!$B39","v":"Laurent"},null,null,null,{"$f":"Teilnehmerliste!$B40","v":"Reto"},null,null,null,{"$f":"Teilnehmerliste!$B41","v":"Robin"},null,null,null,{"$f":"Teilnehmerliste!$B42","v":"Sarina"},null,null,null,{"$f":"Teilnehmerliste!$B43","v":"Selina"},null,null,null,{"$f":"Teilnehmerliste!$B44","v":"Stefan"},null,null,null,{"$f":"Teilnehmerliste!$B45","v":"Timothy"},null,null,null,{"$f":"Teilnehmerliste!$B46","v":"Florian"},null,null,null,{"$f":"Teilnehmerliste!$B47","v":"Agnes"},null,null,null,{"$f":"Teilnehmerliste!$B48","v":"Andreas"},null,null,null,{"$f":"Teilnehmerliste!$B49","v":"Michael"},null,null,null,{"$f":"Teilnehmerliste!$B50","v":"Aiden"},null,null,null,{"$f":"Teilnehmerliste!$B51","v":"Pascal"},null,null,null,{"$f":"Teilnehmerliste!$B52","v":"Tanja"},null,null,null,{"$f":"Teilnehmerliste!$B53","v":"André"},null,null,null,{"$f":"Teilnehmerliste!$B54","v":"Franz"},null,null,null,{"$f":"Teilnehmerliste!$B55","v":"Marc"},null,null,null,null,"Statistik (1, x, 2)",null,null,null,null,"Statistik (1, x, 2) in Prozenten",null,null,null,"Summe Anzahl Tore",null,null,null,"10 Punkte gemacht",null,"7 Punkte gemacht"]
["  7 Punkte für richtiger Sieger (Torverhältnis stimmt)",null,null,null,null,null,null,null,{"$f":"Teilnehmerliste!$C6","v":"Agorastos"},null,null,null,{"$f":"Teilnehmerliste!$C7","v":"Agorastos"},null,null,null,{"$f":"Teilnehmerliste!$C8","v":"Antonelli"},null,null,null,{"$f":"Teilnehmerliste!$C9","v":"Antonelli"},null,null,null,{"$f":"Teilnehmerliste!$C10","v":"Antonelli"},null,null,null,{"$f":"Teilnehmerliste!$C11","v":"Balazs"},null,null,null,{"$f":"Teilnehmerliste!$C12","v":"Bartholet"},null,null,null,{"$f":"Teilnehmerliste!$C13","v":"Bartholet"},null,null,null,{"$f":"Teilnehmerliste!$C14","v":"Bartholet"},null,null,null,{"$f":"Teilnehmerliste!$C15","v":"Bartholet"},null,null,null,{"$f":"Teilnehmerliste!$C16","v":"Beck"},null,null,null,{"$f":"Teilnehmerliste!$C17","v":"Boonaek"},null,null,null,{"$f":"Teilnehmerliste!$C18","v":"Bosshart"},null,null,null,{"$f":"Teilnehmerliste!$C19","v":"Brunner"},null,null,null,{"$f":"Teilnehmerliste!$C20","v":"Brunner"},null,null,null,{"$f":"Teilnehmerliste!$C21","v":"Brunner"},null,null,null,{"$f":"Teilnehmerliste!$C22","v":"Brunner"},null,null,null,{"$f":"Teilnehmerliste!$C23","v":"Burkart"},null,null,null,{"$f":"Teilnehmerliste!$C24","v":"Christiansen"},null,null,null,{"$f":"Teilnehmerliste!$C25","v":"Cruz"},null,null,null,{"$f":"Teilnehmerliste!$C26","v":"Rodrigues da Costa"},null,null,null,{"$f":"Teilnehmerliste!$C27","v":"D'Acunto"},null,null,null,{"$f":"Teilnehmerliste!$C28","v":"D'Acunto"},null,null,null,{"$f":"Teilnehmerliste!$C29","v":"D'Acunto"},null,null,null,{"$f":"Teilnehmerliste!$C30","v":"Derungs"},null,null,null,{"$f":"Teilnehmerliste!$C31","v":"Djukic"},null,null,null,{"$f":"Teilnehmerliste!$C32","v":"Duvnjak"},null,null,null,{"$f":"Teilnehmerliste!$C33","v":"Duvnjak"},null,null,null,{"$f":"Teilnehmerliste!$C34","v":"Duvnjak"},null,null,null,{"$f":"Teilnehmerliste!$C35","v":"Gomes"},null,null,null,{"$f":"Teilnehmerliste!$C36","v":"Gomes"},null,null,null,{"$f":"Teilnehmerliste!$C37","v":"González"},null,null,null,{"$f":"Teilnehmerliste!$C38","v":"González"},null,null,null,{"$f":"Teilnehmerliste!$C39","v":"Grosse"},null,null,null,{"$f":"Teilnehmerliste!$C40","v":"Gygli"},null,null,null,{"$f":"Teilnehmerliste!$C41","v":"Gygli"},null,null,null,{"$f":"Teilnehmerliste!$C42","v":"Gygli"},null,null,null,{"$f":"Teilnehmerliste!$C43","v":"Gygli"},null,null,null,{"$f":"Teilnehmerliste!$C44","v":"Gygli"},null,null,null,{"$f":"Teilnehmerliste!$C45","v":"Gygli"},null,null,null,{"$f":"Teilnehmerliste!$C46","v":"Haab"},null,null,null,{"$f":"Teilnehmerliste!$C47","v":"Isenschmid"},null,null,null,{"$f":"Teilnehmerliste!$C48","v":"Isenschmid"},null,null,null,{"$f":"Teilnehmerliste!$C49","v":"Isenschmid"},null,null,null,{"$f":"Teilnehmerliste!$C50","v":"Jones"},null,null,null,{"$f":"Teilnehmerliste!$C51","v":"Keller"},null,null,null,{"$f":"Teilnehmerliste!$C52","v":"Kistler"},null,null,null,{"$f":"Teilnehmerliste!$C53","v":"Lanz"},null,null,null,{"$f":"Teilnehmerliste!$C54","v":"Lischer"},null,null,null,{"$f":"Teilnehmerliste!$C55","v":"Lütolf"},null,null,null,null,1,"X",2,"SUMME",null,1,"X",2,null,"Vorrunde",null,null,null,"Vorrunde",null,"Vorrunde"]
["  5 Punkte für richtiger Sieger (Torverhältnis stimmt nicht)",null,null,null,null,null,null,null,null,null,{"$f":"Teilnehmerliste!$A6","v":1},null,null,null,{"$f":"Teilnehmerliste!$A7","v":2},null,null,null,{"$f":"Teilnehmerliste!$A8","v":3},null,null,null,{"$f":"Teilnehmerliste!$A9","v":4},null,null,null,{"$f":"Teilnehmerliste!$A10","v":5},null,null,null,{"$f":"Teilnehmerliste!$A11","v":6},null,null,null,{"$f":"Teilnehmerliste!$A12","v":7},null,null,null,{"$f":"Teilnehmerliste!$A13","v":8},null,null,null,{"$f":"Teilnehmerliste!$A14","v":9},null,null,null,{"$f":"Teilnehmerliste!$A15","v":10},null,null,null,{"$f":"Teilnehmerliste!$A16","v":11},null,null,null,{"$f":"Teilnehmerliste!$A17","v":12},null,null,null,{"$f":"Teilnehmerliste!$A18","v":13},null,null,null,{"$f":"Teilnehmerliste!$A19","v":14},null,null,null,{"$f":"Teilnehmerliste!$A20","v":15},null,null,null,{"$f":"Teilnehmerliste!$A21","v":16},null,null,null,{"$f":"Teilnehmerliste!$A22","v":17},null,null,null,{"$f":"Teilnehmerliste!$A23","v":18},null,null,null,{"$f":"Teilnehmerliste!$A24","v":19},null,null,null,{"$f":"Teilnehmerliste!$A25","v":20},null,null,null,{"$f":"Teilnehmerliste!$A26","v":21},null,null,null,{"$f":"Teilnehmerliste!$A27","v":22},null,null,null,{"$f":"Teilnehmerliste!$A28","v":23},null,null,null,{"$f":"Teilnehmerliste!$A29","v":24},null,null,null,{"$f":"Teilnehmerliste!$A30","v":25},null,null,null,{"$f":"Teilnehmerliste!$A31","v":26},null,null,null,{"$f":"Teilnehmerliste!$A32","v":27},null,null,null,{"$f":"Teilnehmerliste!$A33","v":28},null,null,null,{"$f":"Teilnehmerliste!$A34","v":29},null,null,null,{"$f":"Teilnehmerliste!$A35","v":30},null,null,null,{"$f":"Teilnehmerliste!$A36","v":31},null,null,null,{"$f":"Teilnehmerliste!$A37","v":32},null,null,null,{"$f":"Teilnehmerliste!$A38","v":33},null,null,null,{"$f":"Teilnehmerliste!$A39","v":34},null,null,null,{"$f":"Teilnehmerliste!$A40","v":35},null,null,null,{"$f":"Teilnehmerliste!$A41","v":36},null,null,null,{"$f":"Teilnehmerliste!$A42","v":37},null,null,null,{"$f":"Teilnehmerliste!$A43","v":38},null,null,null,{"$f":"Teilnehmerliste!$A44","v":39},null,null,null,{"$f":"Teilnehmerliste!$A45","v":40},null,null,null,{"$f":"Teilnehmerliste!$A46","v":41},null,null,null,{"$f":"Teilnehmerliste!$A47","v":42},null,null,null,{"$f":"Teilnehmerliste!$A48","v":43},null,null,null,{"$f":"Teilnehmerliste!$A49","v":44},null,null,null,{"$f":"Teilnehmerliste!$A50","v":45},null,null,null,{"$f":"Teilnehmerliste!$A51","v":46},null,null,null,{"$f":"Teilnehmerliste!$A52","v":47},null,null,null,{"$f":"Teilnehmerliste!$A53","v":48},null,null,null,{"$f":"Teilnehmerliste!$A54","v":49},null,null,null,{"$f":"Teilnehmerliste!$A55","v":50}]
[]
["Datum","Zeit","Nr.","Spiel",null,null,"Resultat",null,"Tipp",null,"Pkt",null,"Tipp",null,"Pkt",null,"Tipp",null,"Pkt",null,"Tipp",null,"Pkt",null,"Tipp",null,"Pkt",null,"Tipp",null,"Pkt",null,"Tipp",null,"Pkt",null,"Tipp",null,"Pkt",null,"Tipp",null,"Pkt",null,"Tipp",null,"Pkt",null,"Tipp",null,"Pkt",null,"Tipp",null,"Pkt",null,"Tipp",null,"Pkt",null,"Tipp",null,"Pkt",null,"Tipp",null,"Pkt",null,"Tipp",null,"Pkt",null,"Tipp",null,"Pkt",null,"Tipp",null,"Pkt",null,"Tipp",null,"Pkt",null,"Tipp",null,"Pkt",null,"Tipp",null,"Pkt",null,"Tipp",null,"Pkt",null,"Tipp",null,"Pkt",null,"Tipp",null,"Pkt",null,"Tipp",null,"Pkt",null,"Tipp",null,"Pkt",null,"Tipp",null,"Pkt",null,"Tipp",null,"Pkt",null,"Tipp",null,"Pkt",null,"Tipp",null,"Pkt",null,"Tipp",null,"Pkt",null,"Tipp",null,"Pkt",null,"Tipp",null,"Pkt",null,"Tipp",null,"Pkt",null,"Tipp",null,"Pkt",null,"Tipp",null,"Pkt",null,"Tipp",null,"Pkt",null,"Tipp",null,"Pkt",null,"Tipp",null,"Pkt",null,"Tipp",null,"Pkt",null,"Tipp",null,"Pkt",null,"Tipp",null,"Pkt",null,"Tipp",null,"Pkt",null,"Tipp",null,"Pkt",null,"Tipp",null,"Pkt",null,"Tipp",null,"Pkt",null,"Tipp",null,"Pkt",null,"Tipp",null,"Pkt",null,"Tipp",null,"Pkt",null,"Tipp",null,"Pkt"]
["Do. 11. Jun.","21:00:00",1,"Mexiko","Südafrika",2,0,null,2,1,{"$f":"IF(OR($F9=\"\",$G9=\"\",I9=\"\",J9=\"\"),\"\",IF(AND($F9=I9,$G9=J9),10,IF($F9-$G9=I9-J9,7,IF(OR(AND($F9>$G9,I9>J9),AND($F9<$G9,I9<J9)),5,0))))","v":5},{"$f":"IF(I9=\"\",\"\",IF(I9>J9,\"A\",IF(I9<J9,\"B\",IF(I9=J9,\"X\"))))","v":"A"},2,1,{"$f":"IF(OR($F9=\"\",$G9=\"\",M9=\"\",N9=\"\"),\"\",IF(AND($F9=M9,$G9=N9),10,IF($F9-$G9=M9-N9,7,IF(OR(AND($F9>$G9,M9>N9),AND($F9<$G9,M9<N9)),5,0))))","v":5},{"$f":"IF(M9=\"\",\"\",IF(M9>N9,\"A\",IF(M9<N9,\"B\",IF(M9=N9,\"X\"))))","v":"A"},3,2,{"$f":"IF(OR($F9=\"\",$G9=\"\",Q9=\"\",R9=\"\"),\"\",IF(AND($F9=Q9,$G9=R9),10,IF($F9-$G9=Q9-R9,7,IF(OR(AND($F9>$G9,Q9>R9),AND($F9<$G9,Q9<R9)),5,0))))","v":5},{"$f":"IF(Q9=\"\",\"\",IF(Q9>R9,\"A\",IF(Q9<R9,\"B\",IF(Q9=R9,\"X\"))))","v":"A"},2,1,{"$f":"IF(OR($F9=\"\",$G9=\"\",U9=\"\",V9=\"\"),\"\",IF(AND($F9=U9,$G9=V9),10,IF($F9-$G9=U9-V9,7,IF(OR(AND($F9>$G9,U9>V9),AND($F9<$G9,U9<V9)),5,0))))","v":5},{"$f":"IF(U9=\"\",\"\",IF(U9>V9,\"A\",IF(U9<V9,\"B\",IF(U9=V9,\"X\"))))","v":"A"},2,0,{"$f":"IF(OR($F9=\"\",$G9=\"\",Y9=\"\",Z9=\"\"),\"\",IF(AND($F9=Y9,$G9=Z9),10,IF($F9-$G9=Y9-Z9,7,IF(OR(AND($F9>$G9,Y9>Z9),AND($F9<$G9,Y9<Z9)),5,0))))","v":10},{"$f":"IF(Y9=\"\",\"\",IF(Y9>Z9,\"A\",IF(Y9<Z9,\"B\",IF(Y9=Z9,\"X\"))))","v":"A"},2,1,{"$f":"IF(OR($F9=\"\",$G9=\"\",AC9=\"\",AD9=\"\"),\"\",IF(AND($F9=AC9,$G9=AD9),10,IF($F9-$G9=AC9-AD9,7,IF(OR(AND($F9>$G9,AC9>AD9),AND($F9<$G9,AC9<AD9)),5,0))))","v":5},{"$f":"IF(AC9=\"\",\"\",IF(AC9>AD9,\"A\",IF(AC9<AD9,\"B\",IF(AC9=AD9,\"X\"))))","v":"A"},2,0,{"$f":"IF(OR($F9=\"\",$G9=\"\",AG9=\"\",AH9=\"\"),\"\",IF(AND($F9=AG9,$G9=AH9),10,IF($F9-$G9=AG9-AH9,7,IF(OR(AND($F9>$G9,AG9>AH9),AND($F9<$G9,AG9<AH9)),5,0))))","v":10},{"$f":"IF(AG9=\"\",\"\",IF(AG9>AH9,\"A\",IF(AG9<AH9,\"B\",IF(AG9=AH9,\"X\"))))","v":"A"},1,0,{"$f":"IF(OR($F9=\"\",$G9=\"\",AK9=\"\",AL9=\"\"),\"\",IF(AND($F9=AK9,$G9=AL9),10,IF($F9-$G9=AK9-AL9,7,IF(OR(AND($F9>$G9,AK9>AL9),AND($F9<$G9,AK9<AL9)),5,0))))","v":5},{"$f":"IF(AK9=\"\",\"\",IF(AK9>AL9,\"A\",IF(AK9<AL9,\"B\",IF(AK9=AL9,\"X\"))))","v":"A"},2,1,{"$f":"IF(OR($F9=\"\",$G9=\"\",AO9=\"\",AP9=\"\"),\"\",IF(AND($F9=AO9,$G9=AP9),10,IF($F9-$G9=AO9-AP9,7,IF(OR(AND($F9>$G9,AO9>AP9),AND($F9<$G9,AO9<AP9)),5,0))))","v":5},{"$f":"IF(AO9=\"\",\"\",IF(AO9>AP9,\"A\",IF(AO9<AP9,\"B\",IF(AO9=AP9,\"X\"))))","v":"A"},2,0,{"$f":"IF(OR($F9=\"\",$G9=\"\",AS9=\"\",AT9=\"\"),\"\",IF(AND($F9=AS9,$G9=AT9),10,IF($F9-$G9=AS9-AT9,7,IF(OR(AND($F9>$G9,AS9>AT9),AND($F9<$G9,AS9<AT9)),5,0))))","v":10},{"$f":"IF(AS9=\"\",\"\",IF(AS9>AT9,\"A\",IF(AS9<AT9,\"B\",IF(AS9=AT9,\"X\"))))","v":"A"},3,0,{"$f":"IF(OR($F9=\"\",$G9=\"\",AW9=\"\",AX9=\"\"),\"\",IF(AND($F9=AW9,$G9=AX9),10,IF($F9-$G9=AW9-AX9,7,IF(OR(AND($F9>$G9,AW9>AX9),AND($F9<$G9,AW9<AX9)),5,0))))","v":5},{"$f":"IF(AW9=\"\",\"\",IF(AW9>AX9,\"A\",IF(AW9<AX9,\"B\",IF(AW9=AX9,\"X\"))))","v":"A"},2,0,{"$f":"IF(OR($F9=\"\",$G9=\"\",BA9=\"\",BB9=\"\"),\"\",IF(AND($F9=BA9,$G9=BB9),10,IF($F9-$G9=BA9-BB9,7,IF(OR(AND($F9>$G9,BA9>BB9),AND($F9<$G9,BA9<BB9)),5,0))))","v":10},{"$f":"IF(BA9=\"\",\"\",IF(BA9>BB9,\"A\",IF(BA9<BB9,\"B\",IF(BA9=BB9,\"X\"))))","v":"A"},2,1,{"$f":"IF(OR($F9=\"\",$G9=\"\",BE9=\"\",BF9=\"\"),\"\",IF(AND($F9=BE9,$G9=BF9),10,IF($F9-$G9=BE9-BF9,7,IF(OR(AND($F9>$G9,BE9>BF9),AND($F9<$G9,BE9<BF9)),5,0))))","v":5},{"$f":"IF(BE9=\"\",\"\",IF(BE9>BF9,\"A\",IF(BE9<BF9,\"B\",IF(BE9=BF9,\"X\"))))","v":"A"},2,0,{"$f":"IF(OR($F9=\"\",$G9=\"\",BI9=\"\",BJ9=\"\"),\"\",IF(AND($F9=BI9,$G9=BJ9),10,IF($F9-$G9=BI9-BJ9,7,IF(OR(AND($F9>$G9,BI9>BJ9),AND($F9<$G9,BI9<BJ9)),5,0))))","v":10},{"$f":"IF(BI9=\"\",\"\",IF(BI9>BJ9,\"A\",IF(BI9<BJ9,\"B\",IF(BI9=BJ9,\"X\"))))","v":"A"},3,1,{"$f":"IF(OR($F9=\"\",$G9=\"\",BM9=\"\",BN9=\"\"),\"\",IF(AND($F9=BM9,$G9=BN9),10,IF($F9-$G9=BM9-BN9,7,IF(OR(AND($F9>$G9,BM9>BN9),AND($F9<$G9,BM9<BN9)),5,0))))","v":7},{"$f":"IF(BM9=\"\",\"\",IF(BM9>BN9,\"A\",IF(BM9<BN9,\"B\",IF(BM9=BN9,\"X\"))))","v":"A"},2,1,{"$f":"IF(OR($F9=\"\",$G9=\"\",BQ9=\"\",BR9=\"\"),\"\",IF(AND($F9=BQ9,$G9=BR9),10,IF($F9-$G9=BQ9-BR9,7,IF(OR(AND($F9>$G9,BQ9>BR9),AND($F9<$G9,BQ9<BR9)),5,0))))","v":5},{"$f":"IF(BQ9=\"\",\"\",IF(BQ9>BR9,\"A\",IF(BQ9<BR9,\"B\",IF(BQ9=BR9,\"X\"))))","v":"A"},2,0,{"$f":"IF(OR($F9=\"\",$G9=\"\",BU9=\"\",BV9=\"\"),\"\",IF(AND($F9=BU9,$G9=BV9),10,IF($F9-$G9=BU9-BV9,7,IF(OR(AND($F9>$G9,BU9>BV9),AND($F9<$G9,BU9<BV9)),5,0))))","v":10},{"$f":"IF(BU9=\"\",\"\",IF(BU9>BV9,\"A\",IF(BU9<BV9,\"B\",IF(BU9=BV9,\"X\"))))","v":"A"},1,0,{"$f":"IF(OR($F9=\"\",$G9=\"\",BY9=\"\",BZ9=\"\"),\"\",IF(AND($F9=BY9,$G9=BZ9),10,IF($F9-$G9=BY9-BZ9,7,IF(OR(AND($F9>$G9,BY9>BZ9),AND($F9<$G9,BY9<BZ9)),5,0))))","v":5},{"$f":"IF(BY9=\"\",\"\",IF(BY9>BZ9,\"A\",IF(BY9<BZ9,\"B\",IF(BY9=BZ9,\"X\"))))","v":"A"},2,1,{"$f":"IF(OR($F9=\"\",$G9=\"\",CC9=\"\",CD9=\"\"),\"\",IF(AND($F9=CC9,$G9=CD9),10,IF($F9-$G9=CC9-CD9,7,IF(OR(AND($F9>$G9,CC9>CD9),AND($F9<$G9,CC9<CD9)),5,0))))","v":5},{"$f":"IF(CC9=\"\",\"\",IF(CC9>CD9,\"A\",IF(CC9<CD9,\"B\",IF(CC9=CD9,\"X\"))))","v":"A"},1,0,{"$f":"IF(OR($F9=\"\",$G9=\"\",CG9=\"\",CH9=\"\"),\"\",IF(AND($F9=CG9,$G9=CH9),10,IF($F9-$G9=CG9-CH9,7,IF(OR(AND($F9>$G9,CG9>CH9),AND($F9<$G9,CG9<CH9)),5,0))))","v":5},{"$f":"IF(CG9=\"\",\"\",IF(CG9>CH9,\"A\",IF(CG9<CH9,\"B\",IF(CG9=CH9,\"X\"))))","v":"A"},3,1,{"$f":"IF(OR($F9=\"\",$G9=\"\",CK9=\"\",CL9=\"\"),\"\",IF(AND($F9=CK9,$G9=CL9),10,IF($F9-$G9=CK9-CL9,7,IF(OR(AND($F9>$G9,CK9>CL9),AND($F9<$G9,CK9<CL9)),5,0))))","v":7},{"$f":"IF(CK9=\"\",\"\",IF(CK9>CL9,\"A\",IF(CK9<CL9,\"B\",IF(CK9=CL9,\"X\"))))","v":"A"},2,0,{"$f":"IF(OR($F9=\"\",$G9=\"\",CO9=\"\",CP9=\"\"),\"\",IF(AND($F9=CO9,$G9=CP9),10,IF($F9-$G9=CO9-CP9,7,IF(OR(AND($F9>$G9,CO9>CP9),AND($F9<$G9,CO9<CP9)),5,0))))","v":10},{"$f":"IF(CO9=\"\",\"\",IF(CO9>CP9,\"A\",IF(CO9<CP9,\"B\",IF(CO9=CP9,\"X\"))))","v":"A"},2,1,{"$f":"IF(OR($F9=\"\",$G9=\"\",CS9=\"\",CT9=\"\"),\"\",IF(AND($F9=CS9,$G9=CT9),10,IF($F9-$G9=CS9-CT9,7,IF(OR(AND($F9>$G9,CS9>CT9),AND($F9<$G9,CS9<CT9)),5,0))))","v":5},{"$f":"IF(CS9=\"\",\"\",IF(CS9>CT9,\"A\",IF(CS9<CT9,\"B\",IF(CS9=CT9,\"X\"))))","v":"A"},2,0,{"$f":"IF(OR($F9=\"\",$G9=\"\",CW9=\"\",CX9=\"\"),\"\",IF(AND($F9=CW9,$G9=CX9),10,IF($F9-$G9=CW9-CX9,7,IF(OR(AND($F9>$G9,CW9>CX9),AND($F9<$G9,CW9<CX9)),5,0))))","v":10},{"$f":"IF(CW9=\"\",\"\",IF(CW9>CX9,\"A\",IF(CW9<CX9,\"B\",IF(CW9=CX9,\"X\"))))","v":"A"},2,0,{"$f":"IF(OR($F9=\"\",$G9=\"\",DA9=\"\",DB9=\"\"),\"\",IF(AND($F9=DA9,$G9=DB9),10,IF($F9-$G9=DA9-DB9,7,IF(OR(AND($F9>$G9,DA9>DB9),AND($F9<$G9,DA9<DB9)),5,0))))","v":10},{"$f":"IF(DA9=\"\",\"\",IF(DA9>DB9,\"A\",IF(DA9<DB9,\"B\",IF(DA9=DB9,\"X\"))))","v":"A"},3,1,{"$f":"IF(OR($F9=\"\",$G9=\"\",DE9=\"\",DF9=\"\"),\"\",IF(AND($F9=DE9,$G9=DF9),10,IF($F9-$G9=DE9-DF9,7,IF(OR(AND($F9>$G9,DE9>DF9),AND($F9<$G9,DE9<DF9)),5,0))))","v":7},{"$f":"IF(DE9=\"\",\"\",IF(DE9>DF9,\"A\",IF(DE9<DF9,\"B\",IF(DE9=DF9,\"X\"))))","v":"A"},3,0,{"$f":"IF(OR($F9=\"\",$G9=\"\",DI9=\"\",DJ9=\"\"),\"\",IF(AND($F9=DI9,$G9=DJ9),10,IF($F9-$G9=DI9-DJ9,7,IF(OR(AND($F9>$G9,DI9>DJ9),AND($F9<$G9,DI9<DJ9)),5,0))))","v":5},{"$f":"IF(DI9=\"\",\"\",IF(DI9>DJ9,\"A\",IF(DI9<DJ9,\"B\",IF(DI9=DJ9,\"X\"))))","v":"A"},2,0,{"$f":"IF(OR($F9=\"\",$G9=\"\",DM9=\"\",DN9=\"\"),\"\",IF(AND($F9=DM9,$G9=DN9),10,IF($F9-$G9=DM9-DN9,7,IF(OR(AND($F9>$G9,DM9>DN9),AND($F9<$G9,DM9<DN9)),5,0))))","v":10},{"$f":"IF(DM9=\"\",\"\",IF(DM9>DN9,\"A\",IF(DM9<DN9,\"B\",IF(DM9=DN9,\"X\"))))","v":"A"},1,0,{"$f":"IF(OR($F9=\"\",$G9=\"\",DQ9=\"\",DR9=\"\"),\"\",IF(AND($F9=DQ9,$G9=DR9),10,IF($F9-$G9=DQ9-DR9,7,IF(OR(AND($F9>$G9,DQ9>DR9),AND($F9<$G9,DQ9<DR9)),5,0))))","v":5},{"$f":"IF(DQ9=\"\",\"\",IF(DQ9>DR9,\"A\",IF(DQ9<DR9,\"B\",IF(DQ9=DR9,\"X\"))))","v":"A"},1,1,{"$f":"IF(OR($F9=\"\",$G9=\"\",DU9=\"\",DV9=\"\"),\"\",IF(AND($F9=DU9,$G9=DV9),10,IF($F9-$G9=DU9-DV9,7,IF(OR(AND($F9>$G9,DU9>DV9),AND($F9<$G9,DU9<DV9)),5,0))))","v":0},{"$f":"IF(DU9=\"\",\"\",IF(DU9>DV9,\"A\",IF(DU9<DV9,\"B\",IF(DU9=DV9,\"X\"))))","v":"X"},2,1,{"$f":"IF(OR($F9=\"\",$G9=\"\",DY9=\"\",DZ9=\"\"),\"\",IF(AND($F9=DY9,$G9=DZ9),10,IF($F9-$G9=DY9-DZ9,7,IF(OR(AND($F9>$G9,DY9>DZ9),AND($F9<$G9,DY9<DZ9)),5,0))))","v":5},{"$f":"IF(DY9=\"\",\"\",IF(DY9>DZ9,\"A\",IF(DY9<DZ9,\"B\",IF(DY9=DZ9,\"X\"))))","v":"A"},2,2,{"$f":"IF(OR($F9=\"\",$G9=\"\",EC9=\"\",ED9=\"\"),\"\",IF(AND($F9=EC9,$G9=ED9),10,IF($F9-$G9=EC9-ED9,7,IF(OR(AND($F9>$G9,EC9>ED9),AND($F9<$G9,EC9<ED9)),5,0))))","v":0},{"$f":"IF(EC9=\"\",\"\",IF(EC9>ED9,\"A\",IF(EC9<ED9,\"B\",IF(EC9=ED9,\"X\"))))","v":"X"},2,1,{"$f":"IF(OR($F9=\"\",$G9=\"\",EG9=\"\",EH9=\"\"),\"\",IF(AND($F9=EG9,$G9=EH9),10,IF($F9-$G9=EG9-EH9,7,IF(OR(AND($F9>$G9,EG9>EH9),AND($F9<$G9,EG9<EH9)),5,0))))","v":5},{"$f":"IF(EG9=\"\",\"\",IF(EG9>EH9,\"A\",IF(EG9<EH9,\"B\",IF(EG9=EH9,\"X\"))))","v":"A"},1,0,{"$f":"IF(OR($F9=\"\",$G9=\"\",EK9=\"\",EL9=\"\"),\"\",IF(AND($F9=EK9,$G9=EL9),10,IF($F9-$G9=EK9-EL9,7,IF(OR(AND($F9>$G9,EK9>EL9),AND($F9<$G9,EK9<EL9)),5,0))))","v":5},{"$f":"IF(EK9=\"\",\"\",IF(EK9>EL9,\"A\",IF(EK9<EL9,\"B\",IF(EK9=EL9,\"X\"))))","v":"A"},2,1,{"$f":"IF(OR($F9=\"\",$G9=\"\",EO9=\"\",EP9=\"\"),\"\",IF(AND($F9=EO9,$G9=EP9),10,IF($F9-$G9=EO9-EP9,7,IF(OR(AND($F9>$G9,EO9>EP9),AND($F9<$G9,EO9<EP9)),5,0))))","v":5},{"$f":"IF(EO9=\"\",\"\",IF(EO9>EP9,\"A\",IF(EO9<EP9,\"B\",IF(EO9=EP9,\"X\"))))","v":"A"},2,1,{"$f":"IF(OR($F9=\"\",$G9=\"\",ES9=\"\",ET9=\"\"),\"\",IF(AND($F9=ES9,$G9=ET9),10,IF($F9-$G9=ES9-ET9,7,IF(OR(AND($F9>$G9,ES9>ET9),AND($F9<$G9,ES9<ET9)),5,0))))","v":5},{"$f":"IF(ES9=\"\",\"\",IF(ES9>ET9,\"A\",IF(ES9<ET9,\"B\",IF(ES9=ET9,\"X\"))))","v":"A"},3,1,{"$f":"IF(OR($F9=\"\",$G9=\"\",EW9=\"\",EX9=\"\"),\"\",IF(AND($F9=EW9,$G9=EX9),10,IF($F9-$G9=EW9-EX9,7,IF(OR(AND($F9>$G9,EW9>EX9),AND($F9<$G9,EW9<EX9)),5,0))))","v":7},{"$f":"IF(EW9=\"\",\"\",IF(EW9>EX9,\"A\",IF(EW9<EX9,\"B\",IF(EW9=EX9,\"X\"))))","v":"A"},2,1,{"$f":"IF(OR($F9=\"\",$G9=\"\",FA9=\"\",FB9=\"\"),\"\",IF(AND($F9=FA9,$G9=FB9),10,IF($F9-$G9=FA9-FB9,7,IF(OR(AND($F9>$G9,FA9>FB9),AND($F9<$G9,FA9<FB9)),5,0))))","v":5},{"$f":"IF(FA9=\"\",\"\",IF(FA9>FB9,\"A\",IF(FA9<FB9,\"B\",IF(FA9=FB9,\"X\"))))","v":"A"},2,0,{"$f":"IF(OR($F9=\"\",$G9=\"\",FE9=\"\",FF9=\"\"),\"\",IF(AND($F9=FE9,$G9=FF9),10,IF($F9-$G9=FE9-FF9,7,IF(OR(AND($F9>$G9,FE9>FF9),AND($F9<$G9,FE9<FF9)),5,0))))","v":10},{"$f":"IF(FE9=\"\",\"\",IF(FE9>FF9,\"A\",IF(FE9<FF9,\"B\",IF(FE9=FF9,\"X\"))))","v":"A"},2,2,{"$f":"IF(OR($F9=\"\",$G9=\"\",FI9=\"\",FJ9=\"\"),\"\",IF(AND($F9=FI9,$G9=FJ9),10,IF($F9-$G9=FI9-FJ9,7,IF(OR(AND($F9>$G9,FI9>FJ9),AND($F9<$G9,FI9<FJ9)),5,0))))","v":0},{"$f":"IF(FI9=\"\",\"\",IF(FI9>FJ9,\"A\",IF(FI9<FJ9,\"B\",IF(FI9=FJ9,\"X\"))))","v":"X"},3,1,{"$f":"IF(OR($F9=\"\",$G9=\"\",FM9=\"\",FN9=\"\"),\"\",IF(AND($F9=FM9,$G9=FN9),10,IF($F9-$G9=FM9-FN9,7,IF(OR(AND($F9>$G9,FM9>FN9),AND($F9<$G9,FM9<FN9)),5,0))))","v":7},{"$f":"IF(FM9=\"\",\"\",IF(FM9>FN9,\"A\",IF(FM9<FN9,\"B\",IF(FM9=FN9,\"X\"))))","v":"A"},1,0,{"$f":"IF(OR($F9=\"\",$G9=\"\",FQ9=\"\",FR9=\"\"),\"\",IF(AND($F9=FQ9,$G9=FR9),10,IF($F9-$G9=FQ9-FR9,7,IF(OR(AND($F9>$G9,FQ9>FR9),AND($F9<$G9,FQ9<FR9)),5,0))))","v":5},{"$f":"IF(FQ9=\"\",\"\",IF(FQ9>FR9,\"A\",IF(FQ9<FR9,\"B\",IF(FQ9=FR9,\"X\"))))","v":"A"},1,0,{"$f":"IF(OR($F9=\"\",$G9=\"\",FU9=\"\",FV9=\"\"),\"\",IF(AND($F9=FU9,$G9=FV9),10,IF($F9-$G9=FU9-FV9,7,IF(OR(AND($F9>$G9,FU9>FV9),AND($F9<$G9,FU9<FV9)),5,0))))","v":5},{"$f":"IF(FU9=\"\",\"\",IF(FU9>FV9,\"A\",IF(FU9<FV9,\"B\",IF(FU9=FV9,\"X\"))))","v":"A"},3,1,{"$f":"IF(OR($F9=\"\",$G9=\"\",FY9=\"\",FZ9=\"\"),\"\",IF(AND($F9=FY9,$G9=FZ9),10,IF($F9-$G9=FY9-FZ9,7,IF(OR(AND($F9>$G9,FY9>FZ9),AND($F9<$G9,FY9<FZ9)),5,0))))","v":7},{"$f":"IF(FY9=\"\",\"\",IF(FY9>FZ9,\"A\",IF(FY9<FZ9,\"B\",IF(FY9=FZ9,\"X\"))))","v":"A"},2,1,{"$f":"IF(OR($F9=\"\",$G9=\"\",GC9=\"\",GD9=\"\"),\"\",IF(AND($F9=GC9,$G9=GD9),10,IF($F9-$G9=GC9-GD9,7,IF(OR(AND($F9>$G9,GC9>GD9),AND($F9<$G9,GC9<GD9)),5,0))))","v":5},{"$f":"IF(GC9=\"\",\"\",IF(GC9>GD9,\"A\",IF(GC9<GD9,\"B\",IF(GC9=GD9,\"X\"))))","v":"A"},1,0,{"$f":"IF(OR($F9=\"\",$G9=\"\",GG9=\"\",GH9=\"\"),\"\",IF(AND($F9=GG9,$G9=GH9),10,IF($F9-$G9=GG9-GH9,7,IF(OR(AND($F9>$G9,GG9>GH9),AND($F9<$G9,GG9<GH9)),5,0))))","v":5},{"$f":"IF(GG9=\"\",\"\",IF(GG9>GH9,\"A\",IF(GG9<GH9,\"B\",IF(GG9=GH9,\"X\"))))","v":"A"},2,1,{"$f":"IF(OR($F9=\"\",$G9=\"\",GK9=\"\",GL9=\"\"),\"\",IF(AND($F9=GK9,$G9=GL9),10,IF($F9-$G9=GK9-GL9,7,IF(OR(AND($F9>$G9,GK9>GL9),AND($F9<$G9,GK9<GL9)),5,0))))","v":5},{"$f":"IF(GK9=\"\",\"\",IF(GK9>GL9,\"A\",IF(GK9<GL9,\"B\",IF(GK9=GL9,\"X\"))))","v":"A"},2,0,{"$f":"IF(OR($F9=\"\",$G9=\"\",GO9=\"\",GP9=\"\"),\"\",IF(AND($F9=GO9,$G9=GP9),10,IF($F9-$G9=GO9-GP9,7,IF(OR(AND($F9>$G9,GO9>GP9),AND($F9<$G9,GO9<GP9)),5,0))))","v":10},{"$f":"IF(GO9=\"\",\"\",IF(GO9>GP9,\"A\",IF(GO9<GP9,\"B\",IF(GO9=GP9,\"X\"))))","v":"A"},2,0,{"$f":"IF(OR($F9=\"\",$G9=\"\",GS9=\"\",GT9=\"\"),\"\",IF(AND($F9=GS9,$G9=GT9),10,IF($F9-$G9=GS9-GT9,7,IF(OR(AND($F9>$G9,GS9>GT9),AND($F9<$G9,GS9<GT9)),5,0))))","v":10},{"$f":"IF(GS9=\"\",\"\",IF(GS9>GT9,\"A\",IF(GS9<GT9,\"B\",IF(GS9=GT9,\"X\"))))","v":"A"},3,1,{"$f":"IF(OR($F9=\"\",$G9=\"\",GW9=\"\",GX9=\"\"),\"\",IF(AND($F9=GW9,$G9=GX9),10,IF($F9-$G9=GW9-GX9,7,IF(OR(AND($F9>$G9,GW9>GX9),AND($F9<$G9,GW9<GX9)),5,0))))","v":7},{"$f":"IF(GW9=\"\",\"\",IF(GW9>GX9,\"A\",IF(GW9<GX9,\"B\",IF(GW9=GX9,\"X\"))))","v":"A"},null,{"$f":"SUM(COUNTIF($I9:$GZ9,\"A\")+COUNTIF($I90:$GZ90,\"A\"))","v":77},{"$f":"SUM(COUNTIF($I9:$GZ9,\"X\")+COUNTIF($I90:$GZ90,\"X\"))","v":6},{"$f":"SUM(COUNTIF($I9:$GZ9,\"B\")+COUNTIF($I90:$GZ90,\"B\"))","v":1},{"$f":"SUM(HB9:HD9)","v":84},null,{"$f":"HB9*100/HE9","v":91.666666666666671},{"$f":"HC9*100/HE9","v":7.1428571428571432},{"$f":"HD9*100/HE9","v":1.1904761904761905},null,{"$f":"SUM(I9:J80,M9:N80,Q9:R80,U9:V80,Y9:Z80,AC9:AD80,AG9:AH80,AK9:AL80,AO9:AP80,AS9:AT80,AW9:AX80,BA9:BB80,BE9:BF80,BI9:BJ80,BM9:BN80,BQ9:BR80,BU9:BV80,BY9:BZ80,CC9:CD80,CG9:CH80,CK9:CL80,CO9:CP80,CS9:CT80,CW9:CX80,DA9:DB80,DE9:DF80,DI9:DJ80,DM9:DN80,DQ9:DR80,DU9:DV80,DY9:DZ80,EC9:ED80,EG9:EH80,EK9:EL80,EO9:EP80,ES9:ET80,EW9:EX80,FA9:FB80,FE9:FF80,FI9:FJ80,FM9:FN80,FQ9:FR80,FU9:FV80,FY9:FZ80,GC9:GD80,GG9:GH80,GK9:GL80,GO9:GP80,GS9:GT80,GW9:GX80)","v":9250},"Spieler 1 - 50",null,null,{"$f":"_xlfn.LET(_xlpm.Start,COLUMN($I$1),_xlpm.Ende,COLUMN($GY$1),_xlpm.Anzahl,INT((_xlpm.Ende-_xlpm.Start)/4)+1,_xlpm.Spalten,_xlpm.Start+4*_xlfn.SEQUENCE(1,_xlpm.Anzahl,0,1),_xlpm.Namen1,INDEX($4:$4,1,_xlpm.Spalten)&\" \"&INDEX($5:$5,1,_xlpm.Spalten),_xlpm.Punkte1,INDEX(9:9,1,_xlpm.Spalten+2),_xlpm.Namen2,INDEX($85:$85,1,_xlpm.Spalten)&\" \"&INDEX($86:$86,1,_xlpm.Spalten),_xlpm.Punkte2,INDEX(90:90,1,_xlpm.Spalten+2),_xlfn.TEXTJOIN(\", \",TRUE,_xlfn._xlws.FILTER(_xlfn.HSTACK(_xlpm.Namen1,_xlpm.Namen2),_xlfn.HSTACK(_xlpm.Punkte1,_xlpm.Punkte2)=10,\"\")))","v":"Ruben Antonelli, André Bartholet, Roger Bartholet, Pongsapat Nott Boonaek, Manfred Brunner, Philip Brunner, Lisa D'Acunto, Vinci D'Acunto, Rafael Derungs, Dino Duvnjak, Stefan Gygli, André Lanz, Franz Lischer, Julian Merkli, Martin Rohner, Martin Schawalder, Yannick Schilliger, Bruno Silva, Aleandro Silvestri, Armando Thormann, Christoph Wälti, Markus Wagner"},null,{"$f":"_xlfn.LET(_xlpm.Start,COLUMN($I$1),_xlpm.Ende,COLUMN($GY$1),_xlpm.Anzahl,INT((_xlpm.Ende-_xlpm.Start)/4)+1,_xlpm.Spalten,_xlpm.Start+4*_xlfn.SEQUENCE(1,_xlpm.Anzahl,0,1),_xlpm.Namen1,INDEX($4:$4,1,_xlpm.Spalten)&\" \"&INDEX($5:$5,1,_xlpm.Spalten),_xlpm.Punkte1,INDEX(9:9,1,_xlpm.Spalten+2),_xlpm.Namen2,INDEX($85:$85,1,_xlpm.Spalten)&\" \"&INDEX($86:$86,1,_xlpm.Spalten),_xlpm.Punkte2,INDEX(90:90,1,_xlpm.Spalten+2),_xlfn.TEXTJOIN(\", \",TRUE,_xlfn._xlws.FILTER(_xlfn.HSTACK(_xlpm.Namen1,_xlpm.Namen2),_xlfn.HSTACK(_xlpm.Punkte1,_xlpm.Punkte2)=7,\"\")))","v":"Manuel Brunner, Leo Rodrigues da Costa, Goran Djukic, Sarina Gygli, Florian Haab, Michael Isenschmid, Marc Lütolf, Mauro Marini, Ben Marthaler, Elias Marty, Stefan Principe, Jingwen Wang"}]
["Fr. 12. Jun.","04:00:00",2,"Südkorea","Tschechien",2,1,null,2,1,{"$f":"IF(OR($F10=\"\",$G10=\"\",I10=\"\",J10=\"\"),\"\",IF(AND($F10=I10,$G10=J10),10,IF($F10-$G10=I10-J10,7,IF(OR(AND($F10>$G10,I10>J10),AND($F10<$G10,I10<J10)),5,0))))","v":10},{"$f":"IF(I10=\"\",\"\",IF(I10>J10,\"A\",IF(I10<J10,\"B\",IF(I10=J10,\"X\"))))","v":"A"},1,2,{"$f":"IF(OR($F10=\"\",$G10=\"\",M10=\"\",N10=\"\"),\"\",IF(AND($F10=M10,$G10=N10),10,IF($F10-$G10=M10-N10,7,IF(OR(AND($F10>$G10,M10>N10),AND($F10<$G10,M10<N10)),5,0))))","v":0},{"$f":"IF(M10=\"\",\"\",IF(M10>N10,\"A\",IF(M10<N10,\"B\",IF(M10=N10,\"X\"))))","v":"B"},1,1,{"$f":"IF(OR($F10=\"\",$G10=\"\",Q10=\"\",R10=\"\"),\"\",IF(AND($F10=Q10,$G10=R10),10,IF($F10-$G10=Q10-R10,7,IF(OR(AND($F10>$G10,Q10>R10),AND($F10<$G10,Q10<R10)),5,0))))","v":0},{"$f":"IF(Q10=\"\",\"\",IF(Q10>R10,\"A\",IF(Q10<R10,\"B\",IF(Q10=R10,\"X\"))))","v":"X"},2,3,{"$f":"IF(OR($F10=\"\",$G10=\"\",U10=\"\",V10=\"\"),\"\",IF(AND($F10=U10,$G10=V10),10,IF($F10-$G10=U10-V10,7,IF(OR(AND($F10>$G10,U10>V10),AND($F10<$G10,U10<V10)),5,0))))","v":0},{"$f":"IF(U10=\"\",\"\",IF(U10>V10,\"A\",IF(U10<V10,\"B\",IF(U10=V10,\"X\"))))","v":"B"},0,3,{"$f":"IF(OR($F10=\"\",$G10=\"\",Y10=\"\",Z10=\"\"),\"\",IF(AND($F10=Y10,$G10=Z10),10,IF($F10-$G10=Y10-Z10,7,IF(OR(AND($F10>$G10,Y10>Z10),AND($F10<$G10,Y10<Z10)),5,0))))","v":0},{"$f":"IF(Y10=\"\",\"\",IF(Y10>Z10,\"A\",IF(Y10<Z10,\"B\",IF(Y10=Z10,\"X\"))))","v":"B"},1,1,{"$f":"IF(OR($F10=\"\",$G10=\"\",AC10=\"\",AD10=\"\"),\"\",IF(AND($F10=AC10,$G10=AD10),10,IF($F10-$G10=AC10-AD10,7,IF(OR(AND($F10>$G10,AC10>AD10),AND($F10<$G10,AC10<AD10)),5,0))))","v":0},{"$f":"IF(AC10=\"\",\"\",IF(AC10>AD10,\"A\",IF(AC10<AD10,\"B\",IF(AC10=AD10,\"X\"))))","v":"X"},1,1,{"$f":"IF(OR($F10=\"\",$G10=\"\",AG10=\"\",AH10=\"\"),\"\",IF(AND($F10=AG10,$G10=AH10),10,IF($F10-$G10=AG10-AH10,7,IF(OR(AND($F10>$G10,AG10>AH10),AND($F10<$G10,AG10<AH10)),5,0))))","v":0},{"$f":"IF(AG10=\"\",\"\",IF(AG10>AH10,\"A\",IF(AG10<AH10,\"B\",IF(AG10=AH10,\"X\"))))","v":"X"},1,2,{"$f":"IF(OR($F10=\"\",$G10=\"\",AK10=\"\",AL10=\"\"),\"\",IF(AND($F10=AK10,$G10=AL10),10,IF($F10-$G10=AK10-AL10,7,IF(OR(AND($F10>$G10,AK10>AL10),AND($F10<$G10,AK10<AL10)),5,0))))","v":0},{"$f":"IF(AK10=\"\",\"\",IF(AK10>AL10,\"A\",IF(AK10<AL10,\"B\",IF(AK10=AL10,\"X\"))))","v":"B"},1,2,{"$f":"IF(OR($F10=\"\",$G10=\"\",AO10=\"\",AP10=\"\"),\"\",IF(AND($F10=AO10,$G10=AP10),10,IF($F10-$G10=AO10-AP10,7,IF(OR(AND($F10>$G10,AO10>AP10),AND($F10<$G10,AO10<AP10)),5,0))))","v":0},{"$f":"IF(AO10=\"\",\"\",IF(AO10>AP10,\"A\",IF(AO10<AP10,\"B\",IF(AO10=AP10,\"X\"))))","v":"B"},1,1,{"$f":"IF(OR($F10=\"\",$G10=\"\",AS10=\"\",AT10=\"\"),\"\",IF(AND($F10=AS10,$G10=AT10),10,IF($F10-$G10=AS10-AT10,7,IF(OR(AND($F10>$G10,AS10>AT10),AND($F10<$G10,AS10<AT10)),5,0))))","v":0},{"$f":"IF(AS10=\"\",\"\",IF(AS10>AT10,\"A\",IF(AS10<AT10,\"B\",IF(AS10=AT10,\"X\"))))","v":"X"},2,1,{"$f":"IF(OR($F10=\"\",$G10=\"\",AW10=\"\",AX10=\"\"),\"\",IF(AND($F10=AW10,$G10=AX10),10,IF($F10-$G10=AW10-AX10,7,IF(OR(AND($F10>$G10,AW10>AX10),AND($F10<$G10,AW10<AX10)),5,0))))","v":10},{"$f":"IF(AW10=\"\",\"\",IF(AW10>AX10,\"A\",IF(AW10<AX10,\"B\",IF(AW10=AX10,\"X\"))))","v":"A"},2,2,{"$f":"IF(OR($F10=\"\",$G10=\"\",BA10=\"\",BB10=\"\"),\"\",IF(AND($F10=BA10,$G10=BB10),10,IF($F10-$G10=BA10-BB10,7,IF(OR(AND($F10>$G10,BA10>BB10),AND($F10<$G10,BA10<BB10)),5,0))))","v":0},{"$f":"IF(BA10=\"\",\"\",IF(BA10>BB10,\"A\",IF(BA10<BB10,\"B\",IF(BA10=BB10,\"X\"))))","v":"X"},1,1,{"$f":"IF(OR($F10=\"\",$G10=\"\",BE10=\"\",BF10=\"\"),\"\",IF(AND($F10=BE10,$G10=BF10),10,IF($F10-$G10=BE10-BF10,7,IF(OR(AND($F10>$G10,BE10>BF10),AND($F10<$G10,BE10<BF10)),5,0))))","v":0},{"$f":"IF(BE10=\"\",\"\",IF(BE10>BF10,\"A\",IF(BE10<BF10,\"B\",IF(BE10=BF10,\"X\"))))","v":"X"},1,1,{"$f":"IF(OR($F10=\"\",$G10=\"\",BI10=\"\",BJ10=\"\"),\"\",IF(AND($F10=BI10,$G10=BJ10),10,IF($F10-$G10=BI10-BJ10,7,IF(OR(AND($F10>$G10,BI10>BJ10),AND($F10<$G10,BI10<BJ10)),5,0))))","v":0},{"$f":"IF(BI10=\"\",\"\",IF(BI10>BJ10,\"A\",IF(BI10<BJ10,\"B\",IF(BI10=BJ10,\"X\"))))","v":"X"},2,1,{"$f":"IF(OR($F10=\"\",$G10=\"\",BM10=\"\",BN10=\"\"),\"\",IF(AND($F10=BM10,$G10=BN10),10,IF($F10-$G10=BM10-BN10,7,IF(OR(AND($F10>$G10,BM10>BN10),AND($F10<$G10,BM10<BN10)),5,0))))","v":10},{"$f":"IF(BM10=\"\",\"\",IF(BM10>BN10,\"A\",IF(BM10<BN10,\"B\",IF(BM10=BN10,\"X\"))))","v":"A"},3,2,{"$f":"IF(OR($F10=\"\",$G10=\"\",BQ10=\"\",BR10=\"\"),\"\",IF(AND($F10=BQ10,$G10=BR10),10,IF($F10-$G10=BQ10-BR10,7,IF(OR(AND($F10>$G10,BQ10>BR10),AND($F10<$G10,BQ10<BR10)),5,0))))","v":7},{"$f":"IF(BQ10=\"\",\"\",IF(BQ10>BR10,\"A\",IF(BQ10<BR10,\"B\",IF(BQ10=BR10,\"X\"))))","v":"A"},1,1,{"$f":"IF(OR($F10=\"\",$G10=\"\",BU10=\"\",BV10=\"\"),\"\",IF(AND($F10=BU10,$G10=BV10),10,IF($F10-$G10=BU10-BV10,7,IF(OR(AND($F10>$G10,BU10>BV10),AND($F10<$G10,BU10<BV10)),5,0))))","v":0},{"$f":"IF(BU10=\"\",\"\",IF(BU10>BV10,\"A\",IF(BU10<BV10,\"B\",IF(BU10=BV10,\"X\"))))","v":"X"},1,1,{"$f":"IF(OR($F10=\"\",$G10=\"\",BY10=\"\",BZ10=\"\"),\"\",IF(AND($F10=BY10,$G10=BZ10),10,IF($F10-$G10=BY10-BZ10,7,IF(OR(AND($F10>$G10,BY10>BZ10),AND($F10<$G10,BY10<BZ10)),5,0))))","v":0},{"$f":"IF(BY10=\"\",\"\",IF(BY10>BZ10,\"A\",IF(BY10<BZ10,\"B\",IF(BY10=BZ10,\"X\"))))","v":"X"},2,1,{"$f":"IF(OR($F10=\"\",$G10=\"\",CC10=\"\",CD10=\"\"),\"\",IF(AND($F10=CC10,$G10=CD10),10,IF($F10-$G10=CC10-CD10,7,IF(OR(AND($F10>$G10,CC10>CD10),AND($F10<$G10,CC10<CD10)),5,0))))","v":10},{"$f":"IF(CC10=\"\",\"\",IF(CC10>CD10,\"A\",IF(CC10<CD10,\"B\",IF(CC10=CD10,\"X\"))))","v":"A"},2,2,{"$f":"IF(OR($F10=\"\",$G10=\"\",CG10=\"\",CH10=\"\"),\"\",IF(AND($F10=CG10,$G10=CH10),10,IF($F10-$G10=CG10-CH10,7,IF(OR(AND($F10>$G10,CG10>CH10),AND($F10<$G10,CG10<CH10)),5,0))))","v":0},{"$f":"IF(CG10=\"\",\"\",IF(CG10>CH10,\"A\",IF(CG10<CH10,\"B\",IF(CG10=CH10,\"X\"))))","v":"X"},1,1,{"$f":"IF(OR($F10=\"\",$G10=\"\",CK10=\"\",CL10=\"\"),\"\",IF(AND($F10=CK10,$G10=CL10),10,IF($F10-$G10=CK10-CL10,7,IF(OR(AND($F10>$G10,CK10>CL10),AND($F10<$G10,CK10<CL10)),5,0))))","v":0},{"$f":"IF(CK10=\"\",\"\",IF(CK10>CL10,\"A\",IF(CK10<CL10,\"B\",IF(CK10=CL10,\"X\"))))","v":"X"},1,2,{"$f":"IF(OR($F10=\"\",$G10=\"\",CO10=\"\",CP10=\"\"),\"\",IF(AND($F10=CO10,$G10=CP10),10,IF($F10-$G10=CO10-CP10,7,IF(OR(AND($F10>$G10,CO10>CP10),AND($F10<$G10,CO10<CP10)),5,0))))","v":0},{"$f":"IF(CO10=\"\",\"\",IF(CO10>CP10,\"A\",IF(CO10<CP10,\"B\",IF(CO10=CP10,\"X\"))))","v":"B"},1,1,{"$f":"IF(OR($F10=\"\",$G10=\"\",CS10=\"\",CT10=\"\"),\"\",IF(AND($F10=CS10,$G10=CT10),10,IF($F10-$G10=CS10-CT10,7,IF(OR(AND($F10>$G10,CS10>CT10),AND($F10<$G10,CS10<CT10)),5,0))))","v":0},{"$f":"IF(CS10=\"\",\"\",IF(CS10>CT10,\"A\",IF(CS10<CT10,\"B\",IF(CS10=CT10,\"X\"))))","v":"X"},1,1,{"$f":"IF(OR($F10=\"\",$G10=\"\",CW10=\"\",CX10=\"\"),\"\",IF(AND($F10=CW10,$G10=CX10),10,IF($F10-$G10=CW10-CX10,7,IF(OR(AND($F10>$G10,CW10>CX10),AND($F10<$G10,CW10<CX10)),5,0))))","v":0},{"$f":"IF(CW10=\"\",\"\",IF(CW10>CX10,\"A\",IF(CW10<CX10,\"B\",IF(CW10=CX10,\"X\"))))","v":"X"},1,1,{"$f":"IF(OR($F10=\"\",$G10=\"\",DA10=\"\",DB10=\"\"),\"\",IF(AND($F10=DA10,$G10=DB10),10,IF($F10-$G10=DA10-DB10,7,IF(OR(AND($F10>$G10,DA10>DB10),AND($F10<$G10,DA10<DB10)),5,0))))","v":0},{"$f":"IF(DA10=\"\",\"\",IF(DA10>DB10,\"A\",IF(DA10<DB10,\"B\",IF(DA10=DB10,\"X\"))))","v":"X"},1,2,{"$f":"IF(OR($F10=\"\",$G10=\"\",DE10=\"\",DF10=\"\"),\"\",IF(AND($F10=DE10,$G10=DF10),10,IF($F10-$G10=DE10-DF10,7,IF(OR(AND($F10>$G10,DE10>DF10),AND($F10<$G10,DE10<DF10)),5,0))))","v":0},{"$f":"IF(DE10=\"\",\"\",IF(DE10>DF10,\"A\",IF(DE10<DF10,\"B\",IF(DE10=DF10,\"X\"))))","v":"B"},1,1,{"$f":"IF(OR($F10=\"\",$G10=\"\",DI10=\"\",DJ10=\"\"),\"\",IF(AND($F10=DI10,$G10=DJ10),10,IF($F10-$G10=DI10-DJ10,7,IF(OR(AND($F10>$G10,DI10>DJ10),AND($F10<$G10,DI10<DJ10)),5,0))))","v":0},{"$f":"IF(DI10=\"\",\"\",IF(DI10>DJ10,\"A\",IF(DI10<DJ10,\"B\",IF(DI10=DJ10,\"X\"))))","v":"X"},1,1,{"$f":"IF(OR($F10=\"\",$G10=\"\",DM10=\"\",DN10=\"\"),\"\",IF(AND($F10=DM10,$G10=DN10),10,IF($F10-$G10=DM10-DN10,7,IF(OR(AND($F10>$G10,DM10>DN10),AND($F10<$G10,DM10<DN10)),5,0))))","v":0},{"$f":"IF(DM10=\"\",\"\",IF(DM10>DN10,\"A\",IF(DM10<DN10,\"B\",IF(DM10=DN10,\"X\"))))","v":"X"},1,1,{"$f":"IF(OR($F10=\"\",$G10=\"\",DQ10=\"\",DR10=\"\"),\"\",IF(AND($F10=DQ10,$G10=DR10),10,IF($F10-$G10=DQ10-DR10,7,IF(OR(AND($F10>$G10,DQ10>DR10),AND($F10<$G10,DQ10<DR10)),5,0))))","v":0},{"$f":"IF(DQ10=\"\",\"\",IF(DQ10>DR10,\"A\",IF(DQ10<DR10,\"B\",IF(DQ10=DR10,\"X\"))))","v":"X"},0,2,{"$f":"IF(OR($F10=\"\",$G10=\"\",DU10=\"\",DV10=\"\"),\"\",IF(AND($F10=DU10,$G10=DV10),10,IF($F10-$G10=DU10-DV10,7,IF(OR(AND($F10>$G10,DU10>DV10),AND($F10<$G10,DU10<DV10)),5,0))))","v":0},{"$f":"IF(DU10=\"\",\"\",IF(DU10>DV10,\"A\",IF(DU10<DV10,\"B\",IF(DU10=DV10,\"X\"))))","v":"B"},1,1,{"$f":"IF(OR($F10=\"\",$G10=\"\",DY10=\"\",DZ10=\"\"),\"\",IF(AND($F10=DY10,$G10=DZ10),10,IF($F10-$G10=DY10-DZ10,7,IF(OR(AND($F10>$G10,DY10>DZ10),AND($F10<$G10,DY10<DZ10)),5,0))))","v":0},{"$f":"IF(DY10=\"\",\"\",IF(DY10>DZ10,\"A\",IF(DY10<DZ10,\"B\",IF(DY10=DZ10,\"X\"))))","v":"X"},0,1,{"$f":"IF(OR($F10=\"\",$G10=\"\",EC10=\"\",ED10=\"\"),\"\",IF(AND($F10=EC10,$G10=ED10),10,IF($F10-$G10=EC10-ED10,7,IF(OR(AND($F10>$G10,EC10>ED10),AND($F10<$G10,EC10<ED10)),5,0))))","v":0},{"$f":"IF(EC10=\"\",\"\",IF(EC10>ED10,\"A\",IF(EC10<ED10,\"B\",IF(EC10=ED10,\"X\"))))","v":"B"},0,0,{"$f":"IF(OR($F10=\"\",$G10=\"\",EG10=\"\",EH10=\"\"),\"\",IF(AND($F10=EG10,$G10=EH10),10,IF($F10-$G10=EG10-EH10,7,IF(OR(AND($F10>$G10,EG10>EH10),AND($F10<$G10,EG10<EH10)),5,0))))","v":0},{"$f":"IF(EG10=\"\",\"\",IF(EG10>EH10,\"A\",IF(EG10<EH10,\"B\",IF(EG10=EH10,\"X\"))))","v":"X"},2,1,{"$f":"IF(OR($F10=\"\",$G10=\"\",EK10=\"\",EL10=\"\"),\"\",IF(AND($F10=EK10,$G10=EL10),10,IF($F10-$G10=EK10-EL10,7,IF(OR(AND($F10>$G10,EK10>EL10),AND($F10<$G10,EK10<EL10)),5,0))))","v":10},{"$f":"IF(EK10=\"\",\"\",IF(EK10>EL10,\"A\",IF(EK10<EL10,\"B\",IF(EK10=EL10,\"X\"))))","v":"A"},1,1,{"$f":"IF(OR($F10=\"\",$G10=\"\",EO10=\"\",EP10=\"\"),\"\",IF(AND($F10=EO10,$G10=EP10),10,IF($F10-$G10=EO10-EP10,7,IF(OR(AND($F10>$G10,EO10>EP10),AND($F10<$G10,EO10<EP10)),5,0))))","v":0},{"$f":"IF(EO10=\"\",\"\",IF(EO10>EP10,\"A\",IF(EO10<EP10,\"B\",IF(EO10=EP10,\"X\"))))","v":"X"},2,1,{"$f":"IF(OR($F10=\"\",$G10=\"\",ES10=\"\",ET10=\"\"),\"\",IF(AND($F10=ES10,$G10=ET10),10,IF($F10-$G10=ES10-ET10,7,IF(OR(AND($F10>$G10,ES10>ET10),AND($F10<$G10,ES10<ET10)),5,0))))","v":10},{"$f":"IF(ES10=\"\",\"\",IF(ES10>ET10,\"A\",IF(ES10<ET10,\"B\",IF(ES10=ET10,\"X\"))))","v":"A"},1,0,{"$f":"IF(OR($F10=\"\",$G10=\"\",EW10=\"\",EX10=\"\"),\"\",IF(AND($F10=EW10,$G10=EX10),10,IF($F10-$G10=EW10-EX10,7,IF(OR(AND($F10>$G10,EW10>EX10),AND($F10<$G10,EW10<EX10)),5,0))))","v":7},{"$f":"IF(EW10=\"\",\"\",IF(EW10>EX10,\"A\",IF(EW10<EX10,\"B\",IF(EW10=EX10,\"X\"))))","v":"A"},0,2,{"$f":"IF(OR($F10=\"\",$G10=\"\",FA10=\"\",FB10=\"\"),\"\",IF(AND($F10=FA10,$G10=FB10),10,IF($F10-$G10=FA10-FB10,7,IF(OR(AND($F10>$G10,FA10>FB10),AND($F10<$G10,FA10<FB10)),5,0))))","v":0},{"$f":"IF(FA10=\"\",\"\",IF(FA10>FB10,\"A\",IF(FA10<FB10,\"B\",IF(FA10=FB10,\"X\"))))","v":"B"},1,1,{"$f":"IF(OR($F10=\"\",$G10=\"\",FE10=\"\",FF10=\"\"),\"\",IF(AND($F10=FE10,$G10=FF10),10,IF($F10-$G10=FE10-FF10,7,IF(OR(AND($F10>$G10,FE10>FF10),AND($F10<$G10,FE10<FF10)),5,0))))","v":0},{"$f":"IF(FE10=\"\",\"\",IF(FE10>FF10,\"A\",IF(FE10<FF10,\"B\",IF(FE10=FF10,\"X\"))))","v":"X"},2,0,{"$f":"IF(OR($F10=\"\",$G10=\"\",FI10=\"\",FJ10=\"\"),\"\",IF(AND($F10=FI10,$G10=FJ10),10,IF($F10-$G10=FI10-FJ10,7,IF(OR(AND($F10>$G10,FI10>FJ10),AND($F10<$G10,FI10<FJ10)),5,0))))","v":5},{"$f":"IF(FI10=\"\",\"\",IF(FI10>FJ10,\"A\",IF(FI10<FJ10,\"B\",IF(FI10=FJ10,\"X\"))))","v":"A"},2,1,{"$f":"IF(OR($F10=\"\",$G10=\"\",FM10=\"\",FN10=\"\"),\"\",IF(AND($F10=FM10,$G10=FN10),10,IF($F10-$G10=FM10-FN10,7,IF(OR(AND($F10>$G10,FM10>FN10),AND($F10<$G10,FM10<FN10)),5,0))))","v":10},{"$f":"IF(FM10=\"\",\"\",IF(FM10>FN10,\"A\",IF(FM10<FN10,\"B\",IF(FM10=FN10,\"X\"))))","v":"A"},2,1,{"$f":"IF(OR($F10=\"\",$G10=\"\",FQ10=\"\",FR10=\"\"),\"\",IF(AND($F10=FQ10,$G10=FR10),10,IF($F10-$G10=FQ10-FR10,7,IF(OR(AND($F10>$G10,FQ10>FR10),AND($F10<$G10,FQ10<FR10)),5,0))))","v":10},{"$f":"IF(FQ10=\"\",\"\",IF(FQ10>FR10,\"A\",IF(FQ10<FR10,\"B\",IF(FQ10=FR10,\"X\"))))","v":"A"},1,1,{"$f":"IF(OR($F10=\"\",$G10=\"\",FU10=\"\",FV10=\"\"),\"\",IF(AND($F10=FU10,$G10=FV10),10,IF($F10-$G10=FU10-FV10,7,IF(OR(AND($F10>$G10,FU10>FV10),AND($F10<$G10,FU10<FV10)),5,0))))","v":0},{"$f":"IF(FU10=\"\",\"\",IF(FU10>FV10,\"A\",IF(FU10<FV10,\"B\",IF(FU10=FV10,\"X\"))))","v":"X"},3,1,{"$f":"IF(OR($F10=\"\",$G10=\"\",FY10=\"\",FZ10=\"\"),\"\",IF(AND($F10=FY10,$G10=FZ10),10,IF($F10-$G10=FY10-FZ10,7,IF(OR(AND($F10>$G10,FY10>FZ10),AND($F10<$G10,FY10<FZ10)),5,0))))","v":5},{"$f":"IF(FY10=\"\",\"\",IF(FY10>FZ10,\"A\",IF(FY10<FZ10,\"B\",IF(FY10=FZ10,\"X\"))))","v":"A"},1,2,{"$f":"IF(OR($F10=\"\",$G10=\"\",GC10=\"\",GD10=\"\"),\"\",IF(AND($F10=GC10,$G10=GD10),10,IF($F10-$G10=GC10-GD10,7,IF(OR(AND($F10>$G10,GC10>GD10),AND($F10<$G10,GC10<GD10)),5,0))))","v":0},{"$f":"IF(GC10=\"\",\"\",IF(GC10>GD10,\"A\",IF(GC10<GD10,\"B\",IF(GC10=GD10,\"X\"))))","v":"B"},1,0,{"$f":"IF(OR($F10=\"\",$G10=\"\",GG10=\"\",GH10=\"\"),\"\",IF(AND($F10=GG10,$G10=GH10),10,IF($F10-$G10=GG10-GH10,7,IF(OR(AND($F10>$G10,GG10>GH10),AND($F10<$G10,GG10<GH10)),5,0))))","v":7},{"$f":"IF(GG10=\"\",\"\",IF(GG10>GH10,\"A\",IF(GG10<GH10,\"B\",IF(GG10=GH10,\"X\"))))","v":"A"},0,1,{"$f":"IF(OR($F10=\"\",$G10=\"\",GK10=\"\",GL10=\"\"),\"\",IF(AND($F10=GK10,$G10=GL10),10,IF($F10-$G10=GK10-GL10,7,IF(OR(AND($F10>$G10,GK10>GL10),AND($F10<$G10,GK10<GL10)),5,0))))","v":0},{"$f":"IF(GK10=\"\",\"\",IF(GK10>GL10,\"A\",IF(GK10<GL10,\"B\",IF(GK10=GL10,\"X\"))))","v":"B"},0,0,{"$f":"IF(OR($F10=\"\",$G10=\"\",GO10=\"\",GP10=\"\"),\"\",IF(AND($F10=GO10,$G10=GP10),10,IF($F10-$G10=GO10-GP10,7,IF(OR(AND($F10>$G10,GO10>GP10),AND($F10<$G10,GO10<GP10)),5,0))))","v":0},{"$f":"IF(GO10=\"\",\"\",IF(GO10>GP10,\"A\",IF(GO10<GP10,\"B\",IF(GO10=GP10,\"X\"))))","v":"X"},0,1,{"$f":"IF(OR($F10=\"\",$G10=\"\",GS10=\"\",GT10=\"\"),\"\",IF(AND($F10=GS10,$G10=GT10),10,IF($F10-$G10=GS10-GT10,7,IF(OR(AND($F10>$G10,GS10>GT10),AND($F10<$G10,GS10<GT10)),5,0))))","v":0},{"$f":"IF(GS10=\"\",\"\",IF(GS10>GT10,\"A\",IF(GS10<GT10,\"B\",IF(GS10=GT10,\"X\"))))","v":"B"},1,1,{"$f":"IF(OR($F10=\"\",$G10=\"\",GW10=\"\",GX10=\"\"),\"\",IF(AND($F10=GW10,$G10=GX10),10,IF($F10-$G10=GW10-GX10,7,IF(OR(AND($F10>$G10,GW10>GX10),AND($F10<$G10,GW10<GX10)),5,0))))","v":0},{"$f":"IF(GW10=\"\",\"\",IF(GW10>GX10,\"A\",IF(GW10<GX10,\"B\",IF(GW10=GX10,\"X\"))))","v":"X"},null,{"$f":"SUM(COUNTIF($I10:$GZ10,\"A\")+COUNTIF($I91:$GZ91,\"A\"))","v":18},{"$f":"SUM(COUNTIF($I10:$GZ10,\"X\")+COUNTIF($I91:$GZ91,\"X\"))","v":45},{"$f":"SUM(COUNTIF($I10:$GZ10,\"B\")+COUNTIF($I91:$GZ91,\"B\"))","v":21},{"$f":"SUM(HB10:HD10)","v":84},null,{"$f":"HB10*100/HE10","v":21.428571428571427},{"$f":"HC10*100/HE10","v":53.571428571428569},{"$f":"HD10*100/HE10","v":25},null,{"$f":"SUM(I90:J161,M90:N161,Q90:R161,U90:V161,Y90:Z161,AC90:AD161,AG90:AH161,AK90:AL161,AO90:AP161,AS90:AT161,AW90:AX161,BA90:BB161,BE90:BF161,BI90:BJ161,BM90:BN161,BQ90:BR161,BU90:BV161,BY90:BZ161,CC90:CD161,CG90:CH161,CK90:CL161,CO90:CP161,CS90:CT161,CW90:CX161,DA90:DB161,DE90:DF161,DI90:DJ161,DM90:DN161,DQ90:DR161,DU90:DV161,DY90:DZ161,EC90:ED161,EG90:EH161,EK90:EL161,EO90:EP161,ES90:ET161,EW90:EX161,FA90:FB161,FE90:FF161,FI90:FJ161,FM90:FN161,FQ90:FR161,FU90:FV161,FY90:FZ161,GC90:GD161,GG90:GH161,GK90:GL161,GO90:GP161,GS90:GT161,GW90:GX161)","v":6972},"Spieler 51 - 100",null,null,{"$f":"_xlfn.LET(_xlpm.Start,COLUMN($I$1),_xlpm.Ende,COLUMN($GY$1),_xlpm.Anzahl,INT((_xlpm.Ende-_xlpm.Start)/4)+1,_xlpm.Spalten,_xlpm.Start+4*_xlfn.SEQUENCE(1,_xlpm.Anzahl,0,1),_xlpm.Namen1,INDEX($4:$4,1,_xlpm.Spalten)&\" \"&INDEX($5:$5,1,_xlpm.Spalten),_xlpm.Punkte1,INDEX(10:10,1,_xlpm.Spalten+2),_xlpm.Namen2,INDEX($85:$85,1,_xlpm.Spalten)&\" \"&INDEX($86:$86,1,_xlpm.Spalten),_xlpm.Punkte2,INDEX(91:91,1,_xlpm.Spalten+2),_xlfn.TEXTJOIN(\", \",TRUE,_xlfn._xlws.FILTER(_xlfn.HSTACK(_xlpm.Namen1,_xlpm.Namen2),_xlfn.HSTACK(_xlpm.Punkte1,_xlpm.Punkte2)=10,\"\")))","v":"Panos Agorastos, Mara Beck, Manuel Brunner, Oli Christiansen, Laurent Grosse, Robin Gygli, Florian Haab, Agnes Isenschmid, Martin Marthaler, Lynn Rüegg, Evelyne Schenk"},null,{"$f":"_xlfn.LET(_xlpm.Start,COLUMN($I$1),_xlpm.Ende,COLUMN($GY$1),_xlpm.Anzahl,INT((_xlpm.Ende-_xlpm.Start)/4)+1,_xlpm.Spalten,_xlpm.Start+4*_xlfn.SEQUENCE(1,_xlpm.Anzahl,0,1),_xlpm.Namen1,INDEX($4:$4,1,_xlpm.Spalten)&\" \"&INDEX($5:$5,1,_xlpm.Spalten),_xlpm.Punkte1,INDEX(10:10,1,_xlpm.Spalten+2),_xlpm.Namen2,INDEX($85:$85,1,_xlpm.Spalten)&\" \"&INDEX($86:$86,1,_xlpm.Spalten),_xlpm.Punkte2,INDEX(91:91,1,_xlpm.Spalten+2),_xlfn.TEXTJOIN(\", \",TRUE,_xlfn._xlws.FILTER(_xlfn.HSTACK(_xlpm.Namen1,_xlpm.Namen2),_xlfn.HSTACK(_xlpm.Punkte1,_xlpm.Punkte2)=7,\"\")))","v":"Nicolas Brunner, Sarina Gygli, Pascal Keller, Martin Schawalder"}]
["Fr. 12. Jun.","21:00:00",3,"Kanada","Bosnien-Herz.",1,1,null,1,1,10,"X",1,2,0,"B",0,1,0,"B",2,2,7,"X",2,2,7,"X",2,2,7,"X",1,0,0,"A",2,1,0,"A",1,0,0,"A",1,0,0,"A",3,0,0,"A",2,1,0,"A",2,1,0,"A",0,1,0,"B",1,2,0,"B",1,2,0,"B",1,2,0,"B",0,0,7,"X",1,1,10,"X",1,1,10,"X",1,1,10,"X",1,1,10,"X",2,1,0,"A",0,1,0,"B",2,1,0,"A",2,1,0,"A",1,2,0,"B",0,1,0,"B",0,1,0,"B",1,1,10,"X",0,2,0,"B",0,2,0,"B",0,1,0,"B",1,0,0,"A",2,1,0,"A",2,1,0,"A",1,0,0,"A",0,1,0,"B",2,1,0,"A",1,0,0,"A",2,1,0,"A",2,1,0,"A",1,2,0,"B",1,3,0,"B",0,1,0,"B",1,0,0,"A",0,2,0,"B",1,2,0,"B",1,1,10,"X",2,0,0,"A",null,37,19,28,84,null,44.047619047619051,22.61904761904762,33.333333333333336,null,{"$f":"SUM(HK9:HK10)","v":16222},"Total",null,null,{"$f":"_xlfn.LET(_xlpm.Start,COLUMN($I$1),_xlpm.Ende,COLUMN($GY$1),_xlpm.Anzahl,INT((_xlpm.Ende-_xlpm.Start)/4)+1,_xlpm.Spalten,_xlpm.Start+4*_xlfn.SEQUENCE(1,_xlpm.Anzahl,0,1),_xlpm.Namen1,INDEX($4:$4,1,_xlpm.Spalten)&\" \"&INDEX($5:$5,1,_xlpm.Spalten),_xlpm.Punkte1,INDEX(11:11,1,_xlpm.Spalten+2),_xlpm.Namen2,INDEX($85:$85,1,_xlpm.Spalten)&\" \"&INDEX($86:$86,1,_xlpm.Spalten),_xlpm.Punkte2,INDEX(92:92,1,_xlpm.Spalten+2),_xlfn.TEXTJOIN(\", \",TRUE,_xlfn._xlws.FILTER(_xlfn.HSTACK(_xlpm.Namen1,_xlpm.Namen2),_xlfn.HSTACK(_xlpm.Punkte1,_xlpm.Punkte2)=10,\"\")))","v":"Panos Agorastos, Oli Christiansen, Javier Cruz, Leo Rodrigues da Costa, Lisa D'Acunto, Andreia Gomes, Franz Lischer, Martin Marthaler, Petra Rauscher, Michael Rüegg, Yannick Schilliger, Aleandro Silvestri, Armando Thormann, Christoph Wälti"},null,{"$f":"_xlfn.LET(_xlpm.Start,COLUMN($I$1),_xlpm.Ende,COLUMN($GY$1),_xlpm.Anzahl,INT((_xlpm.Ende-_xlpm.Start)/4)+1,_xlpm.Spalten,_xlpm.Start+4*_xlfn.SEQUENCE(1,_xlpm.Anzahl,0,1),_xlpm.Namen1,INDEX($4:$4,1,_xlpm.Spalten)&\" \"&INDEX($5:$5,1,_xlpm.Spalten),_xlpm.Punkte1,INDEX(11:11,1,_xlpm.Spalten+2),_xlpm.Namen2,INDEX($85:$85,1,_xlpm.Spalten)&\" \"&INDEX($86:$86,1,_xlpm.Spalten),_xlpm.Punkte2,INDEX(92:92,1,_xlpm.Spalten+2),_xlfn.TEXTJOIN(\", \",TRUE,_xlfn._xlws.FILTER(_xlfn.HSTACK(_xlpm.Namen1,_xlpm.Namen2),_xlfn.HSTACK(_xlpm.Punkte1,_xlpm.Punkte2)=7,\"\")))","v":"Marco Antonelli, Ruben Antonelli, Peter Balazs, André Burkart, Ben Marthaler"}]
["Sa. 13. Jun.","03:00:00",4,"USA","Paraguay",4,1,null,2,1,5,"A",1,1,0,"X",1,2,0,"B",3,1,5,"A",2,0,5,"A",1,0,5,"A",1,0,5,"A",1,2,0,"B",2,2,0,"X",2,0,5,"A",2,1,5,"A",2,0,5,"A",2,1,5,"A",1,3,0,"B",2,1,5,"A",1,0,5,"A",2,1,5,"A",1,1,0,"X",1,1,0,"X",2,0,5,"A",2,1,5,"A",2,0,5,"A",1,3,0,"B",1,3,0,"B",1,1,0,"X",2,1,5,"A",2,1,5,"A",2,0,5,"A",1,0,5,"A",1,0,5,"A",1,3,0,"B",1,1,0,"X",1,1,0,"X",1,0,5,"A",2,0,5,"A",2,1,5,"A",1,1,0,"X",1,0,5,"A",3,0,7,"A",1,1,0,"X",2,0,5,"A",2,1,5,"A",1,2,0,"B",1,3,0,"B",2,0,5,"A",1,0,5,"A",1,0,5,"A",1,0,5,"A",0,1,0,"B",1,1,0,"X",null,58,13,13,84,null,69.047619047619051,15.476190476190476,15.476190476190476,null,null,null,null,null,{"$f":"_xlfn.LET(_xlpm.Start,COLUMN($I$1),_xlpm.Ende,COLUMN($GY$1),_xlpm.Anzahl,INT((_xlpm.Ende-_xlpm.Start)/4)+1,_xlpm.Spalten,_xlpm.Start+4*_xlfn.SEQUENCE(1,_xlpm.Anzahl,0,1),_xlpm.Namen1,INDEX($4:$4,1,_xlpm.Spalten)&\" \"&INDEX($5:$5,1,_xlpm.Spalten),_xlpm.Punkte1,INDEX(12:12,1,_xlpm.Spalten+2),_xlpm.Namen2,INDEX($85:$85,1,_xlpm.Spalten)&\" \"&INDEX($86:$86,1,_xlpm.Spalten),_xlpm.Punkte2,INDEX(93:93,1,_xlpm.Spalten+2),_xlfn.TEXTJOIN(\", \",TRUE,_xlfn._xlws.FILTER(_xlfn.HSTACK(_xlpm.Namen1,_xlpm.Namen2),_xlfn.HSTACK(_xlpm.Punkte1,_xlpm.Punkte2)=10,\"\")))","v":"Ralph Schuster"},null,{"$f":"_xlfn.LET(_xlpm.Start,COLUMN($I$1),_xlpm.Ende,COLUMN($GY$1),_xlpm.Anzahl,INT((_xlpm.Ende-_xlpm.Start)/4)+1,_xlpm.Spalten,_xlpm.Start+4*_xlfn.SEQUENCE(1,_xlpm.Anzahl,0,1),_xlpm.Namen1,INDEX($4:$4,1,_xlpm.Spalten)&\" \"&INDEX($5:$5,1,_xlpm.Spalten),_xlpm.Punkte1,INDEX(12:12,1,_xlpm.Spalten+2),_xlpm.Namen2,INDEX($85:$85,1,_xlpm.Spalten)&\" \"&INDEX($86:$86,1,_xlpm.Spalten),_xlpm.Punkte2,INDEX(93:93,1,_xlpm.Spalten+2),_xlfn.TEXTJOIN(\", \",TRUE,_xlfn._xlws.FILTER(_xlfn.HSTACK(_xlpm.Namen1,_xlpm.Namen2),_xlfn.HSTACK(_xlpm.Punkte1,_xlpm.Punkte2)=7,\"\")))","v":"Stefan Gygli"}]
["So. 14. Jun.","03:00:00",5,"Haiti","Schottland",0,1,null,1,2,7,"B",1,3,5,"B",0,2,5,"B",0,2,5,"B",0,3,5,"B",0,2,5,"B",0,1,10,"B",1,2,7,"B",1,2,7,"B",0,3,5,"B",0,2,5,"B",1,3,5,"B",0,2,5,"B",0,3,5,"B",0,2,5,"B",1,2,7,"B",0,2,5,"B",0,1,10,"B",0,1,10,"B",0,3,5,"B",0,2,5,"B",0,3,5,"B",0,4,5,"B",0,4,5,"B",0,1,10,"B",0,2,5,"B",0,2,5,"B",0,1,10,"B",0,1,10,"B",0,1,10,"B",0,3,5,"B",1,2,7,"B",0,2,5,"B",0,2,5,"B",0,2,5,"B",0,2,5,"B",0,2,5,"B",2,2,0,"X",0,2,5,"B",1,3,5,"B",1,3,5,"B",0,2,5,"B",0,2,5,"B",1,3,5,"B",0,2,5,"B",0,1,10,"B",0,1,10,"B",0,2,5,"B",0,2,5,"B",0,2,5,"B",null,0,3,81,84,null,0,3.5714285714285716,96.428571428571431,null,null,null,null,null,{"$f":"_xlfn.LET(_xlpm.Start,COLUMN($I$1),_xlpm.Ende,COLUMN($GY$1),_xlpm.Anzahl,INT((_xlpm.Ende-_xlpm.Start)/4)+1,_xlpm.Spalten,_xlpm.Start+4*_xlfn.SEQUENCE(1,_xlpm.Anzahl,0,1),_xlpm.Namen1,INDEX($4:$4,1,_xlpm.Spalten)&\" \"&INDEX($5:$5,1,_xlpm.Spalten),_xlpm.Punkte1,INDEX(13:13,1,_xlpm.Spalten+2),_xlpm.Namen2,INDEX($85:$85,1,_xlpm.Spalten)&\" \"&INDEX($86:$86,1,_xlpm.Spalten),_xlpm.Punkte2,INDEX(94:94,1,_xlpm.Spalten+2),_xlfn.TEXTJOIN(\", \",TRUE,_xlfn._xlws.FILTER(_xlfn.HSTACK(_xlpm.Namen1,_xlpm.Namen2),_xlfn.HSTACK(_xlpm.Punkte1,_xlpm.Punkte2)=10,\"\")))","v":"André Bartholet, André Burkart, Oli Christiansen, Rafael Derungs, Dino Duvnjak, Djuma Duvnjak, Andreia Gomes, Pascal Keller, Tanja Kistler, Martin Marthaler, Petra Rauscher, Lynn Rüegg, Michael Rüegg"},null,{"$f":"_xlfn.LET(_xlpm.Start,COLUMN($I$1),_xlpm.Ende,COLUMN($GY$1),_xlpm.Anzahl,INT((_xlpm.Ende-_xlpm.Start)/4)+1,_xlpm.Spalten,_xlpm.Start+4*_xlfn.SEQUENCE(1,_xlpm.Anzahl,0,1),_xlpm.Namen1,INDEX($4:$4,1,_xlpm.Spalten)&\" \"&INDEX($5:$5,1,_xlpm.Spalten),_xlpm.Punkte1,INDEX(13:13,1,_xlpm.Spalten+2),_xlpm.Namen2,INDEX($85:$85,1,_xlpm.Spalten)&\" \"&INDEX($86:$86,1,_xlpm.Spalten),_xlpm.Punkte2,INDEX(94:94,1,_xlpm.Spalten+2),_xlfn.TEXTJOIN(\", \",TRUE,_xlfn._xlws.FILTER(_xlfn.HSTACK(_xlpm.Namen1,_xlpm.Namen2),_xlfn.HSTACK(_xlpm.Punkte1,_xlpm.Punkte2)=7,\"\")))","v":"Panos Agorastos, Aya Bartholet, Philippe Bartholet, Nicolas Brunner, Deliz González, Lechena Pek"}]
["Sa. 13. Jun.","06:00:00",6,"Australien","Türkei",2,0,null,1,2,0,"B",1,2,0,"B",1,3,0,"B",1,3,0,"B",1,4,0,"B",0,2,0,"B",0,2,0,"B",2,0,10,"A",1,1,0,"X",1,1,0,"X",2,1,5,"A",1,2,0,"B",1,2,0,"B",1,3,0,"B",0,2,0,"B",2,4,0,"B",1,2,0,"B",1,1,0,"X",0,2,0,"B",1,2,0,"B",1,3,0,"B",2,2,0,"X",1,3,0,"B",1,3,0,"B",1,2,0,"B",0,2,0,"B",1,1,0,"X",1,2,0,"B",0,1,0,"B",1,2,0,"B",1,2,0,"B",1,1,0,"X",0,3,0,"B",0,2,0,"B",1,1,0,"X",1,2,0,"B",0,1,0,"B",2,1,5,"A",1,1,0,"X",1,2,0,"B",0,2,0,"B",1,3,0,"B",1,1,0,"X",1,3,0,"B",0,2,0,"B",0,1,0,"B",1,2,0,"B",1,3,0,"B",0,1,0,"B",1,2,0,"B",null,4,19,61,84,null,4.7619047619047619,22.61904761904762,72.61904761904762,null,"Total Tore / Anzahl Spieler",null,null,null,{"$f":"_xlfn.LET(_xlpm.Start,COLUMN($I$1),_xlpm.Ende,COLUMN($GY$1),_xlpm.Anzahl,INT((_xlpm.Ende-_xlpm.Start)/4)+1,_xlpm.Spalten,_xlpm.Start+4*_xlfn.SEQUENCE(1,_xlpm.Anzahl,0,1),_xlpm.Namen1,INDEX($4:$4,1,_xlpm.Spalten)&\" \"&INDEX($5:$5,1,_xlpm.Spalten),_xlpm.Punkte1,INDEX(14:14,1,_xlpm.Spalten+2),_xlpm.Namen2,INDEX($85:$85,1,_xlpm.Spalten)&\" \"&INDEX($86:$86,1,_xlpm.Spalten),_xlpm.Punkte2,INDEX(95:95,1,_xlpm.Spalten+2),_xlfn.TEXTJOIN(\", \",TRUE,_xlfn._xlws.FILTER(_xlfn.HSTACK(_xlpm.Namen1,_xlpm.Namen2),_xlfn.HSTACK(_xlpm.Punkte1,_xlpm.Punkte2)=10,\"\")))","v":"Aya Bartholet"},null,{"$f":"_xlfn.LET(_xlpm.Start,COLUMN($I$1),_xlpm.Ende,COLUMN($GY$1),_xlpm.Anzahl,INT((_xlpm.Ende-_xlpm.Start)/4)+1,_xlpm.Spalten,_xlpm.Start+4*_xlfn.SEQUENCE(1,_xlpm.Anzahl,0,1),_xlpm.Namen1,INDEX($4:$4,1,_xlpm.Spalten)&\" \"&INDEX($5:$5,1,_xlpm.Spalten),_xlpm.Punkte1,INDEX(14:14,1,_xlpm.Spalten+2),_xlpm.Namen2,INDEX($85:$85,1,_xlpm.Spalten)&\" \"&INDEX($86:$86,1,_xlpm.Spalten),_xlpm.Punkte2,INDEX(95:95,1,_xlpm.Spalten+2),_xlfn.TEXTJOIN(\", \",TRUE,_xlfn._xlws.FILTER(_xlfn.HSTACK(_xlpm.Namen1,_xlpm.Namen2),_xlfn.HSTACK(_xlpm.Punkte1,_xlpm.Punkte2)=7,\"\")))","v":""}]
["So. 14. Jun.","00:00:00",7,"Brasilien","Marokko",1,1,null,2,1,0,"A",2,1,0,"A",3,2,0,"A",2,1,0,"A",4,3,0,"A",1,1,10,"X",3,1,0,"A",2,1,0,"A",2,0,0,"A",2,0,0,"A",3,1,0,"A",2,1,0,"A",2,1,0,"A",1,1,10,"X",3,1,0,"A",3,2,0,"A",1,1,10,"X",2,0,0,"A",2,1,0,"A",2,2,7,"X",3,2,0,"A",2,1,0,"A",3,2,0,"A",3,1,0,"A",2,1,0,"A",2,1,0,"A",3,1,0,"A",2,1,0,"A",2,0,0,"A",3,0,0,"A",1,2,0,"B",2,0,0,"A",2,1,0,"A",3,0,0,"A",3,0,0,"A",3,0,0,"A",3,1,0,"A",3,1,0,"A",2,0,0,"A",1,1,10,"X",2,0,0,"A",3,0,0,"A",2,0,0,"A",3,1,0,"A",2,1,0,"A",1,0,0,"A",1,0,0,"A",1,1,10,"X",3,0,0,"A",3,0,0,"A",null,75,8,1,84,null,89.285714285714292,9.5238095238095237,1.1904761904761905,null,{"$f":"SUM(HK11/Punktestand!F3)","v":193.11904761904762},null,null,null,{"$f":"_xlfn.LET(_xlpm.Start,COLUMN($I$1),_xlpm.Ende,COLUMN($GY$1),_xlpm.Anzahl,INT((_xlpm.Ende-_xlpm.Start)/4)+1,_xlpm.Spalten,_xlpm.Start+4*_xlfn.SEQUENCE(1,_xlpm.Anzahl,0,1),_xlpm.Namen1,INDEX($4:$4,1,_xlpm.Spalten)&\" \"&INDEX($5:$5,1,_xlpm.Spalten),_xlpm.Punkte1,INDEX(15:15,1,_xlpm.Spalten+2),_xlpm.Namen2,INDEX($85:$85,1,_xlpm.Spalten)&\" \"&INDEX($86:$86,1,_xlpm.Spalten),_xlpm.Punkte2,INDEX(96:96,1,_xlpm.Spalten+2),_xlfn.TEXTJOIN(\", \",TRUE,_xlfn._xlws.FILTER(_xlfn.HSTACK(_xlpm.Namen1,_xlpm.Namen2),_xlfn.HSTACK(_xlpm.Punkte1,_xlpm.Punkte2)=10,\"\")))","v":"Peter Balazs, Manfred Brunner, Philip Brunner, Timothy Gygli, André Lanz, Martin Schawalder, Armando Thormann"},null,{"$f":"_xlfn.LET(_xlpm.Start,COLUMN($I$1),_xlpm.Ende,COLUMN($GY$1),_xlpm.Anzahl,INT((_xlpm.Ende-_xlpm.Start)/4)+1,_xlpm.Spalten,_xlpm.Start+4*_xlfn.SEQUENCE(1,_xlpm.Anzahl,0,1),_xlpm.Namen1,INDEX($4:$4,1,_xlpm.Spalten)&\" \"&INDEX($5:$5,1,_xlpm.Spalten),_xlpm.Punkte1,INDEX(15:15,1,_xlpm.Spalten+2),_xlpm.Namen2,INDEX($85:$85,1,_xlpm.Spalten)&\" \"&INDEX($86:$86,1,_xlpm.Spalten),_xlpm.Punkte2,INDEX(96:96,1,_xlpm.Spalten+2),_xlfn.TEXTJOIN(\", \",TRUE,_xlfn._xlws.FILTER(_xlfn.HSTACK(_xlpm.Namen1,_xlpm.Namen2),_xlfn.HSTACK(_xlpm.Punkte1,_xlpm.Punkte2)=7,\"\")))","v":"Javier Cruz"}]
["Sa. 13. Jun.","21:00:00",8,"Katar","Schweiz",1,1,null,1,2,0,"B",1,2,0,"B",0,2,0,"B",0,3,0,"B",1,3,0,"B",0,3,0,"B",0,3,0,"B",0,2,0,"B",0,2,0,"B",0,2,0,"B",0,3,0,"B",0,2,0,"B",0,2,0,"B",0,2,0,"B",1,3,0,"B",1,3,0,"B",0,2,0,"B",0,1,0,"B",0,3,0,"B",1,2,0,"B",0,2,0,"B",0,3,0,"B",0,3,0,"B",0,2,0,"B",0,2,0,"B",0,3,0,"B",0,3,0,"B",0,3,0,"B",0,2,0,"B",1,1,10,"X",0,4,0,"B",0,3,0,"B",0,1,0,"B",0,2,0,"B",0,2,0,"B",0,3,0,"B",0,2,0,"B",1,2,0,"B",0,3,0,"B",0,2,0,"B",1,3,0,"B",1,3,0,"B",1,3,0,"B",1,3,0,"B",0,2,0,"B",0,1,0,"B",1,2,0,"B",0,2,0,"B",0,2,0,"B",0,2,0,"B",null,0,1,83,84,null,0,1.1904761904761905,98.80952380952381,null,null,null,null,null,{"$f":"_xlfn.LET(_xlpm.Start,COLUMN($I$1),_xlpm.Ende,COLUMN($GY$1),_xlpm.Anzahl,INT((_xlpm.Ende-_xlpm.Start)/4)+1,_xlpm.Spalten,_xlpm.Start+4*_xlfn.SEQUENCE(1,_xlpm.Anzahl,0,1),_xlpm.Namen1,INDEX($4:$4,1,_xlpm.Spalten)&\" \"&INDEX($5:$5,1,_xlpm.Spalten),_xlpm.Punkte1,INDEX(16:16,1,_xlpm.Spalten+2),_xlpm.Namen2,INDEX($85:$85,1,_xlpm.Spalten)&\" \"&INDEX($86:$86,1,_xlpm.Spalten),_xlpm.Punkte2,INDEX(97:97,1,_xlpm.Spalten+2),_xlfn.TEXTJOIN(\", \",TRUE,_xlfn._xlws.FILTER(_xlfn.HSTACK(_xlpm.Namen1,_xlpm.Namen2),_xlfn.HSTACK(_xlpm.Punkte1,_xlpm.Punkte2)=10,\"\")))","v":"Andreia Gomes"},null,{"$f":"_xlfn.LET(_xlpm.Start,COLUMN($I$1),_xlpm.Ende,COLUMN($GY$1),_xlpm.Anzahl,INT((_xlpm.Ende-_xlpm.Start)/4)+1,_xlpm.Spalten,_xlpm.Start+4*_xlfn.SEQUENCE(1,_xlpm.Anzahl,0,1),_xlpm.Namen1,INDEX($4:$4,1,_xlpm.Spalten)&\" \"&INDEX($5:$5,1,_xlpm.Spalten),_xlpm.Punkte1,INDEX(16:16,1,_xlpm.Spalten+2),_xlpm.Namen2,INDEX($85:$85,1,_xlpm.Spalten)&\" \"&INDEX($86:$86,1,_xlpm.Spalten),_xlpm.Punkte2,INDEX(97:97,1,_xlpm.Spalten+2),_xlfn.TEXTJOIN(\", \",TRUE,_xlfn._xlws.FILTER(_xlfn.HSTACK(_xlpm.Namen1,_xlpm.Namen2),_xlfn.HSTACK(_xlpm.Punkte1,_xlpm.Punkte2)=7,\"\")))","v":""}]
["Mo. 15. Jun.","01:00:00",9,"Elfenbeinküste","Ecuador",1,0,null,1,1,0,"X",1,1,0,"X",1,2,0,"B",3,1,5,"A",0,2,0,"B",2,1,7,"A",0,1,0,"B",1,2,0,"B",1,1,0,"X",1,2,0,"B",1,2,0,"B",2,0,5,"A",1,1,0,"X",2,2,0,"X",1,1,0,"X",2,2,0,"X",1,1,0,"X",1,1,0,"X",1,0,10,"A",2,0,5,"A",0,0,0,"X",0,2,0,"B",0,2,0,"B",2,0,5,"A",1,1,0,"X",1,2,0,"B",0,1,0,"B",0,1,0,"B",0,1,0,"B",1,1,0,"X",2,0,5,"A",0,1,0,"B",0,0,0,"X",1,1,0,"X",1,2,0,"B",1,1,0,"X",1,3,0,"B",1,2,0,"B",1,1,0,"X",0,0,0,"X",0,2,0,"B",2,2,0,"X",1,3,0,"B",3,1,5,"A",0,2,0,"B",1,0,10,"A",0,1,0,"B",0,0,0,"X",0,2,0,"B",1,1,0,"X",null,14,42,28,84,null,16.666666666666668,50,33.333333333333336,null,"Tore / Anzahl Spiele (72)",null,null,null,{"$f":"_xlfn.LET(_xlpm.Start,COLUMN($I$1),_xlpm.Ende,COLUMN($GY$1),_xlpm.Anzahl,INT((_xlpm.Ende-_xlpm.Start)/4)+1,_xlpm.Spalten,_xlpm.Start+4*_xlfn.SEQUENCE(1,_xlpm.Anzahl,0,1),_xlpm.Namen1,INDEX($4:$4,1,_xlpm.Spalten)&\" \"&INDEX($5:$5,1,_xlpm.Spalten),_xlpm.Punkte1,INDEX(17:17,1,_xlpm.Spalten+2),_xlpm.Namen2,INDEX($85:$85,1,_xlpm.Spalten)&\" \"&INDEX($86:$86,1,_xlpm.Spalten),_xlpm.Punkte2,INDEX(98:98,1,_xlpm.Spalten+2),_xlfn.TEXTJOIN(\", \",TRUE,_xlfn._xlws.FILTER(_xlfn.HSTACK(_xlpm.Namen1,_xlpm.Namen2),_xlfn.HSTACK(_xlpm.Punkte1,_xlpm.Punkte2)=10,\"\")))","v":"Oli Christiansen, Pascal Keller, Michael Rüegg"},null,{"$f":"_xlfn.LET(_xlpm.Start,COLUMN($I$1),_xlpm.Ende,COLUMN($GY$1),_xlpm.Anzahl,INT((_xlpm.Ende-_xlpm.Start)/4)+1,_xlpm.Spalten,_xlpm.Start+4*_xlfn.SEQUENCE(1,_xlpm.Anzahl,0,1),_xlpm.Namen1,INDEX($4:$4,1,_xlpm.Spalten)&\" \"&INDEX($5:$5,1,_xlpm.Spalten),_xlpm.Punkte1,INDEX(17:17,1,_xlpm.Spalten+2),_xlpm.Namen2,INDEX($85:$85,1,_xlpm.Spalten)&\" \"&INDEX($86:$86,1,_xlpm.Spalten),_xlpm.Punkte2,INDEX(98:98,1,_xlpm.Spalten+2),_xlfn.TEXTJOIN(\", \",TRUE,_xlfn._xlws.FILTER(_xlfn.HSTACK(_xlpm.Namen1,_xlpm.Namen2),_xlfn.HSTACK(_xlpm.Punkte1,_xlpm.Punkte2)=7,\"\")))","v":"Peter Balazs, Stefan Principe, Yannick Schilliger"}]
["So. 14. Jun.","19:00:00",10,"Deutschland","Curacao",7,1,null,4,0,5,"A",3,0,5,"A",3,0,5,"A",5,0,5,"A",4,0,5,"A",4,0,5,"A",5,0,5,"A",2,0,5,"A",4,0,5,"A",4,0,5,"A",4,0,5,"A",4,0,5,"A",4,0,5,"A",4,0,5,"A",3,0,5,"A",5,0,5,"A",4,0,5,"A",2,0,5,"A",3,0,5,"A",4,0,5,"A",3,0,5,"A",4,0,5,"A",3,1,5,"A",5,0,5,"A",4,0,5,"A",6,0,7,"A",6,0,7,"A",3,0,5,"A",3,0,5,"A",3,1,5,"A",5,0,5,"A",5,0,5,"A",3,0,5,"A",3,0,5,"A",4,0,5,"A",4,0,5,"A",3,0,5,"A",3,0,5,"A",5,0,5,"A",2,0,5,"A",3,0,5,"A",5,0,5,"A",4,0,5,"A",3,1,5,"A",3,0,5,"A",1,0,5,"A",2,1,5,"A",3,0,5,"A",3,0,5,"A",4,0,5,"A",null,83,0,1,84,null,98.80952380952381,0,1.1904761904761905,null,{"$f":"SUM(HK15/72)","v":2.6822089947089949},"Tore pro Spiel (Ø)",null,null,{"$f":"_xlfn.LET(_xlpm.Start,COLUMN($I$1),_xlpm.Ende,COLUMN($GY$1),_xlpm.Anzahl,INT((_xlpm.Ende-_xlpm.Start)/4)+1,_xlpm.Spalten,_xlpm.Start+4*_xlfn.SEQUENCE(1,_xlpm.Anzahl,0,1),_xlpm.Namen1,INDEX($4:$4,1,_xlpm.Spalten)&\" \"&INDEX($5:$5,1,_xlpm.Spalten),_xlpm.Punkte1,INDEX(18:18,1,_xlpm.Spalten+2),_xlpm.Namen2,INDEX($85:$85,1,_xlpm.Spalten)&\" \"&INDEX($86:$86,1,_xlpm.Spalten),_xlpm.Punkte2,INDEX(99:99,1,_xlpm.Spalten+2),_xlfn.TEXTJOIN(\", \",TRUE,_xlfn._xlws.FILTER(_xlfn.HSTACK(_xlpm.Namen1,_xlpm.Namen2),_xlfn.HSTACK(_xlpm.Punkte1,_xlpm.Punkte2)=10,\"\")))","v":""},null,{"$f":"_xlfn.LET(_xlpm.Start,COLUMN($I$1),_xlpm.Ende,COLUMN($GY$1),_xlpm.Anzahl,INT((_xlpm.Ende-_xlpm.Start)/4)+1,_xlpm.Spalten,_xlpm.Start+4*_xlfn.SEQUENCE(1,_xlpm.Anzahl,0,1),_xlpm.Namen1,INDEX($4:$4,1,_xlpm.Spalten)&\" \"&INDEX($5:$5,1,_xlpm.Spalten),_xlpm.Punkte1,INDEX(18:18,1,_xlpm.Spalten+2),_xlpm.Namen2,INDEX($85:$85,1,_xlpm.Spalten)&\" \"&INDEX($86:$86,1,_xlpm.Spalten),_xlpm.Punkte2,INDEX(99:99,1,_xlpm.Spalten+2),_xlfn.TEXTJOIN(\", \",TRUE,_xlfn._xlws.FILTER(_xlfn.HSTACK(_xlpm.Namen1,_xlpm.Namen2),_xlfn.HSTACK(_xlpm.Punkte1,_xlpm.Punkte2)=7,\"\")))","v":"Goran Djukic, Armin Duvnjak, Martin Oroshi, Christoph Wälti"}]
["So. 14. Jun.","22:00:00",11,"Holland","Japan",2,2,null,2,1,0,"A",3,1,0,"A",2,2,10,"X",2,0,0,"A",2,2,10,"X",2,0,0,"A",2,1,0,"A",2,0,0,"A",2,0,0,"A",2,0,0,"A",3,1,0,"A",1,1,7,"X",2,1,0,"A",1,1,7,"X",3,1,0,"A",4,1,0,"A",1,1,7,"X",2,0,0,"A",2,1,0,"A",2,2,10,"X",2,1,0,"A",2,2,10,"X",2,2,10,"X",2,2,10,"X",2,1,0,"A",3,2,0,"A",1,1,7,"X",2,1,0,"A",1,1,7,"X",2,1,0,"A",2,2,10,"X",2,1,0,"A",2,0,0,"A",2,1,0,"A",2,1,0,"A",2,1,0,"A",1,0,0,"A",3,3,7,"X",2,1,0,"A",2,1,0,"A",2,0,0,"A",2,2,10,"X",1,1,7,"X",3,1,0,"A",1,0,0,"A",1,0,0,"A",2,1,0,"A",1,1,7,"X",1,1,7,"X",2,1,0,"A",null,60,23,1,84,null,71.428571428571431,27.38095238095238,1.1904761904761905,null,null,null,null,null,{"$f":"_xlfn.LET(_xlpm.Start,COLUMN($I$1),_xlpm.Ende,COLUMN($GY$1),_xlpm.Anzahl,INT((_xlpm.Ende-_xlpm.Start)/4)+1,_xlpm.Spalten,_xlpm.Start+4*_xlfn.SEQUENCE(1,_xlpm.Anzahl,0,1),_xlpm.Namen1,INDEX($4:$4,1,_xlpm.Spalten)&\" \"&INDEX($5:$5,1,_xlpm.Spalten),_xlpm.Punkte1,INDEX(19:19,1,_xlpm.Spalten+2),_xlpm.Namen2,INDEX($85:$85,1,_xlpm.Spalten)&\" \"&INDEX($86:$86,1,_xlpm.Spalten),_xlpm.Punkte2,INDEX(100:100,1,_xlpm.Spalten+2),_xlfn.TEXTJOIN(\", \",TRUE,_xlfn._xlws.FILTER(_xlfn.HSTACK(_xlpm.Namen1,_xlpm.Namen2),_xlfn.HSTACK(_xlpm.Punkte1,_xlpm.Punkte2)=10,\"\")))","v":"Ambra Antonelli, Ruben Antonelli, Javier Cruz, Lisa D'Acunto, Niva D'Acunto, Vinci D'Acunto, Rui Gomes, Agnes Isenschmid, Telmo Oliveira, Lechena Pek, Stefan Principe, Jingwen Wang"},null,{"$f":"_xlfn.LET(_xlpm.Start,COLUMN($I$1),_xlpm.Ende,COLUMN($GY$1),_xlpm.Anzahl,INT((_xlpm.Ende-_xlpm.Start)/4)+1,_xlpm.Spalten,_xlpm.Start+4*_xlfn.SEQUENCE(1,_xlpm.Anzahl,0,1),_xlpm.Namen1,INDEX($4:$4,1,_xlpm.Spalten)&\" \"&INDEX($5:$5,1,_xlpm.Spalten),_xlpm.Punkte1,INDEX(19:19,1,_xlpm.Spalten+2),_xlpm.Namen2,INDEX($85:$85,1,_xlpm.Spalten)&\" \"&INDEX($86:$86,1,_xlpm.Spalten),_xlpm.Punkte2,INDEX(100:100,1,_xlpm.Spalten+2),_xlfn.TEXTJOIN(\", \",TRUE,_xlfn._xlws.FILTER(_xlfn.HSTACK(_xlpm.Namen1,_xlpm.Namen2),_xlfn.HSTACK(_xlpm.Punkte1,_xlpm.Punkte2)=7,\"\")))","v":"Pongsapat Nott Boonaek, Manfred Brunner, Philip Brunner, Armin Duvnjak, Djuma Duvnjak, Selina Gygli, Andreas Isenschmid, André Lanz, Franz Lischer, Mauro Marini, Armando Thormann"}]
["Mo. 15. Jun.","04:00:00",12,"Schweden","Tunesien",5,1,null,2,1,5,"A",2,1,5,"A",1,1,0,"X",1,2,0,"B",3,1,5,"A",0,0,0,"X",0,1,0,"B",2,1,5,"A",2,1,5,"A",1,0,5,"A",2,1,5,"A",2,1,5,"A",2,1,5,"A",1,0,5,"A",2,0,5,"A",3,1,5,"A",2,0,5,"A",1,0,5,"A",0,1,0,"B",2,3,0,"B",1,0,5,"A",2,0,5,"A",0,1,0,"B",1,1,0,"X",0,0,0,"X",1,2,0,"B",0,0,0,"X",1,0,5,"A",1,0,5,"A",1,0,5,"A",3,1,5,"A",2,1,5,"A",1,1,0,"X",2,0,5,"A",1,1,0,"X",1,1,0,"X",2,1,5,"A",1,2,0,"B",0,0,0,"X",1,0,5,"A",2,0,5,"A",2,1,5,"A",2,1,5,"A",3,1,5,"A",1,0,5,"A",0,1,0,"B",1,0,5,"A",2,1,5,"A",2,0,5,"A",1,1,0,"X",null,52,21,11,84,null,61.904761904761905,25,13.095238095238095,null,null,null,null,null,{"$f":"_xlfn.LET(_xlpm.Start,COLUMN($I$1),_xlpm.Ende,COLUMN($GY$1),_xlpm.Anzahl,INT((_xlpm.Ende-_xlpm.Start)/4)+1,_xlpm.Spalten,_xlpm.Start+4*_xlfn.SEQUENCE(1,_xlpm.Anzahl,0,1),_xlpm.Namen1,INDEX($4:$4,1,_xlpm.Spalten)&\" \"&INDEX($5:$5,1,_xlpm.Spalten),_xlpm.Punkte1,INDEX(20:20,1,_xlpm.Spalten+2),_xlpm.Namen2,INDEX($85:$85,1,_xlpm.Spalten)&\" \"&INDEX($86:$86,1,_xlpm.Spalten),_xlpm.Punkte2,INDEX(101:101,1,_xlpm.Spalten+2),_xlfn.TEXTJOIN(\", \",TRUE,_xlfn._xlws.FILTER(_xlfn.HSTACK(_xlpm.Namen1,_xlpm.Namen2),_xlfn.HSTACK(_xlpm.Punkte1,_xlpm.Punkte2)=10,\"\")))","v":""},null,{"$f":"_xlfn.LET(_xlpm.Start,COLUMN($I$1),_xlpm.Ende,COLUMN($GY$1),_xlpm.Anzahl,INT((_xlpm.Ende-_xlpm.Start)/4)+1,_xlpm.Spalten,_xlpm.Start+4*_xlfn.SEQUENCE(1,_xlpm.Anzahl,0,1),_xlpm.Namen1,INDEX($4:$4,1,_xlpm.Spalten)&\" \"&INDEX($5:$5,1,_xlpm.Spalten),_xlpm.Punkte1,INDEX(20:20,1,_xlpm.Spalten+2),_xlpm.Namen2,INDEX($85:$85,1,_xlpm.Spalten)&\" \"&INDEX($86:$86,1,_xlpm.Spalten),_xlpm.Punkte2,INDEX(101:101,1,_xlpm.Spalten+2),_xlfn.TEXTJOIN(\", \",TRUE,_xlfn._xlws.FILTER(_xlfn.HSTACK(_xlpm.Namen1,_xlpm.Namen2),_xlfn.HSTACK(_xlpm.Punkte1,_xlpm.Punkte2)=7,\"\")))","v":""}]
["Di. 16. Jun.","00:00:00",13,"Saudi-Arabien","Uruguay",1,1,null,1,2,0,"B",1,2,0,"B",1,2,0,"B",1,1,10,"X",1,1,10,"X",0,2,0,"B",0,1,0,"B",0,1,0,"B",1,2,0,"B",1,4,0,"B",2,1,0,"A",1,3,0,"B",0,2,0,"B",0,3,0,"B",1,2,0,"B",0,2,0,"B",0,2,0,"B",0,1,0,"B",0,1,0,"B",1,2,0,"B",1,3,0,"B",1,0,0,"A",0,2,0,"B",0,2,0,"B",0,2,0,"B",1,3,0,"B",0,1,0,"B",0,2,0,"B",0,2,0,"B",1,0,0,"A",0,1,0,"B",1,1,10,"X",0,1,0,"B",0,2,0,"B",0,2,0,"B",0,2,0,"B",0,1,0,"B",0,1,0,"B",0,3,0,"B",0,3,0,"B",1,3,0,"B",1,3,0,"B",1,2,0,"B",1,3,0,"B",0,1,0,"B",0,1,0,"B",0,1,0,"B",0,2,0,"B",0,1,0,"B",0,4,0,"B",null,5,5,74,84,null,5.9523809523809526,5.9523809523809526,88.095238095238102,null,null,null,null,null,{"$f":"_xlfn.LET(_xlpm.Start,COLUMN($I$1),_xlpm.Ende,COLUMN($GY$1),_xlpm.Anzahl,INT((_xlpm.Ende-_xlpm.Start)/4)+1,_xlpm.Spalten,_xlpm.Start+4*_xlfn.SEQUENCE(1,_xlpm.Anzahl,0,1),_xlpm.Namen1,INDEX($4:$4,1,_xlpm.Spalten)&\" \"&INDEX($5:$5,1,_xlpm.Spalten),_xlpm.Punkte1,INDEX(21:21,1,_xlpm.Spalten+2),_xlpm.Namen2,INDEX($85:$85,1,_xlpm.Spalten)&\" \"&INDEX($86:$86,1,_xlpm.Spalten),_xlpm.Punkte2,INDEX(102:102,1,_xlpm.Spalten+2),_xlfn.TEXTJOIN(\", \",TRUE,_xlfn._xlws.FILTER(_xlfn.HSTACK(_xlpm.Namen1,_xlpm.Namen2),_xlfn.HSTACK(_xlpm.Punkte1,_xlpm.Punkte2)=10,\"\")))","v":"Marco Antonelli, Ruben Antonelli, Deliz González, Martin Oroshi"},null,{"$f":"_xlfn.LET(_xlpm.Start,COLUMN($I$1),_xlpm.Ende,COLUMN($GY$1),_xlpm.Anzahl,INT((_xlpm.Ende-_xlpm.Start)/4)+1,_xlpm.Spalten,_xlpm.Start+4*_xlfn.SEQUENCE(1,_xlpm.Anzahl,0,1),_xlpm.Namen1,INDEX($4:$4,1,_xlpm.Spalten)&\" \"&INDEX($5:$5,1,_xlpm.Spalten),_xlpm.Punkte1,INDEX(21:21,1,_xlpm.Spalten+2),_xlpm.Namen2,INDEX($85:$85,1,_xlpm.Spalten)&\" \"&INDEX($86:$86,1,_xlpm.Spalten),_xlpm.Punkte2,INDEX(102:102,1,_xlpm.Spalten+2),_xlfn.TEXTJOIN(\", \",TRUE,_xlfn._xlws.FILTER(_xlfn.HSTACK(_xlpm.Namen1,_xlpm.Namen2),_xlfn.HSTACK(_xlpm.Punkte1,_xlpm.Punkte2)=7,\"\")))","v":"Lechena Pek"}]
["Mo. 15. Jun.","18:00:00",14,"Spanien","Kap Verde",0,0,null,3,0,0,"A",3,0,0,"A",3,0,0,"A",4,0,0,"A",5,1,0,"A",3,0,0,"A",6,0,0,"A",3,0,0,"A",4,0,0,"A",8,0,0,"A",4,0,0,"A",4,0,0,"A",4,0,0,"A",3,1,0,"A",3,0,0,"A",5,0,0,"A",4,0,0,"A",3,0,0,"A",2,0,0,"A",2,0,0,"A",4,1,0,"A",5,0,0,"A",5,0,0,"A",6,0,0,"A",3,0,0,"A",3,0,0,"A",4,0,0,"A",4,0,0,"A",3,0,0,"A",2,1,0,"A",2,2,7,"X",3,0,0,"A",4,0,0,"A",4,0,0,"A",5,0,0,"A",4,0,0,"A",3,0,0,"A",3,1,0,"A",6,0,0,"A",4,1,0,"A",3,0,0,"A",4,0,0,"A",4,0,0,"A",3,1,0,"A",3,0,0,"A",1,0,0,"A",3,0,0,"A",4,0,0,"A",3,0,0,"A",5,0,0,"A",null,83,1,0,84,null,98.80952380952381,1.1904761904761905,0,null,null,null,null,null,{"$f":"_xlfn.LET(_xlpm.Start,COLUMN($I$1),_xlpm.Ende,COLUMN($GY$1),_xlpm.Anzahl,INT((_xlpm.Ende-_xlpm.Start)/4)+1,_xlpm.Spalten,_xlpm.Start+4*_xlfn.SEQUENCE(1,_xlpm.Anzahl,0,1),_xlpm.Namen1,INDEX($4:$4,1,_xlpm.Spalten)&\" \"&INDEX($5:$5,1,_xlpm.Spalten),_xlpm.Punkte1,INDEX(22:22,1,_xlpm.Spalten+2),_xlpm.Namen2,INDEX($85:$85,1,_xlpm.Spalten)&\" \"&INDEX($86:$86,1,_xlpm.Spalten),_xlpm.Punkte2,INDEX(103:103,1,_xlpm.Spalten+2),_xlfn.TEXTJOIN(\", \",TRUE,_xlfn._xlws.FILTER(_xlfn.HSTACK(_xlpm.Namen1,_xlpm.Namen2),_xlfn.HSTACK(_xlpm.Punkte1,_xlpm.Punkte2)=10,\"\")))","v":""},null,{"$f":"_xlfn.LET(_xlpm.Start,COLUMN($I$1),_xlpm.Ende,COLUMN($GY$1),_xlpm.Anzahl,INT((_xlpm.Ende-_xlpm.Start)/4)+1,_xlpm.Spalten,_xlpm.Start+4*_xlfn.SEQUENCE(1,_xlpm.Anzahl,0,1),_xlpm.Namen1,INDEX($4:$4,1,_xlpm.Spalten)&\" \"&INDEX($5:$5,1,_xlpm.Spalten),_xlpm.Punkte1,INDEX(22:22,1,_xlpm.Spalten+2),_xlpm.Namen2,INDEX($85:$85,1,_xlpm.Spalten)&\" \"&INDEX($86:$86,1,_xlpm.Spalten),_xlpm.Punkte2,INDEX(103:103,1,_xlpm.Spalten+2),_xlfn.TEXTJOIN(\", \",TRUE,_xlfn._xlws.FILTER(_xlfn.HSTACK(_xlpm.Namen1,_xlpm.Namen2),_xlfn.HSTACK(_xlpm.Punkte1,_xlpm.Punkte2)=7,\"\")))","v":"Rui Gomes"}]
["Di. 16. Jun.","03:00:00",15,"Iran","Neuseeland",2,2,null,2,1,0,"A",2,1,0,"A",1,1,7,"X",2,1,0,"A",0,0,7,"X",1,0,0,"A",2,0,0,"A",1,1,7,"X",1,1,7,"X",1,1,7,"X",2,0,0,"A",1,0,0,"A",1,1,7,"X",0,0,7,"X",2,2,10,"X",0,1,0,"B",2,0,0,"A",0,0,7,"X",0,1,0,"B",0,0,7,"X",1,0,0,"A",1,0,0,"A",0,0,7,"X",0,0,7,"X",2,0,0,"A",2,0,0,"A",2,0,0,"A",1,1,7,"X",1,1,7,"X",1,1,7,"X",0,0,7,"X",0,0,7,"X",1,0,0,"A",0,1,0,"B",1,1,7,"X",1,1,7,"X",1,1,7,"X",0,2,0,"B",1,3,0,"B",0,0,7,"X",2,0,0,"A",2,1,0,"A",1,1,7,"X",1,3,0,"B",2,1,0,"A",1,0,0,"A",1,0,0,"A",3,1,0,"A",1,1,7,"X",1,2,0,"B",null,41,31,12,84,null,48.80952380952381,36.904761904761905,14.285714285714286,null,null,null,null,null,{"$f":"_xlfn.LET(_xlpm.Start,COLUMN($I$1),_xlpm.Ende,COLUMN($GY$1),_xlpm.Anzahl,INT((_xlpm.Ende-_xlpm.Start)/4)+1,_xlpm.Spalten,_xlpm.Start+4*_xlfn.SEQUENCE(1,_xlpm.Anzahl,0,1),_xlpm.Namen1,INDEX($4:$4,1,_xlpm.Spalten)&\" \"&INDEX($5:$5,1,_xlpm.Spalten),_xlpm.Punkte1,INDEX(23:23,1,_xlpm.Spalten+2),_xlpm.Namen2,INDEX($85:$85,1,_xlpm.Spalten)&\" \"&INDEX($86:$86,1,_xlpm.Spalten),_xlpm.Punkte2,INDEX(104:104,1,_xlpm.Spalten+2),_xlfn.TEXTJOIN(\", \",TRUE,_xlfn._xlws.FILTER(_xlfn.HSTACK(_xlpm.Namen1,_xlpm.Namen2),_xlfn.HSTACK(_xlpm.Punkte1,_xlpm.Punkte2)=10,\"\")))","v":"Manuel Brunner, Ralph Schuster"},null,{"$f":"_xlfn.LET(_xlpm.Start,COLUMN($I$1),_xlpm.Ende,COLUMN($GY$1),_xlpm.Anzahl,INT((_xlpm.Ende-_xlpm.Start)/4)+1,_xlpm.Spalten,_xlpm.Start+4*_xlfn.SEQUENCE(1,_xlpm.Anzahl,0,1),_xlpm.Namen1,INDEX($4:$4,1,_xlpm.Spalten)&\" \"&INDEX($5:$5,1,_xlpm.Spalten),_xlpm.Punkte1,INDEX(23:23,1,_xlpm.Spalten+2),_xlpm.Namen2,INDEX($85:$85,1,_xlpm.Spalten)&\" \"&INDEX($86:$86,1,_xlpm.Spalten),_xlpm.Punkte2,INDEX(104:104,1,_xlpm.Spalten+2),_xlfn.TEXTJOIN(\", \",TRUE,_xlfn._xlws.FILTER(_xlfn.HSTACK(_xlpm.Namen1,_xlpm.Namen2),_xlfn.HSTACK(_xlpm.Punkte1,_xlpm.Punkte2)=7,\"\")))","v":"Ambra Antonelli, Ruben Antonelli, Aya Bartholet, Philippe Bartholet, Roger Bartholet, Michael Bosshart, Manfred Brunner, André Burkart, Javier Cruz, Niva D'Acunto, Vinci D'Acunto, Dino Duvnjak, Djuma Duvnjak, Andreia Gomes, Rui Gomes, Deliz González, Reto Gygli, Robin Gygli, Sarina Gygli, Timothy Gygli, Andreas Isenschmid, Franz Lischer, Mauro Marini, Martin Marthaler, Telmo Oliveira, Petra Rauscher, Evelyne Schenk, Bruno Silva, Lea Treichler"}]
["Mo. 15. Jun.","21:00:00",16,"Belgien","Ägypten",1,1,null,1,1,10,"X",2,1,0,"A",2,1,0,"A",2,1,0,"A",1,0,0,"A",2,1,0,"A",1,0,0,"A",2,1,0,"A",2,1,0,"A",2,0,0,"A",3,0,0,"A",2,0,0,"A",2,1,0,"A",0,0,7,"X",2,1,0,"A",2,2,7,"X",2,1,0,"A",1,0,0,"A",1,0,0,"A",2,2,7,"X",2,1,0,"A",2,1,0,"A",2,1,0,"A",3,2,0,"A",2,1,0,"A",3,1,0,"A",2,1,0,"A",2,0,0,"A",2,1,0,"A",2,1,0,"A",1,1,10,"X",2,0,0,"A",2,1,0,"A",2,0,0,"A",2,0,0,"A",2,1,0,"A",1,0,0,"A",2,2,7,"X",2,2,7,"X",1,1,10,"X",3,1,0,"A",2,0,0,"A",3,1,0,"A",3,1,0,"A",1,1,10,"X",1,0,0,"A",1,0,0,"A",2,2,7,"X",2,1,0,"A",2,1,0,"A",null,68,16,0,84,null,80.952380952380949,19.047619047619047,0,null,null,null,null,null,{"$f":"_xlfn.LET(_xlpm.Start,COLUMN($I$1),_xlpm.Ende,COLUMN($GY$1),_xlpm.Anzahl,INT((_xlpm.Ende-_xlpm.Start)/4)+1,_xlpm.Spalten,_xlpm.Start+4*_xlfn.SEQUENCE(1,_xlpm.Anzahl,0,1),_xlpm.Namen1,INDEX($4:$4,1,_xlpm.Spalten)&\" \"&INDEX($5:$5,1,_xlpm.Spalten),_xlpm.Punkte1,INDEX(24:24,1,_xlpm.Spalten+2),_xlpm.Namen2,INDEX($85:$85,1,_xlpm.Spalten)&\" \"&INDEX($86:$86,1,_xlpm.Spalten),_xlpm.Punkte2,INDEX(105:105,1,_xlpm.Spalten+2),_xlfn.TEXTJOIN(\", \",TRUE,_xlfn._xlws.FILTER(_xlfn.HSTACK(_xlpm.Namen1,_xlpm.Namen2),_xlfn.HSTACK(_xlpm.Punkte1,_xlpm.Punkte2)=10,\"\")))","v":"Panos Agorastos, Rui Gomes, Timothy Gygli, Aiden Jones, Ben Marthaler, Elias Marty, Stefan Principe, Michael Rüegg, Christoph Wälti"},null,{"$f":"_xlfn.LET(_xlpm.Start,COLUMN($I$1),_xlpm.Ende,COLUMN($GY$1),_xlpm.Anzahl,INT((_xlpm.Ende-_xlpm.Start)/4)+1,_xlpm.Spalten,_xlpm.Start+4*_xlfn.SEQUENCE(1,_xlpm.Anzahl,0,1),_xlpm.Namen1,INDEX($4:$4,1,_xlpm.Spalten)&\" \"&INDEX($5:$5,1,_xlpm.Spalten),_xlpm.Punkte1,INDEX(24:24,1,_xlpm.Spalten+2),_xlpm.Namen2,INDEX($85:$85,1,_xlpm.Spalten)&\" \"&INDEX($86:$86,1,_xlpm.Spalten),_xlpm.Punkte2,INDEX(105:105,1,_xlpm.Spalten+2),_xlfn.TEXTJOIN(\", \",TRUE,_xlfn._xlws.FILTER(_xlfn.HSTACK(_xlpm.Namen1,_xlpm.Namen2),_xlfn.HSTACK(_xlpm.Punkte1,_xlpm.Punkte2)=7,\"\")))","v":"Manfred Brunner, Nicolas Brunner, Javier Cruz, Selina Gygli, Stefan Gygli, André Lanz, Martin Oroshi"}]
["Di. 16. Jun.","21:00:00",17,"Frankreich","Senegal",3,1,null,2,1,5,"A",2,1,5,"A",3,1,10,"A",2,1,5,"A",3,1,10,"A",2,1,5,"A",2,0,7,"A",3,1,10,"A",2,0,7,"A",3,0,5,"A",2,1,5,"A",3,1,10,"A",3,1,10,"A",2,0,7,"A",4,2,7,"A",3,1,10,"A",2,1,5,"A",1,1,0,"X",2,0,7,"A",3,2,5,"A",3,1,10,"A",3,0,5,"A",3,0,5,"A",2,1,5,"A",2,1,5,"A",2,0,7,"A",3,1,10,"A",2,0,7,"A",2,0,7,"A",2,1,5,"A",3,2,5,"A",1,0,5,"A",3,1,10,"A",3,1,10,"A",2,1,5,"A",2,0,7,"A",3,1,10,"A",4,3,5,"A",1,1,0,"X",3,1,10,"A",3,1,10,"A",3,1,10,"A",3,0,5,"A",3,1,10,"A",2,0,7,"A",1,0,5,"A",2,0,7,"A",2,1,5,"A",3,0,5,"A",3,0,5,"A",null,78,6,0,84,null,92.857142857142861,7.1428571428571432,0,null,null,null,null,null,{"$f":"_xlfn.LET(_xlpm.Start,COLUMN($I$1),_xlpm.Ende,COLUMN($GY$1),_xlpm.Anzahl,INT((_xlpm.Ende-_xlpm.Start)/4)+1,_xlpm.Spalten,_xlpm.Start+4*_xlfn.SEQUENCE(1,_xlpm.Anzahl,0,1),_xlpm.Namen1,INDEX($4:$4,1,_xlpm.Spalten)&\" \"&INDEX($5:$5,1,_xlpm.Spalten),_xlpm.Punkte1,INDEX(25:25,1,_xlpm.Spalten+2),_xlpm.Namen2,INDEX($85:$85,1,_xlpm.Spalten)&\" \"&INDEX($86:$86,1,_xlpm.Spalten),_xlpm.Punkte2,INDEX(106:106,1,_xlpm.Spalten+2),_xlfn.TEXTJOIN(\", \",TRUE,_xlfn._xlws.FILTER(_xlfn.HSTACK(_xlpm.Namen1,_xlpm.Namen2),_xlfn.HSTACK(_xlpm.Punkte1,_xlpm.Punkte2)=10,\"\")))","v":"Ambra Antonelli, Ruben Antonelli, Aya Bartholet, Pongsapat Nott Boonaek, Michael Bosshart, Nicolas Brunner, Leo Rodrigues da Costa, Armin Duvnjak, Florian González, Laurent Grosse, Sarina Gygli, Timothy Gygli, Florian Haab, Agnes Isenschmid, Michael Isenschmid, Elias Marty, Julian Merkli, Petra Rauscher, Sabine Rüegg, Yannick Schilliger, Reto Treichler, Christoph Wälti"},null,{"$f":"_xlfn.LET(_xlpm.Start,COLUMN($I$1),_xlpm.Ende,COLUMN($GY$1),_xlpm.Anzahl,INT((_xlpm.Ende-_xlpm.Start)/4)+1,_xlpm.Spalten,_xlpm.Start+4*_xlfn.SEQUENCE(1,_xlpm.Anzahl,0,1),_xlpm.Namen1,INDEX($4:$4,1,_xlpm.Spalten)&\" \"&INDEX($5:$5,1,_xlpm.Spalten),_xlpm.Punkte1,INDEX(25:25,1,_xlpm.Spalten+2),_xlpm.Namen2,INDEX($85:$85,1,_xlpm.Spalten)&\" \"&INDEX($86:$86,1,_xlpm.Spalten),_xlpm.Punkte2,INDEX(106:106,1,_xlpm.Spalten+2),_xlfn.TEXTJOIN(\", \",TRUE,_xlfn._xlws.FILTER(_xlfn.HSTACK(_xlpm.Namen1,_xlpm.Namen2),_xlfn.HSTACK(_xlpm.Punkte1,_xlpm.Punkte2)=7,\"\")))","v":"André Bartholet, Philippe Bartholet, Manfred Brunner, Manuel Brunner, Oli Christiansen, Goran Djukic, Dino Duvnjak, Djuma Duvnjak, Robin Gygli, Aiden Jones, Tanja Kistler, Nicolas Mack, Lynn Rüegg, Erich Schommarz, Aleandro Silvestri, Armando Thormann, Markus Wagner, Marc Walthard"}]
["Mi. 17. Jun.","00:00:00",18,"Irak","Norwegen",1,4,null,1,2,5,"B",1,2,5,"B",0,1,5,"B",1,3,5,"B",1,3,5,"B",0,3,7,"B",0,3,7,"B",0,1,5,"B",1,2,5,"B",0,3,7,"B",0,2,5,"B",0,3,7,"B",1,2,5,"B",0,2,5,"B",1,1,0,"X",0,4,5,"B",0,3,7,"B",0,2,5,"B",0,1,5,"B",0,2,5,"B",0,2,5,"B",0,4,5,"B",0,2,5,"B",0,3,7,"B",1,2,5,"B",0,5,5,"B",0,3,7,"B",0,1,5,"B",0,1,5,"B",0,2,5,"B",1,3,5,"B",2,2,0,"X",0,4,5,"B",0,2,5,"B",0,2,5,"B",0,2,5,"B",0,1,5,"B",0,1,5,"B",0,1,5,"B",0,2,5,"B",0,3,7,"B",1,3,5,"B",1,3,5,"B",1,3,5,"B",0,2,5,"B",0,1,5,"B",0,1,5,"B",0,2,5,"B",0,2,5,"B",0,4,5,"B",null,1,2,81,84,null,1.1904761904761905,2.3809523809523809,96.428571428571431,null,null,null,null,null,{"$f":"_xlfn.LET(_xlpm.Start,COLUMN($I$1),_xlpm.Ende,COLUMN($GY$1),_xlpm.Anzahl,INT((_xlpm.Ende-_xlpm.Start)/4)+1,_xlpm.Spalten,_xlpm.Start+4*_xlfn.SEQUENCE(1,_xlpm.Anzahl,0,1),_xlpm.Namen1,INDEX($4:$4,1,_xlpm.Spalten)&\" \"&INDEX($5:$5,1,_xlpm.Spalten),_xlpm.Punkte1,INDEX(26:26,1,_xlpm.Spalten+2),_xlpm.Namen2,INDEX($85:$85,1,_xlpm.Spalten)&\" \"&INDEX($86:$86,1,_xlpm.Spalten),_xlpm.Punkte2,INDEX(107:107,1,_xlpm.Spalten+2),_xlfn.TEXTJOIN(\", \",TRUE,_xlfn._xlws.FILTER(_xlfn.HSTACK(_xlpm.Namen1,_xlpm.Namen2),_xlfn.HSTACK(_xlpm.Punkte1,_xlpm.Punkte2)=10,\"\")))","v":""},null,{"$f":"_xlfn.LET(_xlpm.Start,COLUMN($I$1),_xlpm.Ende,COLUMN($GY$1),_xlpm.Anzahl,INT((_xlpm.Ende-_xlpm.Start)/4)+1,_xlpm.Spalten,_xlpm.Start+4*_xlfn.SEQUENCE(1,_xlpm.Anzahl,0,1),_xlpm.Namen1,INDEX($4:$4,1,_xlpm.Spalten)&\" \"&INDEX($5:$5,1,_xlpm.Spalten),_xlpm.Punkte1,INDEX(26:26,1,_xlpm.Spalten+2),_xlpm.Namen2,INDEX($85:$85,1,_xlpm.Spalten)&\" \"&INDEX($86:$86,1,_xlpm.Spalten),_xlpm.Punkte2,INDEX(107:107,1,_xlpm.Spalten+2),_xlfn.TEXTJOIN(\", \",TRUE,_xlfn._xlws.FILTER(_xlfn.HSTACK(_xlpm.Namen1,_xlpm.Namen2),_xlfn.HSTACK(_xlpm.Punkte1,_xlpm.Punkte2)=7,\"\")))","v":"Peter Balazs, André Bartholet, Roger Bartholet, Pongsapat Nott Boonaek, Philip Brunner, Vinci D'Acunto, Armin Duvnjak, Florian Haab, Stefan Principe, Michael Prucha, Erich Schommarz, Christoph Wälti, Markus Wagner"}]
["Mi. 17. Jun.","03:00:00",19,"Argentinien","Algerien",3,0,null,2,1,5,"A",3,1,5,"A",4,1,7,"A",1,0,5,"A",3,0,10,"A",2,0,5,"A",2,0,5,"A",3,1,5,"A",3,0,10,"A",2,0,5,"A",3,0,10,"A",2,0,5,"A",2,0,5,"A",3,0,10,"A",3,1,5,"A",5,1,5,"A",3,0,10,"A",2,0,5,"A",2,0,5,"A",2,0,5,"A",3,0,10,"A",2,0,5,"A",4,1,7,"A",4,1,7,"A",2,0,5,"A",2,0,5,"A",2,0,5,"A",2,0,5,"A",2,0,5,"A",3,0,10,"A",4,0,5,"A",2,1,5,"A",2,0,5,"A",2,0,5,"A",2,0,5,"A",2,0,5,"A",2,0,5,"A",2,1,5,"A",2,0,5,"A",3,0,10,"A",3,0,10,"A",2,0,5,"A",2,1,5,"A",3,1,5,"A",1,0,5,"A",1,0,5,"A",2,1,5,"A",2,1,5,"A",2,0,5,"A",2,0,5,"A",null,82,1,1,84,null,97.61904761904762,1.1904761904761905,1.1904761904761905,null,null,null,null,null,{"$f":"_xlfn.LET(_xlpm.Start,COLUMN($I$1),_xlpm.Ende,COLUMN($GY$1),_xlpm.Anzahl,INT((_xlpm.Ende-_xlpm.Start)/4)+1,_xlpm.Spalten,_xlpm.Start+4*_xlfn.SEQUENCE(1,_xlpm.Anzahl,0,1),_xlpm.Namen1,INDEX($4:$4,1,_xlpm.Spalten)&\" \"&INDEX($5:$5,1,_xlpm.Spalten),_xlpm.Punkte1,INDEX(27:27,1,_xlpm.Spalten+2),_xlpm.Namen2,INDEX($85:$85,1,_xlpm.Spalten)&\" \"&INDEX($86:$86,1,_xlpm.Spalten),_xlpm.Punkte2,INDEX(108:108,1,_xlpm.Spalten+2),_xlfn.TEXTJOIN(\", \",TRUE,_xlfn._xlws.FILTER(_xlfn.HSTACK(_xlpm.Namen1,_xlpm.Namen2),_xlfn.HSTACK(_xlpm.Punkte1,_xlpm.Punkte2)=10,\"\")))","v":"Ruben Antonelli, Philippe Bartholet, Mara Beck, Manfred Brunner, Philip Brunner, Leo Rodrigues da Costa, Andreia Gomes, Timothy Gygli, Florian Haab, Nicolas Mack, Mauro Marini, Martin Marthaler, Ivo und Brigitte Rüdemann, Bruno Silva, Reto Treichler, Marc Walthard"},null,{"$f":"_xlfn.LET(_xlpm.Start,COLUMN($I$1),_xlpm.Ende,COLUMN($GY$1),_xlpm.Anzahl,INT((_xlpm.Ende-_xlpm.Start)/4)+1,_xlpm.Spalten,_xlpm.Start+4*_xlfn.SEQUENCE(1,_xlpm.Anzahl,0,1),_xlpm.Namen1,INDEX($4:$4,1,_xlpm.Spalten)&\" \"&INDEX($5:$5,1,_xlpm.Spalten),_xlpm.Punkte1,INDEX(27:27,1,_xlpm.Spalten+2),_xlpm.Namen2,INDEX($85:$85,1,_xlpm.Spalten)&\" \"&INDEX($86:$86,1,_xlpm.Spalten),_xlpm.Punkte2,INDEX(108:108,1,_xlpm.Spalten+2),_xlfn.TEXTJOIN(\", \",TRUE,_xlfn._xlws.FILTER(_xlfn.HSTACK(_xlpm.Namen1,_xlpm.Namen2),_xlfn.HSTACK(_xlpm.Punkte1,_xlpm.Punkte2)=7,\"\")))","v":"Ambra Antonelli, Niva D'Acunto, Vinci D'Acunto, Martin Oroshi, Stefan Zachmann"}]
["Di. 16. Jun.","06:00:00",20,"Österreich","Jordanien",3,1,null,2,1,5,"A",2,1,5,"A",1,0,5,"A",3,0,5,"A",3,0,5,"A",3,0,5,"A",3,0,5,"A",2,1,5,"A",1,0,5,"A",2,0,7,"A",2,1,5,"A",3,0,5,"A",2,0,7,"A",1,0,5,"A",1,0,5,"A",2,0,7,"A",2,0,7,"A",1,0,5,"A",2,0,7,"A",1,0,5,"A",2,0,7,"A",2,1,5,"A",1,0,5,"A",3,0,5,"A",2,0,7,"A",4,0,5,"A",4,0,5,"A",3,1,10,"A",3,0,5,"A",1,0,5,"A",3,0,5,"A",1,2,0,"B",1,0,5,"A",2,1,5,"A",2,0,7,"A",2,1,5,"A",1,0,5,"A",1,1,0,"X",3,0,5,"A",1,0,5,"A",3,1,10,"A",2,0,7,"A",3,0,5,"A",3,1,10,"A",2,0,7,"A",1,0,5,"A",1,0,5,"A",2,0,7,"A",2,0,7,"A",1,0,5,"A",null,80,3,1,84,null,95.238095238095241,3.5714285714285716,1.1904761904761905,null,null,null,null,null,{"$f":"_xlfn.LET(_xlpm.Start,COLUMN($I$1),_xlpm.Ende,COLUMN($GY$1),_xlpm.Anzahl,INT((_xlpm.Ende-_xlpm.Start)/4)+1,_xlpm.Spalten,_xlpm.Start+4*_xlfn.SEQUENCE(1,_xlpm.Anzahl,0,1),_xlpm.Namen1,INDEX($4:$4,1,_xlpm.Spalten)&\" \"&INDEX($5:$5,1,_xlpm.Spalten),_xlpm.Punkte1,INDEX(28:28,1,_xlpm.Spalten+2),_xlpm.Namen2,INDEX($85:$85,1,_xlpm.Spalten)&\" \"&INDEX($86:$86,1,_xlpm.Spalten),_xlpm.Punkte2,INDEX(109:109,1,_xlpm.Spalten+2),_xlfn.TEXTJOIN(\", \",TRUE,_xlfn._xlws.FILTER(_xlfn.HSTACK(_xlpm.Namen1,_xlpm.Namen2),_xlfn.HSTACK(_xlpm.Punkte1,_xlpm.Punkte2)=10,\"\")))","v":"Dino Duvnjak, Florian Haab, Michael Isenschmid"},null,{"$f":"_xlfn.LET(_xlpm.Start,COLUMN($I$1),_xlpm.Ende,COLUMN($GY$1),_xlpm.Anzahl,INT((_xlpm.Ende-_xlpm.Start)/4)+1,_xlpm.Spalten,_xlpm.Start+4*_xlfn.SEQUENCE(1,_xlpm.Anzahl,0,1),_xlpm.Namen1,INDEX($4:$4,1,_xlpm.Spalten)&\" \"&INDEX($5:$5,1,_xlpm.Spalten),_xlpm.Punkte1,INDEX(28:28,1,_xlpm.Spalten+2),_xlpm.Namen2,INDEX($85:$85,1,_xlpm.Spalten)&\" \"&INDEX($86:$86,1,_xlpm.Spalten),_xlpm.Punkte2,INDEX(109:109,1,_xlpm.Spalten+2),_xlfn.TEXTJOIN(\", \",TRUE,_xlfn._xlws.FILTER(_xlfn.HSTACK(_xlpm.Namen1,_xlpm.Namen2),_xlfn.HSTACK(_xlpm.Punkte1,_xlpm.Punkte2)=7,\"\")))","v":"Roger Bartholet, Michael Bosshart, Nicolas Brunner, Philip Brunner, Oli Christiansen, Leo Rodrigues da Costa, Rafael Derungs, Reto Gygli, Agnes Isenschmid, Aiden Jones, André Lanz, Franz Lischer, Nicolas Mack, Mauro Marini, Julian Merkli, Michael Prucha, Petra Rauscher, Ivo und Brigitte Rüdemann, Sabine Rüegg, Martin Schawalder, Yannick Schilliger, Erich Schommarz, Aleandro Silvestri, Armando Thormann, Reto Treichler, Christoph Wälti, Marc Walthard, Jingwen Wang"}]
["Do. 18. Jun.","01:00:00",21,"Ghana","Panama",1,0,null,2,1,7,"A",3,1,5,"A",2,2,0,"X",2,0,5,"A",2,0,5,"A",2,0,5,"A",0,0,0,"X",2,0,5,"A",2,1,7,"A",2,0,5,"A",1,2,0,"B",2,1,7,"A",2,1,7,"A",0,1,0,"B",2,1,7,"A",1,0,10,"A",1,1,0,"X",1,0,10,"A",1,0,10,"A",2,0,5,"A",2,1,7,"A",1,0,10,"A",1,1,0,"X",2,0,5,"A",2,1,7,"A",1,2,0,"B",2,1,7,"A",1,0,10,"A",1,0,10,"A",1,1,0,"X",2,0,5,"A",2,0,5,"A",1,0,10,"A",2,0,5,"A",3,1,5,"A",2,0,5,"A",2,0,5,"A",1,0,10,"A",1,0,10,"A",1,0,10,"A",2,0,5,"A",2,0,5,"A",2,1,7,"A",3,1,5,"A",2,0,5,"A",1,0,10,"A",2,1,7,"A",0,1,0,"B",0,2,0,"B",1,0,10,"A",null,56,18,10,84,null,66.666666666666671,21.428571428571427,11.904761904761905,null,null,null,null,null,{"$f":"_xlfn.LET(_xlpm.Start,COLUMN($I$1),_xlpm.Ende,COLUMN($GY$1),_xlpm.Anzahl,INT((_xlpm.Ende-_xlpm.Start)/4)+1,_xlpm.Spalten,_xlpm.Start+4*_xlfn.SEQUENCE(1,_xlpm.Anzahl,0,1),_xlpm.Namen1,INDEX($4:$4,1,_xlpm.Spalten)&\" \"&INDEX($5:$5,1,_xlpm.Spalten),_xlpm.Punkte1,INDEX(29:29,1,_xlpm.Spalten+2),_xlpm.Namen2,INDEX($85:$85,1,_xlpm.Spalten)&\" \"&INDEX($86:$86,1,_xlpm.Spalten),_xlpm.Punkte2,INDEX(110:110,1,_xlpm.Spalten+2),_xlfn.TEXTJOIN(\", \",TRUE,_xlfn._xlws.FILTER(_xlfn.HSTACK(_xlpm.Namen1,_xlpm.Namen2),_xlfn.HSTACK(_xlpm.Punkte1,_xlpm.Punkte2)=10,\"\")))","v":"Nicolas Brunner, André Burkart, Oli Christiansen, Lisa D'Acunto, Dino Duvnjak, Djuma Duvnjak, Florian González, Selina Gygli, Stefan Gygli, Timothy Gygli, Pascal Keller, Marc Lütolf, Lynn Rüegg, Michael Rüegg, Christoph Wälti, Markus Wagner"},null,{"$f":"_xlfn.LET(_xlpm.Start,COLUMN($I$1),_xlpm.Ende,COLUMN($GY$1),_xlpm.Anzahl,INT((_xlpm.Ende-_xlpm.Start)/4)+1,_xlpm.Spalten,_xlpm.Start+4*_xlfn.SEQUENCE(1,_xlpm.Anzahl,0,1),_xlpm.Namen1,INDEX($4:$4,1,_xlpm.Spalten)&\" \"&INDEX($5:$5,1,_xlpm.Spalten),_xlpm.Punkte1,INDEX(29:29,1,_xlpm.Spalten+2),_xlpm.Namen2,INDEX($85:$85,1,_xlpm.Spalten)&\" \"&INDEX($86:$86,1,_xlpm.Spalten),_xlpm.Punkte2,INDEX(110:110,1,_xlpm.Spalten+2),_xlfn.TEXTJOIN(\", \",TRUE,_xlfn._xlws.FILTER(_xlfn.HSTACK(_xlpm.Namen1,_xlpm.Namen2),_xlfn.HSTACK(_xlpm.Punkte1,_xlpm.Punkte2)=7,\"\")))","v":"Panos Agorastos, Philippe Bartholet, Pongsapat Nott Boonaek, Michael Bosshart, Manuel Brunner, Leo Rodrigues da Costa, Rafael Derungs, Armin Duvnjak, Andreas Isenschmid, Tanja Kistler, Lechena Pek, Petra Rauscher, Yannick Schilliger, Erich Schommarz, Armando Thormann, Reto Treichler, Stefan Wullschleger"}]
["Mi. 17. Jun.","22:00:00",22,"England","Kroatien",4,2,null,2,1,5,"A",2,1,5,"A",3,2,5,"A",3,2,5,"A",3,2,5,"A",1,1,0,"X",2,1,5,"A",2,2,0,"X",2,1,5,"A",3,1,7,"A",3,1,7,"A",1,0,5,"A",2,1,5,"A",2,2,0,"X",2,2,0,"X",4,2,10,"A",2,1,5,"A",2,1,5,"A",2,2,0,"X",3,2,5,"A",0,0,0,"X",1,1,0,"X",2,1,5,"A",2,2,0,"X",1,1,0,"X",2,1,5,"A",2,2,0,"X",2,1,5,"A",2,0,7,"A",2,2,0,"X",1,1,0,"X",1,3,0,"B",2,1,5,"A",2,1,5,"A",2,0,7,"A",2,1,5,"A",2,1,5,"A",2,1,5,"A",2,0,7,"A",2,0,7,"A",2,0,7,"A",2,2,0,"X",1,1,0,"X",3,1,7,"A",1,1,0,"X",1,0,5,"A",1,2,0,"B",2,1,5,"A",3,0,5,"A",2,1,5,"A",null,59,22,3,84,null,70.238095238095241,26.19047619047619,3.5714285714285716,null,null,null,null,null,{"$f":"_xlfn.LET(_xlpm.Start,COLUMN($I$1),_xlpm.Ende,COLUMN($GY$1),_xlpm.Anzahl,INT((_xlpm.Ende-_xlpm.Start)/4)+1,_xlpm.Spalten,_xlpm.Start+4*_xlfn.SEQUENCE(1,_xlpm.Anzahl,0,1),_xlpm.Namen1,INDEX($4:$4,1,_xlpm.Spalten)&\" \"&INDEX($5:$5,1,_xlpm.Spalten),_xlpm.Punkte1,INDEX(30:30,1,_xlpm.Spalten+2),_xlpm.Namen2,INDEX($85:$85,1,_xlpm.Spalten)&\" \"&INDEX($86:$86,1,_xlpm.Spalten),_xlpm.Punkte2,INDEX(111:111,1,_xlpm.Spalten+2),_xlfn.TEXTJOIN(\", \",TRUE,_xlfn._xlws.FILTER(_xlfn.HSTACK(_xlpm.Namen1,_xlpm.Namen2),_xlfn.HSTACK(_xlpm.Punkte1,_xlpm.Punkte2)=10,\"\")))","v":"Nicolas Brunner, Lynn Rüegg, Lea Treichler"},null,{"$f":"_xlfn.LET(_xlpm.Start,COLUMN($I$1),_xlpm.Ende,COLUMN($GY$1),_xlpm.Anzahl,INT((_xlpm.Ende-_xlpm.Start)/4)+1,_xlpm.Spalten,_xlpm.Start+4*_xlfn.SEQUENCE(1,_xlpm.Anzahl,0,1),_xlpm.Namen1,INDEX($4:$4,1,_xlpm.Spalten)&\" \"&INDEX($5:$5,1,_xlpm.Spalten),_xlpm.Punkte1,INDEX(30:30,1,_xlpm.Spalten+2),_xlpm.Namen2,INDEX($85:$85,1,_xlpm.Spalten)&\" \"&INDEX($86:$86,1,_xlpm.Spalten),_xlpm.Punkte2,INDEX(111:111,1,_xlpm.Spalten+2),_xlfn.TEXTJOIN(\", \",TRUE,_xlfn._xlws.FILTER(_xlfn.HSTACK(_xlpm.Namen1,_xlpm.Namen2),_xlfn.HSTACK(_xlpm.Punkte1,_xlpm.Punkte2)=7,\"\")))","v":"Roger Bartholet, Mara Beck, Djuma Duvnjak, Reto Gygli, Stefan Gygli, Timothy Gygli, Florian Haab, Michael Isenschmid, Yannick Schilliger, Marc Walthard"}]
["Mi. 17. Jun.","19:00:00",23,"Portugal","DR Kongo",1,1,null,2,1,0,"A",3,1,0,"A",3,0,0,"A",3,1,0,"A",4,1,0,"A",3,0,0,"A",4,0,0,"A",3,0,0,"A",3,0,0,"A",3,0,0,"A",4,0,0,"A",3,1,0,"A",3,0,0,"A",4,0,0,"A",3,1,0,"A",4,0,0,"A",2,0,0,"A",2,0,0,"A",1,0,0,"A",2,1,0,"A",3,1,0,"A",2,0,0,"A",1,0,0,"A",1,0,0,"A",3,1,0,"A",4,0,0,"A",3,0,0,"A",3,0,0,"A",3,0,0,"A",2,0,0,"A",5,0,0,"A",1,0,0,"A",4,0,0,"A",3,0,0,"A",2,0,0,"A",3,1,0,"A",2,0,0,"A",2,0,0,"A",3,0,0,"A",2,1,0,"A",3,0,0,"A",3,1,0,"A",3,1,0,"A",3,1,0,"A",1,0,0,"A",1,0,0,"A",2,0,0,"A",3,0,0,"A",2,0,0,"A",3,0,0,"A",null,84,0,0,84,null,100,0,0,null,null,null,null,null,{"$f":"_xlfn.LET(_xlpm.Start,COLUMN($I$1),_xlpm.Ende,COLUMN($GY$1),_xlpm.Anzahl,INT((_xlpm.Ende-_xlpm.Start)/4)+1,_xlpm.Spalten,_xlpm.Start+4*_xlfn.SEQUENCE(1,_xlpm.Anzahl,0,1),_xlpm.Namen1,INDEX($4:$4,1,_xlpm.Spalten)&\" \"&INDEX($5:$5,1,_xlpm.Spalten),_xlpm.Punkte1,INDEX(31:31,1,_xlpm.Spalten+2),_xlpm.Namen2,INDEX($85:$85,1,_xlpm.Spalten)&\" \"&INDEX($86:$86,1,_xlpm.Spalten),_xlpm.Punkte2,INDEX(112:112,1,_xlpm.Spalten+2),_xlfn.TEXTJOIN(\", \",TRUE,_xlfn._xlws.FILTER(_xlfn.HSTACK(_xlpm.Namen1,_xlpm.Namen2),_xlfn.HSTACK(_xlpm.Punkte1,_xlpm.Punkte2)=10,\"\")))","v":""},null,{"$f":"_xlfn.LET(_xlpm.Start,COLUMN($I$1),_xlpm.Ende,COLUMN($GY$1),_xlpm.Anzahl,INT((_xlpm.Ende-_xlpm.Start)/4)+1,_xlpm.Spalten,_xlpm.Start+4*_xlfn.SEQUENCE(1,_xlpm.Anzahl,0,1),_xlpm.Namen1,INDEX($4:$4,1,_xlpm.Spalten)&\" \"&INDEX($5:$5,1,_xlpm.Spalten),_xlpm.Punkte1,INDEX(31:31,1,_xlpm.Spalten+2),_xlpm.Namen2,INDEX($85:$85,1,_xlpm.Spalten)&\" \"&INDEX($86:$86,1,_xlpm.Spalten),_xlpm.Punkte2,INDEX(112:112,1,_xlpm.Spalten+2),_xlfn.TEXTJOIN(\", \",TRUE,_xlfn._xlws.FILTER(_xlfn.HSTACK(_xlpm.Namen1,_xlpm.Namen2),_xlfn.HSTACK(_xlpm.Punkte1,_xlpm.Punkte2)=7,\"\")))","v":""}]
["Do. 18. Jun.","04:00:00",24,"Usbekistan","Kolumbien",1,3,null,1,2,5,"B",1,2,5,"B",0,2,7,"B",0,3,5,"B",0,3,5,"B",0,2,7,"B",0,2,7,"B",1,2,5,"B",1,2,5,"B",0,3,5,"B",1,3,10,"B",1,2,5,"B",0,2,7,"B",0,3,5,"B",1,1,0,"X",0,2,7,"B",0,2,7,"B",0,2,7,"B",0,2,7,"B",0,3,5,"B",0,3,5,"B",0,1,5,"B",0,3,5,"B",0,4,5,"B",0,2,7,"B",1,3,10,"B",0,3,5,"B",0,2,7,"B",0,2,7,"B",0,1,5,"B",0,3,5,"B",0,2,7,"B",0,3,5,"B",1,1,0,"X",0,3,5,"B",0,2,7,"B",0,1,5,"B",1,2,5,"B",0,4,5,"B",0,1,5,"B",0,3,5,"B",2,4,7,"B",1,2,5,"B",1,3,10,"B",0,2,7,"B",0,1,5,"B",1,2,5,"B",0,2,7,"B",0,1,5,"B",0,1,5,"B",null,2,2,80,84,null,2.3809523809523809,2.3809523809523809,95.238095238095241,null,null,null,null,null,{"$f":"_xlfn.LET(_xlpm.Start,COLUMN($I$1),_xlpm.Ende,COLUMN($GY$1),_xlpm.Anzahl,INT((_xlpm.Ende-_xlpm.Start)/4)+1,_xlpm.Spalten,_xlpm.Start+4*_xlfn.SEQUENCE(1,_xlpm.Anzahl,0,1),_xlpm.Namen1,INDEX($4:$4,1,_xlpm.Spalten)&\" \"&INDEX($5:$5,1,_xlpm.Spalten),_xlpm.Punkte1,INDEX(32:32,1,_xlpm.Spalten+2),_xlpm.Namen2,INDEX($85:$85,1,_xlpm.Spalten)&\" \"&INDEX($86:$86,1,_xlpm.Spalten),_xlpm.Punkte2,INDEX(113:113,1,_xlpm.Spalten+2),_xlfn.TEXTJOIN(\", \",TRUE,_xlfn._xlws.FILTER(_xlfn.HSTACK(_xlpm.Namen1,_xlpm.Namen2),_xlfn.HSTACK(_xlpm.Punkte1,_xlpm.Punkte2)=10,\"\")))","v":"Mara Beck, Goran Djukic, Michael Isenschmid, Yannick Schilliger, Ralph Schuster"},null,{"$f":"_xlfn.LET(_xlpm.Start,COLUMN($I$1),_xlpm.Ende,COLUMN($GY$1),_xlpm.Anzahl,INT((_xlpm.Ende-_xlpm.Start)/4)+1,_xlpm.Spalten,_xlpm.Start+4*_xlfn.SEQUENCE(1,_xlpm.Anzahl,0,1),_xlpm.Namen1,INDEX($4:$4,1,_xlpm.Spalten)&\" \"&INDEX($5:$5,1,_xlpm.Spalten),_xlpm.Punkte1,INDEX(32:32,1,_xlpm.Spalten+2),_xlpm.Namen2,INDEX($85:$85,1,_xlpm.Spalten)&\" \"&INDEX($86:$86,1,_xlpm.Spalten),_xlpm.Punkte2,INDEX(113:113,1,_xlpm.Spalten+2),_xlfn.TEXTJOIN(\", \",TRUE,_xlfn._xlws.FILTER(_xlfn.HSTACK(_xlpm.Namen1,_xlpm.Namen2),_xlfn.HSTACK(_xlpm.Punkte1,_xlpm.Punkte2)=7,\"\")))","v":"Ambra Antonelli, Peter Balazs, André Bartholet, Michael Bosshart, Nicolas Brunner, Philip Brunner, André Burkart, Oli Christiansen, Rafael Derungs, Dino Duvnjak, Djuma Duvnjak, Deliz González, Robin Gygli, Agnes Isenschmid, Aiden Jones, André Lanz, Mauro Marini, Elias Marty, Philipp Meyer, Telmo Oliveira, Michael Prucha, Petra Rauscher, Ivo und Brigitte Rüdemann, Michael Rüegg, Erich Schommarz, Bruno Silva, Aleandro Silvestri, Armando Thormann, Lea Treichler, Reto Treichler, Markus Wagner, Marc Walthard, Stefan Wullschleger"}]
["Do. 18. Jun.","18:00:00",25,"Tschechien","Südafrika",1,1,null,2,1,0,"A",2,1,0,"A",1,2,0,"B",2,0,0,"A",2,1,0,"A",1,0,0,"A",1,0,0,"A",1,1,10,"X",2,2,7,"X",2,2,7,"X",2,1,0,"A",2,1,0,"A",2,1,0,"A",1,1,10,"X",1,1,10,"X",2,2,7,"X",2,0,0,"A",1,1,10,"X",1,0,0,"A",1,0,0,"A",3,1,0,"A",1,0,0,"A",3,1,0,"A",3,1,0,"A",1,0,0,"A",2,0,0,"A",2,0,0,"A",1,0,0,"A",1,0,0,"A",1,0,0,"A",1,1,10,"X",1,1,10,"X",1,0,0,"A",1,1,10,"X",2,1,0,"A",1,1,10,"X",2,0,0,"A",1,0,0,"A",1,1,10,"X",0,2,0,"B",2,0,0,"A",2,1,0,"A",1,1,10,"X",3,1,0,"A",1,0,0,"A",1,0,0,"A",0,1,0,"B",1,1,10,"X",1,1,10,"X",1,1,10,"X",null,54,24,6,84,null,64.285714285714292,28.571428571428573,7.1428571428571432,null,null,null,null,null,{"$f":"_xlfn.LET(_xlpm.Start,COLUMN($I$1),_xlpm.Ende,COLUMN($GY$1),_xlpm.Anzahl,INT((_xlpm.Ende-_xlpm.Start)/4)+1,_xlpm.Spalten,_xlpm.Start+4*_xlfn.SEQUENCE(1,_xlpm.Anzahl,0,1),_xlpm.Namen1,INDEX($4:$4,1,_xlpm.Spalten)&\" \"&INDEX($5:$5,1,_xlpm.Spalten),_xlpm.Punkte1,INDEX(33:33,1,_xlpm.Spalten+2),_xlpm.Namen2,INDEX($85:$85,1,_xlpm.Spalten)&\" \"&INDEX($86:$86,1,_xlpm.Spalten),_xlpm.Punkte2,INDEX(114:114,1,_xlpm.Spalten+2),_xlfn.TEXTJOIN(\", \",TRUE,_xlfn._xlws.FILTER(_xlfn.HSTACK(_xlpm.Namen1,_xlpm.Namen2),_xlfn.HSTACK(_xlpm.Punkte1,_xlpm.Punkte2)=10,\"\")))","v":"Aya Bartholet, Manfred Brunner, Manuel Brunner, André Burkart, Rui Gomes, Deliz González, Laurent Grosse, Robin Gygli, Stefan Gygli, Andreas Isenschmid, André Lanz, Franz Lischer, Marc Lütolf, Julian Merkli, Lynn Rüegg, Michael Rüegg, Evelyne Schenk, Yannick Schilliger, Ralph Schuster, Christoph Wälti"},null,{"$f":"_xlfn.LET(_xlpm.Start,COLUMN($I$1),_xlpm.Ende,COLUMN($GY$1),_xlpm.Anzahl,INT((_xlpm.Ende-_xlpm.Start)/4)+1,_xlpm.Spalten,_xlpm.Start+4*_xlfn.SEQUENCE(1,_xlpm.Anzahl,0,1),_xlpm.Namen1,INDEX($4:$4,1,_xlpm.Spalten)&\" \"&INDEX($5:$5,1,_xlpm.Spalten),_xlpm.Punkte1,INDEX(33:33,1,_xlpm.Spalten+2),_xlpm.Namen2,INDEX($85:$85,1,_xlpm.Spalten)&\" \"&INDEX($86:$86,1,_xlpm.Spalten),_xlpm.Punkte2,INDEX(114:114,1,_xlpm.Spalten+2),_xlfn.TEXTJOIN(\", \",TRUE,_xlfn._xlws.FILTER(_xlfn.HSTACK(_xlpm.Namen1,_xlpm.Namen2),_xlfn.HSTACK(_xlpm.Punkte1,_xlpm.Punkte2)=7,\"\")))","v":"Philippe Bartholet, Roger Bartholet, Nicolas Brunner, Ben Marthaler"}]
["Do. 18. Jun.","21:00:00",26,"Schweiz","Bosnien-Herz.",4,1,null,1,1,0,"X",2,1,5,"A",2,2,0,"X",3,2,5,"A",3,1,5,"A",2,1,5,"A",2,0,5,"A",2,1,5,"A",2,0,5,"A",3,1,5,"A",3,0,7,"A",2,0,5,"A",2,1,5,"A",3,1,5,"A",2,0,5,"A",4,1,10,"A",1,1,0,"X",0,0,0,"X",2,0,5,"A",1,1,0,"X",2,1,5,"A",2,1,5,"A",2,1,5,"A",1,1,0,"X",1,0,5,"A",2,1,5,"A",2,2,0,"X",1,1,0,"X",1,1,0,"X",1,2,0,"B",2,1,5,"A",1,1,0,"X",2,1,5,"A",2,1,5,"A",2,1,5,"A",2,1,5,"A",1,1,0,"X",3,1,5,"A",2,0,5,"A",1,0,5,"A",2,0,5,"A",3,1,5,"A",0,0,0,"X",3,1,5,"A",1,1,0,"X",1,0,5,"A",1,0,5,"A",2,1,5,"A",2,1,5,"A",1,0,5,"A",null,65,18,1,84,null,77.38095238095238,21.428571428571427,1.1904761904761905,null,null,null,null,null,{"$f":"_xlfn.LET(_xlpm.Start,COLUMN($I$1),_xlpm.Ende,COLUMN($GY$1),_xlpm.Anzahl,INT((_xlpm.Ende-_xlpm.Start)/4)+1,_xlpm.Spalten,_xlpm.Start+4*_xlfn.SEQUENCE(1,_xlpm.Anzahl,0,1),_xlpm.Namen1,INDEX($4:$4,1,_xlpm.Spalten)&\" \"&INDEX($5:$5,1,_xlpm.Spalten),_xlpm.Punkte1,INDEX(34:34,1,_xlpm.Spalten+2),_xlpm.Namen2,INDEX($85:$85,1,_xlpm.Spalten)&\" \"&INDEX($86:$86,1,_xlpm.Spalten),_xlpm.Punkte2,INDEX(115:115,1,_xlpm.Spalten+2),_xlfn.TEXTJOIN(\", \",TRUE,_xlfn._xlws.FILTER(_xlfn.HSTACK(_xlpm.Namen1,_xlpm.Namen2),_xlfn.HSTACK(_xlpm.Punkte1,_xlpm.Punkte2)=10,\"\")))","v":"Nicolas Brunner, Stefan Principe"},null,{"$f":"_xlfn.LET(_xlpm.Start,COLUMN($I$1),_xlpm.Ende,COLUMN($GY$1),_xlpm.Anzahl,INT((_xlpm.Ende-_xlpm.Start)/4)+1,_xlpm.Spalten,_xlpm.Start+4*_xlfn.SEQUENCE(1,_xlpm.Anzahl,0,1),_xlpm.Namen1,INDEX($4:$4,1,_xlpm.Spalten)&\" \"&INDEX($5:$5,1,_xlpm.Spalten),_xlpm.Punkte1,INDEX(34:34,1,_xlpm.Spalten+2),_xlpm.Namen2,INDEX($85:$85,1,_xlpm.Spalten)&\" \"&INDEX($86:$86,1,_xlpm.Spalten),_xlpm.Punkte2,INDEX(115:115,1,_xlpm.Spalten+2),_xlfn.TEXTJOIN(\", \",TRUE,_xlfn._xlws.FILTER(_xlfn.HSTACK(_xlpm.Namen1,_xlpm.Namen2),_xlfn.HSTACK(_xlpm.Punkte1,_xlpm.Punkte2)=7,\"\")))","v":"Mara Beck, Mauro Marini, Markus Wagner"}]
["Fr. 19. Jun.","00:00:00",27,"Kanada","Katar",6,0,null,2,1,5,"A",2,1,5,"A",2,1,5,"A",2,0,5,"A",2,0,5,"A",2,0,5,"A",1,0,5,"A",2,0,5,"A",1,1,0,"X",2,0,5,"A",3,0,5,"A",1,0,5,"A",1,0,5,"A",1,0,5,"A",1,0,5,"A",3,2,5,"A",2,0,5,"A",1,1,0,"X",1,0,5,"A",1,1,0,"X",1,0,5,"A",2,0,5,"A",2,0,5,"A",2,0,5,"A",2,0,5,"A",3,0,5,"A",1,1,0,"X",1,0,5,"A",1,0,5,"A",1,1,0,"X",2,0,5,"A",1,2,0,"B",2,2,0,"X",1,0,5,"A",3,0,5,"A",2,0,5,"A",2,0,5,"A",2,1,5,"A",3,1,5,"A",1,1,0,"X",2,0,5,"A",3,0,5,"A",2,0,5,"A",3,1,5,"A",1,0,5,"A",1,0,5,"A",1,0,5,"A",1,0,5,"A",2,1,5,"A",2,0,5,"A",null,71,12,1,84,null,84.523809523809518,14.285714285714286,1.1904761904761905,null,null,null,null,null,{"$f":"_xlfn.LET(_xlpm.Start,COLUMN($I$1),_xlpm.Ende,COLUMN($GY$1),_xlpm.Anzahl,INT((_xlpm.Ende-_xlpm.Start)/4)+1,_xlpm.Spalten,_xlpm.Start+4*_xlfn.SEQUENCE(1,_xlpm.Anzahl,0,1),_xlpm.Namen1,INDEX($4:$4,1,_xlpm.Spalten)&\" \"&INDEX($5:$5,1,_xlpm.Spalten),_xlpm.Punkte1,INDEX(35:35,1,_xlpm.Spalten+2),_xlpm.Namen2,INDEX($85:$85,1,_xlpm.Spalten)&\" \"&INDEX($86:$86,1,_xlpm.Spalten),_xlpm.Punkte2,INDEX(116:116,1,_xlpm.Spalten+2),_xlfn.TEXTJOIN(\", \",TRUE,_xlfn._xlws.FILTER(_xlfn.HSTACK(_xlpm.Namen1,_xlpm.Namen2),_xlfn.HSTACK(_xlpm.Punkte1,_xlpm.Punkte2)=10,\"\")))","v":""},null,{"$f":"_xlfn.LET(_xlpm.Start,COLUMN($I$1),_xlpm.Ende,COLUMN($GY$1),_xlpm.Anzahl,INT((_xlpm.Ende-_xlpm.Start)/4)+1,_xlpm.Spalten,_xlpm.Start+4*_xlfn.SEQUENCE(1,_xlpm.Anzahl,0,1),_xlpm.Namen1,INDEX($4:$4,1,_xlpm.Spalten)&\" \"&INDEX($5:$5,1,_xlpm.Spalten),_xlpm.Punkte1,INDEX(35:35,1,_xlpm.Spalten+2),_xlpm.Namen2,INDEX($85:$85,1,_xlpm.Spalten)&\" \"&INDEX($86:$86,1,_xlpm.Spalten),_xlpm.Punkte2,INDEX(116:116,1,_xlpm.Spalten+2),_xlfn.TEXTJOIN(\", \",TRUE,_xlfn._xlws.FILTER(_xlfn.HSTACK(_xlpm.Namen1,_xlpm.Namen2),_xlfn.HSTACK(_xlpm.Punkte1,_xlpm.Punkte2)=7,\"\")))","v":""}]
["Fr. 19. Jun.","03:00:00",28,"Mexiko","Südkorea",1,0,null,1,1,0,"X",1,2,0,"B",3,2,7,"A",2,1,7,"A",1,1,0,"X",2,2,0,"X",1,0,10,"A",1,1,0,"X",2,0,5,"A",3,0,5,"A",2,1,7,"A",1,1,0,"X",2,1,7,"A",3,1,5,"A",2,1,7,"A",2,2,0,"X",2,1,7,"A",1,1,0,"X",1,1,0,"X",2,1,7,"A",2,1,7,"A",1,0,10,"A",1,0,10,"A",1,0,10,"A",2,2,0,"X",2,1,7,"A",1,1,0,"X",1,0,10,"A",1,0,10,"A",1,1,0,"X",2,1,7,"A",1,2,0,"B",1,0,10,"A",1,1,0,"X",2,1,7,"A",1,1,0,"X",1,0,10,"A",3,1,5,"A",1,1,0,"X",2,1,7,"A",2,1,7,"A",1,2,0,"B",1,1,0,"X",3,1,5,"A",1,0,10,"A",1,0,10,"A",2,0,5,"A",1,1,0,"X",3,0,5,"A",2,1,7,"A",null,54,22,8,84,null,64.285714285714292,26.19047619047619,9.5238095238095237,null,null,null,null,null,{"$f":"_xlfn.LET(_xlpm.Start,COLUMN($I$1),_xlpm.Ende,COLUMN($GY$1),_xlpm.Anzahl,INT((_xlpm.Ende-_xlpm.Start)/4)+1,_xlpm.Spalten,_xlpm.Start+4*_xlfn.SEQUENCE(1,_xlpm.Anzahl,0,1),_xlpm.Namen1,INDEX($4:$4,1,_xlpm.Spalten)&\" \"&INDEX($5:$5,1,_xlpm.Spalten),_xlpm.Punkte1,INDEX(36:36,1,_xlpm.Spalten+2),_xlpm.Namen2,INDEX($85:$85,1,_xlpm.Spalten)&\" \"&INDEX($86:$86,1,_xlpm.Spalten),_xlpm.Punkte2,INDEX(117:117,1,_xlpm.Spalten+2),_xlfn.TEXTJOIN(\", \",TRUE,_xlfn._xlws.FILTER(_xlfn.HSTACK(_xlpm.Namen1,_xlpm.Namen2),_xlfn.HSTACK(_xlpm.Punkte1,_xlpm.Punkte2)=10,\"\")))","v":"André Bartholet, Lisa D'Acunto, Niva D'Acunto, Vinci D'Acunto, Dino Duvnjak, Djuma Duvnjak, Florian González, Sarina Gygli, Aiden Jones, Pascal Keller, Philipp Meyer"},null,{"$f":"_xlfn.LET(_xlpm.Start,COLUMN($I$1),_xlpm.Ende,COLUMN($GY$1),_xlpm.Anzahl,INT((_xlpm.Ende-_xlpm.Start)/4)+1,_xlpm.Spalten,_xlpm.Start+4*_xlfn.SEQUENCE(1,_xlpm.Anzahl,0,1),_xlpm.Namen1,INDEX($4:$4,1,_xlpm.Spalten)&\" \"&INDEX($5:$5,1,_xlpm.Spalten),_xlpm.Punkte1,INDEX(36:36,1,_xlpm.Spalten+2),_xlpm.Namen2,INDEX($85:$85,1,_xlpm.Spalten)&\" \"&INDEX($86:$86,1,_xlpm.Spalten),_xlpm.Punkte2,INDEX(117:117,1,_xlpm.Spalten+2),_xlfn.TEXTJOIN(\", \",TRUE,_xlfn._xlws.FILTER(_xlfn.HSTACK(_xlpm.Namen1,_xlpm.Namen2),_xlfn.HSTACK(_xlpm.Punkte1,_xlpm.Punkte2)=7,\"\")))","v":"Ambra Antonelli, Marco Antonelli, Mara Beck, Michael Bosshart, Manuel Brunner, Philip Brunner, Javier Cruz, Leo Rodrigues da Costa, Goran Djukic, Rui Gomes, Reto Gygli, Timothy Gygli, Florian Haab, Marc Lütolf, Nicolas Mack, Michael Prucha, Petra Rauscher, Martin Rohner, Ivo und Brigitte Rüdemann, Martin Schawalder, Evelyne Schenk, Yannick Schilliger, Erich Schommarz, Aleandro Silvestri, Armando Thormann, Marc Walthard, Stefan Wullschleger"}]
["Sa. 20. Jun.","03:00:00",29,"Brasilien","Haiti",3,0,null,3,0,10,"A",4,0,5,"A",4,0,5,"A",4,0,5,"A",4,0,5,"A",4,0,5,"A",5,0,5,"A",3,0,10,"A",3,0,10,"A",5,0,5,"A",5,0,5,"A",3,0,10,"A",3,0,10,"A",5,0,5,"A",2,0,5,"A",5,0,5,"A",3,0,10,"A",4,0,5,"A",2,0,5,"A",3,0,10,"A",4,1,7,"A",4,0,5,"A",4,0,5,"A",5,0,5,"A",3,0,10,"A",3,0,10,"A",4,0,5,"A",3,0,10,"A",3,0,10,"A",3,1,5,"A",4,0,5,"A",2,0,5,"A",4,0,5,"A",2,0,5,"A",4,0,5,"A",4,0,5,"A",3,1,5,"A",3,0,10,"A",4,0,5,"A",2,0,5,"A",3,0,10,"A",3,0,10,"A",2,0,5,"A",3,1,5,"A",2,0,5,"A",1,0,5,"A",2,1,5,"A",3,0,10,"A",4,0,5,"A",4,0,5,"A",null,84,0,0,84,null,100,0,0,null,null,null,null,null,{"$f":"_xlfn.LET(_xlpm.Start,COLUMN($I$1),_xlpm.Ende,COLUMN($GY$1),_xlpm.Anzahl,INT((_xlpm.Ende-_xlpm.Start)/4)+1,_xlpm.Spalten,_xlpm.Start+4*_xlfn.SEQUENCE(1,_xlpm.Anzahl,0,1),_xlpm.Namen1,INDEX($4:$4,1,_xlpm.Spalten)&\" \"&INDEX($5:$5,1,_xlpm.Spalten),_xlpm.Punkte1,INDEX(37:37,1,_xlpm.Spalten+2),_xlpm.Namen2,INDEX($85:$85,1,_xlpm.Spalten)&\" \"&INDEX($86:$86,1,_xlpm.Spalten),_xlpm.Punkte2,INDEX(118:118,1,_xlpm.Spalten+2),_xlfn.TEXTJOIN(\", \",TRUE,_xlfn._xlws.FILTER(_xlfn.HSTACK(_xlpm.Namen1,_xlpm.Namen2),_xlfn.HSTACK(_xlpm.Punkte1,_xlpm.Punkte2)=10,\"\")))","v":"Panos Agorastos, Aya Bartholet, Philippe Bartholet, Pongsapat Nott Boonaek, Michael Bosshart, Philip Brunner, Javier Cruz, Rafael Derungs, Goran Djukic, Dino Duvnjak, Djuma Duvnjak, Selina Gygli, Florian Haab, Agnes Isenschmid, André Lanz, Julian Merkli, Ivo und Brigitte Rüdemann, Michael Rüegg, Sabine Rüegg, Martin Schawalder, Marc Walthard, Stefan Wullschleger"},null,{"$f":"_xlfn.LET(_xlpm.Start,COLUMN($I$1),_xlpm.Ende,COLUMN($GY$1),_xlpm.Anzahl,INT((_xlpm.Ende-_xlpm.Start)/4)+1,_xlpm.Spalten,_xlpm.Start+4*_xlfn.SEQUENCE(1,_xlpm.Anzahl,0,1),_xlpm.Namen1,INDEX($4:$4,1,_xlpm.Spalten)&\" \"&INDEX($5:$5,1,_xlpm.Spalten),_xlpm.Punkte1,INDEX(37:37,1,_xlpm.Spalten+2),_xlpm.Namen2,INDEX($85:$85,1,_xlpm.Spalten)&\" \"&INDEX($86:$86,1,_xlpm.Spalten),_xlpm.Punkte2,INDEX(118:118,1,_xlpm.Spalten+2),_xlfn.TEXTJOIN(\", \",TRUE,_xlfn._xlws.FILTER(_xlfn.HSTACK(_xlpm.Namen1,_xlpm.Namen2),_xlfn.HSTACK(_xlpm.Punkte1,_xlpm.Punkte2)=7,\"\")))","v":"Leo Rodrigues da Costa"}]
["Sa. 20. Jun.","00:00:00",30,"Schottland","Marokko",0,1,null,1,2,7,"B",1,2,7,"B",1,2,7,"B",1,3,5,"B",1,3,5,"B",0,2,5,"B",0,1,10,"B",1,0,0,"A",1,1,0,"X",0,0,0,"X",1,1,0,"X",1,2,7,"B",1,2,7,"B",0,2,5,"B",0,1,10,"B",2,4,5,"B",1,2,7,"B",0,1,10,"B",1,2,7,"B",1,3,5,"B",1,3,5,"B",1,2,7,"B",1,2,7,"B",1,2,7,"B",0,1,10,"B",1,3,5,"B",0,2,5,"B",0,1,10,"B",0,1,10,"B",1,1,0,"X",1,2,7,"B",1,2,7,"B",0,2,5,"B",1,1,0,"X",1,1,0,"X",1,1,0,"X",1,0,0,"A",2,2,0,"X",1,1,0,"X",1,3,5,"B",1,3,5,"B",1,1,0,"X",2,1,0,"A",1,3,5,"B",0,1,10,"B",0,1,10,"B",1,2,7,"B",1,2,7,"B",2,1,0,"A",2,1,0,"A",null,11,19,54,84,null,13.095238095238095,22.61904761904762,64.285714285714292,null,null,null,null,null,{"$f":"_xlfn.LET(_xlpm.Start,COLUMN($I$1),_xlpm.Ende,COLUMN($GY$1),_xlpm.Anzahl,INT((_xlpm.Ende-_xlpm.Start)/4)+1,_xlpm.Spalten,_xlpm.Start+4*_xlfn.SEQUENCE(1,_xlpm.Anzahl,0,1),_xlpm.Namen1,INDEX($4:$4,1,_xlpm.Spalten)&\" \"&INDEX($5:$5,1,_xlpm.Spalten),_xlpm.Punkte1,INDEX(38:38,1,_xlpm.Spalten+2),_xlpm.Namen2,INDEX($85:$85,1,_xlpm.Spalten)&\" \"&INDEX($86:$86,1,_xlpm.Spalten),_xlpm.Punkte2,INDEX(119:119,1,_xlpm.Spalten+2),_xlfn.TEXTJOIN(\", \",TRUE,_xlfn._xlws.FILTER(_xlfn.HSTACK(_xlpm.Namen1,_xlpm.Namen2),_xlfn.HSTACK(_xlpm.Punkte1,_xlpm.Punkte2)=10,\"\")))","v":"André Bartholet, Manuel Brunner, André Burkart, Rafael Derungs, Dino Duvnjak, Djuma Duvnjak, Aiden Jones, Pascal Keller, Elias Marty"},null,{"$f":"_xlfn.LET(_xlpm.Start,COLUMN($I$1),_xlpm.Ende,COLUMN($GY$1),_xlpm.Anzahl,INT((_xlpm.Ende-_xlpm.Start)/4)+1,_xlpm.Spalten,_xlpm.Start+4*_xlfn.SEQUENCE(1,_xlpm.Anzahl,0,1),_xlpm.Namen1,INDEX($4:$4,1,_xlpm.Spalten)&\" \"&INDEX($5:$5,1,_xlpm.Spalten),_xlpm.Punkte1,INDEX(38:38,1,_xlpm.Spalten+2),_xlpm.Namen2,INDEX($85:$85,1,_xlpm.Spalten)&\" \"&INDEX($86:$86,1,_xlpm.Spalten),_xlpm.Punkte2,INDEX(119:119,1,_xlpm.Spalten+2),_xlfn.TEXTJOIN(\", \",TRUE,_xlfn._xlws.FILTER(_xlfn.HSTACK(_xlpm.Namen1,_xlpm.Namen2),_xlfn.HSTACK(_xlpm.Punkte1,_xlpm.Punkte2)=7,\"\")))","v":"Panos Agorastos, Yiannis Agorastos, Ambra Antonelli, Pongsapat Nott Boonaek, Michael Bosshart, Philip Brunner, Oli Christiansen, Lisa D'Acunto, Niva D'Acunto, Vinci D'Acunto, Rui Gomes, Deliz González, Tanja Kistler, André Lanz, Mauro Marini, Julian Merkli, Martin Oroshi, Stefan Principe, Michael Prucha, Martin Rohner, Sabine Rüegg, Yannick Schilliger, Aleandro Silvestri, Armando Thormann, Christoph Wälti, Marc Walthard, Stefan Wullschleger"}]
["Sa. 20. Jun.","05:00:00",31,"Türkei","Paraguay",0,1,null,1,1,0,"X",1,1,0,"X",2,2,0,"X",2,0,0,"A",3,0,0,"A",2,1,0,"A",1,0,0,"A",2,1,0,"A",2,1,0,"A",1,0,0,"A",1,2,7,"B",2,0,0,"A",2,1,0,"A",1,1,0,"X",1,0,0,"A",2,0,0,"A",2,1,0,"A",1,1,0,"X",2,1,0,"A",2,1,0,"A",2,1,0,"A",2,1,0,"A",2,1,0,"A",2,2,0,"X",1,1,0,"X",1,0,0,"A",1,1,0,"X",1,0,0,"A",2,0,0,"A",1,0,0,"A",1,0,0,"A",2,3,7,"B",2,1,0,"A",1,1,0,"X",1,1,0,"X",1,2,7,"B",2,1,0,"A",1,0,0,"A",0,1,10,"B",1,0,0,"A",2,0,0,"A",0,0,0,"X",1,1,0,"X",3,1,0,"A",2,0,0,"A",0,1,10,"B",2,1,0,"A",2,0,0,"A",2,0,0,"A",2,1,0,"A",null,56,21,7,84,null,66.666666666666671,25,8.3333333333333339,null,null,null,null,null,{"$f":"_xlfn.LET(_xlpm.Start,COLUMN($I$1),_xlpm.Ende,COLUMN($GY$1),_xlpm.Anzahl,INT((_xlpm.Ende-_xlpm.Start)/4)+1,_xlpm.Spalten,_xlpm.Start+4*_xlfn.SEQUENCE(1,_xlpm.Anzahl,0,1),_xlpm.Namen1,INDEX($4:$4,1,_xlpm.Spalten)&\" \"&INDEX($5:$5,1,_xlpm.Spalten),_xlpm.Punkte1,INDEX(39:39,1,_xlpm.Spalten+2),_xlpm.Namen2,INDEX($85:$85,1,_xlpm.Spalten)&\" \"&INDEX($86:$86,1,_xlpm.Spalten),_xlpm.Punkte2,INDEX(120:120,1,_xlpm.Spalten+2),_xlfn.TEXTJOIN(\", \",TRUE,_xlfn._xlws.FILTER(_xlfn.HSTACK(_xlpm.Namen1,_xlpm.Namen2),_xlfn.HSTACK(_xlpm.Punkte1,_xlpm.Punkte2)=10,\"\")))","v":"Stefan Gygli, Pascal Keller"},null,{"$f":"_xlfn.LET(_xlpm.Start,COLUMN($I$1),_xlpm.Ende,COLUMN($GY$1),_xlpm.Anzahl,INT((_xlpm.Ende-_xlpm.Start)/4)+1,_xlpm.Spalten,_xlpm.Start+4*_xlfn.SEQUENCE(1,_xlpm.Anzahl,0,1),_xlpm.Namen1,INDEX($4:$4,1,_xlpm.Spalten)&\" \"&INDEX($5:$5,1,_xlpm.Spalten),_xlpm.Punkte1,INDEX(39:39,1,_xlpm.Spalten+2),_xlpm.Namen2,INDEX($85:$85,1,_xlpm.Spalten)&\" \"&INDEX($86:$86,1,_xlpm.Spalten),_xlpm.Punkte2,INDEX(120:120,1,_xlpm.Spalten+2),_xlfn.TEXTJOIN(\", \",TRUE,_xlfn._xlws.FILTER(_xlfn.HSTACK(_xlpm.Namen1,_xlpm.Namen2),_xlfn.HSTACK(_xlpm.Punkte1,_xlpm.Punkte2)=7,\"\")))","v":"Mara Beck, Deliz González, Robin Gygli"}]
["Fr. 19. Jun.","21:00:00",32,"USA","Australien",2,0,null,1,1,0,"X",1,1,0,"X",1,1,0,"X",2,0,10,"A",2,0,10,"A",2,0,10,"A",2,1,5,"A",2,2,0,"X",1,0,5,"A",1,1,0,"X",2,1,5,"A",3,1,7,"A",2,1,5,"A",0,0,0,"X",2,1,5,"A",1,1,0,"X",2,0,10,"A",0,0,0,"X",1,0,5,"A",2,2,0,"X",2,0,10,"A",2,1,5,"A",1,1,0,"X",1,1,0,"X",2,1,5,"A",2,1,5,"A",2,2,0,"X",1,1,0,"X",1,0,5,"A",1,1,0,"X",2,0,10,"A",3,2,5,"A",2,2,0,"X",1,1,0,"X",2,1,5,"A",2,0,10,"A",1,0,5,"A",2,1,5,"A",2,2,0,"X",0,0,0,"X",2,0,10,"A",2,0,10,"A",2,2,0,"X",3,1,7,"A",1,0,5,"A",1,0,5,"A",2,1,5,"A",1,1,0,"X",1,1,0,"X",1,2,0,"B",null,51,29,4,84,null,60.714285714285715,34.523809523809526,4.7619047619047619,null,null,null,null,null,{"$f":"_xlfn.LET(_xlpm.Start,COLUMN($I$1),_xlpm.Ende,COLUMN($GY$1),_xlpm.Anzahl,INT((_xlpm.Ende-_xlpm.Start)/4)+1,_xlpm.Spalten,_xlpm.Start+4*_xlfn.SEQUENCE(1,_xlpm.Anzahl,0,1),_xlpm.Namen1,INDEX($4:$4,1,_xlpm.Spalten)&\" \"&INDEX($5:$5,1,_xlpm.Spalten),_xlpm.Punkte1,INDEX(40:40,1,_xlpm.Spalten+2),_xlpm.Namen2,INDEX($85:$85,1,_xlpm.Spalten)&\" \"&INDEX($86:$86,1,_xlpm.Spalten),_xlpm.Punkte2,INDEX(121:121,1,_xlpm.Spalten+2),_xlfn.TEXTJOIN(\", \",TRUE,_xlfn._xlws.FILTER(_xlfn.HSTACK(_xlpm.Namen1,_xlpm.Namen2),_xlfn.HSTACK(_xlpm.Punkte1,_xlpm.Punkte2)=10,\"\")))","v":"Marco Antonelli, Ruben Antonelli, Peter Balazs, Philip Brunner, Leo Rodrigues da Costa, Rui Gomes, Robin Gygli, Florian Haab, Agnes Isenschmid, Nicolas Mack, Martin Oroshi, Michael Prucha, Aleandro Silvestri, Markus Wagner"},null,{"$f":"_xlfn.LET(_xlpm.Start,COLUMN($I$1),_xlpm.Ende,COLUMN($GY$1),_xlpm.Anzahl,INT((_xlpm.Ende-_xlpm.Start)/4)+1,_xlpm.Spalten,_xlpm.Start+4*_xlfn.SEQUENCE(1,_xlpm.Anzahl,0,1),_xlpm.Namen1,INDEX($4:$4,1,_xlpm.Spalten)&\" \"&INDEX($5:$5,1,_xlpm.Spalten),_xlpm.Punkte1,INDEX(40:40,1,_xlpm.Spalten+2),_xlpm.Namen2,INDEX($85:$85,1,_xlpm.Spalten)&\" \"&INDEX($86:$86,1,_xlpm.Spalten),_xlpm.Punkte2,INDEX(121:121,1,_xlpm.Spalten+2),_xlfn.TEXTJOIN(\", \",TRUE,_xlfn._xlws.FILTER(_xlfn.HSTACK(_xlpm.Namen1,_xlpm.Namen2),_xlfn.HSTACK(_xlpm.Punkte1,_xlpm.Punkte2)=7,\"\")))","v":"Pongsapat Nott Boonaek, Michael Isenschmid, Lechena Pek, Stefan Principe, Martin Rohner, Evelyne Schenk"}]
["Sa. 20. Jun.","22:00:00",33,"Deutschland","Elfenbeinküste",2,1,null,2,1,10,"A",2,2,0,"X",2,0,5,"A",1,1,0,"X",2,1,10,"A",1,1,0,"X",1,0,7,"A",2,1,10,"A",2,0,5,"A",3,1,5,"A",3,0,5,"A",2,0,5,"A",2,0,5,"A",3,1,5,"A",2,0,5,"A",2,1,10,"A",2,1,10,"A",1,0,7,"A",2,0,5,"A",3,1,5,"A",3,1,5,"A",4,1,5,"A",4,2,5,"A",4,2,5,"A",2,1,10,"A",3,0,5,"A",3,1,5,"A",2,0,5,"A",2,0,5,"A",2,0,5,"A",2,0,5,"A",2,1,10,"A",2,0,5,"A",2,1,10,"A",2,0,5,"A",2,0,5,"A",2,0,5,"A",2,0,5,"A",2,0,5,"A",3,0,5,"A",3,0,5,"A",3,0,5,"A",3,0,5,"A",3,1,5,"A",2,0,5,"A",1,0,7,"A",2,0,5,"A",2,1,10,"A",3,0,5,"A",2,1,10,"A",null,79,5,0,84,null,94.047619047619051,5.9523809523809526,0,null,null,null,null,null,{"$f":"_xlfn.LET(_xlpm.Start,COLUMN($I$1),_xlpm.Ende,COLUMN($GY$1),_xlpm.Anzahl,INT((_xlpm.Ende-_xlpm.Start)/4)+1,_xlpm.Spalten,_xlpm.Start+4*_xlfn.SEQUENCE(1,_xlpm.Anzahl,0,1),_xlpm.Namen1,INDEX($4:$4,1,_xlpm.Spalten)&\" \"&INDEX($5:$5,1,_xlpm.Spalten),_xlpm.Punkte1,INDEX(41:41,1,_xlpm.Spalten+2),_xlpm.Namen2,INDEX($85:$85,1,_xlpm.Spalten)&\" \"&INDEX($86:$86,1,_xlpm.Spalten),_xlpm.Punkte2,INDEX(122:122,1,_xlpm.Spalten+2),_xlfn.TEXTJOIN(\", \",TRUE,_xlfn._xlws.FILTER(_xlfn.HSTACK(_xlpm.Namen1,_xlpm.Namen2),_xlfn.HSTACK(_xlpm.Punkte1,_xlpm.Punkte2)=10,\"\")))","v":"Panos Agorastos, Ruben Antonelli, Aya Bartholet, Nicolas Brunner, Philip Brunner, Rafael Derungs, Deliz González, Laurent Grosse, André Lanz, Marc Lütolf, Philipp Meyer, Michael Prucha, Michael Rüegg, Martin Schawalder, Yannick Schilliger, Erich Schommarz, Bruno Silva, Reto Treichler, Stefan Wullschleger"},null,{"$f":"_xlfn.LET(_xlpm.Start,COLUMN($I$1),_xlpm.Ende,COLUMN($GY$1),_xlpm.Anzahl,INT((_xlpm.Ende-_xlpm.Start)/4)+1,_xlpm.Spalten,_xlpm.Start+4*_xlfn.SEQUENCE(1,_xlpm.Anzahl,0,1),_xlpm.Namen1,INDEX($4:$4,1,_xlpm.Spalten)&\" \"&INDEX($5:$5,1,_xlpm.Spalten),_xlpm.Punkte1,INDEX(41:41,1,_xlpm.Spalten+2),_xlpm.Namen2,INDEX($85:$85,1,_xlpm.Spalten)&\" \"&INDEX($86:$86,1,_xlpm.Spalten),_xlpm.Punkte2,INDEX(122:122,1,_xlpm.Spalten+2),_xlfn.TEXTJOIN(\", \",TRUE,_xlfn._xlws.FILTER(_xlfn.HSTACK(_xlpm.Namen1,_xlpm.Namen2),_xlfn.HSTACK(_xlpm.Punkte1,_xlpm.Punkte2)=7,\"\")))","v":"André Bartholet, André Burkart, Pascal Keller, Stefan Principe"}]
["So. 21. Jun.","02:00:00",34,"Ecuador","Curacao",0,0,null,2,1,0,"A",3,0,0,"A",2,1,0,"A",3,1,0,"A",3,1,0,"A",2,0,0,"A",1,0,0,"A",1,0,0,"A",1,0,0,"A",2,0,0,"A",3,0,0,"A",1,0,0,"A",2,1,0,"A",2,0,0,"A",1,0,0,"A",3,1,0,"A",3,0,0,"A",1,0,0,"A",1,0,0,"A",2,0,0,"A",2,0,0,"A",2,1,0,"A",3,1,0,"A",3,1,0,"A",3,0,0,"A",2,0,0,"A",3,1,0,"A",2,0,0,"A",2,0,0,"A",1,1,7,"X",0,0,10,"X",1,1,7,"X",3,1,0,"A",1,0,0,"A",2,0,0,"A",2,0,0,"A",2,0,0,"A",2,1,0,"A",2,0,0,"A",1,0,0,"A",3,0,0,"A",2,1,0,"A",2,0,0,"A",3,1,0,"A",3,0,0,"A",1,0,0,"A",2,1,0,"A",3,0,0,"A",1,1,7,"X",3,0,0,"A",null,75,9,0,84,null,89.285714285714292,10.714285714285714,0,null,null,null,null,null,{"$f":"_xlfn.LET(_xlpm.Start,COLUMN($I$1),_xlpm.Ende,COLUMN($GY$1),_xlpm.Anzahl,INT((_xlpm.Ende-_xlpm.Start)/4)+1,_xlpm.Spalten,_xlpm.Start+4*_xlfn.SEQUENCE(1,_xlpm.Anzahl,0,1),_xlpm.Namen1,INDEX($4:$4,1,_xlpm.Spalten)&\" \"&INDEX($5:$5,1,_xlpm.Spalten),_xlpm.Punkte1,INDEX(42:42,1,_xlpm.Spalten+2),_xlpm.Namen2,INDEX($85:$85,1,_xlpm.Spalten)&\" \"&INDEX($86:$86,1,_xlpm.Spalten),_xlpm.Punkte2,INDEX(123:123,1,_xlpm.Spalten+2),_xlfn.TEXTJOIN(\", \",TRUE,_xlfn._xlws.FILTER(_xlfn.HSTACK(_xlpm.Namen1,_xlpm.Namen2),_xlfn.HSTACK(_xlpm.Punkte1,_xlpm.Punkte2)=10,\"\")))","v":"Rui Gomes, Lechena Pek, Evelyne Schenk"},null,{"$f":"_xlfn.LET(_xlpm.Start,COLUMN($I$1),_xlpm.Ende,COLUMN($GY$1),_xlpm.Anzahl,INT((_xlpm.Ende-_xlpm.Start)/4)+1,_xlpm.Spalten,_xlpm.Start+4*_xlfn.SEQUENCE(1,_xlpm.Anzahl,0,1),_xlpm.Namen1,INDEX($4:$4,1,_xlpm.Spalten)&\" \"&INDEX($5:$5,1,_xlpm.Spalten),_xlpm.Punkte1,INDEX(42:42,1,_xlpm.Spalten+2),_xlpm.Namen2,INDEX($85:$85,1,_xlpm.Spalten)&\" \"&INDEX($86:$86,1,_xlpm.Spalten),_xlpm.Punkte2,INDEX(123:123,1,_xlpm.Spalten+2),_xlfn.TEXTJOIN(\", \",TRUE,_xlfn._xlws.FILTER(_xlfn.HSTACK(_xlpm.Namen1,_xlpm.Namen2),_xlfn.HSTACK(_xlpm.Punkte1,_xlpm.Punkte2)=7,\"\")))","v":"Andreia Gomes, Deliz González, Franz Lischer, Ben Marthaler, Lynn Rüegg, Stefan Zachmann"}]
["Sa. 20. Jun.","19:00:00",35,"Holland","Schweden",5,1,null,2,1,5,"A",2,1,5,"A",1,2,0,"B",3,1,5,"A",3,2,5,"A",2,0,5,"A",2,1,5,"A",1,1,0,"X",2,1,5,"A",1,1,0,"X",3,0,5,"A",2,1,5,"A",2,1,5,"A",3,1,5,"A",2,2,0,"X",2,2,0,"X",1,1,0,"X",1,1,0,"X",3,0,5,"A",3,2,5,"A",2,1,5,"A",2,2,0,"X",2,1,5,"A",2,1,5,"A",2,0,5,"A",3,1,5,"A",2,0,5,"A",1,0,5,"A",1,0,5,"A",2,2,0,"X",2,2,0,"X",3,1,5,"A",3,0,5,"A",1,2,0,"B",2,1,5,"A",2,1,5,"A",1,0,5,"A",1,0,5,"A",1,0,5,"A",1,0,5,"A",3,1,5,"A",2,1,5,"A",1,1,0,"X",3,1,5,"A",2,0,5,"A",1,0,5,"A",2,1,5,"A",3,1,5,"A",3,1,5,"A",2,1,5,"A",null,65,15,4,84,null,77.38095238095238,17.857142857142858,4.7619047619047619,null,null,null,null,null,{"$f":"_xlfn.LET(_xlpm.Start,COLUMN($I$1),_xlpm.Ende,COLUMN($GY$1),_xlpm.Anzahl,INT((_xlpm.Ende-_xlpm.Start)/4)+1,_xlpm.Spalten,_xlpm.Start+4*_xlfn.SEQUENCE(1,_xlpm.Anzahl,0,1),_xlpm.Namen1,INDEX($4:$4,1,_xlpm.Spalten)&\" \"&INDEX($5:$5,1,_xlpm.Spalten),_xlpm.Punkte1,INDEX(43:43,1,_xlpm.Spalten+2),_xlpm.Namen2,INDEX($85:$85,1,_xlpm.Spalten)&\" \"&INDEX($86:$86,1,_xlpm.Spalten),_xlpm.Punkte2,INDEX(124:124,1,_xlpm.Spalten+2),_xlfn.TEXTJOIN(\", \",TRUE,_xlfn._xlws.FILTER(_xlfn.HSTACK(_xlpm.Namen1,_xlpm.Namen2),_xlfn.HSTACK(_xlpm.Punkte1,_xlpm.Punkte2)=10,\"\")))","v":""},null,{"$f":"_xlfn.LET(_xlpm.Start,COLUMN($I$1),_xlpm.Ende,COLUMN($GY$1),_xlpm.Anzahl,INT((_xlpm.Ende-_xlpm.Start)/4)+1,_xlpm.Spalten,_xlpm.Start+4*_xlfn.SEQUENCE(1,_xlpm.Anzahl,0,1),_xlpm.Namen1,INDEX($4:$4,1,_xlpm.Spalten)&\" \"&INDEX($5:$5,1,_xlpm.Spalten),_xlpm.Punkte1,INDEX(43:43,1,_xlpm.Spalten+2),_xlpm.Namen2,INDEX($85:$85,1,_xlpm.Spalten)&\" \"&INDEX($86:$86,1,_xlpm.Spalten),_xlpm.Punkte2,INDEX(124:124,1,_xlpm.Spalten+2),_xlfn.TEXTJOIN(\", \",TRUE,_xlfn._xlws.FILTER(_xlfn.HSTACK(_xlpm.Namen1,_xlpm.Namen2),_xlfn.HSTACK(_xlpm.Punkte1,_xlpm.Punkte2)=7,\"\")))","v":""}]
["Sa. 20. Jun.","06:00:00",36,"Tunesien","Japan",0,4,null,1,1,0,"X",1,1,0,"X",2,0,0,"A",2,0,0,"A",0,3,5,"B",0,2,5,"B",0,0,0,"X",2,1,0,"A",0,0,0,"X",1,0,0,"A",1,2,5,"B",1,3,5,"B",1,2,5,"B",1,2,5,"B",1,2,5,"B",0,1,5,"B",0,1,5,"B",0,1,5,"B",1,2,5,"B",1,2,5,"B",0,2,5,"B",1,1,0,"X",1,1,0,"X",1,1,0,"X",0,1,5,"B",1,2,5,"B",1,3,5,"B",0,1,5,"B",0,1,5,"B",1,0,0,"A",0,1,5,"B",2,1,0,"A",0,1,5,"B",0,1,5,"B",1,1,0,"X",1,2,5,"B",1,1,0,"X",1,3,5,"B",1,1,0,"X",0,1,5,"B",1,3,5,"B",1,3,5,"B",1,2,5,"B",1,3,5,"B",0,2,5,"B",0,1,5,"B",1,2,5,"B",0,2,5,"B",0,3,5,"B",1,1,0,"X",null,6,17,61,84,null,7.1428571428571432,20.238095238095237,72.61904761904762,null,null,null,null,null,{"$f":"_xlfn.LET(_xlpm.Start,COLUMN($I$1),_xlpm.Ende,COLUMN($GY$1),_xlpm.Anzahl,INT((_xlpm.Ende-_xlpm.Start)/4)+1,_xlpm.Spalten,_xlpm.Start+4*_xlfn.SEQUENCE(1,_xlpm.Anzahl,0,1),_xlpm.Namen1,INDEX($4:$4,1,_xlpm.Spalten)&\" \"&INDEX($5:$5,1,_xlpm.Spalten),_xlpm.Punkte1,INDEX(44:44,1,_xlpm.Spalten+2),_xlpm.Namen2,INDEX($85:$85,1,_xlpm.Spalten)&\" \"&INDEX($86:$86,1,_xlpm.Spalten),_xlpm.Punkte2,INDEX(125:125,1,_xlpm.Spalten+2),_xlfn.TEXTJOIN(\", \",TRUE,_xlfn._xlws.FILTER(_xlfn.HSTACK(_xlpm.Namen1,_xlpm.Namen2),_xlfn.HSTACK(_xlpm.Punkte1,_xlpm.Punkte2)=10,\"\")))","v":""},null,{"$f":"_xlfn.LET(_xlpm.Start,COLUMN($I$1),_xlpm.Ende,COLUMN($GY$1),_xlpm.Anzahl,INT((_xlpm.Ende-_xlpm.Start)/4)+1,_xlpm.Spalten,_xlpm.Start+4*_xlfn.SEQUENCE(1,_xlpm.Anzahl,0,1),_xlpm.Namen1,INDEX($4:$4,1,_xlpm.Spalten)&\" \"&INDEX($5:$5,1,_xlpm.Spalten),_xlpm.Punkte1,INDEX(44:44,1,_xlpm.Spalten+2),_xlpm.Namen2,INDEX($85:$85,1,_xlpm.Spalten)&\" \"&INDEX($86:$86,1,_xlpm.Spalten),_xlpm.Punkte2,INDEX(125:125,1,_xlpm.Spalten+2),_xlfn.TEXTJOIN(\", \",TRUE,_xlfn._xlws.FILTER(_xlfn.HSTACK(_xlpm.Namen1,_xlpm.Namen2),_xlfn.HSTACK(_xlpm.Punkte1,_xlpm.Punkte2)=7,\"\")))","v":""}]
["Mo. 22. Jun.","00:00:00",37,"Uruguay","Kap Verde",2,2,null,2,1,0,"A",2,0,0,"A",1,0,0,"A",3,0,0,"A",3,1,0,"A",2,1,0,"A",3,0,0,"A",2,0,0,"A",1,0,0,"A",2,0,0,"A",3,1,0,"A",3,0,0,"A",2,0,0,"A",2,0,0,"A",2,0,0,"A",4,0,0,"A",2,0,0,"A",2,0,0,"A",1,0,0,"A",3,1,0,"A",3,1,0,"A",3,0,0,"A",4,1,0,"A",5,0,0,"A",2,0,0,"A",2,0,0,"A",2,0,0,"A",2,0,0,"A",3,0,0,"A",1,1,7,"X",2,2,10,"X",3,2,0,"A",3,0,0,"A",1,0,0,"A",3,0,0,"A",3,0,0,"A",1,0,0,"A",2,1,0,"A",2,0,0,"A",3,1,0,"A",3,0,0,"A",3,0,0,"A",3,1,0,"A",3,1,0,"A",2,0,0,"A",1,0,0,"A",2,1,0,"A",2,0,0,"A",1,0,0,"A",2,0,0,"A",null,80,4,0,84,null,95.238095238095241,4.7619047619047619,0,null,null,null,null,null,{"$f":"_xlfn.LET(_xlpm.Start,COLUMN($I$1),_xlpm.Ende,COLUMN($GY$1),_xlpm.Anzahl,INT((_xlpm.Ende-_xlpm.Start)/4)+1,_xlpm.Spalten,_xlpm.Start+4*_xlfn.SEQUENCE(1,_xlpm.Anzahl,0,1),_xlpm.Namen1,INDEX($4:$4,1,_xlpm.Spalten)&\" \"&INDEX($5:$5,1,_xlpm.Spalten),_xlpm.Punkte1,INDEX(45:45,1,_xlpm.Spalten+2),_xlpm.Namen2,INDEX($85:$85,1,_xlpm.Spalten)&\" \"&INDEX($86:$86,1,_xlpm.Spalten),_xlpm.Punkte2,INDEX(126:126,1,_xlpm.Spalten+2),_xlfn.TEXTJOIN(\", \",TRUE,_xlfn._xlws.FILTER(_xlfn.HSTACK(_xlpm.Namen1,_xlpm.Namen2),_xlfn.HSTACK(_xlpm.Punkte1,_xlpm.Punkte2)=10,\"\")))","v":"Rui Gomes"},null,{"$f":"_xlfn.LET(_xlpm.Start,COLUMN($I$1),_xlpm.Ende,COLUMN($GY$1),_xlpm.Anzahl,INT((_xlpm.Ende-_xlpm.Start)/4)+1,_xlpm.Spalten,_xlpm.Start+4*_xlfn.SEQUENCE(1,_xlpm.Anzahl,0,1),_xlpm.Namen1,INDEX($4:$4,1,_xlpm.Spalten)&\" \"&INDEX($5:$5,1,_xlpm.Spalten),_xlpm.Punkte1,INDEX(45:45,1,_xlpm.Spalten+2),_xlpm.Namen2,INDEX($85:$85,1,_xlpm.Spalten)&\" \"&INDEX($86:$86,1,_xlpm.Spalten),_xlpm.Punkte2,INDEX(126:126,1,_xlpm.Spalten+2),_xlfn.TEXTJOIN(\", \",TRUE,_xlfn._xlws.FILTER(_xlfn.HSTACK(_xlpm.Namen1,_xlpm.Namen2),_xlfn.HSTACK(_xlpm.Punkte1,_xlpm.Punkte2)=7,\"\")))","v":"Andreia Gomes, Lechena Pek, Evelyne Schenk"}]
["So. 21. Jun.","18:00:00",38,"Spanien","Saudi-Arabien",4,0,null,2,1,5,"A",3,1,5,"A",3,2,5,"A",2,0,5,"A",3,1,5,"A",4,1,5,"A",3,0,5,"A",4,1,5,"A",2,0,5,"A",4,0,10,"A",3,0,5,"A",2,0,5,"A",3,0,5,"A",2,1,5,"A",2,0,5,"A",5,0,5,"A",3,0,5,"A",2,0,5,"A",2,0,5,"A",2,0,5,"A",3,1,5,"A",3,1,5,"A",3,0,5,"A",3,0,5,"A",3,0,5,"A",3,0,5,"A",4,0,10,"A",2,0,5,"A",2,0,5,"A",1,0,5,"A",5,1,7,"A",3,2,5,"A",3,0,5,"A",2,0,5,"A",3,0,5,"A",4,0,10,"A",3,0,5,"A",2,1,5,"A",4,0,10,"A",2,0,5,"A",3,0,5,"A",3,0,5,"A",3,0,5,"A",4,1,5,"A",1,0,5,"A",1,0,5,"A",2,1,5,"A",3,0,5,"A",3,1,5,"A",3,0,5,"A",null,84,0,0,84,null,100,0,0,null,null,null,null,null,{"$f":"_xlfn.LET(_xlpm.Start,COLUMN($I$1),_xlpm.Ende,COLUMN($GY$1),_xlpm.Anzahl,INT((_xlpm.Ende-_xlpm.Start)/4)+1,_xlpm.Spalten,_xlpm.Start+4*_xlfn.SEQUENCE(1,_xlpm.Anzahl,0,1),_xlpm.Namen1,INDEX($4:$4,1,_xlpm.Spalten)&\" \"&INDEX($5:$5,1,_xlpm.Spalten),_xlpm.Punkte1,INDEX(46:46,1,_xlpm.Spalten+2),_xlpm.Namen2,INDEX($85:$85,1,_xlpm.Spalten)&\" \"&INDEX($86:$86,1,_xlpm.Spalten),_xlpm.Punkte2,INDEX(127:127,1,_xlpm.Spalten+2),_xlfn.TEXTJOIN(\", \",TRUE,_xlfn._xlws.FILTER(_xlfn.HSTACK(_xlpm.Namen1,_xlpm.Namen2),_xlfn.HSTACK(_xlpm.Punkte1,_xlpm.Punkte2)=10,\"\")))","v":"Roger Bartholet, Armin Duvnjak, Robin Gygli, Stefan Gygli, Philipp Meyer, Lea Treichler, Christoph Wälti"},null,{"$f":"_xlfn.LET(_xlpm.Start,COLUMN($I$1),_xlpm.Ende,COLUMN($GY$1),_xlpm.Anzahl,INT((_xlpm.Ende-_xlpm.Start)/4)+1,_xlpm.Spalten,_xlpm.Start+4*_xlfn.SEQUENCE(1,_xlpm.Anzahl,0,1),_xlpm.Namen1,INDEX($4:$4,1,_xlpm.Spalten)&\" \"&INDEX($5:$5,1,_xlpm.Spalten),_xlpm.Punkte1,INDEX(46:46,1,_xlpm.Spalten+2),_xlpm.Namen2,INDEX($85:$85,1,_xlpm.Spalten)&\" \"&INDEX($86:$86,1,_xlpm.Spalten),_xlpm.Punkte2,INDEX(127:127,1,_xlpm.Spalten+2),_xlfn.TEXTJOIN(\", \",TRUE,_xlfn._xlws.FILTER(_xlfn.HSTACK(_xlpm.Namen1,_xlpm.Namen2),_xlfn.HSTACK(_xlpm.Punkte1,_xlpm.Punkte2)=7,\"\")))","v":"Rui Gomes, Ralph Schuster, Stefan Zachmann"}]
["So. 21. Jun.","21:00:00",39,"Belgien","Iran",0,0,null,2,1,0,"A",2,1,0,"A",1,0,0,"A",3,1,0,"A",2,1,0,"A",3,0,0,"A",3,0,0,"A",2,1,0,"A",1,0,0,"A",1,0,0,"A",2,1,0,"A",3,1,0,"A",2,0,0,"A",0,1,0,"B",3,1,0,"A",4,0,0,"A",2,0,0,"A",2,0,0,"A",2,0,0,"A",2,0,0,"A",2,1,0,"A",2,0,0,"A",2,1,0,"A",2,0,0,"A",1,0,0,"A",2,1,0,"A",3,0,0,"A",1,0,0,"A",1,0,0,"A",1,0,0,"A",2,1,0,"A",2,1,0,"A",2,0,0,"A",2,1,0,"A",3,1,0,"A",2,0,0,"A",1,1,7,"X",1,0,0,"A",2,0,0,"A",2,1,0,"A",3,1,0,"A",2,0,0,"A",2,0,0,"A",3,1,0,"A",1,0,0,"A",1,0,0,"A",2,1,0,"A",3,1,0,"A",2,1,0,"A",2,1,0,"A",null,79,4,1,84,null,94.047619047619051,4.7619047619047619,1.1904761904761905,null,null,null,null,null,{"$f":"_xlfn.LET(_xlpm.Start,COLUMN($I$1),_xlpm.Ende,COLUMN($GY$1),_xlpm.Anzahl,INT((_xlpm.Ende-_xlpm.Start)/4)+1,_xlpm.Spalten,_xlpm.Start+4*_xlfn.SEQUENCE(1,_xlpm.Anzahl,0,1),_xlpm.Namen1,INDEX($4:$4,1,_xlpm.Spalten)&\" \"&INDEX($5:$5,1,_xlpm.Spalten),_xlpm.Punkte1,INDEX(47:47,1,_xlpm.Spalten+2),_xlpm.Namen2,INDEX($85:$85,1,_xlpm.Spalten)&\" \"&INDEX($86:$86,1,_xlpm.Spalten),_xlpm.Punkte2,INDEX(128:128,1,_xlpm.Spalten+2),_xlfn.TEXTJOIN(\", \",TRUE,_xlfn._xlws.FILTER(_xlfn.HSTACK(_xlpm.Namen1,_xlpm.Namen2),_xlfn.HSTACK(_xlpm.Punkte1,_xlpm.Punkte2)=10,\"\")))","v":""},null,{"$f":"_xlfn.LET(_xlpm.Start,COLUMN($I$1),_xlpm.Ende,COLUMN($GY$1),_xlpm.Anzahl,INT((_xlpm.Ende-_xlpm.Start)/4)+1,_xlpm.Spalten,_xlpm.Start+4*_xlfn.SEQUENCE(1,_xlpm.Anzahl,0,1),_xlpm.Namen1,INDEX($4:$4,1,_xlpm.Spalten)&\" \"&INDEX($5:$5,1,_xlpm.Spalten),_xlpm.Punkte1,INDEX(47:47,1,_xlpm.Spalten+2),_xlpm.Namen2,INDEX($85:$85,1,_xlpm.Spalten)&\" \"&INDEX($86:$86,1,_xlpm.Spalten),_xlpm.Punkte2,INDEX(128:128,1,_xlpm.Spalten+2),_xlfn.TEXTJOIN(\", \",TRUE,_xlfn._xlws.FILTER(_xlfn.HSTACK(_xlpm.Namen1,_xlpm.Namen2),_xlfn.HSTACK(_xlpm.Punkte1,_xlpm.Punkte2)=7,\"\")))","v":"Sarina Gygli, Ben Marthaler, Lechena Pek, Evelyne Schenk"}]
["Mo. 22. Jun.","03:00:00",40,"Neuseeland","Ägypten",1,3,null,1,2,5,"B",1,2,5,"B",1,1,0,"X",0,3,5,"B",0,2,7,"B",1,3,10,"B",0,1,5,"B",2,2,0,"X",1,1,0,"X",1,2,5,"B",1,2,5,"B",1,2,5,"B",1,2,5,"B",0,1,5,"B",1,1,0,"X",1,3,10,"B",1,1,0,"X",0,1,5,"B",1,1,0,"X",0,1,5,"B",1,2,5,"B",1,2,5,"B",1,3,10,"B",1,3,10,"B",0,1,5,"B",1,2,5,"B",1,3,10,"B",1,1,0,"X",0,1,5,"B",0,0,0,"X",1,1,0,"X",1,0,0,"A",0,0,0,"X",0,1,5,"B",1,1,0,"X",1,2,5,"B",1,0,0,"A",3,1,0,"A",1,1,0,"X",0,2,7,"B",0,2,7,"B",1,3,10,"B",2,2,0,"X",1,3,10,"B",0,1,5,"B",0,1,5,"B",0,1,5,"B",1,3,10,"B",1,1,0,"X",1,2,5,"B",null,5,24,55,84,null,5.9523809523809526,28.571428571428573,65.476190476190482,null,null,null,null,null,{"$f":"_xlfn.LET(_xlpm.Start,COLUMN($I$1),_xlpm.Ende,COLUMN($GY$1),_xlpm.Anzahl,INT((_xlpm.Ende-_xlpm.Start)/4)+1,_xlpm.Spalten,_xlpm.Start+4*_xlfn.SEQUENCE(1,_xlpm.Anzahl,0,1),_xlpm.Namen1,INDEX($4:$4,1,_xlpm.Spalten)&\" \"&INDEX($5:$5,1,_xlpm.Spalten),_xlpm.Punkte1,INDEX(48:48,1,_xlpm.Spalten+2),_xlpm.Namen2,INDEX($85:$85,1,_xlpm.Spalten)&\" \"&INDEX($86:$86,1,_xlpm.Spalten),_xlpm.Punkte2,INDEX(129:129,1,_xlpm.Spalten+2),_xlfn.TEXTJOIN(\", \",TRUE,_xlfn._xlws.FILTER(_xlfn.HSTACK(_xlpm.Namen1,_xlpm.Namen2),_xlfn.HSTACK(_xlpm.Punkte1,_xlpm.Punkte2)=10,\"\")))","v":"Peter Balazs, Nicolas Brunner, Niva D'Acunto, Vinci D'Acunto, Armin Duvnjak, Agnes Isenschmid, Michael Isenschmid, André Lanz, Martin Oroshi"},null,{"$f":"_xlfn.LET(_xlpm.Start,COLUMN($I$1),_xlpm.Ende,COLUMN($GY$1),_xlpm.Anzahl,INT((_xlpm.Ende-_xlpm.Start)/4)+1,_xlpm.Spalten,_xlpm.Start+4*_xlfn.SEQUENCE(1,_xlpm.Anzahl,0,1),_xlpm.Namen1,INDEX($4:$4,1,_xlpm.Spalten)&\" \"&INDEX($5:$5,1,_xlpm.Spalten),_xlpm.Punkte1,INDEX(48:48,1,_xlpm.Spalten+2),_xlpm.Namen2,INDEX($85:$85,1,_xlpm.Spalten)&\" \"&INDEX($86:$86,1,_xlpm.Spalten),_xlpm.Punkte2,INDEX(129:129,1,_xlpm.Spalten+2),_xlfn.TEXTJOIN(\", \",TRUE,_xlfn._xlws.FILTER(_xlfn.HSTACK(_xlpm.Namen1,_xlpm.Namen2),_xlfn.HSTACK(_xlpm.Punkte1,_xlpm.Punkte2)=7,\"\")))","v":"Ruben Antonelli, Timothy Gygli, Florian Haab, Elias Marty, Philipp Meyer, Martin Rohner, Martin Schawalder, Yannick Schilliger, Aleandro Silvestri, Armando Thormann, Reto Treichler"}]
["Di. 23. Jun.","02:00:00",41,"Norwegen","Senegal",3,2,null,1,1,0,"X",1,1,0,"X",1,0,7,"A",2,2,0,"X",2,2,0,"X",1,1,0,"X",3,1,5,"A",1,2,0,"B",1,1,0,"X",2,2,0,"X",1,2,0,"B",2,1,7,"A",2,1,7,"A",0,2,0,"B",1,2,0,"B",3,2,10,"A",2,1,7,"A",2,2,0,"X",1,0,7,"A",2,2,0,"X",2,2,0,"X",3,1,5,"A",2,1,7,"A",2,1,7,"A",1,1,0,"X",2,0,5,"A",2,2,0,"X",2,1,7,"A",1,0,7,"A",1,0,7,"A",2,0,5,"A",2,1,7,"A",2,0,5,"A",1,1,0,"X",1,1,0,"X",1,2,0,"B",2,1,7,"A",0,3,0,"B",1,2,0,"B",1,1,0,"X",2,1,7,"A",2,0,5,"A",2,1,7,"A",1,3,0,"B",1,1,0,"X",0,1,0,"B",1,0,7,"A",2,1,7,"A",2,1,7,"A",3,1,5,"A",null,39,29,16,84,null,46.428571428571431,34.523809523809526,19.047619047619047,null,null,null,null,null,{"$f":"_xlfn.LET(_xlpm.Start,COLUMN($I$1),_xlpm.Ende,COLUMN($GY$1),_xlpm.Anzahl,INT((_xlpm.Ende-_xlpm.Start)/4)+1,_xlpm.Spalten,_xlpm.Start+4*_xlfn.SEQUENCE(1,_xlpm.Anzahl,0,1),_xlpm.Namen1,INDEX($4:$4,1,_xlpm.Spalten)&\" \"&INDEX($5:$5,1,_xlpm.Spalten),_xlpm.Punkte1,INDEX(49:49,1,_xlpm.Spalten+2),_xlpm.Namen2,INDEX($85:$85,1,_xlpm.Spalten)&\" \"&INDEX($86:$86,1,_xlpm.Spalten),_xlpm.Punkte2,INDEX(130:130,1,_xlpm.Spalten+2),_xlfn.TEXTJOIN(\", \",TRUE,_xlfn._xlws.FILTER(_xlfn.HSTACK(_xlpm.Namen1,_xlpm.Namen2),_xlfn.HSTACK(_xlpm.Punkte1,_xlpm.Punkte2)=10,\"\")))","v":"Nicolas Brunner, Lynn Rüegg"},null,{"$f":"_xlfn.LET(_xlpm.Start,COLUMN($I$1),_xlpm.Ende,COLUMN($GY$1),_xlpm.Anzahl,INT((_xlpm.Ende-_xlpm.Start)/4)+1,_xlpm.Spalten,_xlpm.Start+4*_xlfn.SEQUENCE(1,_xlpm.Anzahl,0,1),_xlpm.Namen1,INDEX($4:$4,1,_xlpm.Spalten)&\" \"&INDEX($5:$5,1,_xlpm.Spalten),_xlpm.Punkte1,INDEX(49:49,1,_xlpm.Spalten+2),_xlpm.Namen2,INDEX($85:$85,1,_xlpm.Spalten)&\" \"&INDEX($86:$86,1,_xlpm.Spalten),_xlpm.Punkte2,INDEX(130:130,1,_xlpm.Spalten+2),_xlfn.TEXTJOIN(\", \",TRUE,_xlfn._xlws.FILTER(_xlfn.HSTACK(_xlpm.Namen1,_xlpm.Namen2),_xlfn.HSTACK(_xlpm.Punkte1,_xlpm.Punkte2)=7,\"\")))","v":"Ambra Antonelli, Pongsapat Nott Boonaek, Michael Bosshart, Philip Brunner, Oli Christiansen, Niva D'Acunto, Vinci D'Acunto, Dino Duvnjak, Djuma Duvnjak, Andreia Gomes, Deliz González, Sarina Gygli, Florian Haab, Andreas Isenschmid, Tanja Kistler, André Lanz, Franz Lischer, Michael Prucha, Petra Rauscher, Martin Rohner, Ivo und Brigitte Rüdemann, Sabine Rüegg, Aleandro Silvestri, Armando Thormann, Jingwen Wang, Stefan Wullschleger, Stefan Zachmann"}]
["Mo. 22. Jun.","23:00:00",42,"Frankreich","Irak",3,0,null,2,1,5,"A",2,0,5,"A",3,0,10,"A",3,1,5,"A",3,0,10,"A",4,0,5,"A",2,0,5,"A",3,1,5,"A",2,0,5,"A",3,0,10,"A",4,0,5,"A",4,0,5,"A",3,0,10,"A",3,0,10,"A",2,0,5,"A",5,0,5,"A",3,0,10,"A",2,0,5,"A",2,0,5,"A",2,0,5,"A",3,0,10,"A",3,1,5,"A",3,1,5,"A",3,1,5,"A",3,0,10,"A",3,0,10,"A",4,0,5,"A",2,0,5,"A",2,0,5,"A",2,0,5,"A",3,0,10,"A",1,0,5,"A",4,0,5,"A",3,0,10,"A",3,1,5,"A",3,0,10,"A",3,1,5,"A",3,2,5,"A",3,0,10,"A",4,0,5,"A",3,0,10,"A",3,0,10,"A",3,0,10,"A",3,1,5,"A",2,0,5,"A",1,0,5,"A",2,1,5,"A",3,0,10,"A",3,0,10,"A",4,0,5,"A",null,84,0,0,84,null,100,0,0,null,null,null,null,null,{"$f":"_xlfn.LET(_xlpm.Start,COLUMN($I$1),_xlpm.Ende,COLUMN($GY$1),_xlpm.Anzahl,INT((_xlpm.Ende-_xlpm.Start)/4)+1,_xlpm.Spalten,_xlpm.Start+4*_xlfn.SEQUENCE(1,_xlpm.Anzahl,0,1),_xlpm.Namen1,INDEX($4:$4,1,_xlpm.Spalten)&\" \"&INDEX($5:$5,1,_xlpm.Spalten),_xlpm.Punkte1,INDEX(50:50,1,_xlpm.Spalten+2),_xlpm.Namen2,INDEX($85:$85,1,_xlpm.Spalten)&\" \"&INDEX($86:$86,1,_xlpm.Spalten),_xlpm.Punkte2,INDEX(131:131,1,_xlpm.Spalten+2),_xlfn.TEXTJOIN(\", \",TRUE,_xlfn._xlws.FILTER(_xlfn.HSTACK(_xlpm.Namen1,_xlpm.Namen2),_xlfn.HSTACK(_xlpm.Punkte1,_xlpm.Punkte2)=10,\"\")))","v":"Ambra Antonelli, Ruben Antonelli, Roger Bartholet, Michael Bosshart, Manfred Brunner, Philip Brunner, Leo Rodrigues da Costa, Rafael Derungs, Goran Djukic, Rui Gomes, Laurent Grosse, Robin Gygli, Stefan Gygli, Florian Haab, Agnes Isenschmid, Andreas Isenschmid, André Lanz, Franz Lischer, Nicolas Mack, Petra Rauscher, Martin Rohner, Martin Schawalder, Yannick Schilliger, Erich Schommarz, Aleandro Silvestri, Markus Wagner, Marc Walthard, Jingwen Wang"},null,{"$f":"_xlfn.LET(_xlpm.Start,COLUMN($I$1),_xlpm.Ende,COLUMN($GY$1),_xlpm.Anzahl,INT((_xlpm.Ende-_xlpm.Start)/4)+1,_xlpm.Spalten,_xlpm.Start+4*_xlfn.SEQUENCE(1,_xlpm.Anzahl,0,1),_xlpm.Namen1,INDEX($4:$4,1,_xlpm.Spalten)&\" \"&INDEX($5:$5,1,_xlpm.Spalten),_xlpm.Punkte1,INDEX(50:50,1,_xlpm.Spalten+2),_xlpm.Namen2,INDEX($85:$85,1,_xlpm.Spalten)&\" \"&INDEX($86:$86,1,_xlpm.Spalten),_xlpm.Punkte2,INDEX(131:131,1,_xlpm.Spalten+2),_xlfn.TEXTJOIN(\", \",TRUE,_xlfn._xlws.FILTER(_xlfn.HSTACK(_xlpm.Namen1,_xlpm.Namen2),_xlfn.HSTACK(_xlpm.Punkte1,_xlpm.Punkte2)=7,\"\")))","v":"Elias Marty, Ralph Schuster"}]
["Mo. 22. Jun.","19:00:00",43,"Argentinien","Österreich",2,0,null,2,1,5,"A",3,1,7,"A",3,1,7,"A",2,1,5,"A",0,1,0,"B",3,1,7,"A",2,0,10,"A",4,2,7,"A",2,0,10,"A",2,0,10,"A",2,1,5,"A",2,0,10,"A",2,1,5,"A",1,1,0,"X",3,1,7,"A",3,1,7,"A",1,1,0,"X",1,0,5,"A",2,1,5,"A",3,1,7,"A",3,1,7,"A",2,0,10,"A",3,2,5,"A",3,1,7,"A",2,1,5,"A",2,0,10,"A",2,1,5,"A",2,1,5,"A",2,1,5,"A",1,0,5,"A",1,1,0,"X",1,1,0,"X",1,0,5,"A",2,0,10,"A",2,1,5,"A",2,1,5,"A",1,0,5,"A",4,2,7,"A",1,1,0,"X",2,1,5,"A",3,1,7,"A",2,2,0,"X",2,1,5,"A",3,1,7,"A",1,0,5,"A",1,0,5,"A",2,0,10,"A",3,0,5,"A",2,0,10,"A",3,1,7,"A",null,72,10,2,84,null,85.714285714285708,11.904761904761905,2.3809523809523809,null,null,null,null,null,{"$f":"_xlfn.LET(_xlpm.Start,COLUMN($I$1),_xlpm.Ende,COLUMN($GY$1),_xlpm.Anzahl,INT((_xlpm.Ende-_xlpm.Start)/4)+1,_xlpm.Spalten,_xlpm.Start+4*_xlfn.SEQUENCE(1,_xlpm.Anzahl,0,1),_xlpm.Namen1,INDEX($4:$4,1,_xlpm.Spalten)&\" \"&INDEX($5:$5,1,_xlpm.Spalten),_xlpm.Punkte1,INDEX(51:51,1,_xlpm.Spalten+2),_xlpm.Namen2,INDEX($85:$85,1,_xlpm.Spalten)&\" \"&INDEX($86:$86,1,_xlpm.Spalten),_xlpm.Punkte2,INDEX(132:132,1,_xlpm.Spalten+2),_xlfn.TEXTJOIN(\", \",TRUE,_xlfn._xlws.FILTER(_xlfn.HSTACK(_xlpm.Namen1,_xlpm.Namen2),_xlfn.HSTACK(_xlpm.Punkte1,_xlpm.Punkte2)=10,\"\")))","v":"André Bartholet, Philippe Bartholet, Roger Bartholet, Pongsapat Nott Boonaek, Lisa D'Acunto, Goran Djukic, Laurent Grosse, Tanja Kistler, Franz Lischer, Nicolas Mack, Elias Marty, Julian Merkli, Martin Rohner, Ivo und Brigitte Rüdemann, Martin Schawalder, Markus Wagner"},null,{"$f":"_xlfn.LET(_xlpm.Start,COLUMN($I$1),_xlpm.Ende,COLUMN($GY$1),_xlpm.Anzahl,INT((_xlpm.Ende-_xlpm.Start)/4)+1,_xlpm.Spalten,_xlpm.Start+4*_xlfn.SEQUENCE(1,_xlpm.Anzahl,0,1),_xlpm.Namen1,INDEX($4:$4,1,_xlpm.Spalten)&\" \"&INDEX($5:$5,1,_xlpm.Spalten),_xlpm.Punkte1,INDEX(51:51,1,_xlpm.Spalten+2),_xlpm.Namen2,INDEX($85:$85,1,_xlpm.Spalten)&\" \"&INDEX($86:$86,1,_xlpm.Spalten),_xlpm.Punkte2,INDEX(132:132,1,_xlpm.Spalten+2),_xlfn.TEXTJOIN(\", \",TRUE,_xlfn._xlws.FILTER(_xlfn.HSTACK(_xlpm.Namen1,_xlpm.Namen2),_xlfn.HSTACK(_xlpm.Punkte1,_xlpm.Punkte2)=7,\"\")))","v":"Yiannis Agorastos, Ambra Antonelli, Peter Balazs, Aya Bartholet, Manuel Brunner, Nicolas Brunner, Javier Cruz, Leo Rodrigues da Costa, Vinci D'Acunto, Selina Gygli, Florian Haab, Michael Isenschmid, Marc Lütolf, Philipp Meyer, Telmo Oliveira, Petra Rauscher, Evelyne Schenk"}]
["Di. 23. Jun.","05:00:00",44,"Jordanien","Algerien",1,2,null,1,2,10,"B",1,1,0,"X",0,0,0,"X",0,3,5,"B",0,2,5,"B",1,2,10,"B",0,1,7,"B",1,1,0,"X",1,1,0,"X",0,1,7,"B",1,2,10,"B",0,1,7,"B",1,1,0,"X",0,1,7,"B",1,1,0,"X",0,2,5,"B",1,1,0,"X",0,1,7,"B",0,0,0,"X",1,1,0,"X",0,2,5,"B",1,1,0,"X",0,1,7,"B",0,1,7,"B",0,1,7,"B",1,4,5,"B",0,3,5,"B",0,1,7,"B",0,1,7,"B",1,1,0,"X",0,0,0,"X",3,0,0,"A",0,0,0,"X",1,1,0,"X",1,2,10,"B",0,1,7,"B",1,1,0,"X",1,2,10,"B",0,2,5,"B",1,1,0,"X",0,2,5,"B",1,3,5,"B",1,2,10,"B",1,3,5,"B",0,1,7,"B",0,1,7,"B",2,1,0,"A",2,2,0,"X",1,1,0,"X",0,1,7,"B",null,3,26,55,84,null,3.5714285714285716,30.952380952380953,65.476190476190482,null,null,null,null,null,{"$f":"_xlfn.LET(_xlpm.Start,COLUMN($I$1),_xlpm.Ende,COLUMN($GY$1),_xlpm.Anzahl,INT((_xlpm.Ende-_xlpm.Start)/4)+1,_xlpm.Spalten,_xlpm.Start+4*_xlfn.SEQUENCE(1,_xlpm.Anzahl,0,1),_xlpm.Namen1,INDEX($4:$4,1,_xlpm.Spalten)&\" \"&INDEX($5:$5,1,_xlpm.Spalten),_xlpm.Punkte1,INDEX(52:52,1,_xlpm.Spalten+2),_xlpm.Namen2,INDEX($85:$85,1,_xlpm.Spalten)&\" \"&INDEX($86:$86,1,_xlpm.Spalten),_xlpm.Punkte2,INDEX(133:133,1,_xlpm.Spalten+2),_xlfn.TEXTJOIN(\", \",TRUE,_xlfn._xlws.FILTER(_xlfn.HSTACK(_xlpm.Namen1,_xlpm.Namen2),_xlfn.HSTACK(_xlpm.Punkte1,_xlpm.Punkte2)=10,\"\")))","v":"Panos Agorastos, Peter Balazs, Mara Beck, Reto Gygli, Selina Gygli, Andreas Isenschmid, Nicolas Mack, Ben Marthaler, Philipp Meyer, Martin Oroshi, Petra Rauscher, Michael Rüegg, Reto Treichler, Stefan Wullschleger"},null,{"$f":"_xlfn.LET(_xlpm.Start,COLUMN($I$1),_xlpm.Ende,COLUMN($GY$1),_xlpm.Anzahl,INT((_xlpm.Ende-_xlpm.Start)/4)+1,_xlpm.Spalten,_xlpm.Start+4*_xlfn.SEQUENCE(1,_xlpm.Anzahl,0,1),_xlpm.Namen1,INDEX($4:$4,1,_xlpm.Spalten)&\" \"&INDEX($5:$5,1,_xlpm.Spalten),_xlpm.Punkte1,INDEX(52:52,1,_xlpm.Spalten+2),_xlpm.Namen2,INDEX($85:$85,1,_xlpm.Spalten)&\" \"&INDEX($86:$86,1,_xlpm.Spalten),_xlpm.Punkte2,INDEX(133:133,1,_xlpm.Spalten+2),_xlfn.TEXTJOIN(\", \",TRUE,_xlfn._xlws.FILTER(_xlfn.HSTACK(_xlpm.Namen1,_xlpm.Namen2),_xlfn.HSTACK(_xlpm.Punkte1,_xlpm.Punkte2)=7,\"\")))","v":"André Bartholet, Roger Bartholet, Pongsapat Nott Boonaek, Manfred Brunner, André Burkart, Niva D'Acunto, Vinci D'Acunto, Rafael Derungs, Dino Duvnjak, Djuma Duvnjak, Robin Gygli, Aiden Jones, Pascal Keller, Marc Lütolf, Ivo und Brigitte Rüdemann, Lynn Rüegg, Sabine Rüegg, Ralph Schuster, Aleandro Silvestri, Lea Treichler, Marc Walthard"}]
["Di. 23. Jun.","22:00:00",45,"England","Ghana",0,0,null,2,1,0,"A",2,1,0,"A",2,1,0,"A",3,2,0,"A",3,1,0,"A",2,1,0,"A",1,0,0,"A",2,1,0,"A",2,1,0,"A",3,0,0,"A",4,0,0,"A",2,1,0,"A",2,0,0,"A",3,0,0,"A",2,0,0,"A",4,0,0,"A",3,1,0,"A",1,1,7,"X",2,0,0,"A",2,2,7,"X",3,1,0,"A",2,0,0,"A",2,0,0,"A",2,0,0,"A",1,1,7,"X",3,1,0,"A",2,0,0,"A",2,0,0,"A",2,0,0,"A",2,1,0,"A",3,1,0,"A",2,2,7,"X",2,1,0,"A",2,1,0,"A",2,1,0,"A",2,0,0,"A",2,1,0,"A",2,0,0,"A",2,0,0,"A",2,1,0,"A",3,0,0,"A",3,0,0,"A",2,1,0,"A",3,1,0,"A",1,0,0,"A",1,0,0,"A",2,0,0,"A",2,0,0,"A",3,0,0,"A",3,0,0,"A",null,75,7,2,84,null,89.285714285714292,8.3333333333333339,2.3809523809523809,null,null,null,null,null,{"$f":"_xlfn.LET(_xlpm.Start,COLUMN($I$1),_xlpm.Ende,COLUMN($GY$1),_xlpm.Anzahl,INT((_xlpm.Ende-_xlpm.Start)/4)+1,_xlpm.Spalten,_xlpm.Start+4*_xlfn.SEQUENCE(1,_xlpm.Anzahl,0,1),_xlpm.Namen1,INDEX($4:$4,1,_xlpm.Spalten)&\" \"&INDEX($5:$5,1,_xlpm.Spalten),_xlpm.Punkte1,INDEX(53:53,1,_xlpm.Spalten+2),_xlpm.Namen2,INDEX($85:$85,1,_xlpm.Spalten)&\" \"&INDEX($86:$86,1,_xlpm.Spalten),_xlpm.Punkte2,INDEX(134:134,1,_xlpm.Spalten+2),_xlfn.TEXTJOIN(\", \",TRUE,_xlfn._xlws.FILTER(_xlfn.HSTACK(_xlpm.Namen1,_xlpm.Namen2),_xlfn.HSTACK(_xlpm.Punkte1,_xlpm.Punkte2)=10,\"\")))","v":""},null,{"$f":"_xlfn.LET(_xlpm.Start,COLUMN($I$1),_xlpm.Ende,COLUMN($GY$1),_xlpm.Anzahl,INT((_xlpm.Ende-_xlpm.Start)/4)+1,_xlpm.Spalten,_xlpm.Start+4*_xlfn.SEQUENCE(1,_xlpm.Anzahl,0,1),_xlpm.Namen1,INDEX($4:$4,1,_xlpm.Spalten)&\" \"&INDEX($5:$5,1,_xlpm.Spalten),_xlpm.Punkte1,INDEX(53:53,1,_xlpm.Spalten+2),_xlpm.Namen2,INDEX($85:$85,1,_xlpm.Spalten)&\" \"&INDEX($86:$86,1,_xlpm.Spalten),_xlpm.Punkte2,INDEX(134:134,1,_xlpm.Spalten+2),_xlfn.TEXTJOIN(\", \",TRUE,_xlfn._xlws.FILTER(_xlfn.HSTACK(_xlpm.Namen1,_xlpm.Namen2),_xlfn.HSTACK(_xlpm.Punkte1,_xlpm.Punkte2)=7,\"\")))","v":"André Burkart, Javier Cruz, Rafael Derungs, Deliz González, Julian Merkli, Lechena Pek, Stefan Principe"}]
["Mi. 24. Jun.","01:00:00",46,"Panama","Kroatien",0,1,null,1,2,7,"B",1,3,5,"B",1,0,0,"A",0,2,5,"B",0,3,5,"B",1,3,5,"B",0,1,10,"B",0,1,10,"B",0,1,10,"B",0,3,5,"B",1,3,5,"B",1,3,5,"B",0,2,5,"B",1,4,5,"B",1,3,5,"B",1,3,5,"B",1,2,7,"B",0,1,10,"B",0,3,5,"B",0,2,5,"B",1,3,5,"B",1,2,7,"B",1,2,7,"B",0,1,10,"B",0,2,5,"B",0,2,5,"B",0,3,5,"B",0,1,10,"B",0,2,5,"B",1,2,7,"B",0,2,5,"B",1,2,7,"B",0,2,5,"B",0,2,5,"B",0,2,5,"B",0,2,5,"B",0,1,10,"B",1,2,7,"B",0,1,10,"B",0,2,5,"B",0,3,5,"B",0,2,5,"B",0,3,5,"B",1,3,5,"B",0,1,10,"B",0,1,10,"B",1,2,7,"B",1,2,7,"B",0,1,10,"B",0,3,5,"B",null,2,2,80,84,null,2.3809523809523809,2.3809523809523809,95.238095238095241,null,null,null,null,null,{"$f":"_xlfn.LET(_xlpm.Start,COLUMN($I$1),_xlpm.Ende,COLUMN($GY$1),_xlpm.Anzahl,INT((_xlpm.Ende-_xlpm.Start)/4)+1,_xlpm.Spalten,_xlpm.Start+4*_xlfn.SEQUENCE(1,_xlpm.Anzahl,0,1),_xlpm.Namen1,INDEX($4:$4,1,_xlpm.Spalten)&\" \"&INDEX($5:$5,1,_xlpm.Spalten),_xlpm.Punkte1,INDEX(54:54,1,_xlpm.Spalten+2),_xlpm.Namen2,INDEX($85:$85,1,_xlpm.Spalten)&\" \"&INDEX($86:$86,1,_xlpm.Spalten),_xlpm.Punkte2,INDEX(135:135,1,_xlpm.Spalten+2),_xlfn.TEXTJOIN(\", \",TRUE,_xlfn._xlws.FILTER(_xlfn.HSTACK(_xlpm.Namen1,_xlpm.Namen2),_xlfn.HSTACK(_xlpm.Punkte1,_xlpm.Punkte2)=10,\"\")))","v":"André Bartholet, Aya Bartholet, Philippe Bartholet, André Burkart, Vinci D'Acunto, Dino Duvnjak, Sarina Gygli, Stefan Gygli, Aiden Jones, Pascal Keller, Franz Lischer, Bruno Silva"},null,{"$f":"_xlfn.LET(_xlpm.Start,COLUMN($I$1),_xlpm.Ende,COLUMN($GY$1),_xlpm.Anzahl,INT((_xlpm.Ende-_xlpm.Start)/4)+1,_xlpm.Spalten,_xlpm.Start+4*_xlfn.SEQUENCE(1,_xlpm.Anzahl,0,1),_xlpm.Namen1,INDEX($4:$4,1,_xlpm.Spalten)&\" \"&INDEX($5:$5,1,_xlpm.Spalten),_xlpm.Punkte1,INDEX(54:54,1,_xlpm.Spalten+2),_xlpm.Namen2,INDEX($85:$85,1,_xlpm.Spalten)&\" \"&INDEX($86:$86,1,_xlpm.Spalten),_xlpm.Punkte2,INDEX(135:135,1,_xlpm.Spalten+2),_xlfn.TEXTJOIN(\", \",TRUE,_xlfn._xlws.FILTER(_xlfn.HSTACK(_xlpm.Namen1,_xlpm.Namen2),_xlfn.HSTACK(_xlpm.Punkte1,_xlpm.Punkte2)=7,\"\")))","v":"Panos Agorastos, Philip Brunner, Lisa D'Acunto, Niva D'Acunto, Andreia Gomes, Deliz González, Selina Gygli, Tanja Kistler, André Lanz, Martin Oroshi, Petra Rauscher, Martin Rohner, Michael Rüegg, Martin Schawalder, Yannick Schilliger, Marc Walthard"}]
["Di. 23. Jun.","19:00:00",47,"Portugal","Usbekistan",5,0,null,2,1,5,"A",3,0,5,"A",3,1,5,"A",4,0,5,"A",2,0,5,"A",4,0,5,"A",4,0,5,"A",3,1,5,"A",2,0,5,"A",4,0,5,"A",3,0,5,"A",3,1,5,"A",3,0,5,"A",4,0,5,"A",2,0,5,"A",6,0,5,"A",3,0,5,"A",2,0,5,"A",2,0,5,"A",3,0,5,"A",3,0,5,"A",3,0,5,"A",3,1,5,"A",2,0,5,"A",2,0,5,"A",4,1,5,"A",4,0,5,"A",2,0,5,"A",3,0,5,"A",2,0,5,"A",5,0,10,"A",2,0,5,"A",4,0,5,"A",3,0,5,"A",3,0,5,"A",3,0,5,"A",2,0,5,"A",3,1,5,"A",4,1,5,"A",2,0,5,"A",3,0,5,"A",2,0,5,"A",2,0,5,"A",3,1,5,"A",2,0,5,"A",1,0,5,"A",2,0,5,"A",3,1,5,"A",3,0,5,"A",2,0,5,"A",null,84,0,0,84,null,100,0,0,null,null,null,null,null,{"$f":"_xlfn.LET(_xlpm.Start,COLUMN($I$1),_xlpm.Ende,COLUMN($GY$1),_xlpm.Anzahl,INT((_xlpm.Ende-_xlpm.Start)/4)+1,_xlpm.Spalten,_xlpm.Start+4*_xlfn.SEQUENCE(1,_xlpm.Anzahl,0,1),_xlpm.Namen1,INDEX($4:$4,1,_xlpm.Spalten)&\" \"&INDEX($5:$5,1,_xlpm.Spalten),_xlpm.Punkte1,INDEX(55:55,1,_xlpm.Spalten+2),_xlpm.Namen2,INDEX($85:$85,1,_xlpm.Spalten)&\" \"&INDEX($86:$86,1,_xlpm.Spalten),_xlpm.Punkte2,INDEX(136:136,1,_xlpm.Spalten+2),_xlfn.TEXTJOIN(\", \",TRUE,_xlfn._xlws.FILTER(_xlfn.HSTACK(_xlpm.Namen1,_xlpm.Namen2),_xlfn.HSTACK(_xlpm.Punkte1,_xlpm.Punkte2)=10,\"\")))","v":"Rui Gomes, Lea Treichler, Stefan Zachmann"},null,{"$f":"_xlfn.LET(_xlpm.Start,COLUMN($I$1),_xlpm.Ende,COLUMN($GY$1),_xlpm.Anzahl,INT((_xlpm.Ende-_xlpm.Start)/4)+1,_xlpm.Spalten,_xlpm.Start+4*_xlfn.SEQUENCE(1,_xlpm.Anzahl,0,1),_xlpm.Namen1,INDEX($4:$4,1,_xlpm.Spalten)&\" \"&INDEX($5:$5,1,_xlpm.Spalten),_xlpm.Punkte1,INDEX(55:55,1,_xlpm.Spalten+2),_xlpm.Namen2,INDEX($85:$85,1,_xlpm.Spalten)&\" \"&INDEX($86:$86,1,_xlpm.Spalten),_xlpm.Punkte2,INDEX(136:136,1,_xlpm.Spalten+2),_xlfn.TEXTJOIN(\", \",TRUE,_xlfn._xlws.FILTER(_xlfn.HSTACK(_xlpm.Namen1,_xlpm.Namen2),_xlfn.HSTACK(_xlpm.Punkte1,_xlpm.Punkte2)=7,\"\")))","v":""}]
["Mi. 24. Jun.","04:00:00",48,"Kolumbien","DR Kongo",1,0,null,2,1,7,"A",3,0,5,"A",2,1,7,"A",3,0,5,"A",2,1,7,"A",2,1,7,"A",1,0,10,"A",1,1,0,"X",1,0,10,"A",2,1,7,"A",2,1,7,"A",2,1,7,"A",2,0,5,"A",2,0,5,"A",1,0,10,"A",3,1,5,"A",3,0,5,"A",2,0,5,"A",1,0,10,"A",1,1,0,"X",2,1,7,"A",2,1,7,"A",4,1,5,"A",4,1,5,"A",2,1,7,"A",2,0,5,"A",2,0,5,"A",2,0,5,"A",2,0,5,"A",1,0,10,"A",3,0,5,"A",3,2,7,"A",3,0,5,"A",1,1,0,"X",2,0,5,"A",2,1,7,"A",2,0,5,"A",0,3,0,"B",2,0,5,"A",0,0,0,"X",3,0,5,"A",1,1,0,"X",2,0,5,"A",3,1,5,"A",2,0,5,"A",1,0,10,"A",2,1,7,"A",2,0,5,"A",2,0,5,"A",2,1,7,"A",null,73,8,3,84,null,86.904761904761898,9.5238095238095237,3.5714285714285716,null,null,null,null,null,{"$f":"_xlfn.LET(_xlpm.Start,COLUMN($I$1),_xlpm.Ende,COLUMN($GY$1),_xlpm.Anzahl,INT((_xlpm.Ende-_xlpm.Start)/4)+1,_xlpm.Spalten,_xlpm.Start+4*_xlfn.SEQUENCE(1,_xlpm.Anzahl,0,1),_xlpm.Namen1,INDEX($4:$4,1,_xlpm.Spalten)&\" \"&INDEX($5:$5,1,_xlpm.Spalten),_xlpm.Punkte1,INDEX(56:56,1,_xlpm.Spalten+2),_xlpm.Namen2,INDEX($85:$85,1,_xlpm.Spalten)&\" \"&INDEX($86:$86,1,_xlpm.Spalten),_xlpm.Punkte2,INDEX(137:137,1,_xlpm.Spalten+2),_xlfn.TEXTJOIN(\", \",TRUE,_xlfn._xlws.FILTER(_xlfn.HSTACK(_xlpm.Namen1,_xlpm.Namen2),_xlfn.HSTACK(_xlpm.Punkte1,_xlpm.Punkte2)=10,\"\")))","v":"André Bartholet, Philippe Bartholet, Manuel Brunner, Oli Christiansen, Andreia Gomes, Pascal Keller, Bruno Silva"},null,{"$f":"_xlfn.LET(_xlpm.Start,COLUMN($I$1),_xlpm.Ende,COLUMN($GY$1),_xlpm.Anzahl,INT((_xlpm.Ende-_xlpm.Start)/4)+1,_xlpm.Spalten,_xlpm.Start+4*_xlfn.SEQUENCE(1,_xlpm.Anzahl,0,1),_xlpm.Namen1,INDEX($4:$4,1,_xlpm.Spalten)&\" \"&INDEX($5:$5,1,_xlpm.Spalten),_xlpm.Punkte1,INDEX(56:56,1,_xlpm.Spalten+2),_xlpm.Namen2,INDEX($85:$85,1,_xlpm.Spalten)&\" \"&INDEX($86:$86,1,_xlpm.Spalten),_xlpm.Punkte2,INDEX(137:137,1,_xlpm.Spalten+2),_xlfn.TEXTJOIN(\", \",TRUE,_xlfn._xlws.FILTER(_xlfn.HSTACK(_xlpm.Namen1,_xlpm.Namen2),_xlfn.HSTACK(_xlpm.Punkte1,_xlpm.Punkte2)=7,\"\")))","v":"Panos Agorastos, Ambra Antonelli, Ruben Antonelli, Peter Balazs, Roger Bartholet, Mara Beck, Pongsapat Nott Boonaek, Leo Rodrigues da Costa, Lisa D'Acunto, Rafael Derungs, Deliz González, Robin Gygli, Tanja Kistler, Marc Lütolf, Mauro Marini, Elias Marty, Martin Rohner, Martin Schawalder, Erich Schommarz, Aleandro Silvestri, Stefan Wullschleger, Stefan Zachmann"}]
["Do. 25. Jun.","00:00:00",49,"Schottland","Brasilien",0,3,null,1,2,5,"B",1,2,5,"B",0,2,5,"B",1,3,5,"B",1,3,5,"B",0,2,5,"B",0,2,5,"B",1,3,5,"B",0,2,5,"B",1,3,5,"B",0,2,5,"B",1,2,5,"B",1,3,5,"B",0,3,10,"B",0,2,5,"B",0,5,5,"B",1,2,5,"B",0,2,5,"B",1,3,5,"B",0,2,5,"B",1,3,5,"B",1,2,5,"B",1,3,5,"B",1,3,5,"B",0,2,5,"B",0,3,10,"B",1,3,5,"B",0,2,5,"B",0,2,5,"B",1,2,5,"B",1,3,5,"B",1,3,5,"B",0,3,10,"B",1,2,5,"B",1,3,5,"B",1,3,5,"B",1,2,5,"B",0,2,5,"B",0,2,5,"B",1,2,5,"B",0,3,10,"B",1,3,5,"B",1,3,5,"B",1,3,5,"B",1,1,0,"X",0,1,5,"B",1,2,5,"B",1,2,5,"B",1,2,5,"B",1,3,5,"B",null,0,3,81,84,null,0,3.5714285714285716,96.428571428571431,null,null,null,null,null,{"$f":"_xlfn.LET(_xlpm.Start,COLUMN($I$1),_xlpm.Ende,COLUMN($GY$1),_xlpm.Anzahl,INT((_xlpm.Ende-_xlpm.Start)/4)+1,_xlpm.Spalten,_xlpm.Start+4*_xlfn.SEQUENCE(1,_xlpm.Anzahl,0,1),_xlpm.Namen1,INDEX($4:$4,1,_xlpm.Spalten)&\" \"&INDEX($5:$5,1,_xlpm.Spalten),_xlpm.Punkte1,INDEX(57:57,1,_xlpm.Spalten+2),_xlpm.Namen2,INDEX($85:$85,1,_xlpm.Spalten)&\" \"&INDEX($86:$86,1,_xlpm.Spalten),_xlpm.Punkte2,INDEX(138:138,1,_xlpm.Spalten+2),_xlfn.TEXTJOIN(\", \",TRUE,_xlfn._xlws.FILTER(_xlfn.HSTACK(_xlpm.Namen1,_xlpm.Namen2),_xlfn.HSTACK(_xlpm.Punkte1,_xlpm.Punkte2)=10,\"\")))","v":"Manfred Brunner, Goran Djukic, Florian González, Florian Haab, Ben Marthaler, Lechena Pek"},null,{"$f":"_xlfn.LET(_xlpm.Start,COLUMN($I$1),_xlpm.Ende,COLUMN($GY$1),_xlpm.Anzahl,INT((_xlpm.Ende-_xlpm.Start)/4)+1,_xlpm.Spalten,_xlpm.Start+4*_xlfn.SEQUENCE(1,_xlpm.Anzahl,0,1),_xlpm.Namen1,INDEX($4:$4,1,_xlpm.Spalten)&\" \"&INDEX($5:$5,1,_xlpm.Spalten),_xlpm.Punkte1,INDEX(57:57,1,_xlpm.Spalten+2),_xlpm.Namen2,INDEX($85:$85,1,_xlpm.Spalten)&\" \"&INDEX($86:$86,1,_xlpm.Spalten),_xlpm.Punkte2,INDEX(138:138,1,_xlpm.Spalten+2),_xlfn.TEXTJOIN(\", \",TRUE,_xlfn._xlws.FILTER(_xlfn.HSTACK(_xlpm.Namen1,_xlpm.Namen2),_xlfn.HSTACK(_xlpm.Punkte1,_xlpm.Punkte2)=7,\"\")))","v":"Telmo Oliveira, Stefan Principe"}]
["Do. 25. Jun.","00:00:00",50,"Marokko","Haiti",4,2,null,2,1,5,"A",3,0,5,"A",3,1,7,"A",4,1,5,"A",3,0,5,"A",3,0,5,"A",3,0,5,"A",0,1,0,"B",2,1,5,"A",1,0,5,"A",3,0,5,"A",3,0,5,"A",2,1,5,"A",4,0,5,"A",2,1,5,"A",4,0,5,"A",3,0,5,"A",1,0,5,"A",2,0,7,"A",3,0,5,"A",3,0,5,"A",3,0,5,"A",1,0,5,"A",3,0,5,"A",2,0,7,"A",3,1,7,"A",3,0,5,"A",2,0,7,"A",2,0,7,"A",1,0,5,"A",3,1,7,"A",1,0,5,"A",2,0,7,"A",1,1,0,"X",2,0,7,"A",2,0,7,"A",1,0,5,"A",1,0,5,"A",2,0,7,"A",3,1,7,"A",3,0,5,"A",2,0,7,"A",2,1,5,"A",3,1,7,"A",2,0,7,"A",1,0,5,"A",3,0,5,"A",3,0,5,"A",1,1,0,"X",2,0,7,"A",null,80,3,1,84,null,95.238095238095241,3.5714285714285716,1.1904761904761905,null,null,null,null,null,{"$f":"_xlfn.LET(_xlpm.Start,COLUMN($I$1),_xlpm.Ende,COLUMN($GY$1),_xlpm.Anzahl,INT((_xlpm.Ende-_xlpm.Start)/4)+1,_xlpm.Spalten,_xlpm.Start+4*_xlfn.SEQUENCE(1,_xlpm.Anzahl,0,1),_xlpm.Namen1,INDEX($4:$4,1,_xlpm.Spalten)&\" \"&INDEX($5:$5,1,_xlpm.Spalten),_xlpm.Punkte1,INDEX(58:58,1,_xlpm.Spalten+2),_xlpm.Namen2,INDEX($85:$85,1,_xlpm.Spalten)&\" \"&INDEX($86:$86,1,_xlpm.Spalten),_xlpm.Punkte2,INDEX(139:139,1,_xlpm.Spalten+2),_xlfn.TEXTJOIN(\", \",TRUE,_xlfn._xlws.FILTER(_xlfn.HSTACK(_xlpm.Namen1,_xlpm.Namen2),_xlfn.HSTACK(_xlpm.Punkte1,_xlpm.Punkte2)=10,\"\")))","v":""},null,{"$f":"_xlfn.LET(_xlpm.Start,COLUMN($I$1),_xlpm.Ende,COLUMN($GY$1),_xlpm.Anzahl,INT((_xlpm.Ende-_xlpm.Start)/4)+1,_xlpm.Spalten,_xlpm.Start+4*_xlfn.SEQUENCE(1,_xlpm.Anzahl,0,1),_xlpm.Namen1,INDEX($4:$4,1,_xlpm.Spalten)&\" \"&INDEX($5:$5,1,_xlpm.Spalten),_xlpm.Punkte1,INDEX(58:58,1,_xlpm.Spalten+2),_xlpm.Namen2,INDEX($85:$85,1,_xlpm.Spalten)&\" \"&INDEX($86:$86,1,_xlpm.Spalten),_xlpm.Punkte2,INDEX(139:139,1,_xlpm.Spalten+2),_xlfn.TEXTJOIN(\", \",TRUE,_xlfn._xlws.FILTER(_xlfn.HSTACK(_xlpm.Namen1,_xlpm.Namen2),_xlfn.HSTACK(_xlpm.Punkte1,_xlpm.Punkte2)=7,\"\")))","v":"Ambra Antonelli, Oli Christiansen, Rafael Derungs, Goran Djukic, Dino Duvnjak, Djuma Duvnjak, Rui Gomes, Florian González, Reto Gygli, Robin Gygli, Stefan Gygli, Timothy Gygli, Agnes Isenschmid, Michael Isenschmid, Aiden Jones, Marc Lütolf, Ben Marthaler, Elias Marty, Julian Merkli, Martin Oroshi, Lechena Pek, Ivo und Brigitte Rüdemann, Lynn Rüegg, Michael Rüegg, Evelyne Schenk, Yannick Schilliger, Armando Thormann, Lea Treichler, Markus Wagner, Marc Walthard, Stefan Wullschleger, Stefan Zachmann"}]
["Mi. 24. Jun.","21:00:00",51,"Schweiz","Kanada",2,1,null,2,1,10,"A",2,1,10,"A",2,1,10,"A",1,0,7,"A",4,3,7,"A",2,1,10,"A",1,0,7,"A",3,2,7,"A",1,0,7,"A",2,0,5,"A",2,1,10,"A",2,0,5,"A",2,1,10,"A",3,1,5,"A",3,1,5,"A",3,1,5,"A",1,0,7,"A",1,0,7,"A",2,1,10,"A",2,0,5,"A",2,1,10,"A",2,2,0,"X",2,1,10,"A",1,0,7,"A",1,1,0,"X",2,1,10,"A",2,0,5,"A",2,0,5,"A",2,0,5,"A",1,1,0,"X",2,0,5,"A",1,0,7,"A",2,0,5,"A",2,2,0,"X",2,1,10,"A",1,1,0,"X",1,0,7,"A",2,0,5,"A",1,1,0,"X",2,0,5,"A",2,1,10,"A",2,1,10,"A",2,1,10,"A",3,1,5,"A",2,1,10,"A",1,0,7,"A",2,0,5,"A",2,1,10,"A",1,0,7,"A",1,0,7,"A",null,69,15,0,84,null,82.142857142857139,17.857142857142858,0,null,null,null,null,null,{"$f":"_xlfn.LET(_xlpm.Start,COLUMN($I$1),_xlpm.Ende,COLUMN($GY$1),_xlpm.Anzahl,INT((_xlpm.Ende-_xlpm.Start)/4)+1,_xlpm.Spalten,_xlpm.Start+4*_xlfn.SEQUENCE(1,_xlpm.Anzahl,0,1),_xlpm.Namen1,INDEX($4:$4,1,_xlpm.Spalten)&\" \"&INDEX($5:$5,1,_xlpm.Spalten),_xlpm.Punkte1,INDEX(59:59,1,_xlpm.Spalten+2),_xlpm.Namen2,INDEX($85:$85,1,_xlpm.Spalten)&\" \"&INDEX($86:$86,1,_xlpm.Spalten),_xlpm.Punkte2,INDEX(140:140,1,_xlpm.Spalten+2),_xlfn.TEXTJOIN(\", \",TRUE,_xlfn._xlws.FILTER(_xlfn.HSTACK(_xlpm.Namen1,_xlpm.Namen2),_xlfn.HSTACK(_xlpm.Punkte1,_xlpm.Punkte2)=10,\"\")))","v":"Panos Agorastos, Yiannis Agorastos, Ambra Antonelli, Peter Balazs, Mara Beck, Michael Bosshart, Oli Christiansen, Leo Rodrigues da Costa, Niva D'Acunto, Goran Djukic, Reto Gygli, Florian Haab, Agnes Isenschmid, Andreas Isenschmid, Aiden Jones, André Lanz, Ben Marthaler, Martin Oroshi, Martin Rohner, Ivo und Brigitte Rüdemann, Michael Rüegg, Sabine Rüegg, Erich Schommarz, Armando Thormann, Reto Treichler, Christoph Wälti, Markus Wagner, Stefan Wullschleger"},null,{"$f":"_xlfn.LET(_xlpm.Start,COLUMN($I$1),_xlpm.Ende,COLUMN($GY$1),_xlpm.Anzahl,INT((_xlpm.Ende-_xlpm.Start)/4)+1,_xlpm.Spalten,_xlpm.Start+4*_xlfn.SEQUENCE(1,_xlpm.Anzahl,0,1),_xlpm.Namen1,INDEX($4:$4,1,_xlpm.Spalten)&\" \"&INDEX($5:$5,1,_xlpm.Spalten),_xlpm.Punkte1,INDEX(59:59,1,_xlpm.Spalten+2),_xlpm.Namen2,INDEX($85:$85,1,_xlpm.Spalten)&\" \"&INDEX($86:$86,1,_xlpm.Spalten),_xlpm.Punkte2,INDEX(140:140,1,_xlpm.Spalten+2),_xlfn.TEXTJOIN(\", \",TRUE,_xlfn._xlws.FILTER(_xlfn.HSTACK(_xlpm.Namen1,_xlpm.Namen2),_xlfn.HSTACK(_xlpm.Punkte1,_xlpm.Punkte2)=7,\"\")))","v":"Marco Antonelli, Ruben Antonelli, André Bartholet, Aya Bartholet, Philippe Bartholet, Philip Brunner, André Burkart, Vinci D'Acunto, Deliz González, Sarina Gygli, Pascal Keller, Franz Lischer, Marc Lütolf, Nicolas Mack, Elias Marty, Telmo Oliveira, Evelyne Schenk, Bruno Silva"}]
["Mi. 24. Jun.","21:00:00",52,"Bosnien-Herz.","Katar",3,1,null,2,1,5,"A",2,1,5,"A",2,0,7,"A",3,0,5,"A",2,1,5,"A",2,0,7,"A",0,0,0,"X",0,1,0,"B",2,1,5,"A",1,0,5,"A",2,1,5,"A",1,0,5,"A",2,0,7,"A",1,0,5,"A",1,2,0,"B",3,0,5,"A",1,0,5,"A",1,0,5,"A",2,0,7,"A",1,0,5,"A",1,1,0,"X",1,1,0,"X",0,1,0,"B",1,0,5,"A",2,0,7,"A",3,0,5,"A",3,1,10,"A",1,0,5,"A",1,0,5,"A",1,0,5,"A",3,0,5,"A",1,1,0,"X",1,0,5,"A",1,1,0,"X",3,0,5,"A",2,0,7,"A",1,0,5,"A",2,2,0,"X",3,0,5,"A",1,1,0,"X",2,1,5,"A",3,1,10,"A",3,1,10,"A",3,1,10,"A",1,0,5,"A",1,0,5,"A",2,1,5,"A",1,0,5,"A",1,0,5,"A",2,1,5,"A",null,68,11,5,84,null,80.952380952380949,13.095238095238095,5.9523809523809526,null,null,null,null,null,{"$f":"_xlfn.LET(_xlpm.Start,COLUMN($I$1),_xlpm.Ende,COLUMN($GY$1),_xlpm.Anzahl,INT((_xlpm.Ende-_xlpm.Start)/4)+1,_xlpm.Spalten,_xlpm.Start+4*_xlfn.SEQUENCE(1,_xlpm.Anzahl,0,1),_xlpm.Namen1,INDEX($4:$4,1,_xlpm.Spalten)&\" \"&INDEX($5:$5,1,_xlpm.Spalten),_xlpm.Punkte1,INDEX(60:60,1,_xlpm.Spalten+2),_xlpm.Namen2,INDEX($85:$85,1,_xlpm.Spalten)&\" \"&INDEX($86:$86,1,_xlpm.Spalten),_xlpm.Punkte2,INDEX(141:141,1,_xlpm.Spalten+2),_xlfn.TEXTJOIN(\", \",TRUE,_xlfn._xlws.FILTER(_xlfn.HSTACK(_xlpm.Namen1,_xlpm.Namen2),_xlfn.HSTACK(_xlpm.Punkte1,_xlpm.Punkte2)=10,\"\")))","v":"Armin Duvnjak, Agnes Isenschmid, Andreas Isenschmid, Michael Isenschmid, Elias Marty, Ralph Schuster, Stefan Zachmann"},null,{"$f":"_xlfn.LET(_xlpm.Start,COLUMN($I$1),_xlpm.Ende,COLUMN($GY$1),_xlpm.Anzahl,INT((_xlpm.Ende-_xlpm.Start)/4)+1,_xlpm.Spalten,_xlpm.Start+4*_xlfn.SEQUENCE(1,_xlpm.Anzahl,0,1),_xlpm.Namen1,INDEX($4:$4,1,_xlpm.Spalten)&\" \"&INDEX($5:$5,1,_xlpm.Spalten),_xlpm.Punkte1,INDEX(60:60,1,_xlpm.Spalten+2),_xlpm.Namen2,INDEX($85:$85,1,_xlpm.Spalten)&\" \"&INDEX($86:$86,1,_xlpm.Spalten),_xlpm.Punkte2,INDEX(141:141,1,_xlpm.Spalten+2),_xlfn.TEXTJOIN(\", \",TRUE,_xlfn._xlws.FILTER(_xlfn.HSTACK(_xlpm.Namen1,_xlpm.Namen2),_xlfn.HSTACK(_xlpm.Punkte1,_xlpm.Punkte2)=7,\"\")))","v":"Ambra Antonelli, Peter Balazs, Michael Bosshart, Oli Christiansen, Rafael Derungs, Robin Gygli, Stefan Principe, Michael Prucha, Ivo und Brigitte Rüdemann, Sabine Rüegg, Reto Treichler, Markus Wagner"}]
["Do. 25. Jun.","03:00:00",53,"Tschechien","Mexiko",0,3,null,1,2,5,"B",1,1,0,"X",1,3,5,"B",1,1,0,"X",1,2,5,"B",0,1,5,"B",0,0,0,"X",0,2,5,"B",1,0,0,"A",1,1,0,"X",1,2,5,"B",2,2,0,"X",1,2,5,"B",0,3,10,"B",0,1,5,"B",1,1,0,"X",1,1,0,"X",0,0,0,"X",1,1,0,"X",1,1,0,"X",1,1,0,"X",1,2,5,"B",1,2,5,"B",1,2,5,"B",1,1,0,"X",2,2,0,"X",1,1,0,"X",1,1,0,"X",0,1,5,"B",1,2,5,"B",1,1,0,"X",1,3,5,"B",1,1,0,"X",1,1,0,"X",1,2,5,"B",1,2,5,"B",1,1,0,"X",1,1,0,"X",1,1,0,"X",0,3,10,"B",0,2,5,"B",2,3,5,"B",1,2,5,"B",1,3,5,"B",1,1,0,"X",0,1,5,"B",1,2,5,"B",1,2,5,"B",1,0,0,"A",0,3,10,"B",null,5,34,45,84,null,5.9523809523809526,40.476190476190474,53.571428571428569,null,null,null,null,null,{"$f":"_xlfn.LET(_xlpm.Start,COLUMN($I$1),_xlpm.Ende,COLUMN($GY$1),_xlpm.Anzahl,INT((_xlpm.Ende-_xlpm.Start)/4)+1,_xlpm.Spalten,_xlpm.Start+4*_xlfn.SEQUENCE(1,_xlpm.Anzahl,0,1),_xlpm.Namen1,INDEX($4:$4,1,_xlpm.Spalten)&\" \"&INDEX($5:$5,1,_xlpm.Spalten),_xlpm.Punkte1,INDEX(61:61,1,_xlpm.Spalten+2),_xlpm.Namen2,INDEX($85:$85,1,_xlpm.Spalten)&\" \"&INDEX($86:$86,1,_xlpm.Spalten),_xlpm.Punkte2,INDEX(142:142,1,_xlpm.Spalten+2),_xlfn.TEXTJOIN(\", \",TRUE,_xlfn._xlws.FILTER(_xlfn.HSTACK(_xlpm.Namen1,_xlpm.Namen2),_xlfn.HSTACK(_xlpm.Punkte1,_xlpm.Punkte2)=10,\"\")))","v":"Manfred Brunner, Timothy Gygli, Marc Lütolf"},null,{"$f":"_xlfn.LET(_xlpm.Start,COLUMN($I$1),_xlpm.Ende,COLUMN($GY$1),_xlpm.Anzahl,INT((_xlpm.Ende-_xlpm.Start)/4)+1,_xlpm.Spalten,_xlpm.Start+4*_xlfn.SEQUENCE(1,_xlpm.Anzahl,0,1),_xlpm.Namen1,INDEX($4:$4,1,_xlpm.Spalten)&\" \"&INDEX($5:$5,1,_xlpm.Spalten),_xlpm.Punkte1,INDEX(61:61,1,_xlpm.Spalten+2),_xlpm.Namen2,INDEX($85:$85,1,_xlpm.Spalten)&\" \"&INDEX($86:$86,1,_xlpm.Spalten),_xlpm.Punkte2,INDEX(142:142,1,_xlpm.Spalten+2),_xlfn.TEXTJOIN(\", \",TRUE,_xlfn._xlws.FILTER(_xlfn.HSTACK(_xlpm.Namen1,_xlpm.Namen2),_xlfn.HSTACK(_xlpm.Punkte1,_xlpm.Punkte2)=7,\"\")))","v":""}]
["Do. 25. Jun.","03:00:00",54,"Südafrika","Südkorea",1,0,null,2,1,7,"A",1,2,0,"B",2,2,0,"X",2,1,7,"A",0,0,0,"X",1,2,0,"B",0,1,0,"B",1,0,10,"A",1,1,0,"X",1,0,10,"A",2,1,7,"A",1,2,0,"B",1,2,0,"B",0,2,0,"B",1,2,0,"B",0,0,0,"X",1,1,0,"X",0,1,0,"B",0,1,0,"B",1,1,0,"X",1,2,0,"B",1,1,0,"X",0,1,0,"B",0,0,0,"X",1,2,0,"B",0,2,0,"B",1,2,0,"B",0,1,0,"B",1,1,0,"X",1,1,0,"X",1,2,0,"B",1,1,0,"X",1,0,10,"A",0,1,0,"B",1,2,0,"B",1,1,0,"X",0,1,0,"B",2,0,5,"A",1,4,0,"B",2,1,7,"A",0,2,0,"B",1,3,0,"B",1,2,0,"B",1,3,0,"B",1,1,0,"X",0,1,0,"B",1,0,10,"A",0,1,0,"B",2,0,5,"A",1,2,0,"B",null,16,23,45,84,null,19.047619047619047,27.38095238095238,53.571428571428569,null,null,null,null,null,{"$f":"_xlfn.LET(_xlpm.Start,COLUMN($I$1),_xlpm.Ende,COLUMN($GY$1),_xlpm.Anzahl,INT((_xlpm.Ende-_xlpm.Start)/4)+1,_xlpm.Spalten,_xlpm.Start+4*_xlfn.SEQUENCE(1,_xlpm.Anzahl,0,1),_xlpm.Namen1,INDEX($4:$4,1,_xlpm.Spalten)&\" \"&INDEX($5:$5,1,_xlpm.Spalten),_xlpm.Punkte1,INDEX(62:62,1,_xlpm.Spalten+2),_xlpm.Namen2,INDEX($85:$85,1,_xlpm.Spalten)&\" \"&INDEX($86:$86,1,_xlpm.Spalten),_xlpm.Punkte2,INDEX(143:143,1,_xlpm.Spalten+2),_xlfn.TEXTJOIN(\", \",TRUE,_xlfn._xlws.FILTER(_xlfn.HSTACK(_xlpm.Namen1,_xlpm.Namen2),_xlfn.HSTACK(_xlpm.Punkte1,_xlpm.Punkte2)=10,\"\")))","v":"Aya Bartholet, Roger Bartholet, Florian González, Tanja Kistler, Martin Marthaler, Elias Marty, Telmo Oliveira, Ivo und Brigitte Rüdemann"},null,{"$f":"_xlfn.LET(_xlpm.Start,COLUMN($I$1),_xlpm.Ende,COLUMN($GY$1),_xlpm.Anzahl,INT((_xlpm.Ende-_xlpm.Start)/4)+1,_xlpm.Spalten,_xlpm.Start+4*_xlfn.SEQUENCE(1,_xlpm.Anzahl,0,1),_xlpm.Namen1,INDEX($4:$4,1,_xlpm.Spalten)&\" \"&INDEX($5:$5,1,_xlpm.Spalten),_xlpm.Punkte1,INDEX(62:62,1,_xlpm.Spalten+2),_xlpm.Namen2,INDEX($85:$85,1,_xlpm.Spalten)&\" \"&INDEX($86:$86,1,_xlpm.Spalten),_xlpm.Punkte2,INDEX(143:143,1,_xlpm.Spalten+2),_xlfn.TEXTJOIN(\", \",TRUE,_xlfn._xlws.FILTER(_xlfn.HSTACK(_xlpm.Namen1,_xlpm.Namen2),_xlfn.HSTACK(_xlpm.Punkte1,_xlpm.Punkte2)=7,\"\")))","v":"Panos Agorastos, Marco Antonelli, Mara Beck, Timothy Gygli, Ben Marthaler, Marc Walthard"}]
["Do. 25. Jun.","22:00:00",55,"Curacao","Elfenbeinküste",0,2,null,1,2,5,"B",1,3,7,"B",1,1,0,"X",0,3,5,"B",0,3,5,"B",0,3,5,"B",0,1,5,"B",1,1,0,"X",0,2,10,"B",0,2,10,"B",1,2,5,"B",1,3,7,"B",0,2,10,"B",0,3,5,"B",0,1,5,"B",1,2,5,"B",0,2,10,"B",0,2,10,"B",0,1,5,"B",0,3,5,"B",0,2,10,"B",0,1,5,"B",0,1,5,"B",0,1,5,"B",0,3,5,"B",1,1,0,"X",1,2,5,"B",0,1,5,"B",0,1,5,"B",0,0,0,"X",0,3,5,"B",2,2,0,"X",0,2,10,"B",0,0,0,"X",0,3,5,"B",0,2,10,"B",1,1,0,"X",0,0,0,"X",0,3,5,"B",0,1,5,"B",0,2,10,"B",0,2,10,"B",0,2,10,"B",1,3,7,"B",0,1,5,"B",0,1,5,"B",0,1,5,"B",1,3,7,"B",1,1,0,"X",0,2,10,"B",null,3,12,69,84,null,3.5714285714285716,14.285714285714286,82.142857142857139,null,null,null,null,null,{"$f":"_xlfn.LET(_xlpm.Start,COLUMN($I$1),_xlpm.Ende,COLUMN($GY$1),_xlpm.Anzahl,INT((_xlpm.Ende-_xlpm.Start)/4)+1,_xlpm.Spalten,_xlpm.Start+4*_xlfn.SEQUENCE(1,_xlpm.Anzahl,0,1),_xlpm.Namen1,INDEX($4:$4,1,_xlpm.Spalten)&\" \"&INDEX($5:$5,1,_xlpm.Spalten),_xlpm.Punkte1,INDEX(63:63,1,_xlpm.Spalten+2),_xlpm.Namen2,INDEX($85:$85,1,_xlpm.Spalten)&\" \"&INDEX($86:$86,1,_xlpm.Spalten),_xlpm.Punkte2,INDEX(144:144,1,_xlpm.Spalten+2),_xlfn.TEXTJOIN(\", \",TRUE,_xlfn._xlws.FILTER(_xlfn.HSTACK(_xlpm.Namen1,_xlpm.Namen2),_xlfn.HSTACK(_xlpm.Punkte1,_xlpm.Punkte2)=10,\"\")))","v":"Philippe Bartholet, Roger Bartholet, Michael Bosshart, Philip Brunner, André Burkart, Leo Rodrigues da Costa, Florian González, Robin Gygli, Florian Haab, Agnes Isenschmid, Andreas Isenschmid, Marc Lütolf, Nicolas Mack, Martin Marthaler, Julian Merkli, Michael Prucha, Martin Rohner, Martin Schawalder, Yannick Schilliger, Bruno Silva, Lea Treichler, Christoph Wälti, Marc Walthard"},null,{"$f":"_xlfn.LET(_xlpm.Start,COLUMN($I$1),_xlpm.Ende,COLUMN($GY$1),_xlpm.Anzahl,INT((_xlpm.Ende-_xlpm.Start)/4)+1,_xlpm.Spalten,_xlpm.Start+4*_xlfn.SEQUENCE(1,_xlpm.Anzahl,0,1),_xlpm.Namen1,INDEX($4:$4,1,_xlpm.Spalten)&\" \"&INDEX($5:$5,1,_xlpm.Spalten),_xlpm.Punkte1,INDEX(63:63,1,_xlpm.Spalten+2),_xlpm.Namen2,INDEX($85:$85,1,_xlpm.Spalten)&\" \"&INDEX($86:$86,1,_xlpm.Spalten),_xlpm.Punkte2,INDEX(144:144,1,_xlpm.Spalten+2),_xlfn.TEXTJOIN(\", \",TRUE,_xlfn._xlws.FILTER(_xlfn.HSTACK(_xlpm.Namen1,_xlpm.Namen2),_xlfn.HSTACK(_xlpm.Punkte1,_xlpm.Punkte2)=7,\"\")))","v":"Yiannis Agorastos, Pongsapat Nott Boonaek, Michael Isenschmid, André Lanz, Philipp Meyer, Martin Oroshi, Michael Rüegg"}]
["Do. 25. Jun.","22:00:00",56,"Ecuador","Deutschland",2,1,null,1,2,0,"B",1,2,0,"B",2,3,0,"B",1,3,0,"B",2,2,0,"X",1,2,0,"B",1,1,0,"X",0,1,0,"B",1,2,0,"B",2,1,10,"A",1,2,0,"B",1,4,0,"B",1,2,0,"B",2,4,0,"B",1,3,0,"B",0,2,0,"B",1,1,0,"X",0,1,0,"B",0,2,0,"B",1,3,0,"B",1,2,0,"B",1,3,0,"B",0,5,0,"B",0,5,0,"B",1,2,0,"B",1,2,0,"B",0,2,0,"B",1,2,0,"B",1,1,0,"X",0,2,0,"B",0,4,0,"B",0,3,0,"B",0,1,0,"B",1,2,0,"B",1,3,0,"B",0,2,0,"B",0,1,0,"B",0,1,0,"B",2,2,0,"X",0,2,0,"B",0,2,0,"B",1,4,0,"B",1,3,0,"B",1,3,0,"B",1,2,0,"B",0,1,0,"B",0,1,0,"B",0,2,0,"B",0,2,0,"B",0,2,0,"B",null,1,5,78,84,null,1.1904761904761905,5.9523809523809526,92.857142857142861,null,null,null,null,null,{"$f":"_xlfn.LET(_xlpm.Start,COLUMN($I$1),_xlpm.Ende,COLUMN($GY$1),_xlpm.Anzahl,INT((_xlpm.Ende-_xlpm.Start)/4)+1,_xlpm.Spalten,_xlpm.Start+4*_xlfn.SEQUENCE(1,_xlpm.Anzahl,0,1),_xlpm.Namen1,INDEX($4:$4,1,_xlpm.Spalten)&\" \"&INDEX($5:$5,1,_xlpm.Spalten),_xlpm.Punkte1,INDEX(64:64,1,_xlpm.Spalten+2),_xlpm.Namen2,INDEX($85:$85,1,_xlpm.Spalten)&\" \"&INDEX($86:$86,1,_xlpm.Spalten),_xlpm.Punkte2,INDEX(145:145,1,_xlpm.Spalten+2),_xlfn.TEXTJOIN(\", \",TRUE,_xlfn._xlws.FILTER(_xlfn.HSTACK(_xlpm.Namen1,_xlpm.Namen2),_xlfn.HSTACK(_xlpm.Punkte1,_xlpm.Punkte2)=10,\"\")))","v":"Roger Bartholet"},null,{"$f":"_xlfn.LET(_xlpm.Start,COLUMN($I$1),_xlpm.Ende,COLUMN($GY$1),_xlpm.Anzahl,INT((_xlpm.Ende-_xlpm.Start)/4)+1,_xlpm.Spalten,_xlpm.Start+4*_xlfn.SEQUENCE(1,_xlpm.Anzahl,0,1),_xlpm.Namen1,INDEX($4:$4,1,_xlpm.Spalten)&\" \"&INDEX($5:$5,1,_xlpm.Spalten),_xlpm.Punkte1,INDEX(64:64,1,_xlpm.Spalten+2),_xlpm.Namen2,INDEX($85:$85,1,_xlpm.Spalten)&\" \"&INDEX($86:$86,1,_xlpm.Spalten),_xlpm.Punkte2,INDEX(145:145,1,_xlpm.Spalten+2),_xlfn.TEXTJOIN(\", \",TRUE,_xlfn._xlws.FILTER(_xlfn.HSTACK(_xlpm.Namen1,_xlpm.Namen2),_xlfn.HSTACK(_xlpm.Punkte1,_xlpm.Punkte2)=7,\"\")))","v":""}]
["Fr. 26. Jun.","01:00:00",57,"Japan","Schweden",1,1,null,2,1,0,"A",1,1,10,"X",1,0,0,"A",2,3,0,"B",2,1,0,"A",1,1,10,"X",1,0,0,"A",0,1,0,"B",2,2,7,"X",1,2,0,"B",1,2,0,"B",1,0,0,"A",2,1,0,"A",2,1,0,"A",1,3,0,"B",0,2,0,"B",2,1,0,"A",0,0,7,"X",1,0,0,"A",3,1,0,"A",2,1,0,"A",2,1,0,"A",1,1,10,"X",1,1,10,"X",1,0,0,"A",2,1,0,"A",2,1,0,"A",1,0,0,"A",1,0,0,"A",1,2,0,"B",1,2,0,"B",1,0,0,"A",0,0,7,"X",1,1,10,"X",1,1,10,"X",1,1,10,"X",0,1,0,"B",0,1,0,"B",1,1,10,"X",2,0,0,"A",2,1,0,"A",2,1,0,"A",1,1,10,"X",3,1,0,"A",2,1,0,"A",1,0,0,"A",2,1,0,"A",1,1,10,"X",2,2,7,"X",1,1,10,"X",null,36,31,17,84,null,42.857142857142854,36.904761904761905,20.238095238095237,null,null,null,null,null,{"$f":"_xlfn.LET(_xlpm.Start,COLUMN($I$1),_xlpm.Ende,COLUMN($GY$1),_xlpm.Anzahl,INT((_xlpm.Ende-_xlpm.Start)/4)+1,_xlpm.Spalten,_xlpm.Start+4*_xlfn.SEQUENCE(1,_xlpm.Anzahl,0,1),_xlpm.Namen1,INDEX($4:$4,1,_xlpm.Spalten)&\" \"&INDEX($5:$5,1,_xlpm.Spalten),_xlpm.Punkte1,INDEX(65:65,1,_xlpm.Spalten+2),_xlpm.Namen2,INDEX($85:$85,1,_xlpm.Spalten)&\" \"&INDEX($86:$86,1,_xlpm.Spalten),_xlpm.Punkte2,INDEX(146:146,1,_xlpm.Spalten+2),_xlfn.TEXTJOIN(\", \",TRUE,_xlfn._xlws.FILTER(_xlfn.HSTACK(_xlpm.Namen1,_xlpm.Namen2),_xlfn.HSTACK(_xlpm.Punkte1,_xlpm.Punkte2)=10,\"\")))","v":"Yiannis Agorastos, Peter Balazs, Niva D'Acunto, Vinci D'Acunto, Laurent Grosse, Reto Gygli, Robin Gygli, Stefan Gygli, Andreas Isenschmid, André Lanz, Marc Lütolf, Nicolas Mack, Martin Marthaler, Julian Merkli, Martin Oroshi, Ivo und Brigitte Rüdemann, Yannick Schilliger, Erich Schommarz, Aleandro Silvestri, Lea Treichler, Reto Treichler, Markus Wagner"},null,{"$f":"_xlfn.LET(_xlpm.Start,COLUMN($I$1),_xlpm.Ende,COLUMN($GY$1),_xlpm.Anzahl,INT((_xlpm.Ende-_xlpm.Start)/4)+1,_xlpm.Spalten,_xlpm.Start+4*_xlfn.SEQUENCE(1,_xlpm.Anzahl,0,1),_xlpm.Namen1,INDEX($4:$4,1,_xlpm.Spalten)&\" \"&INDEX($5:$5,1,_xlpm.Spalten),_xlpm.Punkte1,INDEX(65:65,1,_xlpm.Spalten+2),_xlpm.Namen2,INDEX($85:$85,1,_xlpm.Spalten)&\" \"&INDEX($86:$86,1,_xlpm.Spalten),_xlpm.Punkte2,INDEX(146:146,1,_xlpm.Spalten+2),_xlfn.TEXTJOIN(\", \",TRUE,_xlfn._xlws.FILTER(_xlfn.HSTACK(_xlpm.Namen1,_xlpm.Namen2),_xlfn.HSTACK(_xlpm.Punkte1,_xlpm.Punkte2)=7,\"\")))","v":"Philippe Bartholet, André Burkart, Florian González, Franz Lischer, Lynn Rüegg, Ralph Schuster, Bruno Silva, Christoph Wälti, Stefan Zachmann"}]
["Fr. 26. Jun.","01:00:00",58,"Tunesien","Holland",1,3,null,1,2,5,"B",1,2,5,"B",2,1,0,"A",1,2,5,"B",0,3,5,"B",0,2,7,"B",0,1,5,"B",1,2,5,"B",0,2,7,"B",2,3,5,"B",1,3,10,"B",1,3,10,"B",0,2,7,"B",0,2,7,"B",1,1,0,"X",0,3,5,"B",1,1,0,"X",0,1,5,"B",0,1,5,"B",1,3,10,"B",0,2,7,"B",1,1,0,"X",0,2,7,"B",0,2,7,"B",0,1,5,"B",0,2,7,"B",1,3,10,"B",0,1,5,"B",0,1,5,"B",0,1,5,"B",0,3,5,"B",0,1,5,"B",0,4,5,"B",0,1,5,"B",1,2,5,"B",1,2,5,"B",0,1,5,"B",3,2,0,"A",0,2,7,"B",0,2,7,"B",0,3,5,"B",1,1,0,"X",1,2,5,"B",1,3,10,"B",0,2,7,"B",0,1,5,"B",0,1,5,"B",0,2,7,"B",1,3,10,"B",0,2,7,"B",null,3,7,74,84,null,3.5714285714285716,8.3333333333333339,88.095238095238102,null,null,null,null,null,{"$f":"_xlfn.LET(_xlpm.Start,COLUMN($I$1),_xlpm.Ende,COLUMN($GY$1),_xlpm.Anzahl,INT((_xlpm.Ende-_xlpm.Start)/4)+1,_xlpm.Spalten,_xlpm.Start+4*_xlfn.SEQUENCE(1,_xlpm.Anzahl,0,1),_xlpm.Namen1,INDEX($4:$4,1,_xlpm.Spalten)&\" \"&INDEX($5:$5,1,_xlpm.Spalten),_xlpm.Punkte1,INDEX(66:66,1,_xlpm.Spalten+2),_xlpm.Namen2,INDEX($85:$85,1,_xlpm.Spalten)&\" \"&INDEX($86:$86,1,_xlpm.Spalten),_xlpm.Punkte2,INDEX(147:147,1,_xlpm.Spalten+2),_xlfn.TEXTJOIN(\", \",TRUE,_xlfn._xlws.FILTER(_xlfn.HSTACK(_xlpm.Namen1,_xlpm.Namen2),_xlfn.HSTACK(_xlpm.Punkte1,_xlpm.Punkte2)=10,\"\")))","v":"Mara Beck, Pongsapat Nott Boonaek, Javier Cruz, Armin Duvnjak, Michael Isenschmid, Franz Lischer, Stefan Zachmann"},null,{"$f":"_xlfn.LET(_xlpm.Start,COLUMN($I$1),_xlpm.Ende,COLUMN($GY$1),_xlpm.Anzahl,INT((_xlpm.Ende-_xlpm.Start)/4)+1,_xlpm.Spalten,_xlpm.Start+4*_xlfn.SEQUENCE(1,_xlpm.Anzahl,0,1),_xlpm.Namen1,INDEX($4:$4,1,_xlpm.Spalten)&\" \"&INDEX($5:$5,1,_xlpm.Spalten),_xlpm.Punkte1,INDEX(66:66,1,_xlpm.Spalten+2),_xlpm.Namen2,INDEX($85:$85,1,_xlpm.Spalten)&\" \"&INDEX($86:$86,1,_xlpm.Spalten),_xlpm.Punkte2,INDEX(147:147,1,_xlpm.Spalten+2),_xlfn.TEXTJOIN(\", \",TRUE,_xlfn._xlws.FILTER(_xlfn.HSTACK(_xlpm.Namen1,_xlpm.Namen2),_xlfn.HSTACK(_xlpm.Punkte1,_xlpm.Punkte2)=7,\"\")))","v":"Peter Balazs, Philippe Bartholet, Michael Bosshart, Manfred Brunner, Leo Rodrigues da Costa, Niva D'Acunto, Vinci D'Acunto, Goran Djukic, Stefan Gygli, Timothy Gygli, Aiden Jones, André Lanz, Marc Lütolf, Nicolas Mack, Michael Prucha, Ivo und Brigitte Rüdemann, Sabine Rüegg, Martin Schawalder, Erich Schommarz, Bruno Silva, Lea Treichler, Reto Treichler, Christoph Wälti, Markus Wagner, Marc Walthard"}]
["Fr. 26. Jun.","04:00:00",59,"Türkei","USA",3,2,null,1,1,0,"X",1,1,0,"X",3,2,10,"A",2,1,7,"A",2,0,5,"A",1,1,0,"X",2,1,7,"A",0,2,0,"B",1,1,0,"X",1,0,7,"A",2,1,7,"A",2,0,5,"A",1,1,0,"X",2,1,7,"A",2,1,7,"A",2,1,7,"A",1,1,0,"X",1,2,0,"B",2,2,0,"X",1,0,7,"A",2,1,7,"A",2,1,7,"A",3,0,5,"A",3,0,5,"A",2,2,0,"X",1,1,0,"X",1,0,7,"A",1,1,0,"X",1,1,0,"X",1,1,0,"X",2,1,7,"A",3,3,0,"X",3,0,5,"A",2,0,5,"A",1,1,0,"X",1,2,0,"B",1,2,0,"B",1,2,0,"B",1,1,0,"X",1,1,0,"X",1,1,0,"X",1,2,0,"B",2,1,7,"A",3,1,5,"A",1,1,0,"X",1,0,7,"A",2,1,7,"A",2,2,0,"X",2,1,7,"A",2,1,7,"A",null,35,32,17,84,null,41.666666666666664,38.095238095238095,20.238095238095237,null,null,null,null,null,{"$f":"_xlfn.LET(_xlpm.Start,COLUMN($I$1),_xlpm.Ende,COLUMN($GY$1),_xlpm.Anzahl,INT((_xlpm.Ende-_xlpm.Start)/4)+1,_xlpm.Spalten,_xlpm.Start+4*_xlfn.SEQUENCE(1,_xlpm.Anzahl,0,1),_xlpm.Namen1,INDEX($4:$4,1,_xlpm.Spalten)&\" \"&INDEX($5:$5,1,_xlpm.Spalten),_xlpm.Punkte1,INDEX(67:67,1,_xlpm.Spalten+2),_xlpm.Namen2,INDEX($85:$85,1,_xlpm.Spalten)&\" \"&INDEX($86:$86,1,_xlpm.Spalten),_xlpm.Punkte2,INDEX(148:148,1,_xlpm.Spalten+2),_xlfn.TEXTJOIN(\", \",TRUE,_xlfn._xlws.FILTER(_xlfn.HSTACK(_xlpm.Namen1,_xlpm.Namen2),_xlfn.HSTACK(_xlpm.Punkte1,_xlpm.Punkte2)=10,\"\")))","v":"Ambra Antonelli"},null,{"$f":"_xlfn.LET(_xlpm.Start,COLUMN($I$1),_xlpm.Ende,COLUMN($GY$1),_xlpm.Anzahl,INT((_xlpm.Ende-_xlpm.Start)/4)+1,_xlpm.Spalten,_xlpm.Start+4*_xlfn.SEQUENCE(1,_xlpm.Anzahl,0,1),_xlpm.Namen1,INDEX($4:$4,1,_xlpm.Spalten)&\" \"&INDEX($5:$5,1,_xlpm.Spalten),_xlpm.Punkte1,INDEX(67:67,1,_xlpm.Spalten+2),_xlpm.Namen2,INDEX($85:$85,1,_xlpm.Spalten)&\" \"&INDEX($86:$86,1,_xlpm.Spalten),_xlpm.Punkte2,INDEX(148:148,1,_xlpm.Spalten+2),_xlfn.TEXTJOIN(\", \",TRUE,_xlfn._xlws.FILTER(_xlfn.HSTACK(_xlpm.Namen1,_xlpm.Namen2),_xlfn.HSTACK(_xlpm.Punkte1,_xlpm.Punkte2)=7,\"\")))","v":"Marco Antonelli, André Bartholet, Roger Bartholet, Mara Beck, Manfred Brunner, Manuel Brunner, Nicolas Brunner, Javier Cruz, Leo Rodrigues da Costa, Lisa D'Acunto, Armin Duvnjak, Rui Gomes, Andreas Isenschmid, Pascal Keller, Tanja Kistler, Franz Lischer, Marc Lütolf, Mauro Marini, Elias Marty, Philipp Meyer, Telmo Oliveira, Martin Oroshi, Stefan Principe, Martin Rohner, Sabine Rüegg, Aleandro Silvestri, Lea Treichler"}]
["Fr. 26. Jun.","04:00:00",60,"Paraguay","Australien",0,0,null,1,1,7,"X",2,1,0,"A",1,0,0,"A",1,3,0,"B",0,1,0,"B",1,1,7,"X",0,0,10,"X",1,2,0,"B",1,1,7,"X",2,0,0,"A",2,1,0,"A",1,2,0,"B",0,1,0,"B",3,1,0,"A",1,1,7,"X",1,1,7,"X",2,1,0,"A",1,1,7,"X",1,0,0,"A",1,1,7,"X",1,0,0,"A",2,2,7,"X",2,1,0,"A",2,1,0,"A",1,0,0,"A",1,1,7,"X",1,1,7,"X",1,1,7,"X",0,1,0,"B",1,1,7,"X",2,2,7,"X",1,1,7,"X",1,0,0,"A",1,1,7,"X",2,1,0,"A",2,1,0,"A",1,0,0,"A",0,1,0,"B",2,1,0,"A",2,2,7,"X",1,1,7,"X",2,1,0,"A",2,0,0,"A",3,1,0,"A",0,1,0,"B",1,0,0,"A",1,0,0,"A",1,1,7,"X",1,1,7,"X",1,1,7,"X",null,33,33,18,84,null,39.285714285714285,39.285714285714285,21.428571428571427,null,null,null,null,null,{"$f":"_xlfn.LET(_xlpm.Start,COLUMN($I$1),_xlpm.Ende,COLUMN($GY$1),_xlpm.Anzahl,INT((_xlpm.Ende-_xlpm.Start)/4)+1,_xlpm.Spalten,_xlpm.Start+4*_xlfn.SEQUENCE(1,_xlpm.Anzahl,0,1),_xlpm.Namen1,INDEX($4:$4,1,_xlpm.Spalten)&\" \"&INDEX($5:$5,1,_xlpm.Spalten),_xlpm.Punkte1,INDEX(68:68,1,_xlpm.Spalten+2),_xlpm.Namen2,INDEX($85:$85,1,_xlpm.Spalten)&\" \"&INDEX($86:$86,1,_xlpm.Spalten),_xlpm.Punkte2,INDEX(149:149,1,_xlpm.Spalten+2),_xlfn.TEXTJOIN(\", \",TRUE,_xlfn._xlws.FILTER(_xlfn.HSTACK(_xlpm.Namen1,_xlpm.Namen2),_xlfn.HSTACK(_xlpm.Punkte1,_xlpm.Punkte2)=10,\"\")))","v":"André Bartholet, Julian Merkli, Lynn Rüegg, Christoph Wälti"},null,{"$f":"_xlfn.LET(_xlpm.Start,COLUMN($I$1),_xlpm.Ende,COLUMN($GY$1),_xlpm.Anzahl,INT((_xlpm.Ende-_xlpm.Start)/4)+1,_xlpm.Spalten,_xlpm.Start+4*_xlfn.SEQUENCE(1,_xlpm.Anzahl,0,1),_xlpm.Namen1,INDEX($4:$4,1,_xlpm.Spalten)&\" \"&INDEX($5:$5,1,_xlpm.Spalten),_xlpm.Punkte1,INDEX(68:68,1,_xlpm.Spalten+2),_xlpm.Namen2,INDEX($85:$85,1,_xlpm.Spalten)&\" \"&INDEX($86:$86,1,_xlpm.Spalten),_xlpm.Punkte2,INDEX(149:149,1,_xlpm.Spalten+2),_xlfn.TEXTJOIN(\", \",TRUE,_xlfn._xlws.FILTER(_xlfn.HSTACK(_xlpm.Namen1,_xlpm.Namen2),_xlfn.HSTACK(_xlpm.Punkte1,_xlpm.Punkte2)=7,\"\")))","v":"Panos Agorastos, Peter Balazs, Philippe Bartholet, Manuel Brunner, Nicolas Brunner, André Burkart, Javier Cruz, Lisa D'Acunto, Goran Djukic, Armin Duvnjak, Dino Duvnjak, Andreia Gomes, Rui Gomes, Deliz González, Laurent Grosse, Timothy Gygli, Florian Haab, André Lanz, Franz Lischer, Marc Lütolf, Nicolas Mack, Mauro Marini, Telmo Oliveira, Lechena Pek, Martin Rohner, Erich Schommarz, Ralph Schuster, Aleandro Silvestri, Reto Treichler"}]
["Fr. 26. Jun.","21:00:00",61,"Norwegen","Frankreich",1,4,null,1,2,5,"B",1,2,5,"B",1,2,5,"B",2,2,0,"X",1,3,5,"B",1,2,5,"B",1,1,0,"X",2,3,5,"B",0,2,5,"B",1,4,10,"B",1,2,5,"B",1,3,5,"B",1,2,5,"B",1,1,0,"X",1,3,5,"B",1,4,10,"B",1,1,0,"X",0,1,5,"B",1,2,5,"B",2,2,0,"X",2,2,0,"X",2,3,5,"B",2,1,0,"A",2,2,0,"X",1,2,5,"B",1,2,5,"B",1,3,5,"B",0,2,5,"B",0,2,5,"B",2,2,0,"X",1,1,0,"X",2,2,0,"X",1,2,5,"B",1,2,5,"B",1,3,5,"B",1,3,5,"B",0,1,5,"B",1,3,5,"B",0,0,0,"X",2,3,5,"B",1,3,5,"B",2,2,0,"X",1,1,0,"X",1,3,5,"B",1,2,5,"B",0,1,5,"B",0,3,7,"B",0,2,5,"B",1,2,5,"B",2,2,0,"X",null,1,19,64,84,null,1.1904761904761905,22.61904761904762,76.19047619047619,null,null,null,null,null,{"$f":"_xlfn.LET(_xlpm.Start,COLUMN($I$1),_xlpm.Ende,COLUMN($GY$1),_xlpm.Anzahl,INT((_xlpm.Ende-_xlpm.Start)/4)+1,_xlpm.Spalten,_xlpm.Start+4*_xlfn.SEQUENCE(1,_xlpm.Anzahl,0,1),_xlpm.Namen1,INDEX($4:$4,1,_xlpm.Spalten)&\" \"&INDEX($5:$5,1,_xlpm.Spalten),_xlpm.Punkte1,INDEX(69:69,1,_xlpm.Spalten+2),_xlpm.Namen2,INDEX($85:$85,1,_xlpm.Spalten)&\" \"&INDEX($86:$86,1,_xlpm.Spalten),_xlpm.Punkte2,INDEX(150:150,1,_xlpm.Spalten+2),_xlfn.TEXTJOIN(\", \",TRUE,_xlfn._xlws.FILTER(_xlfn.HSTACK(_xlpm.Namen1,_xlpm.Namen2),_xlfn.HSTACK(_xlpm.Punkte1,_xlpm.Punkte2)=10,\"\")))","v":"Roger Bartholet, Nicolas Brunner, Mauro Marini, Stefan Principe"},null,{"$f":"_xlfn.LET(_xlpm.Start,COLUMN($I$1),_xlpm.Ende,COLUMN($GY$1),_xlpm.Anzahl,INT((_xlpm.Ende-_xlpm.Start)/4)+1,_xlpm.Spalten,_xlpm.Start+4*_xlfn.SEQUENCE(1,_xlpm.Anzahl,0,1),_xlpm.Namen1,INDEX($4:$4,1,_xlpm.Spalten)&\" \"&INDEX($5:$5,1,_xlpm.Spalten),_xlpm.Punkte1,INDEX(69:69,1,_xlpm.Spalten+2),_xlpm.Namen2,INDEX($85:$85,1,_xlpm.Spalten)&\" \"&INDEX($86:$86,1,_xlpm.Spalten),_xlpm.Punkte2,INDEX(150:150,1,_xlpm.Spalten+2),_xlfn.TEXTJOIN(\", \",TRUE,_xlfn._xlws.FILTER(_xlfn.HSTACK(_xlpm.Namen1,_xlpm.Namen2),_xlfn.HSTACK(_xlpm.Punkte1,_xlpm.Punkte2)=7,\"\")))","v":"Tanja Kistler, Lynn Rüegg"}]
["Fr. 26. Jun.","21:00:00",62,"Senegal","Irak",5,0,null,2,1,5,"A",2,1,5,"A",1,0,5,"A",3,0,5,"A",2,1,5,"A",2,0,5,"A",1,1,0,"X",1,0,5,"A",1,1,0,"X",1,0,5,"A",2,1,5,"A",2,0,5,"A",2,0,5,"A",0,1,0,"B",3,3,0,"X",4,0,5,"A",2,0,5,"A",1,0,5,"A",1,1,0,"X",1,0,5,"A",2,1,5,"A",2,1,5,"A",3,0,5,"A",3,0,5,"A",2,0,5,"A",2,0,5,"A",2,0,5,"A",1,0,5,"A",1,0,5,"A",1,0,5,"A",2,0,5,"A",1,0,5,"A",0,0,0,"X",2,0,5,"A",2,0,5,"A",2,0,5,"A",0,1,0,"B",3,2,5,"A",2,0,5,"A",3,0,5,"A",3,1,5,"A",2,1,5,"A",1,2,0,"B",3,1,5,"A",1,0,5,"A",1,0,5,"A",1,0,5,"A",3,0,5,"A",1,0,5,"A",1,0,5,"A",null,70,9,5,84,null,83.333333333333329,10.714285714285714,5.9523809523809526,null,null,null,null,null,{"$f":"_xlfn.LET(_xlpm.Start,COLUMN($I$1),_xlpm.Ende,COLUMN($GY$1),_xlpm.Anzahl,INT((_xlpm.Ende-_xlpm.Start)/4)+1,_xlpm.Spalten,_xlpm.Start+4*_xlfn.SEQUENCE(1,_xlpm.Anzahl,0,1),_xlpm.Namen1,INDEX($4:$4,1,_xlpm.Spalten)&\" \"&INDEX($5:$5,1,_xlpm.Spalten),_xlpm.Punkte1,INDEX(70:70,1,_xlpm.Spalten+2),_xlpm.Namen2,INDEX($85:$85,1,_xlpm.Spalten)&\" \"&INDEX($86:$86,1,_xlpm.Spalten),_xlpm.Punkte2,INDEX(151:151,1,_xlpm.Spalten+2),_xlfn.TEXTJOIN(\", \",TRUE,_xlfn._xlws.FILTER(_xlfn.HSTACK(_xlpm.Namen1,_xlpm.Namen2),_xlfn.HSTACK(_xlpm.Punkte1,_xlpm.Punkte2)=10,\"\")))","v":""},null,{"$f":"_xlfn.LET(_xlpm.Start,COLUMN($I$1),_xlpm.Ende,COLUMN($GY$1),_xlpm.Anzahl,INT((_xlpm.Ende-_xlpm.Start)/4)+1,_xlpm.Spalten,_xlpm.Start+4*_xlfn.SEQUENCE(1,_xlpm.Anzahl,0,1),_xlpm.Namen1,INDEX($4:$4,1,_xlpm.Spalten)&\" \"&INDEX($5:$5,1,_xlpm.Spalten),_xlpm.Punkte1,INDEX(70:70,1,_xlpm.Spalten+2),_xlpm.Namen2,INDEX($85:$85,1,_xlpm.Spalten)&\" \"&INDEX($86:$86,1,_xlpm.Spalten),_xlpm.Punkte2,INDEX(151:151,1,_xlpm.Spalten+2),_xlfn.TEXTJOIN(\", \",TRUE,_xlfn._xlws.FILTER(_xlfn.HSTACK(_xlpm.Namen1,_xlpm.Namen2),_xlfn.HSTACK(_xlpm.Punkte1,_xlpm.Punkte2)=7,\"\")))","v":""}]
["Sa. 27. Jun.","05:00:00",63,"Ägypten","Iran",1,1,null,2,1,0,"A",2,1,0,"A",0,0,7,"X",3,0,0,"A",1,0,0,"A",1,1,10,"X",1,0,0,"A",0,1,0,"B",0,0,7,"X",2,0,0,"A",1,1,10,"X",1,0,0,"A",1,0,0,"A",0,0,7,"X",2,1,0,"A",2,0,0,"A",1,1,10,"X",1,0,0,"A",1,0,0,"A",2,0,0,"A",1,1,10,"X",2,1,0,"A",2,0,0,"A",2,0,0,"A",1,1,10,"X",1,1,10,"X",2,0,0,"A",1,0,0,"A",1,1,10,"X",1,1,10,"X",2,0,0,"A",1,1,10,"X",1,1,10,"X",1,1,10,"X",2,0,0,"A",2,0,0,"A",1,1,10,"X",1,0,0,"A",3,1,0,"A",1,0,0,"A",1,1,10,"X",3,1,0,"A",2,1,0,"A",3,1,0,"A",1,1,10,"X",1,0,0,"A",0,1,0,"B",1,1,10,"X",1,1,10,"X",2,0,0,"A",null,42,33,9,84,null,50,39.285714285714285,10.714285714285714,null,null,null,null,null,{"$f":"_xlfn.LET(_xlpm.Start,COLUMN($I$1),_xlpm.Ende,COLUMN($GY$1),_xlpm.Anzahl,INT((_xlpm.Ende-_xlpm.Start)/4)+1,_xlpm.Spalten,_xlpm.Start+4*_xlfn.SEQUENCE(1,_xlpm.Anzahl,0,1),_xlpm.Namen1,INDEX($4:$4,1,_xlpm.Spalten)&\" \"&INDEX($5:$5,1,_xlpm.Spalten),_xlpm.Punkte1,INDEX(71:71,1,_xlpm.Spalten+2),_xlpm.Namen2,INDEX($85:$85,1,_xlpm.Spalten)&\" \"&INDEX($86:$86,1,_xlpm.Spalten),_xlpm.Punkte2,INDEX(152:152,1,_xlpm.Spalten+2),_xlfn.TEXTJOIN(\", \",TRUE,_xlfn._xlws.FILTER(_xlfn.HSTACK(_xlpm.Namen1,_xlpm.Namen2),_xlfn.HSTACK(_xlpm.Punkte1,_xlpm.Punkte2)=10,\"\")))","v":"Peter Balazs, Mara Beck, Philip Brunner, Leo Rodrigues da Costa, Rafael Derungs, Goran Djukic, Djuma Duvnjak, Andreia Gomes, Deliz González, Florian González, Laurent Grosse, Sarina Gygli, Florian Haab, Aiden Jones, André Lanz, Franz Lischer, Nicolas Mack, Michael Prucha, Martin Schawalder, Erich Schommarz, Aleandro Silvestri, Reto Treichler, Markus Wagner, Marc Walthard, Stefan Zachmann"},null,{"$f":"_xlfn.LET(_xlpm.Start,COLUMN($I$1),_xlpm.Ende,COLUMN($GY$1),_xlpm.Anzahl,INT((_xlpm.Ende-_xlpm.Start)/4)+1,_xlpm.Spalten,_xlpm.Start+4*_xlfn.SEQUENCE(1,_xlpm.Anzahl,0,1),_xlpm.Namen1,INDEX($4:$4,1,_xlpm.Spalten)&\" \"&INDEX($5:$5,1,_xlpm.Spalten),_xlpm.Punkte1,INDEX(71:71,1,_xlpm.Spalten+2),_xlpm.Namen2,INDEX($85:$85,1,_xlpm.Spalten)&\" \"&INDEX($86:$86,1,_xlpm.Spalten),_xlpm.Punkte2,INDEX(152:152,1,_xlpm.Spalten+2),_xlfn.TEXTJOIN(\", \",TRUE,_xlfn._xlws.FILTER(_xlfn.HSTACK(_xlpm.Namen1,_xlpm.Namen2),_xlfn.HSTACK(_xlpm.Punkte1,_xlpm.Punkte2)=7,\"\")))","v":"Ambra Antonelli, Philippe Bartholet, Manfred Brunner, Telmo Oliveira, Martin Oroshi, Lechena Pek, Evelyne Schenk, Bruno Silva"}]
["Sa. 27. Jun.","05:00:00",64,"Neuseeland","Belgien",1,5,null,1,2,5,"B",1,2,5,"B",2,1,0,"A",0,3,5,"B",0,2,5,"B",0,3,5,"B",0,2,5,"B",1,2,5,"B",0,2,5,"B",1,2,5,"B",0,3,5,"B",1,4,5,"B",0,2,5,"B",0,2,5,"B",1,2,5,"B",0,2,5,"B",0,2,5,"B",0,1,5,"B",0,2,5,"B",0,3,5,"B",0,3,5,"B",1,3,5,"B",0,2,5,"B",0,2,5,"B",0,2,5,"B",0,2,5,"B",0,3,5,"B",0,1,5,"B",0,2,5,"B",1,2,5,"B",1,4,5,"B",0,1,5,"B",0,3,5,"B",0,1,5,"B",1,2,5,"B",0,2,5,"B",0,1,5,"B",1,3,5,"B",0,2,5,"B",0,2,5,"B",0,3,5,"B",0,2,5,"B",1,3,5,"B",1,4,5,"B",0,1,5,"B",0,1,5,"B",0,1,5,"B",1,3,5,"B",0,1,5,"B",1,3,5,"B",null,4,1,79,84,null,4.7619047619047619,1.1904761904761905,94.047619047619051,null,null,null,null,null,{"$f":"_xlfn.LET(_xlpm.Start,COLUMN($I$1),_xlpm.Ende,COLUMN($GY$1),_xlpm.Anzahl,INT((_xlpm.Ende-_xlpm.Start)/4)+1,_xlpm.Spalten,_xlpm.Start+4*_xlfn.SEQUENCE(1,_xlpm.Anzahl,0,1),_xlpm.Namen1,INDEX($4:$4,1,_xlpm.Spalten)&\" \"&INDEX($5:$5,1,_xlpm.Spalten),_xlpm.Punkte1,INDEX(72:72,1,_xlpm.Spalten+2),_xlpm.Namen2,INDEX($85:$85,1,_xlpm.Spalten)&\" \"&INDEX($86:$86,1,_xlpm.Spalten),_xlpm.Punkte2,INDEX(153:153,1,_xlpm.Spalten+2),_xlfn.TEXTJOIN(\", \",TRUE,_xlfn._xlws.FILTER(_xlfn.HSTACK(_xlpm.Namen1,_xlpm.Namen2),_xlfn.HSTACK(_xlpm.Punkte1,_xlpm.Punkte2)=10,\"\")))","v":""},null,{"$f":"_xlfn.LET(_xlpm.Start,COLUMN($I$1),_xlpm.Ende,COLUMN($GY$1),_xlpm.Anzahl,INT((_xlpm.Ende-_xlpm.Start)/4)+1,_xlpm.Spalten,_xlpm.Start+4*_xlfn.SEQUENCE(1,_xlpm.Anzahl,0,1),_xlpm.Namen1,INDEX($4:$4,1,_xlpm.Spalten)&\" \"&INDEX($5:$5,1,_xlpm.Spalten),_xlpm.Punkte1,INDEX(72:72,1,_xlpm.Spalten+2),_xlpm.Namen2,INDEX($85:$85,1,_xlpm.Spalten)&\" \"&INDEX($86:$86,1,_xlpm.Spalten),_xlpm.Punkte2,INDEX(153:153,1,_xlpm.Spalten+2),_xlfn.TEXTJOIN(\", \",TRUE,_xlfn._xlws.FILTER(_xlfn.HSTACK(_xlpm.Namen1,_xlpm.Namen2),_xlfn.HSTACK(_xlpm.Punkte1,_xlpm.Punkte2)=7,\"\")))","v":"Philipp Meyer"}]
["Sa. 27. Jun.","02:00:00",65,"Kap Verde","Saudi-Arabien",0,0,null,1,2,0,"B",1,2,0,"B",1,2,0,"B",0,2,0,"B",0,1,0,"B",1,1,7,"X",0,1,0,"B",0,1,0,"B",1,1,7,"X",0,4,0,"B",0,1,0,"B",0,1,0,"B",1,2,0,"B",0,0,10,"X",0,0,10,"X",1,1,7,"X",1,1,7,"X",0,0,10,"X",0,1,0,"B",0,2,0,"B",2,1,0,"A",0,2,0,"B",0,0,10,"X",0,3,0,"B",1,1,7,"X",2,1,0,"A",0,1,0,"B",0,1,0,"B",0,1,0,"B",0,0,10,"X",3,0,0,"A",0,1,0,"B",0,0,10,"X",1,1,7,"X",0,2,0,"B",0,2,0,"B",0,1,0,"B",1,2,0,"B",0,0,10,"X",1,1,7,"X",1,2,0,"B",0,2,0,"B",1,3,0,"B",1,3,0,"B",0,2,0,"B",0,1,0,"B",0,1,0,"B",1,2,0,"B",0,0,10,"X",0,1,0,"B",null,7,29,48,84,null,8.3333333333333339,34.523809523809526,57.142857142857146,null,null,null,null,null,{"$f":"_xlfn.LET(_xlpm.Start,COLUMN($I$1),_xlpm.Ende,COLUMN($GY$1),_xlpm.Anzahl,INT((_xlpm.Ende-_xlpm.Start)/4)+1,_xlpm.Spalten,_xlpm.Start+4*_xlfn.SEQUENCE(1,_xlpm.Anzahl,0,1),_xlpm.Namen1,INDEX($4:$4,1,_xlpm.Spalten)&\" \"&INDEX($5:$5,1,_xlpm.Spalten),_xlpm.Punkte1,INDEX(73:73,1,_xlpm.Spalten+2),_xlpm.Namen2,INDEX($85:$85,1,_xlpm.Spalten)&\" \"&INDEX($86:$86,1,_xlpm.Spalten),_xlpm.Punkte2,INDEX(154:154,1,_xlpm.Spalten+2),_xlfn.TEXTJOIN(\", \",TRUE,_xlfn._xlws.FILTER(_xlfn.HSTACK(_xlpm.Namen1,_xlpm.Namen2),_xlfn.HSTACK(_xlpm.Punkte1,_xlpm.Punkte2)=10,\"\")))","v":"Manfred Brunner, Manuel Brunner, André Burkart, Niva D'Acunto, Andreia Gomes, Florian González, Stefan Gygli, Franz Lischer, Martin Marthaler, Julian Merkli, Martin Oroshi, Ivo und Brigitte Rüdemann, Lynn Rüegg, Christoph Wälti, Jingwen Wang"},null,{"$f":"_xlfn.LET(_xlpm.Start,COLUMN($I$1),_xlpm.Ende,COLUMN($GY$1),_xlpm.Anzahl,INT((_xlpm.Ende-_xlpm.Start)/4)+1,_xlpm.Spalten,_xlpm.Start+4*_xlfn.SEQUENCE(1,_xlpm.Anzahl,0,1),_xlpm.Namen1,INDEX($4:$4,1,_xlpm.Spalten)&\" \"&INDEX($5:$5,1,_xlpm.Spalten),_xlpm.Punkte1,INDEX(73:73,1,_xlpm.Spalten+2),_xlpm.Namen2,INDEX($85:$85,1,_xlpm.Spalten)&\" \"&INDEX($86:$86,1,_xlpm.Spalten),_xlpm.Punkte2,INDEX(154:154,1,_xlpm.Spalten+2),_xlfn.TEXTJOIN(\", \",TRUE,_xlfn._xlws.FILTER(_xlfn.HSTACK(_xlpm.Namen1,_xlpm.Namen2),_xlfn.HSTACK(_xlpm.Punkte1,_xlpm.Punkte2)=7,\"\")))","v":"Peter Balazs, Philippe Bartholet, Nicolas Brunner, Philip Brunner, Rafael Derungs, Laurent Grosse, Timothy Gygli, Nicolas Mack, Lechena Pek, Sabine Rüegg, Martin Schawalder, Evelyne Schenk, Aleandro Silvestri, Reto Treichler"}]
["Sa. 27. Jun.","02:00:00",66,"Uruguay","Spanien",0,1,null,1,2,{"$f":"IF(OR($F74=\"\",$G74=\"\",I74=\"\",J74=\"\"),\"\",IF(AND($F74=I74,$G74=J74),10,IF($F74-$G74=I74-J74,7,IF(OR(AND($F74>$G74,I74>J74),AND($F74<$G74,I74<J74)),5,0))))","v":7},{"$f":"IF(I74=\"\",\"\",IF(I74>J74,\"A\",IF(I74<J74,\"B\",IF(I74=J74,\"X\"))))","v":"B"},1,2,{"$f":"IF(OR($F74=\"\",$G74=\"\",M74=\"\",N74=\"\"),\"\",IF(AND($F74=M74,$G74=N74),10,IF($F74-$G74=M74-N74,7,IF(OR(AND($F74>$G74,M74>N74),AND($F74<$G74,M74<N74)),5,0))))","v":7},{"$f":"IF(M74=\"\",\"\",IF(M74>N74,\"A\",IF(M74<N74,\"B\",IF(M74=N74,\"X\"))))","v":"B"},2,3,{"$f":"IF(OR($F74=\"\",$G74=\"\",Q74=\"\",R74=\"\"),\"\",IF(AND($F74=Q74,$G74=R74),10,IF($F74-$G74=Q74-R74,7,IF(OR(AND($F74>$G74,Q74>R74),AND($F74<$G74,Q74<R74)),5,0))))","v":7},{"$f":"IF(Q74=\"\",\"\",IF(Q74>R74,\"A\",IF(Q74<R74,\"B\",IF(Q74=R74,\"X\"))))","v":"B"},1,2,{"$f":"IF(OR($F74=\"\",$G74=\"\",U74=\"\",V74=\"\"),\"\",IF(AND($F74=U74,$G74=V74),10,IF($F74-$G74=U74-V74,7,IF(OR(AND($F74>$G74,U74>V74),AND($F74<$G74,U74<V74)),5,0))))","v":7},{"$f":"IF(U74=\"\",\"\",IF(U74>V74,\"A\",IF(U74<V74,\"B\",IF(U74=V74,\"X\"))))","v":"B"},1,2,{"$f":"IF(OR($F74=\"\",$G74=\"\",Y74=\"\",Z74=\"\"),\"\",IF(AND($F74=Y74,$G74=Z74),10,IF($F74-$G74=Y74-Z74,7,IF(OR(AND($F74>$G74,Y74>Z74),AND($F74<$G74,Y74<Z74)),5,0))))","v":7},{"$f":"IF(Y74=\"\",\"\",IF(Y74>Z74,\"A\",IF(Y74<Z74,\"B\",IF(Y74=Z74,\"X\"))))","v":"B"},1,2,{"$f":"IF(OR($F74=\"\",$G74=\"\",AC74=\"\",AD74=\"\"),\"\",IF(AND($F74=AC74,$G74=AD74),10,IF($F74-$G74=AC74-AD74,7,IF(OR(AND($F74>$G74,AC74>AD74),AND($F74<$G74,AC74<AD74)),5,0))))","v":7},{"$f":"IF(AC74=\"\",\"\",IF(AC74>AD74,\"A\",IF(AC74<AD74,\"B\",IF(AC74=AD74,\"X\"))))","v":"B"},0,1,{"$f":"IF(OR($F74=\"\",$G74=\"\",AG74=\"\",AH74=\"\"),\"\",IF(AND($F74=AG74,$G74=AH74),10,IF($F74-$G74=AG74-AH74,7,IF(OR(AND($F74>$G74,AG74>AH74),AND($F74<$G74,AG74<AH74)),5,0))))","v":10},{"$f":"IF(AG74=\"\",\"\",IF(AG74>AH74,\"A\",IF(AG74<AH74,\"B\",IF(AG74=AH74,\"X\"))))","v":"B"},1,4,{"$f":"IF(OR($F74=\"\",$G74=\"\",AK74=\"\",AL74=\"\"),\"\",IF(AND($F74=AK74,$G74=AL74),10,IF($F74-$G74=AK74-AL74,7,IF(OR(AND($F74>$G74,AK74>AL74),AND($F74<$G74,AK74<AL74)),5,0))))","v":5},{"$f":"IF(AK74=\"\",\"\",IF(AK74>AL74,\"A\",IF(AK74<AL74,\"B\",IF(AK74=AL74,\"X\"))))","v":"B"},1,2,{"$f":"IF(OR($F74=\"\",$G74=\"\",AO74=\"\",AP74=\"\"),\"\",IF(AND($F74=AO74,$G74=AP74),10,IF($F74-$G74=AO74-AP74,7,IF(OR(AND($F74>$G74,AO74>AP74),AND($F74<$G74,AO74<AP74)),5,0))))","v":7},{"$f":"IF(AO74=\"\",\"\",IF(AO74>AP74,\"A\",IF(AO74<AP74,\"B\",IF(AO74=AP74,\"X\"))))","v":"B"},1,1,{"$f":"IF(OR($F74=\"\",$G74=\"\",AS74=\"\",AT74=\"\"),\"\",IF(AND($F74=AS74,$G74=AT74),10,IF($F74-$G74=AS74-AT74,7,IF(OR(AND($F74>$G74,AS74>AT74),AND($F74<$G74,AS74<AT74)),5,0))))","v":0},{"$f":"IF(AS74=\"\",\"\",IF(AS74>AT74,\"A\",IF(AS74<AT74,\"B\",IF(AS74=AT74,\"X\"))))","v":"X"},0,3,{"$f":"IF(OR($F74=\"\",$G74=\"\",AW74=\"\",AX74=\"\"),\"\",IF(AND($F74=AW74,$G74=AX74),10,IF($F74-$G74=AW74-AX74,7,IF(OR(AND($F74>$G74,AW74>AX74),AND($F74<$G74,AW74<AX74)),5,0))))","v":5},{"$f":"IF(AW74=\"\",\"\",IF(AW74>AX74,\"A\",IF(AW74<AX74,\"B\",IF(AW74=AX74,\"X\"))))","v":"B"},1,2,{"$f":"IF(OR($F74=\"\",$G74=\"\",BA74=\"\",BB74=\"\"),\"\",IF(AND($F74=BA74,$G74=BB74),10,IF($F74-$G74=BA74-BB74,7,IF(OR(AND($F74>$G74,BA74>BB74),AND($F74<$G74,BA74<BB74)),5,0))))","v":7},{"$f":"IF(BA74=\"\",\"\",IF(BA74>BB74,\"A\",IF(BA74<BB74,\"B\",IF(BA74=BB74,\"X\"))))","v":"B"},1,2,{"$f":"IF(OR($F74=\"\",$G74=\"\",BE74=\"\",BF74=\"\"),\"\",IF(AND($F74=BE74,$G74=BF74),10,IF($F74-$G74=BE74-BF74,7,IF(OR(AND($F74>$G74,BE74>BF74),AND($F74<$G74,BE74<BF74)),5,0))))","v":7},{"$f":"IF(BE74=\"\",\"\",IF(BE74>BF74,\"A\",IF(BE74<BF74,\"B\",IF(BE74=BF74,\"X\"))))","v":"B"},2,3,{"$f":"IF(OR($F74=\"\",$G74=\"\",BI74=\"\",BJ74=\"\"),\"\",IF(AND($F74=BI74,$G74=BJ74),10,IF($F74-$G74=BI74-BJ74,7,IF(OR(AND($F74>$G74,BI74>BJ74),AND($F74<$G74,BI74<BJ74)),5,0))))","v":7},{"$f":"IF(BI74=\"\",\"\",IF(BI74>BJ74,\"A\",IF(BI74<BJ74,\"B\",IF(BI74=BJ74,\"X\"))))","v":"B"},2,4,{"$f":"IF(OR($F74=\"\",$G74=\"\",BM74=\"\",BN74=\"\"),\"\",IF(AND($F74=BM74,$G74=BN74),10,IF($F74-$G74=BM74-BN74,7,IF(OR(AND($F74>$G74,BM74>BN74),AND($F74<$G74,BM74<BN74)),5,0))))","v":5},{"$f":"IF(BM74=\"\",\"\",IF(BM74>BN74,\"A\",IF(BM74<BN74,\"B\",IF(BM74=BN74,\"X\"))))","v":"B"},2,3,{"$f":"IF(OR($F74=\"\",$G74=\"\",BQ74=\"\",BR74=\"\"),\"\",IF(AND($F74=BQ74,$G74=BR74),10,IF($F74-$G74=BQ74-BR74,7,IF(OR(AND($F74>$G74,BQ74>BR74),AND($F74<$G74,BQ74<BR74)),5,0))))","v":7},{"$f":"IF(BQ74=\"\",\"\",IF(BQ74>BR74,\"A\",IF(BQ74<BR74,\"B\",IF(BQ74=BR74,\"X\"))))","v":"B"},1,2,{"$f":"IF(OR($F74=\"\",$G74=\"\",BU74=\"\",BV74=\"\"),\"\",IF(AND($F74=BU74,$G74=BV74),10,IF($F74-$G74=BU74-BV74,7,IF(OR(AND($F74>$G74,BU74>BV74),AND($F74<$G74,BU74<BV74)),5,0))))","v":7},{"$f":"IF(BU74=\"\",\"\",IF(BU74>BV74,\"A\",IF(BU74<BV74,\"B\",IF(BU74=BV74,\"X\"))))","v":"B"},0,1,{"$f":"IF(OR($F74=\"\",$G74=\"\",BY74=\"\",BZ74=\"\"),\"\",IF(AND($F74=BY74,$G74=BZ74),10,IF($F74-$G74=BY74-BZ74,7,IF(OR(AND($F74>$G74,BY74>BZ74),AND($F74<$G74,BY74<BZ74)),5,0))))","v":10},{"$f":"IF(BY74=\"\",\"\",IF(BY74>BZ74,\"A\",IF(BY74<BZ74,\"B\",IF(BY74=BZ74,\"X\"))))","v":"B"},0,1,{"$f":"IF(OR($F74=\"\",$G74=\"\",CC74=\"\",CD74=\"\"),\"\",IF(AND($F74=CC74,$G74=CD74),10,IF($F74-$G74=CC74-CD74,7,IF(OR(AND($F74>$G74,CC74>CD74),AND($F74<$G74,CC74<CD74)),5,0))))","v":10},{"$f":"IF(CC74=\"\",\"\",IF(CC74>CD74,\"A\",IF(CC74<CD74,\"B\",IF(CC74=CD74,\"X\"))))","v":"B"},1,3,{"$f":"IF(OR($F74=\"\",$G74=\"\",CG74=\"\",CH74=\"\"),\"\",IF(AND($F74=CG74,$G74=CH74),10,IF($F74-$G74=CG74-CH74,7,IF(OR(AND($F74>$G74,CG74>CH74),AND($F74<$G74,CG74<CH74)),5,0))))","v":5},{"$f":"IF(CG74=\"\",\"\",IF(CG74>CH74,\"A\",IF(CG74<CH74,\"B\",IF(CG74=CH74,\"X\"))))","v":"B"},1,2,{"$f":"IF(OR($F74=\"\",$G74=\"\",CK74=\"\",CL74=\"\"),\"\",IF(AND($F74=CK74,$G74=CL74),10,IF($F74-$G74=CK74-CL74,7,IF(OR(AND($F74>$G74,CK74>CL74),AND($F74<$G74,CK74<CL74)),5,0))))","v":7},{"$f":"IF(CK74=\"\",\"\",IF(CK74>CL74,\"A\",IF(CK74<CL74,\"B\",IF(CK74=CL74,\"X\"))))","v":"B"},0,2,{"$f":"IF(OR($F74=\"\",$G74=\"\",CO74=\"\",CP74=\"\"),\"\",IF(AND($F74=CO74,$G74=CP74),10,IF($F74-$G74=CO74-CP74,7,IF(OR(AND($F74>$G74,CO74>CP74),AND($F74<$G74,CO74<CP74)),5,0))))","v":5},{"$f":"IF(CO74=\"\",\"\",IF(CO74>CP74,\"A\",IF(CO74<CP74,\"B\",IF(CO74=CP74,\"X\"))))","v":"B"},2,3,{"$f":"IF(OR($F74=\"\",$G74=\"\",CS74=\"\",CT74=\"\"),\"\",IF(AND($F74=CS74,$G74=CT74),10,IF($F74-$G74=CS74-CT74,7,IF(OR(AND($F74>$G74,CS74>CT74),AND($F74<$G74,CS74<CT74)),5,0))))","v":7},{"$f":"IF(CS74=\"\",\"\",IF(CS74>CT74,\"A\",IF(CS74<CT74,\"B\",IF(CS74=CT74,\"X\"))))","v":"B"},2,2,{"$f":"IF(OR($F74=\"\",$G74=\"\",CW74=\"\",CX74=\"\"),\"\",IF(AND($F74=CW74,$G74=CX74),10,IF($F74-$G74=CW74-CX74,7,IF(OR(AND($F74>$G74,CW74>CX74),AND($F74<$G74,CW74<CX74)),5,0))))","v":0},{"$f":"IF(CW74=\"\",\"\",IF(CW74>CX74,\"A\",IF(CW74<CX74,\"B\",IF(CW74=CX74,\"X\"))))","v":"X"},1,1,{"$f":"IF(OR($F74=\"\",$G74=\"\",DA74=\"\",DB74=\"\"),\"\",IF(AND($F74=DA74,$G74=DB74),10,IF($F74-$G74=DA74-DB74,7,IF(OR(AND($F74>$G74,DA74>DB74),AND($F74<$G74,DA74<DB74)),5,0))))","v":0},{"$f":"IF(DA74=\"\",\"\",IF(DA74>DB74,\"A\",IF(DA74<DB74,\"B\",IF(DA74=DB74,\"X\"))))","v":"X"},1,2,{"$f":"IF(OR($F74=\"\",$G74=\"\",DE74=\"\",DF74=\"\"),\"\",IF(AND($F74=DE74,$G74=DF74),10,IF($F74-$G74=DE74-DF74,7,IF(OR(AND($F74>$G74,DE74>DF74),AND($F74<$G74,DE74<DF74)),5,0))))","v":7},{"$f":"IF(DE74=\"\",\"\",IF(DE74>DF74,\"A\",IF(DE74<DF74,\"B\",IF(DE74=DF74,\"X\"))))","v":"B"},0,2,{"$f":"IF(OR($F74=\"\",$G74=\"\",DI74=\"\",DJ74=\"\"),\"\",IF(AND($F74=DI74,$G74=DJ74),10,IF($F74-$G74=DI74-DJ74,7,IF(OR(AND($F74>$G74,DI74>DJ74),AND($F74<$G74,DI74<DJ74)),5,0))))","v":5},{"$f":"IF(DI74=\"\",\"\",IF(DI74>DJ74,\"A\",IF(DI74<DJ74,\"B\",IF(DI74=DJ74,\"X\"))))","v":"B"},1,2,{"$f":"IF(OR($F74=\"\",$G74=\"\",DM74=\"\",DN74=\"\"),\"\",IF(AND($F74=DM74,$G74=DN74),10,IF($F74-$G74=DM74-DN74,7,IF(OR(AND($F74>$G74,DM74>DN74),AND($F74<$G74,DM74<DN74)),5,0))))","v":7},{"$f":"IF(DM74=\"\",\"\",IF(DM74>DN74,\"A\",IF(DM74<DN74,\"B\",IF(DM74=DN74,\"X\"))))","v":"B"},1,2,{"$f":"IF(OR($F74=\"\",$G74=\"\",DQ74=\"\",DR74=\"\"),\"\",IF(AND($F74=DQ74,$G74=DR74),10,IF($F74-$G74=DQ74-DR74,7,IF(OR(AND($F74>$G74,DQ74>DR74),AND($F74<$G74,DQ74<DR74)),5,0))))","v":7},{"$f":"IF(DQ74=\"\",\"\",IF(DQ74>DR74,\"A\",IF(DQ74<DR74,\"B\",IF(DQ74=DR74,\"X\"))))","v":"B"},1,2,{"$f":"IF(OR($F74=\"\",$G74=\"\",DU74=\"\",DV74=\"\"),\"\",IF(AND($F74=DU74,$G74=DV74),10,IF($F74-$G74=DU74-DV74,7,IF(OR(AND($F74>$G74,DU74>DV74),AND($F74<$G74,DU74<DV74)),5,0))))","v":7},{"$f":"IF(DU74=\"\",\"\",IF(DU74>DV74,\"A\",IF(DU74<DV74,\"B\",IF(DU74=DV74,\"X\"))))","v":"B"},1,4,{"$f":"IF(OR($F74=\"\",$G74=\"\",DY74=\"\",DZ74=\"\"),\"\",IF(AND($F74=DY74,$G74=DZ74),10,IF($F74-$G74=DY74-DZ74,7,IF(OR(AND($F74>$G74,DY74>DZ74),AND($F74<$G74,DY74<DZ74)),5,0))))","v":5},{"$f":"IF(DY74=\"\",\"\",IF(DY74>DZ74,\"A\",IF(DY74<DZ74,\"B\",IF(DY74=DZ74,\"X\"))))","v":"B"},1,3,{"$f":"IF(OR($F74=\"\",$G74=\"\",EC74=\"\",ED74=\"\"),\"\",IF(AND($F74=EC74,$G74=ED74),10,IF($F74-$G74=EC74-ED74,7,IF(OR(AND($F74>$G74,EC74>ED74),AND($F74<$G74,EC74<ED74)),5,0))))","v":5},{"$f":"IF(EC74=\"\",\"\",IF(EC74>ED74,\"A\",IF(EC74<ED74,\"B\",IF(EC74=ED74,\"X\"))))","v":"B"},0,3,{"$f":"IF(OR($F74=\"\",$G74=\"\",EG74=\"\",EH74=\"\"),\"\",IF(AND($F74=EG74,$G74=EH74),10,IF($F74-$G74=EG74-EH74,7,IF(OR(AND($F74>$G74,EG74>EH74),AND($F74<$G74,EG74<EH74)),5,0))))","v":5},{"$f":"IF(EG74=\"\",\"\",IF(EG74>EH74,\"A\",IF(EG74<EH74,\"B\",IF(EG74=EH74,\"X\"))))","v":"B"},1,2,{"$f":"IF(OR($F74=\"\",$G74=\"\",EK74=\"\",EL74=\"\"),\"\",IF(AND($F74=EK74,$G74=EL74),10,IF($F74-$G74=EK74-EL74,7,IF(OR(AND($F74>$G74,EK74>EL74),AND($F74<$G74,EK74<EL74)),5,0))))","v":7},{"$f":"IF(EK74=\"\",\"\",IF(EK74>EL74,\"A\",IF(EK74<EL74,\"B\",IF(EK74=EL74,\"X\"))))","v":"B"},1,2,{"$f":"IF(OR($F74=\"\",$G74=\"\",EO74=\"\",EP74=\"\"),\"\",IF(AND($F74=EO74,$G74=EP74),10,IF($F74-$G74=EO74-EP74,7,IF(OR(AND($F74>$G74,EO74>EP74),AND($F74<$G74,EO74<EP74)),5,0))))","v":7},{"$f":"IF(EO74=\"\",\"\",IF(EO74>EP74,\"A\",IF(EO74<EP74,\"B\",IF(EO74=EP74,\"X\"))))","v":"B"},1,2,{"$f":"IF(OR($F74=\"\",$G74=\"\",ES74=\"\",ET74=\"\"),\"\",IF(AND($F74=ES74,$G74=ET74),10,IF($F74-$G74=ES74-ET74,7,IF(OR(AND($F74>$G74,ES74>ET74),AND($F74<$G74,ES74<ET74)),5,0))))","v":7},{"$f":"IF(ES74=\"\",\"\",IF(ES74>ET74,\"A\",IF(ES74<ET74,\"B\",IF(ES74=ET74,\"X\"))))","v":"B"},1,2,{"$f":"IF(OR($F74=\"\",$G74=\"\",EW74=\"\",EX74=\"\"),\"\",IF(AND($F74=EW74,$G74=EX74),10,IF($F74-$G74=EW74-EX74,7,IF(OR(AND($F74>$G74,EW74>EX74),AND($F74<$G74,EW74<EX74)),5,0))))","v":7},{"$f":"IF(EW74=\"\",\"\",IF(EW74>EX74,\"A\",IF(EW74<EX74,\"B\",IF(EW74=EX74,\"X\"))))","v":"B"},1,2,{"$f":"IF(OR($F74=\"\",$G74=\"\",FA74=\"\",FB74=\"\"),\"\",IF(AND($F74=FA74,$G74=FB74),10,IF($F74-$G74=FA74-FB74,7,IF(OR(AND($F74>$G74,FA74>FB74),AND($F74<$G74,FA74<FB74)),5,0))))","v":7},{"$f":"IF(FA74=\"\",\"\",IF(FA74>FB74,\"A\",IF(FA74<FB74,\"B\",IF(FA74=FB74,\"X\"))))","v":"B"},1,2,{"$f":"IF(OR($F74=\"\",$G74=\"\",FE74=\"\",FF74=\"\"),\"\",IF(AND($F74=FE74,$G74=FF74),10,IF($F74-$G74=FE74-FF74,7,IF(OR(AND($F74>$G74,FE74>FF74),AND($F74<$G74,FE74<FF74)),5,0))))","v":7},{"$f":"IF(FE74=\"\",\"\",IF(FE74>FF74,\"A\",IF(FE74<FF74,\"B\",IF(FE74=FF74,\"X\"))))","v":"B"},1,2,{"$f":"IF(OR($F74=\"\",$G74=\"\",FI74=\"\",FJ74=\"\"),\"\",IF(AND($F74=FI74,$G74=FJ74),10,IF($F74-$G74=FI74-FJ74,7,IF(OR(AND($F74>$G74,FI74>FJ74),AND($F74<$G74,FI74<FJ74)),5,0))))","v":7},{"$f":"IF(FI74=\"\",\"\",IF(FI74>FJ74,\"A\",IF(FI74<FJ74,\"B\",IF(FI74=FJ74,\"X\"))))","v":"B"},1,3,{"$f":"IF(OR($F74=\"\",$G74=\"\",FM74=\"\",FN74=\"\"),\"\",IF(AND($F74=FM74,$G74=FN74),10,IF($F74-$G74=FM74-FN74,7,IF(OR(AND($F74>$G74,FM74>FN74),AND($F74<$G74,FM74<FN74)),5,0))))","v":5},{"$f":"IF(FM74=\"\",\"\",IF(FM74>FN74,\"A\",IF(FM74<FN74,\"B\",IF(FM74=FN74,\"X\"))))","v":"B"},1,3,{"$f":"IF(OR($F74=\"\",$G74=\"\",FQ74=\"\",FR74=\"\"),\"\",IF(AND($F74=FQ74,$G74=FR74),10,IF($F74-$G74=FQ74-FR74,7,IF(OR(AND($F74>$G74,FQ74>FR74),AND($F74<$G74,FQ74<FR74)),5,0))))","v":5},{"$f":"IF(FQ74=\"\",\"\",IF(FQ74>FR74,\"A\",IF(FQ74<FR74,\"B\",IF(FQ74=FR74,\"X\"))))","v":"B"},1,3,{"$f":"IF(OR($F74=\"\",$G74=\"\",FU74=\"\",FV74=\"\"),\"\",IF(AND($F74=FU74,$G74=FV74),10,IF($F74-$G74=FU74-FV74,7,IF(OR(AND($F74>$G74,FU74>FV74),AND($F74<$G74,FU74<FV74)),5,0))))","v":5},{"$f":"IF(FU74=\"\",\"\",IF(FU74>FV74,\"A\",IF(FU74<FV74,\"B\",IF(FU74=FV74,\"X\"))))","v":"B"},1,3,{"$f":"IF(OR($F74=\"\",$G74=\"\",FY74=\"\",FZ74=\"\"),\"\",IF(AND($F74=FY74,$G74=FZ74),10,IF($F74-$G74=FY74-FZ74,7,IF(OR(AND($F74>$G74,FY74>FZ74),AND($F74<$G74,FY74<FZ74)),5,0))))","v":5},{"$f":"IF(FY74=\"\",\"\",IF(FY74>FZ74,\"A\",IF(FY74<FZ74,\"B\",IF(FY74=FZ74,\"X\"))))","v":"B"},1,2,{"$f":"IF(OR($F74=\"\",$G74=\"\",GC74=\"\",GD74=\"\"),\"\",IF(AND($F74=GC74,$G74=GD74),10,IF($F74-$G74=GC74-GD74,7,IF(OR(AND($F74>$G74,GC74>GD74),AND($F74<$G74,GC74<GD74)),5,0))))","v":7},{"$f":"IF(GC74=\"\",\"\",IF(GC74>GD74,\"A\",IF(GC74<GD74,\"B\",IF(GC74=GD74,\"X\"))))","v":"B"},0,1,{"$f":"IF(OR($F74=\"\",$G74=\"\",GG74=\"\",GH74=\"\"),\"\",IF(AND($F74=GG74,$G74=GH74),10,IF($F74-$G74=GG74-GH74,7,IF(OR(AND($F74>$G74,GG74>GH74),AND($F74<$G74,GG74<GH74)),5,0))))","v":10},{"$f":"IF(GG74=\"\",\"\",IF(GG74>GH74,\"A\",IF(GG74<GH74,\"B\",IF(GG74=GH74,\"X\"))))","v":"B"},1,2,{"$f":"IF(OR($F74=\"\",$G74=\"\",GK74=\"\",GL74=\"\"),\"\",IF(AND($F74=GK74,$G74=GL74),10,IF($F74-$G74=GK74-GL74,7,IF(OR(AND($F74>$G74,GK74>GL74),AND($F74<$G74,GK74<GL74)),5,0))))","v":7},{"$f":"IF(GK74=\"\",\"\",IF(GK74>GL74,\"A\",IF(GK74<GL74,\"B\",IF(GK74=GL74,\"X\"))))","v":"B"},1,1,{"$f":"IF(OR($F74=\"\",$G74=\"\",GO74=\"\",GP74=\"\"),\"\",IF(AND($F74=GO74,$G74=GP74),10,IF($F74-$G74=GO74-GP74,7,IF(OR(AND($F74>$G74,GO74>GP74),AND($F74<$G74,GO74<GP74)),5,0))))","v":0},{"$f":"IF(GO74=\"\",\"\",IF(GO74>GP74,\"A\",IF(GO74<GP74,\"B\",IF(GO74=GP74,\"X\"))))","v":"X"},0,3,{"$f":"IF(OR($F74=\"\",$G74=\"\",GS74=\"\",GT74=\"\"),\"\",IF(AND($F74=GS74,$G74=GT74),10,IF($F74-$G74=GS74-GT74,7,IF(OR(AND($F74>$G74,GS74>GT74),AND($F74<$G74,GS74<GT74)),5,0))))","v":5},{"$f":"IF(GS74=\"\",\"\",IF(GS74>GT74,\"A\",IF(GS74<GT74,\"B\",IF(GS74=GT74,\"X\"))))","v":"B"},1,2,{"$f":"IF(OR($F74=\"\",$G74=\"\",GW74=\"\",GX74=\"\"),\"\",IF(AND($F74=GW74,$G74=GX74),10,IF($F74-$G74=GW74-GX74,7,IF(OR(AND($F74>$G74,GW74>GX74),AND($F74<$G74,GW74<GX74)),5,0))))","v":7},{"$f":"IF(GW74=\"\",\"\",IF(GW74>GX74,\"A\",IF(GW74<GX74,\"B\",IF(GW74=GX74,\"X\"))))","v":"B"},null,{"$f":"SUM(COUNTIF($I74:$GZ74,\"A\")+COUNTIF($I155:$GZ155,\"A\"))","v":0},{"$f":"SUM(COUNTIF($I74:$GZ74,\"X\")+COUNTIF($I155:$GZ155,\"X\"))","v":7},{"$f":"SUM(COUNTIF($I74:$GZ74,\"B\")+COUNTIF($I155:$GZ155,\"B\"))","v":77},{"$f":"SUM(HB74:HD74)","v":84},null,{"$f":"HB74*100/HE74","v":0},{"$f":"HC74*100/HE74","v":8.3333333333333339},{"$f":"HD74*100/HE74","v":91.666666666666671},null,null,null,null,null,{"$f":"_xlfn.LET(_xlpm.Start,COLUMN($I$1),_xlpm.Ende,COLUMN($GY$1),_xlpm.Anzahl,INT((_xlpm.Ende-_xlpm.Start)/4)+1,_xlpm.Spalten,_xlpm.Start+4*_xlfn.SEQUENCE(1,_xlpm.Anzahl,0,1),_xlpm.Namen1,INDEX($4:$4,1,_xlpm.Spalten)&\" \"&INDEX($5:$5,1,_xlpm.Spalten),_xlpm.Punkte1,INDEX(74:74,1,_xlpm.Spalten+2),_xlpm.Namen2,INDEX($85:$85,1,_xlpm.Spalten)&\" \"&INDEX($86:$86,1,_xlpm.Spalten),_xlpm.Punkte2,INDEX(155:155,1,_xlpm.Spalten+2),_xlfn.TEXTJOIN(\", \",TRUE,_xlfn._xlws.FILTER(_xlfn.HSTACK(_xlpm.Namen1,_xlpm.Namen2),_xlfn.HSTACK(_xlpm.Punkte1,_xlpm.Punkte2)=10,\"\")))","v":"André Bartholet, André Burkart, Oli Christiansen, Pascal Keller, Philipp Meyer, Lea Treichler"},null,{"$f":"_xlfn.LET(_xlpm.Start,COLUMN($I$1),_xlpm.Ende,COLUMN($GY$1),_xlpm.Anzahl,INT((_xlpm.Ende-_xlpm.Start)/4)+1,_xlpm.Spalten,_xlpm.Start+4*_xlfn.SEQUENCE(1,_xlpm.Anzahl,0,1),_xlpm.Namen1,INDEX($4:$4,1,_xlpm.Spalten)&\" \"&INDEX($5:$5,1,_xlpm.Spalten),_xlpm.Punkte1,INDEX(74:74,1,_xlpm.Spalten+2),_xlpm.Namen2,INDEX($85:$85,1,_xlpm.Spalten)&\" \"&INDEX($86:$86,1,_xlpm.Spalten),_xlpm.Punkte2,INDEX(155:155,1,_xlpm.Spalten+2),_xlfn.TEXTJOIN(\", \",TRUE,_xlfn._xlws.FILTER(_xlfn.HSTACK(_xlpm.Namen1,_xlpm.Namen2),_xlfn.HSTACK(_xlpm.Punkte1,_xlpm.Punkte2)=7,\"\")))","v":"Panos Agorastos, Yiannis Agorastos, Ambra Antonelli, Marco Antonelli, Ruben Antonelli, Peter Balazs, Philippe Bartholet, Pongsapat Nott Boonaek, Michael Bosshart, Manfred Brunner, Nicolas Brunner, Philip Brunner, Leo Rodrigues da Costa, Niva D'Acunto, Goran Djukic, Dino Duvnjak, Djuma Duvnjak, Andreia Gomes, Laurent Grosse, Reto Gygli, Robin Gygli, Sarina Gygli, Selina Gygli, Stefan Gygli, Timothy Gygli, Aiden Jones, Tanja Kistler, Marc Lütolf, Nicolas Mack, Elias Marty, Telmo Oliveira, Stefan Principe, Petra Rauscher, Martin Rohner, Ivo und Brigitte Rüdemann, Michael Rüegg, Sabine Rüegg, Ralph Schuster, Bruno Silva, Aleandro Silvestri, Reto Treichler, Markus Wagner, Marc Walthard, Stefan Wullschleger"}]
["Sa. 27. Jun.","23:00:00",67,"Panama","England",0,2,null,1,2,5,"B",1,2,5,"B",3,3,0,"X",1,3,7,"B",0,3,5,"B",0,2,10,"B",0,3,5,"B",0,2,10,"B",1,2,5,"B",0,3,5,"B",0,3,5,"B",0,4,5,"B",0,3,5,"B",1,1,0,"X",1,3,7,"B",0,5,5,"B",0,2,10,"B",0,1,5,"B",0,2,10,"B",0,3,5,"B",1,5,5,"B",0,3,5,"B",0,4,5,"B",0,4,5,"B",0,2,10,"B",0,3,5,"B",0,5,5,"B",0,2,10,"B",0,3,5,"B",0,2,10,"B",1,3,7,"B",0,2,10,"B",0,2,10,"B",0,2,10,"B",0,3,5,"B",0,3,5,"B",0,1,5,"B",0,2,10,"B",0,3,5,"B",1,3,7,"B",0,3,5,"B",0,3,5,"B",0,3,5,"B",1,3,7,"B",0,2,10,"B",0,1,5,"B",1,2,5,"B",0,2,10,"B",1,2,5,"B",0,3,5,"B",null,0,5,79,84,null,0,5.9523809523809526,94.047619047619051,null,null,null,null,null,{"$f":"_xlfn.LET(_xlpm.Start,COLUMN($I$1),_xlpm.Ende,COLUMN($GY$1),_xlpm.Anzahl,INT((_xlpm.Ende-_xlpm.Start)/4)+1,_xlpm.Spalten,_xlpm.Start+4*_xlfn.SEQUENCE(1,_xlpm.Anzahl,0,1),_xlpm.Namen1,INDEX($4:$4,1,_xlpm.Spalten)&\" \"&INDEX($5:$5,1,_xlpm.Spalten),_xlpm.Punkte1,INDEX(75:75,1,_xlpm.Spalten+2),_xlpm.Namen2,INDEX($85:$85,1,_xlpm.Spalten)&\" \"&INDEX($86:$86,1,_xlpm.Spalten),_xlpm.Punkte2,INDEX(156:156,1,_xlpm.Spalten+2),_xlfn.TEXTJOIN(\", \",TRUE,_xlfn._xlws.FILTER(_xlfn.HSTACK(_xlpm.Namen1,_xlpm.Namen2),_xlfn.HSTACK(_xlpm.Punkte1,_xlpm.Punkte2)=10,\"\")))","v":"Peter Balazs, Aya Bartholet, Philip Brunner, Oli Christiansen, Rafael Derungs, Dino Duvnjak, Andreia Gomes, Deliz González, Florian González, Laurent Grosse, Selina Gygli, Aiden Jones, André Lanz, Nicolas Mack, Telmo Oliveira, Ivo und Brigitte Rüdemann, Martin Schawalder, Yannick Schilliger, Markus Wagner, Marc Walthard, Stefan Wullschleger"},null,{"$f":"_xlfn.LET(_xlpm.Start,COLUMN($I$1),_xlpm.Ende,COLUMN($GY$1),_xlpm.Anzahl,INT((_xlpm.Ende-_xlpm.Start)/4)+1,_xlpm.Spalten,_xlpm.Start+4*_xlfn.SEQUENCE(1,_xlpm.Anzahl,0,1),_xlpm.Namen1,INDEX($4:$4,1,_xlpm.Spalten)&\" \"&INDEX($5:$5,1,_xlpm.Spalten),_xlpm.Punkte1,INDEX(75:75,1,_xlpm.Spalten+2),_xlpm.Namen2,INDEX($85:$85,1,_xlpm.Spalten)&\" \"&INDEX($86:$86,1,_xlpm.Spalten),_xlpm.Punkte2,INDEX(156:156,1,_xlpm.Spalten+2),_xlfn.TEXTJOIN(\", \",TRUE,_xlfn._xlws.FILTER(_xlfn.HSTACK(_xlpm.Namen1,_xlpm.Namen2),_xlfn.HSTACK(_xlpm.Punkte1,_xlpm.Punkte2)=7,\"\")))","v":"Marco Antonelli, Manuel Brunner, Rui Gomes, Timothy Gygli, Michael Isenschmid"}]
["Sa. 27. Jun.","23:00:00",68,"Kroatien","Ghana",2,1,null,2,1,10,"A",1,1,0,"X",1,2,0,"B",2,2,0,"X",3,1,5,"A",3,1,5,"A",1,0,7,"A",1,1,0,"X",2,1,10,"A",2,0,5,"A",2,1,10,"A",2,0,5,"A",2,1,10,"A",3,0,5,"A",1,0,7,"A",4,1,5,"A",2,1,10,"A",1,1,0,"X",2,0,5,"A",2,2,0,"X",2,1,10,"A",2,0,5,"A",2,1,10,"A",2,1,10,"A",2,1,10,"A",2,0,5,"A",2,1,10,"A",1,0,7,"A",1,0,7,"A",1,0,7,"A",1,1,0,"X",2,1,10,"A",2,1,10,"A",1,1,0,"X",2,1,10,"A",1,1,0,"X",1,1,0,"X",0,2,0,"B",1,1,0,"X",1,1,0,"X",3,1,5,"A",2,1,10,"A",2,1,10,"A",3,1,5,"A",1,2,0,"B",0,1,0,"B",2,1,10,"A",3,0,5,"A",1,0,7,"A",2,0,5,"A",null,60,19,5,84,null,71.428571428571431,22.61904761904762,5.9523809523809526,null,null,null,null,null,{"$f":"_xlfn.LET(_xlpm.Start,COLUMN($I$1),_xlpm.Ende,COLUMN($GY$1),_xlpm.Anzahl,INT((_xlpm.Ende-_xlpm.Start)/4)+1,_xlpm.Spalten,_xlpm.Start+4*_xlfn.SEQUENCE(1,_xlpm.Anzahl,0,1),_xlpm.Namen1,INDEX($4:$4,1,_xlpm.Spalten)&\" \"&INDEX($5:$5,1,_xlpm.Spalten),_xlpm.Punkte1,INDEX(76:76,1,_xlpm.Spalten+2),_xlpm.Namen2,INDEX($85:$85,1,_xlpm.Spalten)&\" \"&INDEX($86:$86,1,_xlpm.Spalten),_xlpm.Punkte2,INDEX(157:157,1,_xlpm.Spalten+2),_xlfn.TEXTJOIN(\", \",TRUE,_xlfn._xlws.FILTER(_xlfn.HSTACK(_xlpm.Namen1,_xlpm.Namen2),_xlfn.HSTACK(_xlpm.Punkte1,_xlpm.Punkte2)=10,\"\")))","v":"Panos Agorastos, Philippe Bartholet, Mara Beck, Michael Bosshart, Philip Brunner, Leo Rodrigues da Costa, Niva D'Acunto, Vinci D'Acunto, Rafael Derungs, Armin Duvnjak, Deliz González, Florian González, Reto Gygli, Agnes Isenschmid, Andreas Isenschmid, Tanja Kistler, Nicolas Mack, Philipp Meyer, Telmo Oliveira, Martin Oroshi, Petra Rauscher, Sabine Rüegg, Evelyne Schenk, Erich Schommarz, Aleandro Silvestri, Reto Treichler, Marc Walthard, Stefan Wullschleger"},null,{"$f":"_xlfn.LET(_xlpm.Start,COLUMN($I$1),_xlpm.Ende,COLUMN($GY$1),_xlpm.Anzahl,INT((_xlpm.Ende-_xlpm.Start)/4)+1,_xlpm.Spalten,_xlpm.Start+4*_xlfn.SEQUENCE(1,_xlpm.Anzahl,0,1),_xlpm.Namen1,INDEX($4:$4,1,_xlpm.Spalten)&\" \"&INDEX($5:$5,1,_xlpm.Spalten),_xlpm.Punkte1,INDEX(76:76,1,_xlpm.Spalten+2),_xlpm.Namen2,INDEX($85:$85,1,_xlpm.Spalten)&\" \"&INDEX($86:$86,1,_xlpm.Spalten),_xlpm.Punkte2,INDEX(157:157,1,_xlpm.Spalten+2),_xlfn.TEXTJOIN(\", \",TRUE,_xlfn._xlws.FILTER(_xlfn.HSTACK(_xlpm.Namen1,_xlpm.Namen2),_xlfn.HSTACK(_xlpm.Punkte1,_xlpm.Punkte2)=7,\"\")))","v":"André Bartholet, Manuel Brunner, Dino Duvnjak, Djuma Duvnjak, Andreia Gomes, Franz Lischer, Julian Merkli, Ralph Schuster, Christoph Wälti, Markus Wagner"}]
["So. 28. Jun.","04:00:00",69,"Algerien","Österreich",3,3,null,1,1,7,"X",1,1,7,"X",1,0,0,"A",2,1,0,"A",1,1,7,"X",0,1,0,"B",0,1,0,"B",0,1,0,"B",1,2,0,"B",1,2,0,"B",0,3,0,"B",1,3,0,"B",0,2,0,"B",1,1,7,"X",1,2,0,"B",1,3,0,"B",0,1,0,"B",0,1,0,"B",0,1,0,"B",1,2,0,"B",1,2,0,"B",2,2,7,"X",1,1,7,"X",1,1,7,"X",1,1,7,"X",1,1,7,"X",1,1,7,"X",1,1,7,"X",0,1,0,"B",0,1,0,"B",0,2,0,"B",1,2,0,"B",0,2,0,"B",0,1,0,"B",1,2,0,"B",1,1,7,"X",1,1,7,"X",0,1,0,"B",1,1,7,"X",0,2,0,"B",1,2,0,"B",0,0,7,"X",2,2,7,"X",1,3,0,"B",1,0,0,"A",0,1,0,"B",0,1,0,"B",1,1,7,"X",0,1,0,"B",1,1,7,"X",null,6,30,48,84,null,7.1428571428571432,35.714285714285715,57.142857142857146,null,null,null,null,null,{"$f":"_xlfn.LET(_xlpm.Start,COLUMN($I$1),_xlpm.Ende,COLUMN($GY$1),_xlpm.Anzahl,INT((_xlpm.Ende-_xlpm.Start)/4)+1,_xlpm.Spalten,_xlpm.Start+4*_xlfn.SEQUENCE(1,_xlpm.Anzahl,0,1),_xlpm.Namen1,INDEX($4:$4,1,_xlpm.Spalten)&\" \"&INDEX($5:$5,1,_xlpm.Spalten),_xlpm.Punkte1,INDEX(77:77,1,_xlpm.Spalten+2),_xlpm.Namen2,INDEX($85:$85,1,_xlpm.Spalten)&\" \"&INDEX($86:$86,1,_xlpm.Spalten),_xlpm.Punkte2,INDEX(158:158,1,_xlpm.Spalten+2),_xlfn.TEXTJOIN(\", \",TRUE,_xlfn._xlws.FILTER(_xlfn.HSTACK(_xlpm.Namen1,_xlpm.Namen2),_xlfn.HSTACK(_xlpm.Punkte1,_xlpm.Punkte2)=10,\"\")))","v":""},null,{"$f":"_xlfn.LET(_xlpm.Start,COLUMN($I$1),_xlpm.Ende,COLUMN($GY$1),_xlpm.Anzahl,INT((_xlpm.Ende-_xlpm.Start)/4)+1,_xlpm.Spalten,_xlpm.Start+4*_xlfn.SEQUENCE(1,_xlpm.Anzahl,0,1),_xlpm.Namen1,INDEX($4:$4,1,_xlpm.Spalten)&\" \"&INDEX($5:$5,1,_xlpm.Spalten),_xlpm.Punkte1,INDEX(77:77,1,_xlpm.Spalten+2),_xlpm.Namen2,INDEX($85:$85,1,_xlpm.Spalten)&\" \"&INDEX($86:$86,1,_xlpm.Spalten),_xlpm.Punkte2,INDEX(158:158,1,_xlpm.Spalten+2),_xlfn.TEXTJOIN(\", \",TRUE,_xlfn._xlws.FILTER(_xlfn.HSTACK(_xlpm.Namen1,_xlpm.Namen2),_xlfn.HSTACK(_xlpm.Punkte1,_xlpm.Punkte2)=7,\"\")))","v":"Panos Agorastos, Yiannis Agorastos, Ruben Antonelli, Manfred Brunner, Lisa D'Acunto, Niva D'Acunto, Vinci D'Acunto, Rafael Derungs, Goran Djukic, Armin Duvnjak, Dino Duvnjak, Robin Gygli, Sarina Gygli, Stefan Gygli, Agnes Isenschmid, Andreas Isenschmid, André Lanz, Marc Lütolf, Nicolas Mack, Ben Marthaler, Julian Merkli, Philipp Meyer, Telmo Oliveira, Michael Prucha, Martin Rohner, Sabine Rüegg, Martin Schawalder, Ralph Schuster, Armando Thormann, Christoph Wälti"}]
["So. 28. Jun.","04:00:00",70,"Jordanien","Argentinien",1,3,null,1,2,5,"B",1,3,10,"B",1,3,10,"B",1,3,10,"B",0,4,5,"B",0,3,5,"B",0,2,7,"B",0,3,5,"B",1,2,5,"B",0,4,5,"B",0,3,5,"B",0,3,5,"B",0,3,5,"B",0,4,5,"B",0,5,5,"B",0,4,5,"B",0,2,7,"B",0,2,7,"B",0,3,5,"B",0,2,7,"B",0,2,7,"B",0,5,5,"B",0,4,5,"B",0,6,5,"B",0,2,7,"B",0,3,5,"B",0,5,5,"B",0,3,5,"B",0,3,5,"B",0,2,7,"B",0,5,5,"B",0,1,5,"B",0,3,5,"B",0,2,7,"B",0,4,5,"B",0,2,7,"B",0,2,7,"B",0,2,7,"B",0,2,7,"B",0,3,5,"B",0,3,5,"B",1,3,10,"B",1,3,10,"B",1,3,10,"B",0,2,7,"B",0,1,5,"B",0,3,5,"B",0,3,5,"B",0,2,7,"B",0,3,5,"B",null,0,1,83,84,null,0,1.1904761904761905,98.80952380952381,null,null,null,null,null,{"$f":"_xlfn.LET(_xlpm.Start,COLUMN($I$1),_xlpm.Ende,COLUMN($GY$1),_xlpm.Anzahl,INT((_xlpm.Ende-_xlpm.Start)/4)+1,_xlpm.Spalten,_xlpm.Start+4*_xlfn.SEQUENCE(1,_xlpm.Anzahl,0,1),_xlpm.Namen1,INDEX($4:$4,1,_xlpm.Spalten)&\" \"&INDEX($5:$5,1,_xlpm.Spalten),_xlpm.Punkte1,INDEX(78:78,1,_xlpm.Spalten+2),_xlpm.Namen2,INDEX($85:$85,1,_xlpm.Spalten)&\" \"&INDEX($86:$86,1,_xlpm.Spalten),_xlpm.Punkte2,INDEX(159:159,1,_xlpm.Spalten+2),_xlfn.TEXTJOIN(\", \",TRUE,_xlfn._xlws.FILTER(_xlfn.HSTACK(_xlpm.Namen1,_xlpm.Namen2),_xlfn.HSTACK(_xlpm.Punkte1,_xlpm.Punkte2)=10,\"\")))","v":"Yiannis Agorastos, Ambra Antonelli, Marco Antonelli, Agnes Isenschmid, Andreas Isenschmid, Michael Isenschmid, Elias Marty, Petra Rauscher"},null,{"$f":"_xlfn.LET(_xlpm.Start,COLUMN($I$1),_xlpm.Ende,COLUMN($GY$1),_xlpm.Anzahl,INT((_xlpm.Ende-_xlpm.Start)/4)+1,_xlpm.Spalten,_xlpm.Start+4*_xlfn.SEQUENCE(1,_xlpm.Anzahl,0,1),_xlpm.Namen1,INDEX($4:$4,1,_xlpm.Spalten)&\" \"&INDEX($5:$5,1,_xlpm.Spalten),_xlpm.Punkte1,INDEX(78:78,1,_xlpm.Spalten+2),_xlpm.Namen2,INDEX($85:$85,1,_xlpm.Spalten)&\" \"&INDEX($86:$86,1,_xlpm.Spalten),_xlpm.Punkte2,INDEX(159:159,1,_xlpm.Spalten+2),_xlfn.TEXTJOIN(\", \",TRUE,_xlfn._xlws.FILTER(_xlfn.HSTACK(_xlpm.Namen1,_xlpm.Namen2),_xlfn.HSTACK(_xlpm.Punkte1,_xlpm.Punkte2)=7,\"\")))","v":"André Bartholet, Philip Brunner, André Burkart, Javier Cruz, Leo Rodrigues da Costa, Rafael Derungs, Andreia Gomes, Laurent Grosse, Robin Gygli, Sarina Gygli, Selina Gygli, Stefan Gygli, Aiden Jones, Franz Lischer, Martin Marthaler, Telmo Oliveira, Ivo und Brigitte Rüdemann, Michael Rüegg, Armando Thormann, Marc Walthard, Stefan Wullschleger"}]
["So. 28. Jun.","01:30:00",71,"Kolumbien","Portugal",0,0,null,1,1,7,"X",2,1,0,"A",2,3,0,"B",1,2,0,"B",2,2,7,"X",1,2,0,"B",1,1,7,"X",1,3,0,"B",2,2,7,"X",2,3,0,"B",1,3,0,"B",1,3,0,"B",1,2,0,"B",2,2,7,"X",1,5,0,"B",0,3,0,"B",1,1,7,"X",1,1,7,"X",0,1,0,"B",1,2,0,"B",1,1,7,"X",1,3,0,"B",1,2,0,"B",1,1,7,"X",2,2,7,"X",1,2,0,"B",0,2,0,"B",1,2,0,"B",1,2,0,"B",1,2,0,"B",1,3,0,"B",2,2,7,"X",1,2,0,"B",1,2,0,"B",1,1,7,"X",1,2,0,"B",2,2,7,"X",1,3,0,"B",2,0,0,"A",2,2,7,"X",0,2,0,"B",0,2,0,"B",1,1,7,"X",1,3,0,"B",1,2,0,"B",0,1,0,"B",1,2,0,"B",0,2,0,"B",0,0,10,"X",1,2,0,"B",null,2,25,57,84,null,2.3809523809523809,29.761904761904763,67.857142857142861,null,null,null,null,null,{"$f":"_xlfn.LET(_xlpm.Start,COLUMN($I$1),_xlpm.Ende,COLUMN($GY$1),_xlpm.Anzahl,INT((_xlpm.Ende-_xlpm.Start)/4)+1,_xlpm.Spalten,_xlpm.Start+4*_xlfn.SEQUENCE(1,_xlpm.Anzahl,0,1),_xlpm.Namen1,INDEX($4:$4,1,_xlpm.Spalten)&\" \"&INDEX($5:$5,1,_xlpm.Spalten),_xlpm.Punkte1,INDEX(79:79,1,_xlpm.Spalten+2),_xlpm.Namen2,INDEX($85:$85,1,_xlpm.Spalten)&\" \"&INDEX($86:$86,1,_xlpm.Spalten),_xlpm.Punkte2,INDEX(160:160,1,_xlpm.Spalten+2),_xlfn.TEXTJOIN(\", \",TRUE,_xlfn._xlws.FILTER(_xlfn.HSTACK(_xlpm.Namen1,_xlpm.Namen2),_xlfn.HSTACK(_xlpm.Punkte1,_xlpm.Punkte2)=10,\"\")))","v":"Franz Lischer"},null,{"$f":"_xlfn.LET(_xlpm.Start,COLUMN($I$1),_xlpm.Ende,COLUMN($GY$1),_xlpm.Anzahl,INT((_xlpm.Ende-_xlpm.Start)/4)+1,_xlpm.Spalten,_xlpm.Start+4*_xlfn.SEQUENCE(1,_xlpm.Anzahl,0,1),_xlpm.Namen1,INDEX($4:$4,1,_xlpm.Spalten)&\" \"&INDEX($5:$5,1,_xlpm.Spalten),_xlpm.Punkte1,INDEX(79:79,1,_xlpm.Spalten+2),_xlpm.Namen2,INDEX($85:$85,1,_xlpm.Spalten)&\" \"&INDEX($86:$86,1,_xlpm.Spalten),_xlpm.Punkte2,INDEX(160:160,1,_xlpm.Spalten+2),_xlfn.TEXTJOIN(\", \",TRUE,_xlfn._xlws.FILTER(_xlfn.HSTACK(_xlpm.Namen1,_xlpm.Namen2),_xlfn.HSTACK(_xlpm.Punkte1,_xlpm.Punkte2)=7,\"\")))","v":"Panos Agorastos, Ruben Antonelli, André Bartholet, Philippe Bartholet, Manfred Brunner, Philip Brunner, André Burkart, Leo Rodrigues da Costa, Vinci D'Acunto, Rafael Derungs, Deliz González, Reto Gygli, Sarina Gygli, Timothy Gygli, Andreas Isenschmid, Philipp Meyer, Martin Oroshi, Stefan Principe, Sabine Rüegg, Bruno Silva, Armando Thormann, Lea Treichler, Christoph Wälti, Jingwen Wang"}]
["So. 28. Jun.","01:30:00",72,"DR Kongo","Usbekistan",3,1,null,1,2,0,"B",1,1,0,"X",1,0,5,"A",2,2,0,"X",1,1,0,"X",1,1,0,"X",0,0,0,"X",1,1,0,"X",1,1,0,"X",1,0,5,"A",2,0,7,"A",1,1,0,"X",1,1,0,"X",0,0,0,"X",1,1,0,"X",1,1,0,"X",1,0,5,"A",0,0,0,"X",0,0,0,"X",1,0,5,"A",2,1,5,"A",1,1,0,"X",1,1,0,"X",2,0,7,"A",1,1,0,"X",1,2,0,"B",1,0,5,"A",1,1,0,"X",1,1,0,"X",1,1,0,"X",0,0,0,"X",0,1,0,"B",3,3,0,"X",2,1,5,"A",2,1,5,"A",3,0,5,"A",1,0,5,"A",1,1,0,"X",1,0,5,"A",1,0,5,"A",1,1,0,"X",2,1,5,"A",2,0,7,"A",3,1,10,"A",0,1,0,"B",1,0,5,"A",1,0,5,"A",2,2,0,"X",1,0,5,"A",0,2,0,"B",null,33,43,8,84,null,39.285714285714285,51.19047619047619,9.5238095238095237,null,null,null,null,null,{"$f":"_xlfn.LET(_xlpm.Start,COLUMN($I$1),_xlpm.Ende,COLUMN($GY$1),_xlpm.Anzahl,INT((_xlpm.Ende-_xlpm.Start)/4)+1,_xlpm.Spalten,_xlpm.Start+4*_xlfn.SEQUENCE(1,_xlpm.Anzahl,0,1),_xlpm.Namen1,INDEX($4:$4,1,_xlpm.Spalten)&\" \"&INDEX($5:$5,1,_xlpm.Spalten),_xlpm.Punkte1,INDEX(80:80,1,_xlpm.Spalten+2),_xlpm.Namen2,INDEX($85:$85,1,_xlpm.Spalten)&\" \"&INDEX($86:$86,1,_xlpm.Spalten),_xlpm.Punkte2,INDEX(161:161,1,_xlpm.Spalten+2),_xlfn.TEXTJOIN(\", \",TRUE,_xlfn._xlws.FILTER(_xlfn.HSTACK(_xlpm.Namen1,_xlpm.Namen2),_xlfn.HSTACK(_xlpm.Punkte1,_xlpm.Punkte2)=10,\"\")))","v":"Michael Isenschmid, Lechena Pek, Evelyne Schenk, Ralph Schuster"},null,{"$f":"_xlfn.LET(_xlpm.Start,COLUMN($I$1),_xlpm.Ende,COLUMN($GY$1),_xlpm.Anzahl,INT((_xlpm.Ende-_xlpm.Start)/4)+1,_xlpm.Spalten,_xlpm.Start+4*_xlfn.SEQUENCE(1,_xlpm.Anzahl,0,1),_xlpm.Namen1,INDEX($4:$4,1,_xlpm.Spalten)&\" \"&INDEX($5:$5,1,_xlpm.Spalten),_xlpm.Punkte1,INDEX(80:80,1,_xlpm.Spalten+2),_xlpm.Namen2,INDEX($85:$85,1,_xlpm.Spalten)&\" \"&INDEX($86:$86,1,_xlpm.Spalten),_xlpm.Punkte2,INDEX(161:161,1,_xlpm.Spalten+2),_xlfn.TEXTJOIN(\", \",TRUE,_xlfn._xlws.FILTER(_xlfn.HSTACK(_xlpm.Namen1,_xlpm.Namen2),_xlfn.HSTACK(_xlpm.Punkte1,_xlpm.Punkte2)=7,\"\")))","v":"Mara Beck, Vinci D'Acunto, Andreas Isenschmid, Bruno Silva"}]
[null,null,null,null,null,null,"Gesamtpunktzahl:",null,{"$f":"Teilnehmerliste!$C6","v":"Agorastos"},null,{"$f":"SUM(K9:K80)","v":290},null,{"$f":"Teilnehmerliste!$C7","v":"Agorastos"},null,{"$f":"SUM(O9:O80)","v":210},null,{"$f":"Teilnehmerliste!$C8","v":"Antonelli"},null,{"$f":"SUM(S9:S80)","v":224},null,{"$f":"Teilnehmerliste!$C9","v":"Antonelli"},null,{"$f":"SUM(W9:W80)","v":239},null,{"$f":"Teilnehmerliste!$C10","v":"Antonelli"},null,{"$f":"SUM(AA9:AA80)","v":296},null,{"$f":"Teilnehmerliste!$C11","v":"Balazs"},null,{"$f":"SUM(AE9:AE80)","v":292},null,{"$f":"Teilnehmerliste!$C12","v":"Bartholet"},null,{"$f":"SUM(AI9:AI80)","v":265},null,{"$f":"Teilnehmerliste!$C13","v":"Bartholet"},null,{"$f":"SUM(AM9:AM80)","v":213},null,{"$f":"Teilnehmerliste!$C14","v":"Bartholet"},null,{"$f":"SUM(AQ9:AQ80)","v":271},null,{"$f":"Teilnehmerliste!$C15","v":"Bartholet"},null,{"$f":"SUM(AU9:AU80)","v":271},null,{"$f":"Teilnehmerliste!$C16","v":"Beck"},null,{"$f":"SUM(AY9:AY80)","v":296},null,{"$f":"Teilnehmerliste!$C17","v":"Boonaek"},null,{"$f":"SUM(BC9:BC80)","v":270},null,{"$f":"Teilnehmerliste!$C18","v":"Bosshart"},null,{"$f":"SUM(BG9:BG80)","v":270},null,{"$f":"Teilnehmerliste!$C19","v":"Brunner"},null,{"$f":"SUM(BK9:BK80)","v":287},null,{"$f":"Teilnehmerliste!$C20","v":"Brunner"},null,{"$f":"SUM(BO9:BO80)","v":248},null,{"$f":"Teilnehmerliste!$C21","v":"Brunner"},null,{"$f":"SUM(BS9:BS80)","v":292},null,{"$f":"Teilnehmerliste!$C22","v":"Brunner"},null,{"$f":"SUM(BW9:BW80)","v":286},null,{"$f":"Teilnehmerliste!$C23","v":"Burkart"},null,{"$f":"SUM(CA9:CA80)","v":272},null,{"$f":"Teilnehmerliste!$C24","v":"Christiansen"},null,{"$f":"SUM(CE9:CE80)","v":254},null,{"$f":"Teilnehmerliste!$C25","v":"Cruz"},null,{"$f":"SUM(CI9:CI80)","v":258},null,{"$f":"Teilnehmerliste!$C26","v":"Rodrigues da Costa"},null,{"$f":"SUM(CM9:CM80)","v":289},null,{"$f":"Teilnehmerliste!$C27","v":"D'Acunto"},null,{"$f":"SUM(CQ9:CQ80)","v":252},null,{"$f":"Teilnehmerliste!$C28","v":"D'Acunto"},null,{"$f":"SUM(CU9:CU80)","v":268},null,{"$f":"Teilnehmerliste!$C29","v":"D'Acunto"},null,{"$f":"SUM(CY9:CY80)","v":279},null,{"$f":"Teilnehmerliste!$C30","v":"Derungs"},null,{"$f":"SUM(DC9:DC80)","v":274},null,{"$f":"Teilnehmerliste!$C31","v":"Djukic"},null,{"$f":"SUM(DG9:DG80)","v":268},null,{"$f":"Teilnehmerliste!$C32","v":"Duvnjak"},null,{"$f":"SUM(DK9:DK80)","v":249},null,{"$f":"Teilnehmerliste!$C33","v":"Duvnjak"},null,{"$f":"SUM(DO9:DO80)","v":280},null,{"$f":"Teilnehmerliste!$C34","v":"Duvnjak"},null,{"$f":"SUM(DS9:DS80)","v":280},null,{"$f":"Teilnehmerliste!$C35","v":"Gomes"},null,{"$f":"SUM(DW9:DW80)","v":243},null,{"$f":"Teilnehmerliste!$C36","v":"Gomes"},null,{"$f":"SUM(EA9:EA80)","v":283},null,{"$f":"Teilnehmerliste!$C37","v":"González"},null,{"$f":"SUM(EE9:EE80)","v":246},null,{"$f":"Teilnehmerliste!$C38","v":"González"},null,{"$f":"SUM(EI9:EI80)","v":259},null,{"$f":"Teilnehmerliste!$C39","v":"Grosse"},null,{"$f":"SUM(EM9:EM80)","v":243},null,{"$f":"Teilnehmerliste!$C40","v":"Gygli"},null,{"$f":"SUM(EQ9:EQ80)","v":249},null,{"$f":"Teilnehmerliste!$C41","v":"Gygli"},null,{"$f":"SUM(EU9:EU80)","v":282},null,{"$f":"Teilnehmerliste!$C42","v":"Gygli"},null,{"$f":"SUM(EY9:EY80)","v":245},null,{"$f":"Teilnehmerliste!$C43","v":"Gygli"},null,{"$f":"SUM(FC9:FC80)","v":212},null,{"$f":"Teilnehmerliste!$C44","v":"Gygli"},null,{"$f":"SUM(FG9:FG80)","v":251},null,{"$f":"Teilnehmerliste!$C45","v":"Gygli"},null,{"$f":"SUM(FK9:FK80)","v":274},null,{"$f":"Teilnehmerliste!$C46","v":"Haab"},null,{"$f":"SUM(FO9:FO80)","v":306},null,{"$f":"Teilnehmerliste!$C47","v":"Isenschmid"},null,{"$f":"SUM(FS9:FS80)","v":273},null,{"$f":"Teilnehmerliste!$C48","v":"Isenschmid"},null,{"$f":"SUM(FW9:FW80)","v":271},null,{"$f":"Teilnehmerliste!$C49","v":"Isenschmid"},null,{"$f":"SUM(GA9:GA80)","v":284},null,{"$f":"Teilnehmerliste!$C50","v":"Jones"},null,{"$f":"SUM(GE9:GE80)","v":251},null,{"$f":"Teilnehmerliste!$C51","v":"Keller"},null,{"$f":"SUM(GI9:GI80)","v":285},null,{"$f":"Teilnehmerliste!$C52","v":"Kistler"},null,{"$f":"SUM(GM9:GM80)","v":263},null,{"$f":"Teilnehmerliste!$C53","v":"Lanz"},null,{"$f":"SUM(GQ9:GQ80)","v":312},null,{"$f":"Teilnehmerliste!$C54","v":"Lischer"},null,{"$f":"SUM(GU9:GU80)","v":312},null,{"$f":"Teilnehmerliste!$C55","v":"Lütolf"},null,{"$f":"SUM(GY9:GY80)","v":269},null,null,{"$f":"SUM(HB9:HB80)","v":3042},{"$f":"SUM(HC9:HC80)","v":1042},{"$f":"SUM(HD9:HD80)","v":1964},{"$f":"SUM(HE9:HE80)","v":6048},null,{"$f":"SUM(HB81*100/$HE$81)","v":50.297619047619051},{"$f":"SUM(HC81*100/$HE$81)","v":17.228835978835978},{"$f":"SUM(HD81*100/$HE$81)","v":32.473544973544975}]
[]
[]
["Vorrunde",null,null,"Spieler 51 - 100"]
["10 Punkte für korrektes Resultat",null,null,null,null,null,null,null,{"$f":"Teilnehmerliste!$B56","v":"Nicolas"},null,null,null,{"$f":"Teilnehmerliste!$B57","v":"Mauro"},null,null,null,{"$f":"Teilnehmerliste!$B58","v":"Ben"},null,null,null,{"$f":"Teilnehmerliste!$B59","v":"Martin"},null,null,null,{"$f":"Teilnehmerliste!$B60","v":"Elias"},null,null,null,{"$f":"Teilnehmerliste!$B61","v":"Julian"},null,null,null,{"$f":"Teilnehmerliste!$B62","v":"Philipp"},null,null,null,{"$f":"Teilnehmerliste!$B63","v":"Telmo"},null,null,null,{"$f":"Teilnehmerliste!$B64","v":"Martin"},null,null,null,{"$f":"Teilnehmerliste!$B65","v":"Lechena"},null,null,null,{"$f":"Teilnehmerliste!$B66","v":"Stefan"},null,null,null,{"$f":"Teilnehmerliste!$B67","v":"Michael"},null,null,null,{"$f":"Teilnehmerliste!$B68","v":"Petra"},null,null,null,{"$f":"Teilnehmerliste!$B69","v":"Martin"},null,null,null,{"$f":"Teilnehmerliste!$B70","v":"Ivo und Brigitte"},null,null,null,{"$f":"Teilnehmerliste!$B71","v":"Lynn"},null,null,null,{"$f":"Teilnehmerliste!$B72","v":"Michael"},null,null,null,{"$f":"Teilnehmerliste!$B73","v":"Sabine"},null,null,null,{"$f":"Teilnehmerliste!$B74","v":"Martin"},null,null,null,{"$f":"Teilnehmerliste!$B75","v":"Evelyne"},null,null,null,{"$f":"Teilnehmerliste!$B76","v":"Yannick"},null,null,null,{"$f":"Teilnehmerliste!$B77","v":"Erich"},null,null,null,{"$f":"Teilnehmerliste!$B78","v":"Ralph"},null,null,null,{"$f":"Teilnehmerliste!$B79","v":"Bruno"},null,null,null,{"$f":"Teilnehmerliste!$B80","v":"Aleandro"},null,null,null,{"$f":"Teilnehmerliste!$B81","v":"Armando"},null,null,null,{"$f":"Teilnehmerliste!$B82","v":"Lea"},null,null,null,{"$f":"Teilnehmerliste!$B83","v":"Reto"},null,null,null,{"$f":"Teilnehmerliste!$B84","v":"Christoph"},null,null,null,{"$f":"Teilnehmerliste!$B85","v":"Markus"},null,null,null,{"$f":"Teilnehmerliste!$B86","v":"Marc"},null,null,null,{"$f":"Teilnehmerliste!$B87","v":"Jingwen"},null,null,null,{"$f":"Teilnehmerliste!$B88","v":"Stefan"},null,null,null,{"$f":"Teilnehmerliste!$B89","v":"Stefan"},null,null,null,{"$f":"Teilnehmerliste!$B90","v":0},null,null,null,{"$f":"Teilnehmerliste!$B91","v":0},null,null,null,{"$f":"Teilnehmerliste!$B92","v":0},null,null,null,{"$f":"Teilnehmerliste!$B93","v":0},null,null,null,{"$f":"Teilnehmerliste!$B94","v":0},null,null,null,{"$f":"Teilnehmerliste!$B95","v":0},null,null,null,{"$f":"Teilnehmerliste!$B96","v":0},null,null,null,{"$f":"Teilnehmerliste!$B97","v":0},null,null,null,{"$f":"Teilnehmerliste!$B98","v":0},null,null,null,{"$f":"Teilnehmerliste!$B99","v":0},null,null,null,{"$f":"Teilnehmerliste!$B100","v":0},null,null,null,{"$f":"Teilnehmerliste!$B101","v":0},null,null,null,{"$f":"Teilnehmerliste!$B102","v":0},null,null,null,{"$f":"Teilnehmerliste!$B103","v":0},null,null,null,{"$f":"Teilnehmerliste!$B104","v":0},null,null,null,{"$f":"Teilnehmerliste!$B105","v":0}]
["  7 Punkte für richtiger Sieger (Torverhältnis stimmt)",null,null,null,null,null,null,null,{"$f":"Teilnehmerliste!$C56","v":"Mack"},null,null,null,{"$f":"Teilnehmerliste!$C57","v":"Marini"},null,null,null,{"$f":"Teilnehmerliste!$C58","v":"Marthaler"},null,null,null,{"$f":"Teilnehmerliste!$C59","v":"Marthaler"},null,null,null,{"$f":"Teilnehmerliste!$C60","v":"Marty"},null,null,null,{"$f":"Teilnehmerliste!$C61","v":"Merkli"},null,null,null,{"$f":"Teilnehmerliste!$C62","v":"Meyer"},null,null,null,{"$f":"Teilnehmerliste!$C63","v":"Oliveira"},null,null,null,{"$f":"Teilnehmerliste!$C64","v":"Oroshi"},null,null,null,{"$f":"Teilnehmerliste!$C65","v":"Pek"},null,null,null,{"$f":"Teilnehmerliste!$C66","v":"Principe"},null,null,null,{"$f":"Teilnehmerliste!$C67","v":"Prucha"},null,null,null,{"$f":"Teilnehmerliste!$C68","v":"Rauscher"},null,null,null,{"$f":"Teilnehmerliste!$C69","v":"Rohner"},null,null,null,{"$f":"Teilnehmerliste!$C70","v":"Rüdemann"},null,null,null,{"$f":"Teilnehmerliste!$C71","v":"Rüegg"},null,null,null,{"$f":"Teilnehmerliste!$C72","v":"Rüegg"},null,null,null,{"$f":"Teilnehmerliste!$C73","v":"Rüegg"},null,null,null,{"$f":"Teilnehmerliste!$C74","v":"Schawalder"},null,null,null,{"$f":"Teilnehmerliste!$C75","v":"Schenk"},null,null,null,{"$f":"Teilnehmerliste!$C76","v":"Schilliger"},null,null,null,{"$f":"Teilnehmerliste!$C77","v":"Schommarz"},null,null,null,{"$f":"Teilnehmerliste!$C78","v":"Schuster"},null,null,null,{"$f":"Teilnehmerliste!$C79","v":"Silva"},null,null,null,{"$f":"Teilnehmerliste!$C80","v":"Silvestri"},null,null,null,{"$f":"Teilnehmerliste!$C81","v":"Thormann"},null,null,null,{"$f":"Teilnehmerliste!$C82","v":"Treichler"},null,null,null,{"$f":"Teilnehmerliste!$C83","v":"Treichler"},null,null,null,{"$f":"Teilnehmerliste!$C84","v":"Wälti"},null,null,null,{"$f":"Teilnehmerliste!$C85","v":"Wagner"},null,null,null,{"$f":"Teilnehmerliste!$C86","v":"Walthard"},null,null,null,{"$f":"Teilnehmerliste!$C87","v":"Wang"},null,null,null,{"$f":"Teilnehmerliste!$C88","v":"Wullschleger"},null,null,null,{"$f":"Teilnehmerliste!$C89","v":"Zachmann"},null,null,null,{"$f":"Teilnehmerliste!$C90","v":0},null,null,null,{"$f":"Teilnehmerliste!$C91","v":0},null,null,null,{"$f":"Teilnehmerliste!$C92","v":0},null,null,null,{"$f":"Teilnehmerliste!$C93","v":0},null,null,null,{"$f":"Teilnehmerliste!$C94","v":0},null,null,null,{"$f":"Teilnehmerliste!$C95","v":0},null,null,null,{"$f":"Teilnehmerliste!$C96","v":0},null,null,null,{"$f":"Teilnehmerliste!$C97","v":0},null,null,null,{"$f":"Teilnehmerliste!$C98","v":0},null,null,null,{"$f":"Teilnehmerliste!$C99","v":0},null,null,null,{"$f":"Teilnehmerliste!$C100","v":0},null,null,null,{"$f":"Teilnehmerliste!$C101","v":0},null,null,null,{"$f":"Teilnehmerliste!$C102","v":0},null,null,null,{"$f":"Teilnehmerliste!$C103","v":0},null,null,null,{"$f":"Teilnehmerliste!$C104","v":0},null,null,null,{"$f":"Teilnehmerliste!$C105","v":0}]
["  5 Punkte für richtiger Sieger (Torverhältnis stimmt nicht)",null,null,null,null,null,null,null,null,null,{"$f":"Teilnehmerliste!$A56","v":51},null,null,null,{"$f":"Teilnehmerliste!$A57","v":52},null,null,null,{"$f":"Teilnehmerliste!$A58","v":53},null,null,null,{"$f":"Teilnehmerliste!$A59","v":54},null,null,null,{"$f":"Teilnehmerliste!$A60","v":55},null,null,null,{"$f":"Teilnehmerliste!$A61","v":56},null,null,null,{"$f":"Teilnehmerliste!$A62","v":57},null,null,null,{"$f":"Teilnehmerliste!$A63","v":58},null,null,null,{"$f":"Teilnehmerliste!$A64","v":59},null,null,null,{"$f":"Teilnehmerliste!$A65","v":60},null,null,null,{"$f":"Teilnehmerliste!$A66","v":61},null,null,null,{"$f":"Teilnehmerliste!$A67","v":62},null,null,null,{"$f":"Teilnehmerliste!$A68","v":63},null,null,null,{"$f":"Teilnehmerliste!$A69","v":64},null,null,null,{"$f":"Teilnehmerliste!$A70","v":65},null,null,null,{"$f":"Teilnehmerliste!$A71","v":66},null,null,null,{"$f":"Teilnehmerliste!$A72","v":67},null,null,null,{"$f":"Teilnehmerliste!$A73","v":68},null,null,null,{"$f":"Teilnehmerliste!$A74","v":69},null,null,null,{"$f":"Teilnehmerliste!$A75","v":70},null,null,null,{"$f":"Teilnehmerliste!$A76","v":71},null,null,null,{"$f":"Teilnehmerliste!$A77","v":72},null,null,null,{"$f":"Teilnehmerliste!$A78","v":73},null,null,null,{"$f":"Teilnehmerliste!$A79","v":74},null,null,null,{"$f":"Teilnehmerliste!$A80","v":75},null,null,null,{"$f":"Teilnehmerliste!$A81","v":76},null,null,null,{"$f":"Teilnehmerliste!$A82","v":77},null,null,null,{"$f":"Teilnehmerliste!$A83","v":78},null,null,null,{"$f":"Teilnehmerliste!$A84","v":79},null,null,null,{"$f":"Teilnehmerliste!$A85","v":80},null,null,null,{"$f":"Teilnehmerliste!$A86","v":81},null,null,null,{"$f":"Teilnehmerliste!$A87","v":82},null,null,null,{"$f":"Teilnehmerliste!$A88","v":83},null,null,null,{"$f":"Teilnehmerliste!$A89","v":84},null,null,null,{"$f":"Teilnehmerliste!$A90","v":85},null,null,null,{"$f":"Teilnehmerliste!$A91","v":86},null,null,null,{"$f":"Teilnehmerliste!$A92","v":87},null,null,null,{"$f":"Teilnehmerliste!$A93","v":88},null,null,null,{"$f":"Teilnehmerliste!$A94","v":89},null,null,null,{"$f":"Teilnehmerliste!$A95","v":90},null,null,null,{"$f":"Teilnehmerliste!$A96","v":91},null,null,null,{"$f":"Teilnehmerliste!$A97","v":92},null,null,null,{"$f":"Teilnehmerliste!$A98","v":93},null,null,null,{"$f":"Teilnehmerliste!$A99","v":94},null,null,null,{"$f":"Teilnehmerliste!$A100","v":95},null,null,null,{"$f":"Teilnehmerliste!$A101","v":96},null,null,null,{"$f":"Teilnehmerliste!$A102","v":97},null,null,null,{"$f":"Teilnehmerliste!$A103","v":98},null,null,null,{"$f":"Teilnehmerliste!$A104","v":99},null,null,null,{"$f":"Teilnehmerliste!$A105","v":100}]
[]
["Datum","Zeit","Nr.","Spiel",null,"Resultat",null,null,"Tipp",null,"Pkt",null,"Tipp",null,"Pkt",null,"Tipp",null,"Pkt",null,"Tipp",null,"Pkt",null,"Tipp",null,"Pkt",null,"Tipp",null,"Pkt",null,"Tipp",null,"Pkt",null,"Tipp",null,"Pkt",null,"Tipp",null,"Pkt",null,"Tipp",null,"Pkt",null,"Tipp",null,"Pkt",null,"Tipp",null,"Pkt",null,"Tipp",null,"Pkt",null,"Tipp",null,"Pkt",null,"Tipp",null,"Pkt",null,"Tipp",null,"Pkt",null,"Tipp",null,"Pkt",null,"Tipp",null,"Pkt",null,"Tipp",null,"Pkt",null,"Tipp",null,"Pkt",null,"Tipp",null,"Pkt",null,"Tipp",null,"Pkt",null,"Tipp",null,"Pkt",null,"Tipp",null,"Pkt",null,"Tipp",null,"Pkt",null,"Tipp",null,"Pkt",null,"Tipp",null,"Pkt",null,"Tipp",null,"Pkt",null,"Tipp",null,"Pkt",null,"Tipp",null,"Pkt",null,"Tipp",null,"Pkt",null,"Tipp",null,"Pkt",null,"Tipp",null,"Pkt",null,"Tipp",null,"Pkt",null,"Tipp",null,"Pkt",null,"Tipp",null,"Pkt",null,"Tipp",null,"Pkt",null,"Tipp",null,"Pkt",null,"Tipp",null,"Pkt",null,"Tipp",null,"Pkt",null,"Tipp",null,"Pkt",null,"Tipp",null,"Pkt",null,"Tipp",null,"Pkt",null,"Tipp",null,"Pkt",null,"Tipp",null,"Pkt",null,"Tipp",null,"Pkt",null,"Tipp",null,"Pkt",null,"Tipp",null,"Pkt",null,"Tipp",null,"Pkt",null,"Tipp",null,"Pkt"]
[{"$f":"A9","v":"Do. 11. Jun."},{"$f":"B9","v":"21:00:00"},{"$f":"C9","v":1},{"$f":"IF(D9=\"\",\"\",D9)","v":"Mexiko"},{"$f":"IF(E9=\"\",\"\",E9)","v":"Südafrika"},{"$f":"IF(F9=\"\",\"\",F9)","v":2},{"$f":"IF(G9=\"\",\"\",G9)","v":0},null,3,0,{"$f":"IF(OR($F90=\"\",$G90=\"\",I90=\"\",J90=\"\"),\"\",IF(AND($F90=I90,$G90=J90),10,IF($F90-$G90=I90-J90,7,IF(OR(AND($F90>$G90,I90>J90),AND($F90<$G90,I90<J90)),5,0))))","v":5},{"$f":"IF(I90=\"\",\"\",IF(I90>J90,\"A\",IF(I90<J90,\"B\",IF(I90=J90,\"X\"))))","v":"A"},3,1,{"$f":"IF(OR($F90=\"\",$G90=\"\",M90=\"\",N90=\"\"),\"\",IF(AND($F90=M90,$G90=N90),10,IF($F90-$G90=M90-N90,7,IF(OR(AND($F90>$G90,M90>N90),AND($F90<$G90,M90<N90)),5,0))))","v":7},{"$f":"IF(M90=\"\",\"\",IF(M90>N90,\"A\",IF(M90<N90,\"B\",IF(M90=N90,\"X\"))))","v":"A"},3,1,{"$f":"IF(OR($F90=\"\",$G90=\"\",Q90=\"\",R90=\"\"),\"\",IF(AND($F90=Q90,$G90=R90),10,IF($F90-$G90=Q90-R90,7,IF(OR(AND($F90>$G90,Q90>R90),AND($F90<$G90,Q90<R90)),5,0))))","v":7},{"$f":"IF(Q90=\"\",\"\",IF(Q90>R90,\"A\",IF(Q90<R90,\"B\",IF(Q90=R90,\"X\"))))","v":"A"},4,0,{"$f":"IF(OR($F90=\"\",$G90=\"\",U90=\"\",V90=\"\"),\"\",IF(AND($F90=U90,$G90=V90),10,IF($F90-$G90=U90-V90,7,IF(OR(AND($F90>$G90,U90>V90),AND($F90<$G90,U90<V90)),5,0))))","v":5},{"$f":"IF(U90=\"\",\"\",IF(U90>V90,\"A\",IF(U90<V90,\"B\",IF(U90=V90,\"X\"))))","v":"A"},3,1,{"$f":"IF(OR($F90=\"\",$G90=\"\",Y90=\"\",Z90=\"\"),\"\",IF(AND($F90=Y90,$G90=Z90),10,IF($F90-$G90=Y90-Z90,7,IF(OR(AND($F90>$G90,Y90>Z90),AND($F90<$G90,Y90<Z90)),5,0))))","v":7},{"$f":"IF(Y90=\"\",\"\",IF(Y90>Z90,\"A\",IF(Y90<Z90,\"B\",IF(Y90=Z90,\"X\"))))","v":"A"},2,0,{"$f":"IF(OR($F90=\"\",$G90=\"\",AC90=\"\",AD90=\"\"),\"\",IF(AND($F90=AC90,$G90=AD90),10,IF($F90-$G90=AC90-AD90,7,IF(OR(AND($F90>$G90,AC90>AD90),AND($F90<$G90,AC90<AD90)),5,0))))","v":10},{"$f":"IF(AC90=\"\",\"\",IF(AC90>AD90,\"A\",IF(AC90<AD90,\"B\",IF(AC90=AD90,\"X\"))))","v":"A"},1,0,{"$f":"IF(OR($F90=\"\",$G90=\"\",AG90=\"\",AH90=\"\"),\"\",IF(AND($F90=AG90,$G90=AH90),10,IF($F90-$G90=AG90-AH90,7,IF(OR(AND($F90>$G90,AG90>AH90),AND($F90<$G90,AG90<AH90)),5,0))))","v":5},{"$f":"IF(AG90=\"\",\"\",IF(AG90>AH90,\"A\",IF(AG90<AH90,\"B\",IF(AG90=AH90,\"X\"))))","v":"A"},2,1,{"$f":"IF(OR($F90=\"\",$G90=\"\",AK90=\"\",AL90=\"\"),\"\",IF(AND($F90=AK90,$G90=AL90),10,IF($F90-$G90=AK90-AL90,7,IF(OR(AND($F90>$G90,AK90>AL90),AND($F90<$G90,AK90<AL90)),5,0))))","v":5},{"$f":"IF(AK90=\"\",\"\",IF(AK90>AL90,\"A\",IF(AK90<AL90,\"B\",IF(AK90=AL90,\"X\"))))","v":"A"},2,1,{"$f":"IF(OR($F90=\"\",$G90=\"\",AO90=\"\",AP90=\"\"),\"\",IF(AND($F90=AO90,$G90=AP90),10,IF($F90-$G90=AO90-AP90,7,IF(OR(AND($F90>$G90,AO90>AP90),AND($F90<$G90,AO90<AP90)),5,0))))","v":5},{"$f":"IF(AO90=\"\",\"\",IF(AO90>AP90,\"A\",IF(AO90<AP90,\"B\",IF(AO90=AP90,\"X\"))))","v":"A"},1,2,{"$f":"IF(OR($F90=\"\",$G90=\"\",AS90=\"\",AT90=\"\"),\"\",IF(AND($F90=AS90,$G90=AT90),10,IF($F90-$G90=AS90-AT90,7,IF(OR(AND($F90>$G90,AS90>AT90),AND($F90<$G90,AS90<AT90)),5,0))))","v":0},{"$f":"IF(AS90=\"\",\"\",IF(AS90>AT90,\"A\",IF(AS90<AT90,\"B\",IF(AS90=AT90,\"X\"))))","v":"B"},3,1,{"$f":"IF(OR($F90=\"\",$G90=\"\",AW90=\"\",AX90=\"\"),\"\",IF(AND($F90=AW90,$G90=AX90),10,IF($F90-$G90=AW90-AX90,7,IF(OR(AND($F90>$G90,AW90>AX90),AND($F90<$G90,AW90<AX90)),5,0))))","v":7},{"$f":"IF(AW90=\"\",\"\",IF(AW90>AX90,\"A\",IF(AW90<AX90,\"B\",IF(AW90=AX90,\"X\"))))","v":"A"},2,1,{"$f":"IF(OR($F90=\"\",$G90=\"\",BA90=\"\",BB90=\"\"),\"\",IF(AND($F90=BA90,$G90=BB90),10,IF($F90-$G90=BA90-BB90,7,IF(OR(AND($F90>$G90,BA90>BB90),AND($F90<$G90,BA90<BB90)),5,0))))","v":5},{"$f":"IF(BA90=\"\",\"\",IF(BA90>BB90,\"A\",IF(BA90<BB90,\"B\",IF(BA90=BB90,\"X\"))))","v":"A"},2,1,{"$f":"IF(OR($F90=\"\",$G90=\"\",BE90=\"\",BF90=\"\"),\"\",IF(AND($F90=BE90,$G90=BF90),10,IF($F90-$G90=BE90-BF90,7,IF(OR(AND($F90>$G90,BE90>BF90),AND($F90<$G90,BE90<BF90)),5,0))))","v":5},{"$f":"IF(BE90=\"\",\"\",IF(BE90>BF90,\"A\",IF(BE90<BF90,\"B\",IF(BE90=BF90,\"X\"))))","v":"A"},2,0,{"$f":"IF(OR($F90=\"\",$G90=\"\",BI90=\"\",BJ90=\"\"),\"\",IF(AND($F90=BI90,$G90=BJ90),10,IF($F90-$G90=BI90-BJ90,7,IF(OR(AND($F90>$G90,BI90>BJ90),AND($F90<$G90,BI90<BJ90)),5,0))))","v":10},{"$f":"IF(BI90=\"\",\"\",IF(BI90>BJ90,\"A\",IF(BI90<BJ90,\"B\",IF(BI90=BJ90,\"X\"))))","v":"A"},2,1,{"$f":"IF(OR($F90=\"\",$G90=\"\",BM90=\"\",BN90=\"\"),\"\",IF(AND($F90=BM90,$G90=BN90),10,IF($F90-$G90=BM90-BN90,7,IF(OR(AND($F90>$G90,BM90>BN90),AND($F90<$G90,BM90<BN90)),5,0))))","v":5},{"$f":"IF(BM90=\"\",\"\",IF(BM90>BN90,\"A\",IF(BM90<BN90,\"B\",IF(BM90=BN90,\"X\"))))","v":"A"},3,3,{"$f":"IF(OR($F90=\"\",$G90=\"\",BQ90=\"\",BR90=\"\"),\"\",IF(AND($F90=BQ90,$G90=BR90),10,IF($F90-$G90=BQ90-BR90,7,IF(OR(AND($F90>$G90,BQ90>BR90),AND($F90<$G90,BQ90<BR90)),5,0))))","v":0},{"$f":"IF(BQ90=\"\",\"\",IF(BQ90>BR90,\"A\",IF(BQ90<BR90,\"B\",IF(BQ90=BR90,\"X\"))))","v":"X"},1,1,{"$f":"IF(OR($F90=\"\",$G90=\"\",BU90=\"\",BV90=\"\"),\"\",IF(AND($F90=BU90,$G90=BV90),10,IF($F90-$G90=BU90-BV90,7,IF(OR(AND($F90>$G90,BU90>BV90),AND($F90<$G90,BU90<BV90)),5,0))))","v":0},{"$f":"IF(BU90=\"\",\"\",IF(BU90>BV90,\"A\",IF(BU90<BV90,\"B\",IF(BU90=BV90,\"X\"))))","v":"X"},2,1,{"$f":"IF(OR($F90=\"\",$G90=\"\",BY90=\"\",BZ90=\"\"),\"\",IF(AND($F90=BY90,$G90=BZ90),10,IF($F90-$G90=BY90-BZ90,7,IF(OR(AND($F90>$G90,BY90>BZ90),AND($F90<$G90,BY90<BZ90)),5,0))))","v":5},{"$f":"IF(BY90=\"\",\"\",IF(BY90>BZ90,\"A\",IF(BY90<BZ90,\"B\",IF(BY90=BZ90,\"X\"))))","v":"A"},2,0,{"$f":"IF(OR($F90=\"\",$G90=\"\",CC90=\"\",CD90=\"\"),\"\",IF(AND($F90=CC90,$G90=CD90),10,IF($F90-$G90=CC90-CD90,7,IF(OR(AND($F90>$G90,CC90>CD90),AND($F90<$G90,CC90<CD90)),5,0))))","v":10},{"$f":"IF(CC90=\"\",\"\",IF(CC90>CD90,\"A\",IF(CC90<CD90,\"B\",IF(CC90=CD90,\"X\"))))","v":"A"},2,1,{"$f":"IF(OR($F90=\"\",$G90=\"\",CG90=\"\",CH90=\"\"),\"\",IF(AND($F90=CG90,$G90=CH90),10,IF($F90-$G90=CG90-CH90,7,IF(OR(AND($F90>$G90,CG90>CH90),AND($F90<$G90,CG90<CH90)),5,0))))","v":5},{"$f":"IF(CG90=\"\",\"\",IF(CG90>CH90,\"A\",IF(CG90<CH90,\"B\",IF(CG90=CH90,\"X\"))))","v":"A"},2,0,{"$f":"IF(OR($F90=\"\",$G90=\"\",CK90=\"\",CL90=\"\"),\"\",IF(AND($F90=CK90,$G90=CL90),10,IF($F90-$G90=CK90-CL90,7,IF(OR(AND($F90>$G90,CK90>CL90),AND($F90<$G90,CK90<CL90)),5,0))))","v":10},{"$f":"IF(CK90=\"\",\"\",IF(CK90>CL90,\"A\",IF(CK90<CL90,\"B\",IF(CK90=CL90,\"X\"))))","v":"A"},2,1,{"$f":"IF(OR($F90=\"\",$G90=\"\",CO90=\"\",CP90=\"\"),\"\",IF(AND($F90=CO90,$G90=CP90),10,IF($F90-$G90=CO90-CP90,7,IF(OR(AND($F90>$G90,CO90>CP90),AND($F90<$G90,CO90<CP90)),5,0))))","v":5},{"$f":"IF(CO90=\"\",\"\",IF(CO90>CP90,\"A\",IF(CO90<CP90,\"B\",IF(CO90=CP90,\"X\"))))","v":"A"},1,1,{"$f":"IF(OR($F90=\"\",$G90=\"\",CS90=\"\",CT90=\"\"),\"\",IF(AND($F90=CS90,$G90=CT90),10,IF($F90-$G90=CS90-CT90,7,IF(OR(AND($F90>$G90,CS90>CT90),AND($F90<$G90,CS90<CT90)),5,0))))","v":0},{"$f":"IF(CS90=\"\",\"\",IF(CS90>CT90,\"A\",IF(CS90<CT90,\"B\",IF(CS90=CT90,\"X\"))))","v":"X"},2,0,{"$f":"IF(OR($F90=\"\",$G90=\"\",CW90=\"\",CX90=\"\"),\"\",IF(AND($F90=CW90,$G90=CX90),10,IF($F90-$G90=CW90-CX90,7,IF(OR(AND($F90>$G90,CW90>CX90),AND($F90<$G90,CW90<CX90)),5,0))))","v":10},{"$f":"IF(CW90=\"\",\"\",IF(CW90>CX90,\"A\",IF(CW90<CX90,\"B\",IF(CW90=CX90,\"X\"))))","v":"A"},2,0,{"$f":"IF(OR($F90=\"\",$G90=\"\",DA90=\"\",DB90=\"\"),\"\",IF(AND($F90=DA90,$G90=DB90),10,IF($F90-$G90=DA90-DB90,7,IF(OR(AND($F90>$G90,DA90>DB90),AND($F90<$G90,DA90<DB90)),5,0))))","v":10},{"$f":"IF(DA90=\"\",\"\",IF(DA90>DB90,\"A\",IF(DA90<DB90,\"B\",IF(DA90=DB90,\"X\"))))","v":"A"},2,0,{"$f":"IF(OR($F90=\"\",$G90=\"\",DE90=\"\",DF90=\"\"),\"\",IF(AND($F90=DE90,$G90=DF90),10,IF($F90-$G90=DE90-DF90,7,IF(OR(AND($F90>$G90,DE90>DF90),AND($F90<$G90,DE90<DF90)),5,0))))","v":10},{"$f":"IF(DE90=\"\",\"\",IF(DE90>DF90,\"A\",IF(DE90<DF90,\"B\",IF(DE90=DF90,\"X\"))))","v":"A"},1,0,{"$f":"IF(OR($F90=\"\",$G90=\"\",DI90=\"\",DJ90=\"\"),\"\",IF(AND($F90=DI90,$G90=DJ90),10,IF($F90-$G90=DI90-DJ90,7,IF(OR(AND($F90>$G90,DI90>DJ90),AND($F90<$G90,DI90<DJ90)),5,0))))","v":5},{"$f":"IF(DI90=\"\",\"\",IF(DI90>DJ90,\"A\",IF(DI90<DJ90,\"B\",IF(DI90=DJ90,\"X\"))))","v":"A"},2,1,{"$f":"IF(OR($F90=\"\",$G90=\"\",DM90=\"\",DN90=\"\"),\"\",IF(AND($F90=DM90,$G90=DN90),10,IF($F90-$G90=DM90-DN90,7,IF(OR(AND($F90>$G90,DM90>DN90),AND($F90<$G90,DM90<DN90)),5,0))))","v":5},{"$f":"IF(DM90=\"\",\"\",IF(DM90>DN90,\"A\",IF(DM90<DN90,\"B\",IF(DM90=DN90,\"X\"))))","v":"A"},2,0,{"$f":"IF(OR($F90=\"\",$G90=\"\",DQ90=\"\",DR90=\"\"),\"\",IF(AND($F90=DQ90,$G90=DR90),10,IF($F90-$G90=DQ90-DR90,7,IF(OR(AND($F90>$G90,DQ90>DR90),AND($F90<$G90,DQ90<DR90)),5,0))))","v":10},{"$f":"IF(DQ90=\"\",\"\",IF(DQ90>DR90,\"A\",IF(DQ90<DR90,\"B\",IF(DQ90=DR90,\"X\"))))","v":"A"},2,0,{"$f":"IF(OR($F90=\"\",$G90=\"\",DU90=\"\",DV90=\"\"),\"\",IF(AND($F90=DU90,$G90=DV90),10,IF($F90-$G90=DU90-DV90,7,IF(OR(AND($F90>$G90,DU90>DV90),AND($F90<$G90,DU90<DV90)),5,0))))","v":10},{"$f":"IF(DU90=\"\",\"\",IF(DU90>DV90,\"A\",IF(DU90<DV90,\"B\",IF(DU90=DV90,\"X\"))))","v":"A"},2,1,{"$f":"IF(OR($F90=\"\",$G90=\"\",DY90=\"\",DZ90=\"\"),\"\",IF(AND($F90=DY90,$G90=DZ90),10,IF($F90-$G90=DY90-DZ90,7,IF(OR(AND($F90>$G90,DY90>DZ90),AND($F90<$G90,DY90<DZ90)),5,0))))","v":5},{"$f":"IF(DY90=\"\",\"\",IF(DY90>DZ90,\"A\",IF(DY90<DZ90,\"B\",IF(DY90=DZ90,\"X\"))))","v":"A"},3,1,{"$f":"IF(OR($F90=\"\",$G90=\"\",EC90=\"\",ED90=\"\"),\"\",IF(AND($F90=EC90,$G90=ED90),10,IF($F90-$G90=EC90-ED90,7,IF(OR(AND($F90>$G90,EC90>ED90),AND($F90<$G90,EC90<ED90)),5,0))))","v":7},{"$f":"IF(EC90=\"\",\"\",IF(EC90>ED90,\"A\",IF(EC90<ED90,\"B\",IF(EC90=ED90,\"X\"))))","v":"A"},2,1,{"$f":"IF(OR($F90=\"\",$G90=\"\",EG90=\"\",EH90=\"\"),\"\",IF(AND($F90=EG90,$G90=EH90),10,IF($F90-$G90=EG90-EH90,7,IF(OR(AND($F90>$G90,EG90>EH90),AND($F90<$G90,EG90<EH90)),5,0))))","v":5},{"$f":"IF(EG90=\"\",\"\",IF(EG90>EH90,\"A\",IF(EG90<EH90,\"B\",IF(EG90=EH90,\"X\"))))","v":"A"},2,1,{"$f":"IF(OR($F90=\"\",$G90=\"\",EK90=\"\",EL90=\"\"),\"\",IF(AND($F90=EK90,$G90=EL90),10,IF($F90-$G90=EK90-EL90,7,IF(OR(AND($F90>$G90,EK90>EL90),AND($F90<$G90,EK90<EL90)),5,0))))","v":5},{"$f":"IF(EK90=\"\",\"\",IF(EK90>EL90,\"A\",IF(EK90<EL90,\"B\",IF(EK90=EL90,\"X\"))))","v":"A"},null,null,{"$f":"IF(OR($F90=\"\",$G90=\"\",EO90=\"\",EP90=\"\"),\"\",IF(AND($F90=EO90,$G90=EP90),10,IF($F90-$G90=EO90-EP90,7,IF(OR(AND($F90>$G90,EO90>EP90),AND($F90<$G90,EO90<EP90)),5,0))))","v":""},{"$f":"IF(EO90=\"\",\"\",IF(EO90>EP90,\"A\",IF(EO90<EP90,\"B\",IF(EO90=EP90,\"X\"))))","v":""},null,null,{"$f":"IF(OR($F90=\"\",$G90=\"\",ES90=\"\",ET90=\"\"),\"\",IF(AND($F90=ES90,$G90=ET90),10,IF($F90-$G90=ES90-ET90,7,IF(OR(AND($F90>$G90,ES90>ET90),AND($F90<$G90,ES90<ET90)),5,0))))","v":""},{"$f":"IF(ES90=\"\",\"\",IF(ES90>ET90,\"A\",IF(ES90<ET90,\"B\",IF(ES90=ET90,\"X\"))))","v":""},null,null,{"$f":"IF(OR($F90=\"\",$G90=\"\",EW90=\"\",EX90=\"\"),\"\",IF(AND($F90=EW90,$G90=EX90),10,IF($F90-$G90=EW90-EX90,7,IF(OR(AND($F90>$G90,EW90>EX90),AND($F90<$G90,EW90<EX90)),5,0))))","v":""},{"$f":"IF(EW90=\"\",\"\",IF(EW90>EX90,\"A\",IF(EW90<EX90,\"B\",IF(EW90=EX90,\"X\"))))","v":""},null,null,{"$f":"IF(OR($F90=\"\",$G90=\"\",FA90=\"\",FB90=\"\"),\"\",IF(AND($F90=FA90,$G90=FB90),10,IF($F90-$G90=FA90-FB90,7,IF(OR(AND($F90>$G90,FA90>FB90),AND($F90<$G90,FA90<FB90)),5,0))))","v":""},{"$f":"IF(FA90=\"\",\"\",IF(FA90>FB90,\"A\",IF(FA90<FB90,\"B\",IF(FA90=FB90,\"X\"))))","v":""},null,null,{"$f":"IF(OR($F90=\"\",$G90=\"\",FE90=\"\",FF90=\"\"),\"\",IF(AND($F90=FE90,$G90=FF90),10,IF($F90-$G90=FE90-FF90,7,IF(OR(AND($F90>$G90,FE90>FF90),AND($F90<$G90,FE90<FF90)),5,0))))","v":""},{"$f":"IF(FE90=\"\",\"\",IF(FE90>FF90,\"A\",IF(FE90<FF90,\"B\",IF(FE90=FF90,\"X\"))))","v":""},null,null,{"$f":"IF(OR($F90=\"\",$G90=\"\",FI90=\"\",FJ90=\"\"),\"\",IF(AND($F90=FI90,$G90=FJ90),10,IF($F90-$G90=FI90-FJ90,7,IF(OR(AND($F90>$G90,FI90>FJ90),AND($F90<$G90,FI90<FJ90)),5,0))))","v":""},{"$f":"IF(FI90=\"\",\"\",IF(FI90>FJ90,\"A\",IF(FI90<FJ90,\"B\",IF(FI90=FJ90,\"X\"))))","v":""},null,null,{"$f":"IF(OR($F90=\"\",$G90=\"\",FM90=\"\",FN90=\"\"),\"\",IF(AND($F90=FM90,$G90=FN90),10,IF($F90-$G90=FM90-FN90,7,IF(OR(AND($F90>$G90,FM90>FN90),AND($F90<$G90,FM90<FN90)),5,0))))","v":""},{"$f":"IF(FM90=\"\",\"\",IF(FM90>FN90,\"A\",IF(FM90<FN90,\"B\",IF(FM90=FN90,\"X\"))))","v":""},null,null,{"$f":"IF(OR($F90=\"\",$G90=\"\",FQ90=\"\",FR90=\"\"),\"\",IF(AND($F90=FQ90,$G90=FR90),10,IF($F90-$G90=FQ90-FR90,7,IF(OR(AND($F90>$G90,FQ90>FR90),AND($F90<$G90,FQ90<FR90)),5,0))))","v":""},{"$f":"IF(FQ90=\"\",\"\",IF(FQ90>FR90,\"A\",IF(FQ90<FR90,\"B\",IF(FQ90=FR90,\"X\"))))","v":""},null,null,{"$f":"IF(OR($F90=\"\",$G90=\"\",FU90=\"\",FV90=\"\"),\"\",IF(AND($F90=FU90,$G90=FV90),10,IF($F90-$G90=FU90-FV90,7,IF(OR(AND($F90>$G90,FU90>FV90),AND($F90<$G90,FU90<FV90)),5,0))))","v":""},{"$f":"IF(FU90=\"\",\"\",IF(FU90>FV90,\"A\",IF(FU90<FV90,\"B\",IF(FU90=FV90,\"X\"))))","v":""},null,null,{"$f":"IF(OR($F90=\"\",$G90=\"\",FY90=\"\",FZ90=\"\"),\"\",IF(AND($F90=FY90,$G90=FZ90),10,IF($F90-$G90=FY90-FZ90,7,IF(OR(AND($F90>$G90,FY90>FZ90),AND($F90<$G90,FY90<FZ90)),5,0))))","v":""},{"$f":"IF(FY90=\"\",\"\",IF(FY90>FZ90,\"A\",IF(FY90<FZ90,\"B\",IF(FY90=FZ90,\"X\"))))","v":""},null,null,{"$f":"IF(OR($F90=\"\",$G90=\"\",GC90=\"\",GD90=\"\"),\"\",IF(AND($F90=GC90,$G90=GD90),10,IF($F90-$G90=GC90-GD90,7,IF(OR(AND($F90>$G90,GC90>GD90),AND($F90<$G90,GC90<GD90)),5,0))))","v":""},{"$f":"IF(GC90=\"\",\"\",IF(GC90>GD90,\"A\",IF(GC90<GD90,\"B\",IF(GC90=GD90,\"X\"))))","v":""},null,null,{"$f":"IF(OR($F90=\"\",$G90=\"\",GG90=\"\",GH90=\"\"),\"\",IF(AND($F90=GG90,$G90=GH90),10,IF($F90-$G90=GG90-GH90,7,IF(OR(AND($F90>$G90,GG90>GH90),AND($F90<$G90,GG90<GH90)),5,0))))","v":""},{"$f":"IF(GG90=\"\",\"\",IF(GG90>GH90,\"A\",IF(GG90<GH90,\"B\",IF(GG90=GH90,\"X\"))))","v":""},null,null,{"$f":"IF(OR($F90=\"\",$G90=\"\",GK90=\"\",GL90=\"\"),\"\",IF(AND($F90=GK90,$G90=GL90),10,IF($F90-$G90=GK90-GL90,7,IF(OR(AND($F90>$G90,GK90>GL90),AND($F90<$G90,GK90<GL90)),5,0))))","v":""},{"$f":"IF(GK90=\"\",\"\",IF(GK90>GL90,\"A\",IF(GK90<GL90,\"B\",IF(GK90=GL90,\"X\"))))","v":""},null,null,{"$f":"IF(OR($F90=\"\",$G90=\"\",GO90=\"\",GP90=\"\"),\"\",IF(AND($F90=GO90,$G90=GP90),10,IF($F90-$G90=GO90-GP90,7,IF(OR(AND($F90>$G90,GO90>GP90),AND($F90<$G90,GO90<GP90)),5,0))))","v":""},{"$f":"IF(GO90=\"\",\"\",IF(GO90>GP90,\"A\",IF(GO90<GP90,\"B\",IF(GO90=GP90,\"X\"))))","v":""},null,null,{"$f":"IF(OR($F90=\"\",$G90=\"\",GS90=\"\",GT90=\"\"),\"\",IF(AND($F90=GS90,$G90=GT90),10,IF($F90-$G90=GS90-GT90,7,IF(OR(AND($F90>$G90,GS90>GT90),AND($F90<$G90,GS90<GT90)),5,0))))","v":""},{"$f":"IF(GS90=\"\",\"\",IF(GS90>GT90,\"A\",IF(GS90<GT90,\"B\",IF(GS90=GT90,\"X\"))))","v":""},null,null,{"$f":"IF(OR($F90=\"\",$G90=\"\",GW90=\"\",GX90=\"\"),\"\",IF(AND($F90=GW90,$G90=GX90),10,IF($F90-$G90=GW90-GX90,7,IF(OR(AND($F90>$G90,GW90>GX90),AND($F90<$G90,GW90<GX90)),5,0))))","v":""},{"$f":"IF(GW90=\"\",\"\",IF(GW90>GX90,\"A\",IF(GW90<GX90,\"B\",IF(GW90=GX90,\"X\"))))","v":""}]
[{"$f":"A10","v":"Fr. 12. Jun."},"04:00:00",2,{"$f":"IF(D10=\"\",\"\",D10)","v":"Südkorea"},"Tschechien",2,1,null,1,1,{"$f":"IF(OR($F91=\"\",$G91=\"\",I91=\"\",J91=\"\"),\"\",IF(AND($F91=I91,$G91=J91),10,IF($F91-$G91=I91-J91,7,IF(OR(AND($F91>$G91,I91>J91),AND($F91<$G91,I91<J91)),5,0))))","v":0},{"$f":"IF(I91=\"\",\"\",IF(I91>J91,\"A\",IF(I91<J91,\"B\",IF(I91=J91,\"X\"))))","v":"X"},1,1,{"$f":"IF(OR($F91=\"\",$G91=\"\",M91=\"\",N91=\"\"),\"\",IF(AND($F91=M91,$G91=N91),10,IF($F91-$G91=M91-N91,7,IF(OR(AND($F91>$G91,M91>N91),AND($F91<$G91,M91<N91)),5,0))))","v":0},{"$f":"IF(M91=\"\",\"\",IF(M91>N91,\"A\",IF(M91<N91,\"B\",IF(M91=N91,\"X\"))))","v":"X"},1,1,{"$f":"IF(OR($F91=\"\",$G91=\"\",Q91=\"\",R91=\"\"),\"\",IF(AND($F91=Q91,$G91=R91),10,IF($F91-$G91=Q91-R91,7,IF(OR(AND($F91>$G91,Q91>R91),AND($F91<$G91,Q91<R91)),5,0))))","v":0},{"$f":"IF(Q91=\"\",\"\",IF(Q91>R91,\"A\",IF(Q91<R91,\"B\",IF(Q91=R91,\"X\"))))","v":"X"},2,1,{"$f":"IF(OR($F91=\"\",$G91=\"\",U91=\"\",V91=\"\"),\"\",IF(AND($F91=U91,$G91=V91),10,IF($F91-$G91=U91-V91,7,IF(OR(AND($F91>$G91,U91>V91),AND($F91<$G91,U91<V91)),5,0))))","v":10},{"$f":"IF(U91=\"\",\"\",IF(U91>V91,\"A\",IF(U91<V91,\"B\",IF(U91=V91,\"X\"))))","v":"A"},1,2,{"$f":"IF(OR($F91=\"\",$G91=\"\",Y91=\"\",Z91=\"\"),\"\",IF(AND($F91=Y91,$G91=Z91),10,IF($F91-$G91=Y91-Z91,7,IF(OR(AND($F91>$G91,Y91>Z91),AND($F91<$G91,Y91<Z91)),5,0))))","v":0},{"$f":"IF(Y91=\"\",\"\",IF(Y91>Z91,\"A\",IF(Y91<Z91,\"B\",IF(Y91=Z91,\"X\"))))","v":"B"},1,1,{"$f":"IF(OR($F91=\"\",$G91=\"\",AC91=\"\",AD91=\"\"),\"\",IF(AND($F91=AC91,$G91=AD91),10,IF($F91-$G91=AC91-AD91,7,IF(OR(AND($F91>$G91,AC91>AD91),AND($F91<$G91,AC91<AD91)),5,0))))","v":0},{"$f":"IF(AC91=\"\",\"\",IF(AC91>AD91,\"A\",IF(AC91<AD91,\"B\",IF(AC91=AD91,\"X\"))))","v":"X"},0,1,{"$f":"IF(OR($F91=\"\",$G91=\"\",AG91=\"\",AH91=\"\"),\"\",IF(AND($F91=AG91,$G91=AH91),10,IF($F91-$G91=AG91-AH91,7,IF(OR(AND($F91>$G91,AG91>AH91),AND($F91<$G91,AG91<AH91)),5,0))))","v":0},{"$f":"IF(AG91=\"\",\"\",IF(AG91>AH91,\"A\",IF(AG91<AH91,\"B\",IF(AG91=AH91,\"X\"))))","v":"B"},0,1,{"$f":"IF(OR($F91=\"\",$G91=\"\",AK91=\"\",AL91=\"\"),\"\",IF(AND($F91=AK91,$G91=AL91),10,IF($F91-$G91=AK91-AL91,7,IF(OR(AND($F91>$G91,AK91>AL91),AND($F91<$G91,AK91<AL91)),5,0))))","v":0},{"$f":"IF(AK91=\"\",\"\",IF(AK91>AL91,\"A\",IF(AK91<AL91,\"B\",IF(AK91=AL91,\"X\"))))","v":"B"},1,1,{"$f":"IF(OR($F91=\"\",$G91=\"\",AO91=\"\",AP91=\"\"),\"\",IF(AND($F91=AO91,$G91=AP91),10,IF($F91-$G91=AO91-AP91,7,IF(OR(AND($F91>$G91,AO91>AP91),AND($F91<$G91,AO91<AP91)),5,0))))","v":0},{"$f":"IF(AO91=\"\",\"\",IF(AO91>AP91,\"A\",IF(AO91<AP91,\"B\",IF(AO91=AP91,\"X\"))))","v":"X"},1,1,{"$f":"IF(OR($F91=\"\",$G91=\"\",AS91=\"\",AT91=\"\"),\"\",IF(AND($F91=AS91,$G91=AT91),10,IF($F91-$G91=AS91-AT91,7,IF(OR(AND($F91>$G91,AS91>AT91),AND($F91<$G91,AS91<AT91)),5,0))))","v":0},{"$f":"IF(AS91=\"\",\"\",IF(AS91>AT91,\"A\",IF(AS91<AT91,\"B\",IF(AS91=AT91,\"X\"))))","v":"X"},2,2,{"$f":"IF(OR($F91=\"\",$G91=\"\",AW91=\"\",AX91=\"\"),\"\",IF(AND($F91=AW91,$G91=AX91),10,IF($F91-$G91=AW91-AX91,7,IF(OR(AND($F91>$G91,AW91>AX91),AND($F91<$G91,AW91<AX91)),5,0))))","v":0},{"$f":"IF(AW91=\"\",\"\",IF(AW91>AX91,\"A\",IF(AW91<AX91,\"B\",IF(AW91=AX91,\"X\"))))","v":"X"},1,1,{"$f":"IF(OR($F91=\"\",$G91=\"\",BA91=\"\",BB91=\"\"),\"\",IF(AND($F91=BA91,$G91=BB91),10,IF($F91-$G91=BA91-BB91,7,IF(OR(AND($F91>$G91,BA91>BB91),AND($F91<$G91,BA91<BB91)),5,0))))","v":0},{"$f":"IF(BA91=\"\",\"\",IF(BA91>BB91,\"A\",IF(BA91<BB91,\"B\",IF(BA91=BB91,\"X\"))))","v":"X"},1,2,{"$f":"IF(OR($F91=\"\",$G91=\"\",BE91=\"\",BF91=\"\"),\"\",IF(AND($F91=BE91,$G91=BF91),10,IF($F91-$G91=BE91-BF91,7,IF(OR(AND($F91>$G91,BE91>BF91),AND($F91<$G91,BE91<BF91)),5,0))))","v":0},{"$f":"IF(BE91=\"\",\"\",IF(BE91>BF91,\"A\",IF(BE91<BF91,\"B\",IF(BE91=BF91,\"X\"))))","v":"B"},1,1,{"$f":"IF(OR($F91=\"\",$G91=\"\",BI91=\"\",BJ91=\"\"),\"\",IF(AND($F91=BI91,$G91=BJ91),10,IF($F91-$G91=BI91-BJ91,7,IF(OR(AND($F91>$G91,BI91>BJ91),AND($F91<$G91,BI91<BJ91)),5,0))))","v":0},{"$f":"IF(BI91=\"\",\"\",IF(BI91>BJ91,\"A\",IF(BI91<BJ91,\"B\",IF(BI91=BJ91,\"X\"))))","v":"X"},0,2,{"$f":"IF(OR($F91=\"\",$G91=\"\",BM91=\"\",BN91=\"\"),\"\",IF(AND($F91=BM91,$G91=BN91),10,IF($F91-$G91=BM91-BN91,7,IF(OR(AND($F91>$G91,BM91>BN91),AND($F91<$G91,BM91<BN91)),5,0))))","v":0},{"$f":"IF(BM91=\"\",\"\",IF(BM91>BN91,\"A\",IF(BM91<BN91,\"B\",IF(BM91=BN91,\"X\"))))","v":"B"},2,1,{"$f":"IF(OR($F91=\"\",$G91=\"\",BQ91=\"\",BR91=\"\"),\"\",IF(AND($F91=BQ91,$G91=BR91),10,IF($F91-$G91=BQ91-BR91,7,IF(OR(AND($F91>$G91,BQ91>BR91),AND($F91<$G91,BQ91<BR91)),5,0))))","v":10},{"$f":"IF(BQ91=\"\",\"\",IF(BQ91>BR91,\"A\",IF(BQ91<BR91,\"B\",IF(BQ91=BR91,\"X\"))))","v":"A"},0,0,{"$f":"IF(OR($F91=\"\",$G91=\"\",BU91=\"\",BV91=\"\"),\"\",IF(AND($F91=BU91,$G91=BV91),10,IF($F91-$G91=BU91-BV91,7,IF(OR(AND($F91>$G91,BU91>BV91),AND($F91<$G91,BU91<BV91)),5,0))))","v":0},{"$f":"IF(BU91=\"\",\"\",IF(BU91>BV91,\"A\",IF(BU91<BV91,\"B\",IF(BU91=BV91,\"X\"))))","v":"X"},0,3,{"$f":"IF(OR($F91=\"\",$G91=\"\",BY91=\"\",BZ91=\"\"),\"\",IF(AND($F91=BY91,$G91=BZ91),10,IF($F91-$G91=BY91-BZ91,7,IF(OR(AND($F91>$G91,BY91>BZ91),AND($F91<$G91,BY91<BZ91)),5,0))))","v":0},{"$f":"IF(BY91=\"\",\"\",IF(BY91>BZ91,\"A\",IF(BY91<BZ91,\"B\",IF(BY91=BZ91,\"X\"))))","v":"B"},1,0,{"$f":"IF(OR($F91=\"\",$G91=\"\",CC91=\"\",CD91=\"\"),\"\",IF(AND($F91=CC91,$G91=CD91),10,IF($F91-$G91=CC91-CD91,7,IF(OR(AND($F91>$G91,CC91>CD91),AND($F91<$G91,CC91<CD91)),5,0))))","v":7},{"$f":"IF(CC91=\"\",\"\",IF(CC91>CD91,\"A\",IF(CC91<CD91,\"B\",IF(CC91=CD91,\"X\"))))","v":"A"},2,1,{"$f":"IF(OR($F91=\"\",$G91=\"\",CG91=\"\",CH91=\"\"),\"\",IF(AND($F91=CG91,$G91=CH91),10,IF($F91-$G91=CG91-CH91,7,IF(OR(AND($F91>$G91,CG91>CH91),AND($F91<$G91,CG91<CH91)),5,0))))","v":10},{"$f":"IF(CG91=\"\",\"\",IF(CG91>CH91,\"A\",IF(CG91<CH91,\"B\",IF(CG91=CH91,\"X\"))))","v":"A"},1,1,{"$f":"IF(OR($F91=\"\",$G91=\"\",CK91=\"\",CL91=\"\"),\"\",IF(AND($F91=CK91,$G91=CL91),10,IF($F91-$G91=CK91-CL91,7,IF(OR(AND($F91>$G91,CK91>CL91),AND($F91<$G91,CK91<CL91)),5,0))))","v":0},{"$f":"IF(CK91=\"\",\"\",IF(CK91>CL91,\"A\",IF(CK91<CL91,\"B\",IF(CK91=CL91,\"X\"))))","v":"X"},1,1,{"$f":"IF(OR($F91=\"\",$G91=\"\",CO91=\"\",CP91=\"\"),\"\",IF(AND($F91=CO91,$G91=CP91),10,IF($F91-$G91=CO91-CP91,7,IF(OR(AND($F91>$G91,CO91>CP91),AND($F91<$G91,CO91<CP91)),5,0))))","v":0},{"$f":"IF(CO91=\"\",\"\",IF(CO91>CP91,\"A\",IF(CO91<CP91,\"B\",IF(CO91=CP91,\"X\"))))","v":"X"},3,1,{"$f":"IF(OR($F91=\"\",$G91=\"\",CS91=\"\",CT91=\"\"),\"\",IF(AND($F91=CS91,$G91=CT91),10,IF($F91-$G91=CS91-CT91,7,IF(OR(AND($F91>$G91,CS91>CT91),AND($F91<$G91,CS91<CT91)),5,0))))","v":5},{"$f":"IF(CS91=\"\",\"\",IF(CS91>CT91,\"A\",IF(CS91<CT91,\"B\",IF(CS91=CT91,\"X\"))))","v":"A"},1,1,{"$f":"IF(OR($F91=\"\",$G91=\"\",CW91=\"\",CX91=\"\"),\"\",IF(AND($F91=CW91,$G91=CX91),10,IF($F91-$G91=CW91-CX91,7,IF(OR(AND($F91>$G91,CW91>CX91),AND($F91<$G91,CW91<CX91)),5,0))))","v":0},{"$f":"IF(CW91=\"\",\"\",IF(CW91>CX91,\"A\",IF(CW91<CX91,\"B\",IF(CW91=CX91,\"X\"))))","v":"X"},1,1,{"$f":"IF(OR($F91=\"\",$G91=\"\",DA91=\"\",DB91=\"\"),\"\",IF(AND($F91=DA91,$G91=DB91),10,IF($F91-$G91=DA91-DB91,7,IF(OR(AND($F91>$G91,DA91>DB91),AND($F91<$G91,DA91<DB91)),5,0))))","v":0},{"$f":"IF(DA91=\"\",\"\",IF(DA91>DB91,\"A\",IF(DA91<DB91,\"B\",IF(DA91=DB91,\"X\"))))","v":"X"},1,1,{"$f":"IF(OR($F91=\"\",$G91=\"\",DE91=\"\",DF91=\"\"),\"\",IF(AND($F91=DE91,$G91=DF91),10,IF($F91-$G91=DE91-DF91,7,IF(OR(AND($F91>$G91,DE91>DF91),AND($F91<$G91,DE91<DF91)),5,0))))","v":0},{"$f":"IF(DE91=\"\",\"\",IF(DE91>DF91,\"A\",IF(DE91<DF91,\"B\",IF(DE91=DF91,\"X\"))))","v":"X"},1,1,{"$f":"IF(OR($F91=\"\",$G91=\"\",DI91=\"\",DJ91=\"\"),\"\",IF(AND($F91=DI91,$G91=DJ91),10,IF($F91-$G91=DI91-DJ91,7,IF(OR(AND($F91>$G91,DI91>DJ91),AND($F91<$G91,DI91<DJ91)),5,0))))","v":0},{"$f":"IF(DI91=\"\",\"\",IF(DI91>DJ91,\"A\",IF(DI91<DJ91,\"B\",IF(DI91=DJ91,\"X\"))))","v":"X"},1,1,{"$f":"IF(OR($F91=\"\",$G91=\"\",DM91=\"\",DN91=\"\"),\"\",IF(AND($F91=DM91,$G91=DN91),10,IF($F91-$G91=DM91-DN91,7,IF(OR(AND($F91>$G91,DM91>DN91),AND($F91<$G91,DM91<DN91)),5,0))))","v":0},{"$f":"IF(DM91=\"\",\"\",IF(DM91>DN91,\"A\",IF(DM91<DN91,\"B\",IF(DM91=DN91,\"X\"))))","v":"X"},1,1,{"$f":"IF(OR($F91=\"\",$G91=\"\",DQ91=\"\",DR91=\"\"),\"\",IF(AND($F91=DQ91,$G91=DR91),10,IF($F91-$G91=DQ91-DR91,7,IF(OR(AND($F91>$G91,DQ91>DR91),AND($F91<$G91,DQ91<DR91)),5,0))))","v":0},{"$f":"IF(DQ91=\"\",\"\",IF(DQ91>DR91,\"A\",IF(DQ91<DR91,\"B\",IF(DQ91=DR91,\"X\"))))","v":"X"},1,1,{"$f":"IF(OR($F91=\"\",$G91=\"\",DU91=\"\",DV91=\"\"),\"\",IF(AND($F91=DU91,$G91=DV91),10,IF($F91-$G91=DU91-DV91,7,IF(OR(AND($F91>$G91,DU91>DV91),AND($F91<$G91,DU91<DV91)),5,0))))","v":0},{"$f":"IF(DU91=\"\",\"\",IF(DU91>DV91,\"A\",IF(DU91<DV91,\"B\",IF(DU91=DV91,\"X\"))))","v":"X"},1,2,{"$f":"IF(OR($F91=\"\",$G91=\"\",DY91=\"\",DZ91=\"\"),\"\",IF(AND($F91=DY91,$G91=DZ91),10,IF($F91-$G91=DY91-DZ91,7,IF(OR(AND($F91>$G91,DY91>DZ91),AND($F91<$G91,DY91<DZ91)),5,0))))","v":0},{"$f":"IF(DY91=\"\",\"\",IF(DY91>DZ91,\"A\",IF(DY91<DZ91,\"B\",IF(DY91=DZ91,\"X\"))))","v":"B"},1,1,{"$f":"IF(OR($F91=\"\",$G91=\"\",EC91=\"\",ED91=\"\"),\"\",IF(AND($F91=EC91,$G91=ED91),10,IF($F91-$G91=EC91-ED91,7,IF(OR(AND($F91>$G91,EC91>ED91),AND($F91<$G91,EC91<ED91)),5,0))))","v":0},{"$f":"IF(EC91=\"\",\"\",IF(EC91>ED91,\"A\",IF(EC91<ED91,\"B\",IF(EC91=ED91,\"X\"))))","v":"X"},1,2,{"$f":"IF(OR($F91=\"\",$G91=\"\",EG91=\"\",EH91=\"\"),\"\",IF(AND($F91=EG91,$G91=EH91),10,IF($F91-$G91=EG91-EH91,7,IF(OR(AND($F91>$G91,EG91>EH91),AND($F91<$G91,EG91<EH91)),5,0))))","v":0},{"$f":"IF(EG91=\"\",\"\",IF(EG91>EH91,\"A\",IF(EG91<EH91,\"B\",IF(EG91=EH91,\"X\"))))","v":"B"},2,2,{"$f":"IF(OR($F91=\"\",$G91=\"\",EK91=\"\",EL91=\"\"),\"\",IF(AND($F91=EK91,$G91=EL91),10,IF($F91-$G91=EK91-EL91,7,IF(OR(AND($F91>$G91,EK91>EL91),AND($F91<$G91,EK91<EL91)),5,0))))","v":0},{"$f":"IF(EK91=\"\",\"\",IF(EK91>EL91,\"A\",IF(EK91<EL91,\"B\",IF(EK91=EL91,\"X\"))))","v":"X"},null,null,{"$f":"IF(OR($F91=\"\",$G91=\"\",EO91=\"\",EP91=\"\"),\"\",IF(AND($F91=EO91,$G91=EP91),10,IF($F91-$G91=EO91-EP91,7,IF(OR(AND($F91>$G91,EO91>EP91),AND($F91<$G91,EO91<EP91)),5,0))))","v":""},{"$f":"IF(EO91=\"\",\"\",IF(EO91>EP91,\"A\",IF(EO91<EP91,\"B\",IF(EO91=EP91,\"X\"))))","v":""},null,null,{"$f":"IF(OR($F91=\"\",$G91=\"\",ES91=\"\",ET91=\"\"),\"\",IF(AND($F91=ES91,$G91=ET91),10,IF($F91-$G91=ES91-ET91,7,IF(OR(AND($F91>$G91,ES91>ET91),AND($F91<$G91,ES91<ET91)),5,0))))","v":""},{"$f":"IF(ES91=\"\",\"\",IF(ES91>ET91,\"A\",IF(ES91<ET91,\"B\",IF(ES91=ET91,\"X\"))))","v":""},null,null,{"$f":"IF(OR($F91=\"\",$G91=\"\",EW91=\"\",EX91=\"\"),\"\",IF(AND($F91=EW91,$G91=EX91),10,IF($F91-$G91=EW91-EX91,7,IF(OR(AND($F91>$G91,EW91>EX91),AND($F91<$G91,EW91<EX91)),5,0))))","v":""},{"$f":"IF(EW91=\"\",\"\",IF(EW91>EX91,\"A\",IF(EW91<EX91,\"B\",IF(EW91=EX91,\"X\"))))","v":""},null,null,{"$f":"IF(OR($F91=\"\",$G91=\"\",FA91=\"\",FB91=\"\"),\"\",IF(AND($F91=FA91,$G91=FB91),10,IF($F91-$G91=FA91-FB91,7,IF(OR(AND($F91>$G91,FA91>FB91),AND($F91<$G91,FA91<FB91)),5,0))))","v":""},{"$f":"IF(FA91=\"\",\"\",IF(FA91>FB91,\"A\",IF(FA91<FB91,\"B\",IF(FA91=FB91,\"X\"))))","v":""},null,null,{"$f":"IF(OR($F91=\"\",$G91=\"\",FE91=\"\",FF91=\"\"),\"\",IF(AND($F91=FE91,$G91=FF91),10,IF($F91-$G91=FE91-FF91,7,IF(OR(AND($F91>$G91,FE91>FF91),AND($F91<$G91,FE91<FF91)),5,0))))","v":""},{"$f":"IF(FE91=\"\",\"\",IF(FE91>FF91,\"A\",IF(FE91<FF91,\"B\",IF(FE91=FF91,\"X\"))))","v":""},null,null,{"$f":"IF(OR($F91=\"\",$G91=\"\",FI91=\"\",FJ91=\"\"),\"\",IF(AND($F91=FI91,$G91=FJ91),10,IF($F91-$G91=FI91-FJ91,7,IF(OR(AND($F91>$G91,FI91>FJ91),AND($F91<$G91,FI91<FJ91)),5,0))))","v":""},{"$f":"IF(FI91=\"\",\"\",IF(FI91>FJ91,\"A\",IF(FI91<FJ91,\"B\",IF(FI91=FJ91,\"X\"))))","v":""},null,null,{"$f":"IF(OR($F91=\"\",$G91=\"\",FM91=\"\",FN91=\"\"),\"\",IF(AND($F91=FM91,$G91=FN91),10,IF($F91-$G91=FM91-FN91,7,IF(OR(AND($F91>$G91,FM91>FN91),AND($F91<$G91,FM91<FN91)),5,0))))","v":""},{"$f":"IF(FM91=\"\",\"\",IF(FM91>FN91,\"A\",IF(FM91<FN91,\"B\",IF(FM91=FN91,\"X\"))))","v":""},null,null,{"$f":"IF(OR($F91=\"\",$G91=\"\",FQ91=\"\",FR91=\"\"),\"\",IF(AND($F91=FQ91,$G91=FR91),10,IF($F91-$G91=FQ91-FR91,7,IF(OR(AND($F91>$G91,FQ91>FR91),AND($F91<$G91,FQ91<FR91)),5,0))))","v":""},{"$f":"IF(FQ91=\"\",\"\",IF(FQ91>FR91,\"A\",IF(FQ91<FR91,\"B\",IF(FQ91=FR91,\"X\"))))","v":""},null,null,{"$f":"IF(OR($F91=\"\",$G91=\"\",FU91=\"\",FV91=\"\"),\"\",IF(AND($F91=FU91,$G91=FV91),10,IF($F91-$G91=FU91-FV91,7,IF(OR(AND($F91>$G91,FU91>FV91),AND($F91<$G91,FU91<FV91)),5,0))))","v":""},{"$f":"IF(FU91=\"\",\"\",IF(FU91>FV91,\"A\",IF(FU91<FV91,\"B\",IF(FU91=FV91,\"X\"))))","v":""},null,null,{"$f":"IF(OR($F91=\"\",$G91=\"\",FY91=\"\",FZ91=\"\"),\"\",IF(AND($F91=FY91,$G91=FZ91),10,IF($F91-$G91=FY91-FZ91,7,IF(OR(AND($F91>$G91,FY91>FZ91),AND($F91<$G91,FY91<FZ91)),5,0))))","v":""},{"$f":"IF(FY91=\"\",\"\",IF(FY91>FZ91,\"A\",IF(FY91<FZ91,\"B\",IF(FY91=FZ91,\"X\"))))","v":""},null,null,{"$f":"IF(OR($F91=\"\",$G91=\"\",GC91=\"\",GD91=\"\"),\"\",IF(AND($F91=GC91,$G91=GD91),10,IF($F91-$G91=GC91-GD91,7,IF(OR(AND($F91>$G91,GC91>GD91),AND($F91<$G91,GC91<GD91)),5,0))))","v":""},{"$f":"IF(GC91=\"\",\"\",IF(GC91>GD91,\"A\",IF(GC91<GD91,\"B\",IF(GC91=GD91,\"X\"))))","v":""},null,null,{"$f":"IF(OR($F91=\"\",$G91=\"\",GG91=\"\",GH91=\"\"),\"\",IF(AND($F91=GG91,$G91=GH91),10,IF($F91-$G91=GG91-GH91,7,IF(OR(AND($F91>$G91,GG91>GH91),AND($F91<$G91,GG91<GH91)),5,0))))","v":""},{"$f":"IF(GG91=\"\",\"\",IF(GG91>GH91,\"A\",IF(GG91<GH91,\"B\",IF(GG91=GH91,\"X\"))))","v":""},null,null,{"$f":"IF(OR($F91=\"\",$G91=\"\",GK91=\"\",GL91=\"\"),\"\",IF(AND($F91=GK91,$G91=GL91),10,IF($F91-$G91=GK91-GL91,7,IF(OR(AND($F91>$G91,GK91>GL91),AND($F91<$G91,GK91<GL91)),5,0))))","v":""},{"$f":"IF(GK91=\"\",\"\",IF(GK91>GL91,\"A\",IF(GK91<GL91,\"B\",IF(GK91=GL91,\"X\"))))","v":""},null,null,{"$f":"IF(OR($F91=\"\",$G91=\"\",GO91=\"\",GP91=\"\"),\"\",IF(AND($F91=GO91,$G91=GP91),10,IF($F91-$G91=GO91-GP91,7,IF(OR(AND($F91>$G91,GO91>GP91),AND($F91<$G91,GO91<GP91)),5,0))))","v":""},{"$f":"IF(GO91=\"\",\"\",IF(GO91>GP91,\"A\",IF(GO91<GP91,\"B\",IF(GO91=GP91,\"X\"))))","v":""},null,null,{"$f":"IF(OR($F91=\"\",$G91=\"\",GS91=\"\",GT91=\"\"),\"\",IF(AND($F91=GS91,$G91=GT91),10,IF($F91-$G91=GS91-GT91,7,IF(OR(AND($F91>$G91,GS91>GT91),AND($F91<$G91,GS91<GT91)),5,0))))","v":""},{"$f":"IF(GS91=\"\",\"\",IF(GS91>GT91,\"A\",IF(GS91<GT91,\"B\",IF(GS91=GT91,\"X\"))))","v":""},null,null,{"$f":"IF(OR($F91=\"\",$G91=\"\",GW91=\"\",GX91=\"\"),\"\",IF(AND($F91=GW91,$G91=GX91),10,IF($F91-$G91=GW91-GX91,7,IF(OR(AND($F91>$G91,GW91>GX91),AND($F91<$G91,GW91<GX91)),5,0))))","v":""},{"$f":"IF(GW91=\"\",\"\",IF(GW91>GX91,\"A\",IF(GW91<GX91,\"B\",IF(GW91=GX91,\"X\"))))","v":""}]
["Fr. 12. Jun.","21:00:00",3,"Kanada","Bosnien-Herz.",1,1,null,2,0,0,"A",2,1,0,"A",2,2,7,"X",1,1,10,"X",1,2,0,"B",0,1,0,"B",1,2,0,"B",0,2,0,"B",1,2,0,"B",2,0,0,"A",2,0,0,"A",2,1,0,"A",1,1,10,"X",2,1,0,"A",0,1,0,"B",2,0,0,"A",1,1,10,"X",2,1,0,"A",2,0,0,"A",1,0,0,"A",1,1,10,"X",2,1,0,"A",1,3,0,"B",1,0,0,"A",1,1,10,"X",1,1,10,"X",1,0,0,"A",2,1,0,"A",1,1,10,"X",2,0,0,"A",1,0,0,"A",0,1,0,"B",2,1,0,"A",1,2,0,"B",null,null,"","",null,null,"","",null,null,"","",null,null,"","",null,null,"","",null,null,"","",null,null,"","",null,null,"","",null,null,"","",null,null,"","",null,null,"","",null,null,"","",null,null,"","",null,null,"","",null,null,"","",null,null,"",""]
["Sa. 13. Jun.","03:00:00",4,"USA","Paraguay",4,1,null,2,1,5,"A",2,1,5,"A",2,1,5,"A",2,0,5,"A",1,1,0,"X",2,1,5,"A",0,1,0,"B",1,1,0,"X",2,1,5,"A",3,1,5,"A",1,1,0,"X",2,1,5,"A",2,1,5,"A",0,1,0,"B",1,2,0,"B",2,1,5,"A",2,1,5,"A",3,1,5,"A",2,0,5,"A",3,1,5,"A",2,1,5,"A",2,0,5,"A",4,1,10,"A",2,0,5,"A",2,1,5,"A",2,1,5,"A",2,0,5,"A",2,0,5,"A",1,0,5,"A",2,1,5,"A",2,0,5,"A",1,2,0,"B",2,1,5,"A",2,0,5,"A",null,null,"","",null,null,"","",null,null,"","",null,null,"","",null,null,"","",null,null,"","",null,null,"","",null,null,"","",null,null,"","",null,null,"","",null,null,"","",null,null,"","",null,null,"","",null,null,"","",null,null,"","",null,null,"",""]
["So. 14. Jun.","03:00:00",5,"Haiti","Schottland",0,1,null,0,2,5,"B",0,2,5,"B",1,1,0,"X",0,1,10,"B",0,2,5,"B",0,2,5,"B",0,3,5,"B",0,3,5,"B",0,2,5,"B",1,2,7,"B",0,4,5,"B",0,2,5,"B",0,1,10,"B",0,2,5,"B",0,2,5,"B",0,1,10,"B",0,1,10,"B",0,2,5,"B",0,2,5,"B",1,4,5,"B",1,3,5,"B",0,2,5,"B",0,3,5,"B",0,0,0,"X",0,2,5,"B",0,2,5,"B",0,2,5,"B",0,2,5,"B",0,4,5,"B",0,2,5,"B",0,2,5,"B",0,2,5,"B",0,2,5,"B",0,3,5,"B",null,null,"","",null,null,"","",null,null,"","",null,null,"","",null,null,"","",null,null,"","",null,null,"","",null,null,"","",null,null,"","",null,null,"","",null,null,"","",null,null,"","",null,null,"","",null,null,"","",null,null,"","",null,null,"",""]
["Sa. 13. Jun.","06:00:00",6,"Australien","Türkei",2,0,null,1,1,0,"X",1,2,0,"B",2,3,0,"B",0,1,0,"B",1,2,0,"B",1,1,0,"X",1,3,0,"B",0,1,0,"B",0,2,0,"B",2,3,0,"B",2,2,0,"X",1,2,0,"B",1,2,0,"B",1,2,0,"B",1,1,0,"X",1,2,0,"B",1,2,0,"B",0,2,0,"B",1,1,0,"X",2,2,0,"X",1,2,0,"B",1,2,0,"B",2,2,0,"X",0,1,0,"B",1,2,0,"B",1,1,0,"X",1,1,0,"X",1,2,0,"B",1,3,0,"B",1,2,0,"B",1,2,0,"B",2,1,5,"A",1,2,0,"B",2,2,0,"X",null,null,"","",null,null,"","",null,null,"","",null,null,"","",null,null,"","",null,null,"","",null,null,"","",null,null,"","",null,null,"","",null,null,"","",null,null,"","",null,null,"","",null,null,"","",null,null,"","",null,null,"","",null,null,"",""]
["So. 14. Jun.","00:00:00",7,"Brasilien","Marokko",1,1,null,2,0,0,"A",3,1,0,"A",3,0,0,"A",2,0,0,"A",3,1,0,"A",2,1,0,"A",2,1,0,"A",3,1,0,"A",3,1,0,"A",3,1,0,"A",4,0,0,"A",2,1,0,"A",3,1,0,"A",2,1,0,"A",3,1,0,"A",4,2,0,"A",3,1,0,"A",2,1,0,"A",1,1,10,"X",3,1,0,"A",2,1,0,"A",3,1,0,"A",5,2,0,"A",2,1,0,"A",2,1,0,"A",1,1,10,"X",3,0,0,"A",3,1,0,"A",3,1,0,"A",2,0,0,"A",2,1,0,"A",3,1,0,"A",2,1,0,"A",4,1,0,"A",null,null,"","",null,null,"","",null,null,"","",null,null,"","",null,null,"","",null,null,"","",null,null,"","",null,null,"","",null,null,"","",null,null,"","",null,null,"","",null,null,"","",null,null,"","",null,null,"","",null,null,"","",null,null,"",""]
["Sa. 13. Jun.","21:00:00",8,"Katar","Schweiz",1,1,null,0,2,0,"B",0,3,0,"B",0,2,0,"B",0,3,0,"B",0,3,0,"B",0,1,0,"B",0,3,0,"B",0,2,0,"B",1,3,0,"B",0,3,0,"B",0,5,0,"B",0,2,0,"B",1,2,0,"B",0,2,0,"B",0,2,0,"B",0,3,0,"B",0,2,0,"B",0,2,0,"B",1,2,0,"B",0,3,0,"B",0,2,0,"B",0,2,0,"B",0,3,0,"B",0,2,0,"B",0,3,0,"B",0,2,0,"B",0,2,0,"B",0,2,0,"B",0,3,0,"B",0,3,0,"B",0,3,0,"B",0,1,0,"B",0,2,0,"B",1,4,0,"B",null,null,"","",null,null,"","",null,null,"","",null,null,"","",null,null,"","",null,null,"","",null,null,"","",null,null,"","",null,null,"","",null,null,"","",null,null,"","",null,null,"","",null,null,"","",null,null,"","",null,null,"","",null,null,"",""]
["Mo. 15. Jun.","01:00:00",9,"Elfenbeinküste","Ecuador",1,0,null,1,1,0,"X",2,0,5,"A",2,3,0,"B",3,3,0,"X",0,0,0,"X",1,1,0,"X",1,2,0,"B",1,1,0,"X",1,1,0,"X",3,1,5,"A",2,1,7,"A",1,1,0,"X",1,1,0,"X",1,1,0,"X",1,1,0,"X",2,2,0,"X",1,0,10,"A",0,2,0,"B",1,1,0,"X",1,1,0,"X",2,1,7,"A",1,1,0,"X",2,2,0,"X",1,2,0,"B",1,1,0,"X",1,1,0,"X",2,2,0,"X",1,1,0,"X",1,1,0,"X",0,1,0,"B",1,1,0,"X",1,2,0,"B",1,2,0,"B",2,2,0,"X",null,null,"","",null,null,"","",null,null,"","",null,null,"","",null,null,"","",null,null,"","",null,null,"","",null,null,"","",null,null,"","",null,null,"","",null,null,"","",null,null,"","",null,null,"","",null,null,"","",null,null,"","",null,null,"",""]
["So. 14. Jun.","19:00:00",10,"Deutschland","Curacao",7,1,null,4,0,5,"A",2,0,5,"A",2,3,0,"B",5,0,5,"A",3,0,5,"A",3,0,5,"A",5,0,5,"A",3,0,5,"A",6,0,7,"A",4,1,5,"A",8,0,5,"A",4,0,5,"A",2,1,5,"A",4,0,5,"A",3,0,5,"A",2,0,5,"A",4,0,5,"A",4,0,5,"A",3,0,5,"A",4,1,5,"A",5,0,5,"A",4,0,5,"A",7,0,5,"A",4,0,5,"A",4,0,5,"A",5,0,5,"A",5,0,5,"A",4,0,5,"A",6,0,7,"A",4,0,5,"A",3,0,5,"A",3,0,5,"A",2,0,5,"A",2,1,5,"A",null,null,"","",null,null,"","",null,null,"","",null,null,"","",null,null,"","",null,null,"","",null,null,"","",null,null,"","",null,null,"","",null,null,"","",null,null,"","",null,null,"","",null,null,"","",null,null,"","",null,null,"","",null,null,"",""]
["So. 14. Jun.","22:00:00",11,"Holland","Japan",2,2,null,2,1,0,"A",1,1,7,"X",1,3,0,"B",1,0,0,"A",2,1,0,"A",2,1,0,"A",3,1,0,"A",2,2,10,"X",2,1,0,"A",2,2,10,"X",2,2,10,"X",2,1,0,"A",2,1,0,"A",2,1,0,"A",2,1,0,"A",2,1,0,"A",2,1,0,"A",2,1,0,"A",1,0,0,"A",2,1,0,"A",2,1,0,"A",2,1,0,"A",3,2,0,"A",2,1,0,"A",2,1,0,"A",1,1,7,"X",2,1,0,"A",2,1,0,"A",2,1,0,"A",2,1,0,"A",2,1,0,"A",2,2,10,"X",2,1,0,"A",3,1,0,"A",null,null,"","",null,null,"","",null,null,"","",null,null,"","",null,null,"","",null,null,"","",null,null,"","",null,null,"","",null,null,"","",null,null,"","",null,null,"","",null,null,"","",null,null,"","",null,null,"","",null,null,"","",null,null,"",""]
["Mo. 15. Jun.","04:00:00",12,"Schweden","Tunesien",5,1,null,2,0,5,"A",1,2,0,"B",2,1,5,"A",3,1,5,"A",0,0,0,"X",1,1,0,"X",1,0,5,"A",2,1,5,"A",1,1,0,"X",1,0,5,"A",1,2,0,"B",1,1,0,"X",1,1,0,"X",1,0,5,"A",2,1,5,"A",2,2,0,"X",1,2,0,"B",2,0,5,"A",1,1,0,"X",2,0,5,"A",1,1,0,"X",1,0,5,"A",3,0,5,"A",1,1,0,"X",2,0,5,"A",2,1,5,"A",2,0,5,"A",2,0,5,"A",2,0,5,"A",1,0,5,"A",1,1,0,"X",3,2,5,"A",2,1,5,"A",2,2,0,"X",null,null,"","",null,null,"","",null,null,"","",null,null,"","",null,null,"","",null,null,"","",null,null,"","",null,null,"","",null,null,"","",null,null,"","",null,null,"","",null,null,"","",null,null,"","",null,null,"","",null,null,"","",null,null,"",""]
["Di. 16. Jun.","00:00:00",13,"Saudi-Arabien","Uruguay",1,1,null,1,2,0,"B",1,3,0,"B",2,1,0,"A",1,0,0,"A",1,2,0,"B",0,1,0,"B",1,3,0,"B",0,2,0,"B",1,1,10,"X",2,2,7,"X",0,3,0,"B",0,2,0,"B",1,2,0,"B",0,3,0,"B",0,2,0,"B",1,3,0,"B",1,2,0,"B",1,3,0,"B",0,2,0,"B",1,2,0,"B",1,3,0,"B",0,2,0,"B",1,2,0,"B",0,3,0,"B",0,2,0,"B",1,2,0,"B",0,1,0,"B",0,2,0,"B",0,2,0,"B",0,2,0,"B",1,2,0,"B",0,3,0,"B",1,2,0,"B",2,3,0,"B",null,null,"","",null,null,"","",null,null,"","",null,null,"","",null,null,"","",null,null,"","",null,null,"","",null,null,"","",null,null,"","",null,null,"","",null,null,"","",null,null,"","",null,null,"","",null,null,"","",null,null,"","",null,null,"",""]
["Mo. 15. Jun.","18:00:00",14,"Spanien","Kap Verde",0,0,null,3,0,0,"A",4,0,0,"A",3,1,0,"A",7,0,0,"A",4,0,0,"A",4,0,0,"A",6,0,0,"A",3,0,0,"A",8,0,0,"A",4,2,0,"A",6,0,0,"A",4,0,0,"A",4,0,0,"A",3,0,0,"A",3,0,0,"A",4,0,0,"A",4,0,0,"A",4,0,0,"A",3,0,0,"A",4,2,0,"A",5,0,0,"A",3,0,0,"A",5,0,0,"A",3,1,0,"A",4,0,0,"A",3,0,0,"A",7,0,0,"A",3,0,0,"A",7,0,0,"A",4,0,0,"A",3,0,0,"A",3,0,0,"A",3,0,0,"A",6,0,0,"A",null,null,"","",null,null,"","",null,null,"","",null,null,"","",null,null,"","",null,null,"","",null,null,"","",null,null,"","",null,null,"","",null,null,"","",null,null,"","",null,null,"","",null,null,"","",null,null,"","",null,null,"","",null,null,"",""]
["Di. 16. Jun.","03:00:00",15,"Iran","Neuseeland",2,2,null,1,0,0,"A",0,0,7,"X",2,1,0,"A",1,1,7,"X",0,1,0,"B",0,1,0,"B",2,1,0,"A",0,0,7,"X",2,1,0,"A",3,1,0,"A",4,2,0,"A",2,0,0,"A",1,1,7,"X",1,0,0,"A",0,1,0,"B",0,2,0,"B",1,0,0,"A",2,0,0,"A",2,0,0,"A",1,1,7,"X",1,0,0,"A",1,0,0,"A",2,2,10,"X",1,1,7,"X",2,0,0,"A",2,1,0,"A",1,1,7,"X",2,1,0,"A",1,0,0,"A",1,0,0,"A",0,1,0,"B",1,0,0,"A",2,1,0,"A",2,1,0,"A",null,null,"","",null,null,"","",null,null,"","",null,null,"","",null,null,"","",null,null,"","",null,null,"","",null,null,"","",null,null,"","",null,null,"","",null,null,"","",null,null,"","",null,null,"","",null,null,"","",null,null,"","",null,null,"",""]
["Mo. 15. Jun.","21:00:00",16,"Belgien","Ägypten",1,1,null,3,1,0,"A",2,0,0,"A",1,1,10,"X",2,0,0,"A",1,1,10,"X",2,1,0,"A",2,0,0,"A",1,0,0,"A",2,2,7,"X",4,1,0,"A",1,1,10,"X",2,1,0,"A",3,2,0,"A",2,0,0,"A",2,0,0,"A",2,1,0,"A",1,1,10,"X",3,0,0,"A",2,1,0,"A",2,1,0,"A",3,1,0,"A",2,1,0,"A",3,1,0,"A",2,0,0,"A",2,1,0,"A",2,1,0,"A",2,0,0,"A",2,1,0,"A",1,1,10,"X",2,0,0,"A",2,0,0,"A",3,0,0,"A",2,1,0,"A",4,2,0,"A",null,null,"","",null,null,"","",null,null,"","",null,null,"","",null,null,"","",null,null,"","",null,null,"","",null,null,"","",null,null,"","",null,null,"","",null,null,"","",null,null,"","",null,null,"","",null,null,"","",null,null,"","",null,null,"",""]
["Di. 16. Jun.","21:00:00",17,"Frankreich","Senegal",3,1,null,2,0,7,"A",4,0,5,"A",2,1,5,"A",5,0,5,"A",3,1,10,"A",3,1,10,"A",1,1,0,"X",4,0,5,"A",4,1,5,"A",2,2,0,"X",4,0,5,"A",2,1,5,"A",3,1,10,"A",3,0,5,"A",2,1,5,"A",4,2,7,"A",2,1,5,"A",3,1,10,"A",2,1,5,"A",2,2,0,"X",3,1,10,"A",2,0,7,"A",1,1,0,"X",1,0,5,"A",2,0,7,"A",2,0,7,"A",3,2,5,"A",3,1,10,"A",3,1,10,"A",2,0,7,"A",2,0,7,"A",3,0,5,"A",2,1,5,"A",4,1,5,"A",null,null,"","",null,null,"","",null,null,"","",null,null,"","",null,null,"","",null,null,"","",null,null,"","",null,null,"","",null,null,"","",null,null,"","",null,null,"","",null,null,"","",null,null,"","",null,null,"","",null,null,"","",null,null,"",""]
["Mi. 17. Jun.","00:00:00",18,"Irak","Norwegen",1,4,null,1,2,5,"B",0,2,5,"B",3,2,0,"A",1,2,5,"B",0,2,5,"B",0,2,5,"B",0,2,5,"B",0,2,5,"B",1,3,5,"B",1,3,5,"B",0,3,7,"B",0,3,7,"B",1,2,5,"B",0,2,5,"B",0,2,5,"B",0,2,5,"B",0,2,5,"B",0,2,5,"B",0,1,5,"B",1,3,5,"B",1,2,5,"B",0,3,7,"B",1,3,5,"B",0,2,5,"B",0,2,5,"B",0,2,5,"B",1,3,5,"B",0,2,5,"B",0,3,7,"B",0,3,7,"B",0,2,5,"B",1,2,5,"B",1,2,5,"B",2,3,5,"B",null,null,"","",null,null,"","",null,null,"","",null,null,"","",null,null,"","",null,null,"","",null,null,"","",null,null,"","",null,null,"","",null,null,"","",null,null,"","",null,null,"","",null,null,"","",null,null,"","",null,null,"","",null,null,"",""]
["Mi. 17. Jun.","03:00:00",19,"Argentinien","Algerien",3,0,null,3,0,10,"A",3,0,10,"A",2,1,5,"A",3,0,10,"A",3,1,5,"A",2,0,5,"A",3,1,5,"A",4,0,5,"A",4,1,7,"A",2,2,0,"X",2,0,5,"A",2,0,5,"A",3,1,5,"A",2,0,5,"A",3,0,10,"A",2,3,0,"B",2,0,5,"A",3,1,5,"A",2,0,5,"A",2,1,5,"A",2,1,5,"A",2,0,5,"A",5,1,5,"A",3,0,10,"A",2,0,5,"A",2,1,5,"A",1,0,5,"A",3,0,10,"A",1,0,5,"A",2,0,5,"A",3,0,10,"A",4,0,5,"A",2,1,5,"A",4,1,7,"A",null,null,"","",null,null,"","",null,null,"","",null,null,"","",null,null,"","",null,null,"","",null,null,"","",null,null,"","",null,null,"","",null,null,"","",null,null,"","",null,null,"","",null,null,"","",null,null,"","",null,null,"","",null,null,"",""]
["Di. 16. Jun.","06:00:00",20,"Österreich","Jordanien",3,1,null,2,0,7,"A",2,0,7,"A",1,0,5,"A",1,0,5,"A",2,1,5,"A",2,0,7,"A",3,0,5,"A",1,0,5,"A",3,0,5,"A",1,1,0,"X",5,0,5,"A",2,0,7,"A",2,0,7,"A",1,1,0,"X",2,0,7,"A",2,1,5,"A",2,1,5,"A",2,0,7,"A",2,0,7,"A",2,1,5,"A",2,0,7,"A",2,0,7,"A",4,1,5,"A",3,0,5,"A",2,0,7,"A",2,0,7,"A",1,0,5,"A",2,0,7,"A",2,0,7,"A",3,0,5,"A",2,0,7,"A",2,0,7,"A",2,1,5,"A",3,0,5,"A",null,null,"","",null,null,"","",null,null,"","",null,null,"","",null,null,"","",null,null,"","",null,null,"","",null,null,"","",null,null,"","",null,null,"","",null,null,"","",null,null,"","",null,null,"","",null,null,"","",null,null,"","",null,null,"",""]
["Do. 18. Jun.","01:00:00",21,"Ghana","Panama",1,0,null,1,1,0,"X",1,1,0,"X",1,1,0,"X",3,3,0,"X",0,0,0,"X",1,1,0,"X",3,0,5,"A",3,3,0,"X",1,1,0,"X",2,1,7,"A",2,0,5,"A",1,1,0,"X",2,1,7,"A",1,2,0,"B",2,0,5,"A",1,0,10,"A",1,0,10,"A",1,2,0,"B",0,2,0,"B",2,2,0,"X",2,1,7,"A",2,1,7,"A",3,3,0,"X",2,0,5,"A",1,1,0,"X",2,1,7,"A",2,0,5,"A",2,1,7,"A",1,0,10,"A",1,0,10,"A",1,1,0,"X",0,3,0,"B",2,1,7,"A",1,2,0,"B",null,null,"","",null,null,"","",null,null,"","",null,null,"","",null,null,"","",null,null,"","",null,null,"","",null,null,"","",null,null,"","",null,null,"","",null,null,"","",null,null,"","",null,null,"","",null,null,"","",null,null,"","",null,null,"",""]
["Mi. 17. Jun.","22:00:00",22,"England","Kroatien",4,2,null,2,1,5,"A",2,1,5,"A",2,1,5,"A",2,1,5,"A",2,2,0,"X",1,1,0,"X",1,1,0,"X",3,2,5,"A",2,1,5,"A",3,2,5,"A",2,1,5,"A",2,1,5,"A",2,1,5,"A",2,1,5,"A",2,1,5,"A",4,2,10,"A",2,1,5,"A",2,1,5,"A",1,0,5,"A",3,2,5,"A",3,1,7,"A",1,0,5,"A",0,0,0,"X",1,1,0,"X",2,1,5,"A",2,1,5,"A",4,2,10,"A",2,1,5,"A",2,2,0,"X",2,1,5,"A",2,0,7,"A",2,3,0,"B",2,1,5,"A",2,2,0,"X",null,null,"","",null,null,"","",null,null,"","",null,null,"","",null,null,"","",null,null,"","",null,null,"","",null,null,"","",null,null,"","",null,null,"","",null,null,"","",null,null,"","",null,null,"","",null,null,"","",null,null,"","",null,null,"",""]
["Mi. 17. Jun.","19:00:00",23,"Portugal","DR Kongo",1,1,null,3,0,0,"A",4,0,0,"A",3,1,0,"A",9,0,0,"A",2,0,0,"A",3,0,0,"A",3,0,0,"A",4,0,0,"A",4,1,0,"A",3,1,0,"A",4,0,0,"A",3,0,0,"A",3,0,0,"A",2,0,0,"A",3,0,0,"A",4,1,0,"A",3,0,0,"A",3,0,0,"A",2,0,0,"A",3,1,0,"A",4,1,0,"A",3,1,0,"A",6,1,0,"A",2,0,0,"A",3,0,0,"A",3,0,0,"A",3,0,0,"A",3,0,0,"A",5,0,0,"A",3,0,0,"A",3,0,0,"A",4,0,0,"A",2,0,0,"A",6,1,0,"A",null,null,"","",null,null,"","",null,null,"","",null,null,"","",null,null,"","",null,null,"","",null,null,"","",null,null,"","",null,null,"","",null,null,"","",null,null,"","",null,null,"","",null,null,"","",null,null,"","",null,null,"","",null,null,"",""]
["Do. 18. Jun.","04:00:00",24,"Usbekistan","Kolumbien",1,3,null,1,2,5,"B",0,2,7,"B",2,1,0,"A",3,2,0,"A",0,2,7,"B",0,1,5,"B",0,2,7,"B",0,2,7,"B",1,2,5,"B",0,4,5,"B",0,4,5,"B",0,2,7,"B",0,2,7,"B",1,2,5,"B",0,2,7,"B",0,3,5,"B",0,2,7,"B",0,3,5,"B",1,2,5,"B",0,4,5,"B",1,3,10,"B",0,2,7,"B",1,3,10,"B",0,2,7,"B",0,2,7,"B",0,2,7,"B",0,2,7,"B",0,2,7,"B",0,4,5,"B",0,2,7,"B",0,2,7,"B",0,3,5,"B",0,2,7,"B",0,3,5,"B",null,null,"","",null,null,"","",null,null,"","",null,null,"","",null,null,"","",null,null,"","",null,null,"","",null,null,"","",null,null,"","",null,null,"","",null,null,"","",null,null,"","",null,null,"","",null,null,"","",null,null,"","",null,null,"",""]
["Do. 18. Jun.","18:00:00",25,"Tschechien","Südafrika",1,1,null,2,0,0,"A",2,1,0,"A",2,2,7,"X",3,1,0,"A",1,2,0,"B",1,1,10,"X",1,0,0,"A",1,0,0,"A",2,1,0,"A",3,2,0,"A",2,0,0,"A",3,1,0,"A",1,2,0,"B",1,0,0,"A",2,1,0,"A",1,1,10,"X",1,1,10,"X",2,0,0,"A",1,0,0,"A",1,1,10,"X",1,1,10,"X",2,1,0,"A",1,1,10,"X",1,0,0,"A",2,0,0,"A",2,1,0,"A",2,1,0,"A",2,0,0,"A",1,1,10,"X",2,0,0,"A",1,2,0,"B",3,1,0,"A",2,1,0,"A",2,1,0,"A",null,null,"","",null,null,"","",null,null,"","",null,null,"","",null,null,"","",null,null,"","",null,null,"","",null,null,"","",null,null,"","",null,null,"","",null,null,"","",null,null,"","",null,null,"","",null,null,"","",null,null,"","",null,null,"",""]
["Do. 18. Jun.","21:00:00",26,"Schweiz","Bosnien-Herz.",4,1,null,2,1,5,"A",3,0,7,"A",3,1,5,"A",2,1,5,"A",2,1,5,"A",2,1,5,"A",2,1,5,"A",2,2,0,"X",2,1,5,"A",2,1,5,"A",4,1,10,"A",2,1,5,"A",2,1,5,"A",2,0,5,"A",1,1,0,"X",3,2,5,"A",2,1,5,"A",2,1,5,"A",2,0,5,"A",2,1,5,"A",2,1,5,"A",1,1,0,"X",1,0,5,"A",2,2,0,"X",2,0,5,"A",2,1,5,"A",2,0,5,"A",2,1,5,"A",1,1,0,"X",3,0,7,"A",2,0,5,"A",2,1,5,"A",2,1,5,"A",2,1,5,"A",null,null,"","",null,null,"","",null,null,"","",null,null,"","",null,null,"","",null,null,"","",null,null,"","",null,null,"","",null,null,"","",null,null,"","",null,null,"","",null,null,"","",null,null,"","",null,null,"","",null,null,"","",null,null,"",""]
["Fr. 19. Jun.","00:00:00",27,"Kanada","Katar",6,0,null,3,0,5,"A",2,0,5,"A",2,1,5,"A",1,1,0,"X",1,0,5,"A",1,1,0,"X",2,0,5,"A",1,0,5,"A",2,1,5,"A",1,0,5,"A",3,0,5,"A",3,0,5,"A",3,0,5,"A",1,1,0,"X",2,0,5,"A",2,0,5,"A",2,1,5,"A",3,0,5,"A",2,1,5,"A",1,1,0,"X",2,1,5,"A",2,0,5,"A",3,2,5,"A",1,0,5,"A",2,1,5,"A",2,0,5,"A",1,0,5,"A",2,0,5,"A",1,0,5,"A",2,0,5,"A",2,1,5,"A",1,1,0,"X",2,1,5,"A",2,0,5,"A",null,null,"","",null,null,"","",null,null,"","",null,null,"","",null,null,"","",null,null,"","",null,null,"","",null,null,"","",null,null,"","",null,null,"","",null,null,"","",null,null,"","",null,null,"","",null,null,"","",null,null,"","",null,null,"",""]
["Fr. 19. Jun.","03:00:00",28,"Mexiko","Südkorea",1,0,null,2,1,7,"A",3,1,5,"A",2,3,0,"B",3,1,5,"A",3,1,5,"A",1,1,0,"X",1,0,10,"A",3,1,5,"A",1,1,0,"X",1,3,0,"B",1,2,0,"B",2,1,7,"A",2,1,7,"A",2,1,7,"A",2,1,7,"A",0,0,0,"X",1,2,0,"B",2,0,5,"A",2,1,7,"A",3,2,7,"A",2,1,7,"A",2,1,7,"A",1,3,0,"B",2,0,5,"A",2,1,7,"A",2,1,7,"A",4,1,5,"A",1,1,0,"X",1,1,0,"X",2,0,5,"A",2,1,7,"A",3,1,5,"A",2,1,7,"A",2,2,0,"X",null,null,"","",null,null,"","",null,null,"","",null,null,"","",null,null,"","",null,null,"","",null,null,"","",null,null,"","",null,null,"","",null,null,"","",null,null,"","",null,null,"","",null,null,"","",null,null,"","",null,null,"","",null,null,"",""]
["Sa. 20. Jun.","03:00:00",29,"Brasilien","Haiti",3,0,null,4,0,5,"A",5,0,5,"A",3,1,5,"A",2,0,5,"A",5,0,5,"A",3,0,10,"A",6,0,5,"A",5,0,5,"A",7,0,5,"A",3,1,5,"A",7,0,5,"A",4,0,5,"A",4,0,5,"A",4,0,5,"A",3,0,10,"A",5,1,5,"A",3,0,10,"A",3,0,10,"A",3,0,10,"A",3,1,5,"A",4,0,5,"A",4,0,5,"A",6,0,5,"A",2,0,5,"A",4,0,5,"A",5,0,5,"A",4,0,5,"A",4,0,5,"A",4,0,5,"A",4,0,5,"A",3,0,10,"A",4,0,5,"A",3,0,10,"A",5,0,5,"A",null,null,"","",null,null,"","",null,null,"","",null,null,"","",null,null,"","",null,null,"","",null,null,"","",null,null,"","",null,null,"","",null,null,"","",null,null,"","",null,null,"","",null,null,"","",null,null,"","",null,null,"","",null,null,"",""]
["Sa. 20. Jun.","00:00:00",30,"Schottland","Marokko",0,1,null,1,1,0,"X",1,2,7,"B",2,2,0,"X",1,1,0,"X",0,1,10,"B",1,2,7,"B",0,2,5,"B",0,2,5,"B",1,2,7,"B",1,3,5,"B",1,2,7,"B",1,2,7,"B",1,0,0,"A",1,2,7,"B",1,1,0,"X",2,2,0,"X",1,1,0,"X",1,2,7,"B",0,2,5,"B",2,1,0,"A",1,2,7,"B",1,0,0,"A",3,2,0,"A",0,2,5,"B",1,2,7,"B",1,2,7,"B",2,2,0,"X",1,1,0,"X",1,2,7,"B",1,1,0,"X",1,2,7,"B",2,0,0,"A",1,2,7,"B",2,1,0,"A",null,null,"","",null,null,"","",null,null,"","",null,null,"","",null,null,"","",null,null,"","",null,null,"","",null,null,"","",null,null,"","",null,null,"","",null,null,"","",null,null,"","",null,null,"","",null,null,"","",null,null,"","",null,null,"",""]
["Sa. 20. Jun.","05:00:00",31,"Türkei","Paraguay",0,1,null,2,1,0,"A",3,1,0,"A",2,1,0,"A",1,0,0,"A",3,0,0,"A",2,1,0,"A",2,1,0,"A",1,0,0,"A",2,0,0,"A",2,1,0,"A",1,3,5,"B",1,1,0,"X",2,2,0,"X",2,0,0,"A",1,1,0,"X",2,2,0,"X",1,0,0,"A",2,1,0,"A",1,0,0,"A",2,1,0,"A",2,2,0,"X",2,1,0,"A",1,1,0,"X",1,0,0,"A",1,1,0,"X",1,1,0,"X",3,0,0,"A",2,1,0,"A",1,1,0,"X",2,1,0,"A",2,0,0,"A",1,3,5,"B",2,1,0,"A",4,2,0,"A",null,null,"","",null,null,"","",null,null,"","",null,null,"","",null,null,"","",null,null,"","",null,null,"","",null,null,"","",null,null,"","",null,null,"","",null,null,"","",null,null,"","",null,null,"","",null,null,"","",null,null,"","",null,null,"",""]
["Fr. 19. Jun.","21:00:00",32,"USA","Australien",2,0,null,2,0,10,"A",2,1,5,"A",3,3,0,"X",1,0,5,"A",0,2,0,"B",1,1,0,"X",1,1,0,"X",1,1,0,"X",2,0,10,"A",3,1,7,"A",3,1,7,"A",2,0,10,"A",1,1,0,"X",3,1,7,"A",1,1,0,"X",0,1,0,"B",1,0,5,"A",2,1,5,"A",2,1,5,"A",3,1,7,"A",2,1,5,"A",2,1,5,"A",1,2,0,"B",1,0,5,"A",2,0,10,"A",2,1,5,"A",0,0,0,"X",2,1,5,"A",2,1,5,"A",2,0,10,"A",2,1,5,"A",2,2,0,"X",2,1,5,"A",2,1,5,"A",null,null,"","",null,null,"","",null,null,"","",null,null,"","",null,null,"","",null,null,"","",null,null,"","",null,null,"","",null,null,"","",null,null,"","",null,null,"","",null,null,"","",null,null,"","",null,null,"","",null,null,"","",null,null,"",""]
["Sa. 20. Jun.","22:00:00",33,"Deutschland","Elfenbeinküste",2,1,null,2,0,5,"A",3,0,5,"A",3,1,5,"A",3,1,5,"A",4,1,5,"A",2,0,5,"A",2,1,10,"A",4,0,5,"A",3,1,5,"A",3,1,5,"A",3,2,7,"A",2,1,10,"A",2,0,5,"A",2,0,5,"A",2,0,5,"A",4,1,5,"A",2,1,10,"A",4,0,5,"A",2,1,10,"A",4,1,5,"A",2,1,10,"A",2,1,10,"A",2,2,0,"X",2,1,10,"A",3,1,5,"A",1,1,0,"X",3,0,5,"A",2,1,10,"A",3,1,5,"A",2,0,5,"A",2,0,5,"A",5,0,5,"A",2,1,10,"A",5,1,5,"A",null,null,"","",null,null,"","",null,null,"","",null,null,"","",null,null,"","",null,null,"","",null,null,"","",null,null,"","",null,null,"","",null,null,"","",null,null,"","",null,null,"","",null,null,"","",null,null,"","",null,null,"","",null,null,"",""]
["So. 21. Jun.","02:00:00",34,"Ecuador","Curacao",0,0,null,3,0,0,"A",2,0,0,"A",2,2,7,"X",1,0,0,"A",1,0,0,"A",1,0,0,"A",2,0,0,"A",1,0,0,"A",3,0,0,"A",0,0,10,"X",5,0,0,"A",3,0,0,"A",1,0,0,"A",3,0,0,"A",1,0,0,"A",1,1,7,"X",2,0,0,"A",3,0,0,"A",2,0,0,"A",0,0,10,"X",2,0,0,"A",3,0,0,"A",4,0,0,"A",2,1,0,"A",2,0,0,"A",2,0,0,"A",2,0,0,"A",3,0,0,"A",4,0,0,"A",3,0,0,"A",1,0,0,"A",2,1,0,"A",2,0,0,"A",2,2,7,"X",null,null,"","",null,null,"","",null,null,"","",null,null,"","",null,null,"","",null,null,"","",null,null,"","",null,null,"","",null,null,"","",null,null,"","",null,null,"","",null,null,"","",null,null,"","",null,null,"","",null,null,"","",null,null,"",""]
["Sa. 20. Jun.","19:00:00",35,"Holland","Schweden",5,1,null,1,1,0,"X",2,1,5,"A",2,3,0,"B",1,2,0,"B",2,1,5,"A",2,2,0,"X",2,0,5,"A",2,2,0,"X",2,0,5,"A",2,0,5,"A",3,2,5,"A",3,0,5,"A",3,1,5,"A",2,0,5,"A",2,1,5,"A",4,2,5,"A",2,1,5,"A",2,1,5,"A",2,0,5,"A",2,1,5,"A",2,1,5,"A",2,1,5,"A",1,1,0,"X",2,0,5,"A",2,1,5,"A",2,1,5,"A",2,1,5,"A",1,1,0,"X",4,1,5,"A",2,1,5,"A",2,1,5,"A",4,3,5,"A",2,1,5,"A",2,1,5,"A",null,null,"","",null,null,"","",null,null,"","",null,null,"","",null,null,"","",null,null,"","",null,null,"","",null,null,"","",null,null,"","",null,null,"","",null,null,"","",null,null,"","",null,null,"","",null,null,"","",null,null,"","",null,null,"",""]
["Sa. 20. Jun.","06:00:00",36,"Tunesien","Japan",0,4,null,1,2,5,"B",2,2,0,"X",1,4,5,"B",1,1,0,"X",0,2,5,"B",1,2,5,"B",0,1,5,"B",1,2,5,"B",1,1,0,"X",0,0,0,"X",2,2,0,"X",0,2,5,"B",1,2,5,"B",1,1,0,"X",0,1,5,"B",0,1,5,"B",1,2,5,"B",0,1,5,"B",1,2,5,"B",0,1,5,"B",0,1,5,"B",1,2,5,"B",2,3,5,"B",1,2,5,"B",0,2,5,"B",1,2,5,"B",1,2,5,"B",1,2,5,"B",1,3,5,"B",0,2,5,"B",0,2,5,"B",1,2,5,"B",1,2,5,"B",1,3,5,"B",null,null,"","",null,null,"","",null,null,"","",null,null,"","",null,null,"","",null,null,"","",null,null,"","",null,null,"","",null,null,"","",null,null,"","",null,null,"","",null,null,"","",null,null,"","",null,null,"","",null,null,"","",null,null,"",""]
["Mo. 22. Jun.","00:00:00",37,"Uruguay","Kap Verde",2,2,null,2,0,0,"A",4,0,0,"A",2,1,0,"A",3,1,0,"A",3,0,0,"A",1,0,0,"A",3,1,0,"A",3,2,0,"A",4,0,0,"A",1,1,7,"X",3,0,0,"A",3,0,0,"A",3,0,0,"A",3,1,0,"A",2,0,0,"A",3,0,0,"A",2,0,0,"A",2,0,0,"A",2,0,0,"A",1,1,7,"X",3,0,0,"A",2,0,0,"A",5,0,0,"A",2,1,0,"A",2,0,0,"A",2,0,0,"A",2,0,0,"A",2,0,0,"A",4,0,0,"A",3,0,0,"A",1,0,0,"A",3,0,0,"A",2,0,0,"A",4,1,0,"A",null,null,"","",null,null,"","",null,null,"","",null,null,"","",null,null,"","",null,null,"","",null,null,"","",null,null,"","",null,null,"","",null,null,"","",null,null,"","",null,null,"","",null,null,"","",null,null,"","",null,null,"","",null,null,"",""]
["So. 21. Jun.","18:00:00",38,"Spanien","Saudi-Arabien",4,0,null,2,0,5,"A",3,0,5,"A",3,2,5,"A",3,0,5,"A",4,1,5,"A",3,0,5,"A",4,0,10,"A",3,0,5,"A",5,0,5,"A",3,0,5,"A",5,0,5,"A",3,0,5,"A",4,1,5,"A",2,0,5,"A",3,0,5,"A",6,0,5,"A",3,0,5,"A",3,1,5,"A",3,0,5,"A",3,0,5,"A",4,1,5,"A",3,0,5,"A",5,1,7,"A",2,0,5,"A",3,0,5,"A",4,1,5,"A",4,0,10,"A",3,0,5,"A",4,0,10,"A",3,0,5,"A",2,1,5,"A",4,1,5,"A",2,0,5,"A",5,1,7,"A",null,null,"","",null,null,"","",null,null,"","",null,null,"","",null,null,"","",null,null,"","",null,null,"","",null,null,"","",null,null,"","",null,null,"","",null,null,"","",null,null,"","",null,null,"","",null,null,"","",null,null,"","",null,null,"",""]
["So. 21. Jun.","21:00:00",39,"Belgien","Iran",0,0,null,2,1,0,"A",2,0,0,"A",2,2,7,"X",2,1,0,"A",1,0,0,"A",1,0,0,"A",4,0,0,"A",2,0,0,"A",4,0,0,"A",1,1,7,"X",4,0,0,"A",2,0,0,"A",3,1,0,"A",2,1,0,"A",2,0,0,"A",4,0,0,"A",2,1,0,"A",2,1,0,"A",1,0,0,"A",1,1,7,"X",2,0,0,"A",2,0,0,"A",2,1,0,"A",3,1,0,"A",2,0,0,"A",2,0,0,"A",3,0,0,"A",2,0,0,"A",4,1,0,"A",2,0,0,"A",2,1,0,"A",3,1,0,"A",2,1,0,"A",2,0,0,"A",null,null,"","",null,null,"","",null,null,"","",null,null,"","",null,null,"","",null,null,"","",null,null,"","",null,null,"","",null,null,"","",null,null,"","",null,null,"","",null,null,"","",null,null,"","",null,null,"","",null,null,"","",null,null,"",""]
["Mo. 22. Jun.","03:00:00",40,"Neuseeland","Ägypten",1,3,null,1,1,0,"X",1,2,5,"B",2,3,5,"B",1,1,0,"X",0,2,7,"B",0,0,0,"X",0,2,7,"B",1,1,0,"X",1,3,10,"B",2,3,5,"B",0,4,5,"B",0,3,5,"B",1,2,5,"B",0,2,7,"B",1,1,0,"X",4,2,0,"A",1,2,5,"B",1,1,0,"X",0,2,7,"B",1,1,0,"X",0,2,7,"B",1,2,5,"B",0,0,0,"X",0,1,5,"B",0,2,7,"B",0,2,7,"B",1,1,0,"X",0,2,7,"B",0,3,5,"B",0,1,5,"B",1,2,5,"B",1,0,0,"A",1,2,5,"B",1,1,0,"X",null,null,"","",null,null,"","",null,null,"","",null,null,"","",null,null,"","",null,null,"","",null,null,"","",null,null,"","",null,null,"","",null,null,"","",null,null,"","",null,null,"","",null,null,"","",null,null,"","",null,null,"","",null,null,"",""]
["Di. 23. Jun.","02:00:00",41,"Norwegen","Senegal",3,2,null,1,1,0,"X",1,3,0,"B",2,3,0,"B",2,0,5,"A",2,2,0,"X",0,0,0,"X",1,2,0,"B",3,0,5,"A",2,2,0,"X",1,1,0,"X",1,1,0,"X",2,1,7,"A",1,0,7,"A",2,1,7,"A",2,1,7,"A",3,2,10,"A",1,2,0,"B",2,1,7,"A",1,2,0,"B",1,1,0,"X",1,1,0,"X",1,1,0,"X",3,4,0,"B",2,2,0,"X",2,1,7,"A",2,1,7,"A",2,0,5,"A",1,1,0,"X",1,1,0,"X",1,1,0,"X",1,2,0,"B",1,0,7,"A",2,1,7,"A",2,1,7,"A",null,null,"","",null,null,"","",null,null,"","",null,null,"","",null,null,"","",null,null,"","",null,null,"","",null,null,"","",null,null,"","",null,null,"","",null,null,"","",null,null,"","",null,null,"","",null,null,"","",null,null,"","",null,null,"",""]
["Mo. 22. Jun.","23:00:00",42,"Frankreich","Irak",3,0,null,3,0,10,"A",6,0,5,"A",2,1,5,"A",3,1,5,"A",4,1,7,"A",2,0,5,"A",4,0,5,"A",4,0,5,"A",4,0,5,"A",3,1,5,"A",5,0,5,"A",4,0,5,"A",3,0,10,"A",3,0,10,"A",2,0,5,"A",5,0,5,"A",4,0,5,"A",4,0,5,"A",3,0,10,"A",3,1,5,"A",3,0,10,"A",3,0,10,"A",4,1,7,"A",2,0,5,"A",3,0,10,"A",2,0,5,"A",2,0,5,"A",4,0,5,"A",2,0,5,"A",3,0,10,"A",3,0,10,"A",3,0,10,"A",2,0,5,"A",3,1,5,"A",null,null,"","",null,null,"","",null,null,"","",null,null,"","",null,null,"","",null,null,"","",null,null,"","",null,null,"","",null,null,"","",null,null,"","",null,null,"","",null,null,"","",null,null,"","",null,null,"","",null,null,"","",null,null,"",""]
["Mo. 22. Jun.","19:00:00",43,"Argentinien","Österreich",2,0,null,2,0,10,"A",4,0,5,"A",2,3,0,"B",1,1,0,"X",2,0,10,"A",2,0,10,"A",3,1,7,"A",3,1,7,"A",1,1,0,"X",4,0,5,"A",2,1,5,"A",2,1,5,"A",3,1,7,"A",2,0,10,"A",2,0,10,"A",6,5,5,"A",2,1,5,"A",3,0,5,"A",2,0,10,"A",4,2,7,"A",2,1,5,"A",2,1,5,"A",4,1,5,"A",2,1,5,"A",2,1,5,"A",1,1,0,"X",2,1,5,"A",2,1,5,"A",4,0,5,"A",2,0,10,"A",2,1,5,"A",3,0,5,"A",2,1,5,"A",2,2,0,"X",null,null,"","",null,null,"","",null,null,"","",null,null,"","",null,null,"","",null,null,"","",null,null,"","",null,null,"","",null,null,"","",null,null,"","",null,null,"","",null,null,"","",null,null,"","",null,null,"","",null,null,"","",null,null,"",""]
["Di. 23. Jun.","05:00:00",44,"Jordanien","Algerien",1,2,null,1,2,10,"B",1,1,0,"X",1,2,10,"B",2,0,0,"A",0,0,0,"X",1,1,0,"X",1,2,10,"B",0,0,0,"X",1,2,10,"B",1,1,0,"X",0,3,5,"B",0,2,5,"B",1,2,10,"B",0,2,5,"B",0,1,7,"B",0,1,7,"B",1,2,10,"B",0,1,7,"B",0,2,5,"B",1,1,0,"X",0,2,5,"B",0,2,5,"B",2,3,7,"B",0,2,5,"B",0,1,7,"B",0,2,5,"B",0,1,7,"B",1,2,10,"B",0,2,5,"B",0,2,5,"B",0,1,7,"B",1,1,0,"X",1,2,10,"B",2,2,0,"X",null,null,"","",null,null,"","",null,null,"","",null,null,"","",null,null,"","",null,null,"","",null,null,"","",null,null,"","",null,null,"","",null,null,"","",null,null,"","",null,null,"","",null,null,"","",null,null,"","",null,null,"","",null,null,"",""]
["Di. 23. Jun.","22:00:00",45,"England","Ghana",0,0,null,2,0,0,"A",2,0,0,"A",2,3,0,"B",3,0,0,"A",2,1,0,"A",1,1,7,"X",2,1,0,"A",3,0,0,"A",3,1,0,"A",2,2,7,"X",2,2,7,"X",3,0,0,"A",3,1,0,"A",2,0,0,"A",2,1,0,"A",5,3,0,"A",3,1,0,"A",3,1,0,"A",3,0,0,"A",2,1,0,"A",2,1,0,"A",2,0,0,"A",1,2,0,"B",2,0,0,"A",2,0,0,"A",2,0,0,"A",3,0,0,"A",2,0,0,"A",2,0,0,"A",2,0,0,"A",2,1,0,"A",3,0,0,"A",2,1,0,"A",4,0,0,"A",null,null,"","",null,null,"","",null,null,"","",null,null,"","",null,null,"","",null,null,"","",null,null,"","",null,null,"","",null,null,"","",null,null,"","",null,null,"","",null,null,"","",null,null,"","",null,null,"","",null,null,"","",null,null,"",""]
["Mi. 24. Jun.","01:00:00",46,"Panama","Kroatien",0,1,null,1,1,0,"X",0,3,5,"B",2,1,0,"A",0,2,5,"B",0,2,5,"B",0,2,5,"B",0,7,5,"B",0,2,5,"B",1,2,7,"B",0,2,5,"B",0,5,5,"B",0,2,5,"B",1,2,7,"B",1,2,7,"B",0,2,5,"B",0,2,5,"B",1,2,7,"B",1,3,5,"B",1,2,7,"B",0,2,5,"B",1,2,7,"B",0,2,5,"B",1,3,5,"B",0,1,10,"B",0,2,5,"B",0,2,5,"B",0,4,5,"B",0,2,5,"B",0,2,5,"B",0,2,5,"B",1,2,7,"B",2,2,0,"X",0,2,5,"B",1,3,5,"B",null,null,"","",null,null,"","",null,null,"","",null,null,"","",null,null,"","",null,null,"","",null,null,"","",null,null,"","",null,null,"","",null,null,"","",null,null,"","",null,null,"","",null,null,"","",null,null,"","",null,null,"","",null,null,"",""]
["Di. 23. Jun.","19:00:00",47,"Portugal","Usbekistan",5,0,null,3,1,5,"A",4,0,5,"A",3,0,5,"A",2,0,5,"A",3,0,5,"A",2,0,5,"A",6,0,5,"A",3,0,5,"A",3,1,5,"A",3,2,5,"A",4,0,5,"A",2,0,5,"A",2,0,5,"A",3,1,5,"A",2,0,5,"A",7,0,5,"A",4,0,5,"A",2,0,5,"A",2,0,5,"A",3,2,5,"A",4,0,5,"A",3,1,5,"A",4,2,5,"A",2,1,5,"A",3,0,5,"A",2,0,5,"A",5,0,10,"A",3,0,5,"A",6,0,5,"A",3,0,5,"A",3,1,5,"A",4,0,5,"A",3,0,5,"A",5,0,10,"A",null,null,"","",null,null,"","",null,null,"","",null,null,"","",null,null,"","",null,null,"","",null,null,"","",null,null,"","",null,null,"","",null,null,"","",null,null,"","",null,null,"","",null,null,"","",null,null,"","",null,null,"","",null,null,"",""]
["Mi. 24. Jun.","04:00:00",48,"Kolumbien","DR Kongo",1,0,null,3,0,5,"A",2,1,7,"A",2,0,5,"A",3,0,5,"A",2,1,7,"A",1,1,0,"X",2,0,5,"A",2,0,5,"A",1,2,0,"B",1,1,0,"X",4,0,5,"A",2,0,5,"A",3,1,5,"A",2,1,7,"A",2,0,5,"A",3,0,5,"A",2,0,5,"A",4,0,5,"A",2,1,7,"A",1,1,0,"X",2,0,5,"A",2,1,7,"A",6,1,5,"A",1,0,10,"A",2,1,7,"A",3,0,5,"A",3,1,5,"A",2,0,5,"A",4,1,5,"A",2,0,5,"A",1,2,0,"B",3,0,5,"A",2,1,7,"A",2,1,7,"A",null,null,"","",null,null,"","",null,null,"","",null,null,"","",null,null,"","",null,null,"","",null,null,"","",null,null,"","",null,null,"","",null,null,"","",null,null,"","",null,null,"","",null,null,"","",null,null,"","",null,null,"","",null,null,"",""]
["Do. 25. Jun.","00:00:00",49,"Schottland","Brasilien",0,3,null,0,2,5,"B",0,4,5,"B",0,3,10,"B",2,2,0,"X",1,3,5,"B",0,2,5,"B",1,3,5,"B",1,4,7,"B",1,3,5,"B",0,3,10,"B",1,4,7,"B",0,2,5,"B",1,3,5,"B",1,1,0,"X",1,3,5,"B",2,6,5,"B",1,3,5,"B",1,3,5,"B",0,2,5,"B",1,3,5,"B",1,3,5,"B",0,2,5,"B",1,3,5,"B",0,2,5,"B",0,2,5,"B",1,2,5,"B",2,3,5,"B",0,2,5,"B",0,2,5,"B",0,2,5,"B",0,2,5,"B",1,3,5,"B",1,2,5,"B",1,3,5,"B",null,null,"","",null,null,"","",null,null,"","",null,null,"","",null,null,"","",null,null,"","",null,null,"","",null,null,"","",null,null,"","",null,null,"","",null,null,"","",null,null,"","",null,null,"","",null,null,"","",null,null,"","",null,null,"",""]
["Do. 25. Jun.","00:00:00",50,"Marokko","Haiti",4,2,null,3,0,5,"A",4,0,5,"A",2,0,7,"A",3,3,0,"X",3,1,7,"A",2,0,7,"A",4,0,5,"A",3,0,5,"A",2,0,7,"A",2,0,7,"A",4,1,5,"A",3,0,5,"A",3,2,5,"A",2,1,5,"A",2,0,7,"A",2,0,7,"A",2,0,7,"A",3,0,5,"A",3,0,5,"A",2,0,7,"A",2,0,7,"A",3,0,5,"A",4,0,5,"A",3,0,5,"A",3,0,5,"A",2,0,7,"A",2,0,7,"A",3,0,5,"A",5,0,5,"A",2,0,7,"A",2,0,7,"A",1,0,5,"A",2,0,7,"A",2,0,7,"A",null,null,"","",null,null,"","",null,null,"","",null,null,"","",null,null,"","",null,null,"","",null,null,"","",null,null,"","",null,null,"","",null,null,"","",null,null,"","",null,null,"","",null,null,"","",null,null,"","",null,null,"","",null,null,"",""]
["Mi. 24. Jun.","21:00:00",51,"Schweiz","Kanada",2,1,null,1,0,7,"A",3,1,5,"A",2,1,10,"A",2,0,5,"A",1,0,7,"A",2,0,5,"A",2,0,5,"A",1,0,7,"A",2,1,10,"A",2,2,0,"X",3,1,5,"A",1,1,0,"X",1,1,0,"X",2,1,10,"A",2,1,10,"A",5,2,5,"A",2,1,10,"A",2,1,10,"A",1,1,0,"X",3,2,7,"A",1,1,0,"X",2,1,10,"A",3,1,5,"A",1,0,7,"A",1,1,0,"X",2,1,10,"A",3,0,5,"A",2,1,10,"A",2,1,10,"A",2,1,10,"A",1,1,0,"X",1,1,0,"X",2,1,10,"A",2,2,0,"X",null,null,"","",null,null,"","",null,null,"","",null,null,"","",null,null,"","",null,null,"","",null,null,"","",null,null,"","",null,null,"","",null,null,"","",null,null,"","",null,null,"","",null,null,"","",null,null,"","",null,null,"","",null,null,"",""]
["Mi. 24. Jun.","21:00:00",52,"Bosnien-Herz.","Katar",3,1,null,2,1,5,"A",1,0,5,"A",1,0,5,"A",0,0,0,"X",3,1,10,"A",1,1,0,"X",3,0,5,"A",3,0,5,"A",2,1,5,"A",0,0,0,"X",2,0,7,"A",2,0,7,"A",2,1,5,"A",1,0,5,"A",2,0,7,"A",3,0,5,"A",2,1,5,"A",2,0,7,"A",0,1,0,"B",0,0,0,"X",2,1,5,"A",1,0,5,"A",3,1,10,"A",1,0,5,"A",1,0,5,"A",2,1,5,"A",1,0,5,"A",2,0,7,"A",1,0,5,"A",2,0,7,"A",1,2,0,"B",1,0,5,"A",2,1,5,"A",3,1,10,"A",null,null,"","",null,null,"","",null,null,"","",null,null,"","",null,null,"","",null,null,"","",null,null,"","",null,null,"","",null,null,"","",null,null,"","",null,null,"","",null,null,"","",null,null,"","",null,null,"","",null,null,"","",null,null,"",""]
["Do. 25. Jun.","03:00:00",53,"Tschechien","Mexiko",0,3,null,1,2,5,"B",0,2,5,"B",2,3,5,"B",2,2,0,"X",1,2,5,"B",2,1,0,"A",1,2,5,"B",1,2,5,"B",1,1,0,"X",1,1,0,"X",2,2,0,"X",1,2,5,"B",1,1,0,"X",2,0,0,"A",1,1,0,"X",3,3,0,"X",1,0,0,"A",2,2,0,"X",0,2,5,"B",1,1,0,"X",1,2,5,"B",1,1,0,"X",2,2,0,"X",0,2,5,"B",1,2,5,"B",1,2,5,"B",1,2,5,"B",1,2,5,"B",0,1,5,"B",0,2,5,"B",1,2,5,"B",2,3,5,"B",1,2,5,"B",2,2,0,"X",null,null,"","",null,null,"","",null,null,"","",null,null,"","",null,null,"","",null,null,"","",null,null,"","",null,null,"","",null,null,"","",null,null,"","",null,null,"","",null,null,"","",null,null,"","",null,null,"","",null,null,"","",null,null,"",""]
["Do. 25. Jun.","03:00:00",54,"Südafrika","Südkorea",1,0,null,1,2,0,"B",2,2,0,"X",3,2,7,"A",1,0,10,"A",1,0,10,"A",1,1,0,"X",0,1,0,"B",1,0,10,"A",1,1,0,"X",2,2,0,"X",1,3,0,"B",1,2,0,"B",1,2,0,"B",1,3,0,"B",1,0,10,"A",2,2,0,"X",1,2,0,"B",1,2,0,"B",0,2,0,"B",2,2,0,"X",1,2,0,"B",1,2,0,"B",2,2,0,"X",0,2,0,"B",0,1,0,"B",1,1,0,"X",1,2,0,"B",1,2,0,"B",1,1,0,"X",0,2,0,"B",2,1,7,"A",1,2,0,"B",1,2,0,"B",1,1,0,"X",null,null,"","",null,null,"","",null,null,"","",null,null,"","",null,null,"","",null,null,"","",null,null,"","",null,null,"","",null,null,"","",null,null,"","",null,null,"","",null,null,"","",null,null,"","",null,null,"","",null,null,"","",null,null,"",""]
["Do. 25. Jun.","22:00:00",55,"Curacao","Elfenbeinküste",0,2,null,0,2,10,"B",0,3,5,"B",2,0,0,"A",0,2,10,"B",1,1,0,"X",0,2,10,"B",1,3,7,"B",0,0,0,"X",1,3,7,"B",0,3,5,"B",0,3,5,"B",0,2,10,"B",2,0,0,"A",0,2,10,"B",0,1,5,"B",1,2,5,"B",1,3,7,"B",0,1,5,"B",0,2,10,"B",0,3,5,"B",0,2,10,"B",0,3,5,"B",0,4,5,"B",0,2,10,"B",0,1,5,"B",0,3,5,"B",0,2,10,"B",0,3,5,"B",0,2,10,"B",0,3,5,"B",0,2,10,"B",0,0,0,"X",1,2,5,"B",2,1,0,"A",null,null,"","",null,null,"","",null,null,"","",null,null,"","",null,null,"","",null,null,"","",null,null,"","",null,null,"","",null,null,"","",null,null,"","",null,null,"","",null,null,"","",null,null,"","",null,null,"","",null,null,"","",null,null,"",""]
["Do. 25. Jun.","22:00:00",56,"Ecuador","Deutschland",2,1,null,1,2,0,"B",1,4,0,"B",1,2,0,"B",1,2,0,"B",1,2,0,"B",1,3,0,"B",0,2,0,"B",0,2,0,"B",1,4,0,"B",2,3,0,"B",1,3,0,"B",1,2,0,"B",1,2,0,"B",1,2,0,"B",0,2,0,"B",2,5,0,"B",1,2,0,"B",1,3,0,"B",1,2,0,"B",2,3,0,"B",1,2,0,"B",1,2,0,"B",1,4,0,"B",1,2,0,"B",1,2,0,"B",1,2,0,"B",2,3,0,"B",1,2,0,"B",1,2,0,"B",0,2,0,"B",1,2,0,"B",1,3,0,"B",1,2,0,"B",1,4,0,"B",null,null,"","",null,null,"","",null,null,"","",null,null,"","",null,null,"","",null,null,"","",null,null,"","",null,null,"","",null,null,"","",null,null,"","",null,null,"","",null,null,"","",null,null,"","",null,null,"","",null,null,"","",null,null,"",""]
["Fr. 26. Jun.","01:00:00",57,"Japan","Schweden",1,1,null,1,1,10,"X",2,1,0,"A",3,0,0,"A",1,1,10,"X",1,2,0,"B",1,1,10,"X",1,2,0,"B",0,1,0,"B",1,1,10,"X",3,0,0,"A",2,1,0,"A",2,0,0,"A",2,1,0,"A",2,1,0,"A",1,1,10,"X",2,2,7,"X",0,1,0,"B",1,2,0,"B",2,1,0,"A",3,1,0,"A",1,1,10,"X",1,1,10,"X",2,2,7,"X",2,2,7,"X",1,1,10,"X",2,1,0,"A",1,1,10,"X",1,1,10,"X",2,2,7,"X",1,1,10,"X",1,2,0,"B",2,3,0,"B",2,1,0,"A",2,2,7,"X",null,null,"","",null,null,"","",null,null,"","",null,null,"","",null,null,"","",null,null,"","",null,null,"","",null,null,"","",null,null,"","",null,null,"","",null,null,"","",null,null,"","",null,null,"","",null,null,"","",null,null,"","",null,null,"",""]
["Fr. 26. Jun.","01:00:00",58,"Tunesien","Holland",1,3,null,0,2,7,"B",2,1,0,"A",1,2,5,"B",1,2,5,"B",0,1,5,"B",0,1,5,"B",0,3,5,"B",0,1,5,"B",1,2,5,"B",1,2,5,"B",2,2,0,"X",0,2,7,"B",1,2,5,"B",1,1,0,"X",0,2,7,"B",3,4,5,"B",1,2,5,"B",0,2,7,"B",0,2,7,"B",1,2,5,"B",1,1,0,"X",0,2,7,"B",1,4,5,"B",0,2,7,"B",0,3,5,"B",1,2,5,"B",2,4,7,"B",0,2,7,"B",0,2,7,"B",0,2,7,"B",0,2,7,"B",0,3,5,"B",1,2,5,"B",1,3,10,"B",null,null,"","",null,null,"","",null,null,"","",null,null,"","",null,null,"","",null,null,"","",null,null,"","",null,null,"","",null,null,"","",null,null,"","",null,null,"","",null,null,"","",null,null,"","",null,null,"","",null,null,"","",null,null,"",""]
["Fr. 26. Jun.","04:00:00",59,"Türkei","USA",3,2,null,1,2,0,"B",2,1,7,"A",2,2,0,"X",0,1,0,"B",2,1,7,"A",0,1,0,"B",2,1,7,"A",1,0,7,"A",2,1,7,"A",1,1,0,"X",2,1,7,"A",1,1,0,"X",1,1,0,"X",2,1,7,"A",1,2,0,"B",2,2,0,"X",1,1,0,"X",2,1,7,"A",1,2,0,"B",1,1,0,"X",1,2,0,"B",1,2,0,"B",1,2,0,"B",1,1,0,"X",2,1,7,"A",1,1,0,"X",1,0,7,"A",1,1,0,"X",1,1,0,"X",1,1,0,"X",1,2,0,"B",1,2,0,"B",1,2,0,"B",2,2,0,"X",null,null,"","",null,null,"","",null,null,"","",null,null,"","",null,null,"","",null,null,"","",null,null,"","",null,null,"","",null,null,"","",null,null,"","",null,null,"","",null,null,"","",null,null,"","",null,null,"","",null,null,"","",null,null,"",""]
["Fr. 26. Jun.","04:00:00",60,"Paraguay","Australien",0,0,null,1,1,7,"X",1,1,7,"X",1,2,0,"B",0,1,0,"B",0,1,0,"B",0,0,10,"X",2,0,0,"A",1,1,7,"X",2,1,0,"A",1,1,7,"X",3,0,0,"A",1,0,0,"A",1,2,0,"B",1,1,7,"X",0,2,0,"B",0,0,10,"X",1,2,0,"B",2,0,0,"A",0,1,0,"B",1,3,0,"B",2,1,0,"A",1,1,7,"X",2,2,7,"X",1,0,0,"A",1,1,7,"X",2,1,0,"A",1,0,0,"A",1,1,7,"X",0,0,10,"X",0,1,0,"B",0,1,0,"B",2,1,0,"A",2,1,0,"A",2,1,0,"A",null,null,"","",null,null,"","",null,null,"","",null,null,"","",null,null,"","",null,null,"","",null,null,"","",null,null,"","",null,null,"","",null,null,"","",null,null,"","",null,null,"","",null,null,"","",null,null,"","",null,null,"","",null,null,"",""]
["Fr. 26. Jun.","21:00:00",61,"Norwegen","Frankreich",1,4,null,1,2,5,"B",1,4,10,"B",0,2,5,"B",1,2,5,"B",1,1,0,"X",1,3,5,"B",1,2,5,"B",2,3,5,"B",1,2,5,"B",2,4,5,"B",1,4,10,"B",1,1,0,"X",1,3,5,"B",2,2,0,"X",0,2,5,"B",3,6,7,"B",1,1,0,"X",1,3,5,"B",0,2,5,"B",2,4,5,"B",1,2,5,"B",1,2,5,"B",2,3,5,"B",0,1,5,"B",1,2,5,"B",1,1,0,"X",3,4,5,"B",1,2,5,"B",1,2,5,"B",0,2,5,"B",1,2,5,"B",1,3,5,"B",1,2,5,"B",2,3,5,"B",null,null,"","",null,null,"","",null,null,"","",null,null,"","",null,null,"","",null,null,"","",null,null,"","",null,null,"","",null,null,"","",null,null,"","",null,null,"","",null,null,"","",null,null,"","",null,null,"","",null,null,"","",null,null,"",""]
["Fr. 26. Jun.","21:00:00",62,"Senegal","Irak",5,0,null,2,0,5,"A",3,0,5,"A",0,2,0,"B",0,2,0,"B",3,0,5,"A",1,0,5,"A",3,0,5,"A",1,0,5,"A",1,0,5,"A",1,1,0,"X",3,0,5,"A",2,0,5,"A",1,0,5,"A",2,1,5,"A",1,0,5,"A",2,1,5,"A",4,0,5,"A",1,0,5,"A",2,0,5,"A",1,1,0,"X",2,1,5,"A",2,0,5,"A",3,0,5,"A",2,0,5,"A",2,0,5,"A",2,1,5,"A",3,1,5,"A",2,0,5,"A",2,0,5,"A",2,0,5,"A",2,0,5,"A",1,1,0,"X",2,1,5,"A",2,2,0,"X",null,null,"","",null,null,"","",null,null,"","",null,null,"","",null,null,"","",null,null,"","",null,null,"","",null,null,"","",null,null,"","",null,null,"","",null,null,"","",null,null,"","",null,null,"","",null,null,"","",null,null,"","",null,null,"",""]
["Sa. 27. Jun.","05:00:00",63,"Ägypten","Iran",1,1,null,1,1,10,"X",2,1,0,"A",0,2,0,"B",1,2,0,"B",3,0,0,"A",1,0,0,"A",2,1,0,"A",0,0,7,"X",0,0,7,"X",0,0,7,"X",3,0,0,"A",1,1,10,"X",2,0,0,"A",1,2,0,"B",1,0,0,"A",2,0,0,"A",1,2,0,"B",1,2,0,"B",1,1,10,"X",0,0,7,"X",1,2,0,"B",1,1,10,"X",2,0,0,"A",0,0,7,"X",1,1,10,"X",1,0,0,"A",2,1,0,"A",1,1,10,"X",2,0,0,"A",1,1,10,"X",1,1,10,"X",0,2,0,"B",2,1,0,"A",1,1,10,"X",null,null,"","",null,null,"","",null,null,"","",null,null,"","",null,null,"","",null,null,"","",null,null,"","",null,null,"","",null,null,"","",null,null,"","",null,null,"","",null,null,"","",null,null,"","",null,null,"","",null,null,"","",null,null,"",""]
["Sa. 27. Jun.","05:00:00",64,"Neuseeland","Belgien",1,5,null,0,2,5,"B",0,3,5,"B",2,1,0,"A",1,2,5,"B",1,0,0,"A",0,1,5,"B",0,4,7,"B",1,2,5,"B",0,2,5,"B",0,3,5,"B",1,4,5,"B",0,3,5,"B",1,2,5,"B",0,2,5,"B",0,2,5,"B",6,4,0,"A",1,3,5,"B",0,2,5,"B",0,3,5,"B",1,1,0,"X",1,3,5,"B",0,3,5,"B",1,2,5,"B",0,2,5,"B",0,3,5,"B",0,2,5,"B",1,4,5,"B",0,3,5,"B",0,3,5,"B",0,2,5,"B",0,2,5,"B",0,2,5,"B",1,2,5,"B",1,3,5,"B",null,null,"","",null,null,"","",null,null,"","",null,null,"","",null,null,"","",null,null,"","",null,null,"","",null,null,"","",null,null,"","",null,null,"","",null,null,"","",null,null,"","",null,null,"","",null,null,"","",null,null,"","",null,null,"",""]
["Sa. 27. Jun.","02:00:00",65,"Kap Verde","Saudi-Arabien",0,{"$f":"IF(G73=\"\",\"\",G73)","v":0},null,1,1,7,"X",0,2,0,"B",3,2,0,"A",0,0,10,"X",1,2,0,"B",0,0,10,"X",0,1,0,"B",3,2,0,"A",0,0,10,"X",1,1,7,"X",2,3,0,"B",1,0,0,"A",0,1,0,"B",0,2,0,"B",0,0,10,"X",0,0,10,"X",0,1,0,"B",1,1,7,"X",1,1,7,"X",1,1,7,"X",1,2,0,"B",1,2,0,"B",0,3,0,"B",2,0,0,"A",1,1,7,"X",0,2,0,"B",0,2,0,"B",1,1,7,"X",0,0,10,"X",1,2,0,"B",1,2,0,"B",0,0,10,"X",1,2,0,"B",1,3,0,"B",null,null,"","",null,null,"","",null,null,"","",null,null,"","",null,null,"","",null,null,"","",null,null,"","",null,null,"","",null,null,"","",null,null,"","",null,null,"","",null,null,"","",null,null,"","",null,null,"","",null,null,"","",null,null,"",""]
[{"$f":"A74","v":"Sa. 27. Jun."},"02:00:00",66,{"$f":"IF(D74=\"\",\"\",D74)","v":"Uruguay"},"Spanien",0,1,null,1,2,{"$f":"IF(OR($F155=\"\",$G155=\"\",I155=\"\",J155=\"\"),\"\",IF(AND($F155=I155,$G155=J155),10,IF($F155-$G155=I155-J155,7,IF(OR(AND($F155>$G155,I155>J155),AND($F155<$G155,I155<J155)),5,0))))","v":7},{"$f":"IF(I155=\"\",\"\",IF(I155>J155,\"A\",IF(I155<J155,\"B\",IF(I155=J155,\"X\"))))","v":"B"},1,4,{"$f":"IF(OR($F155=\"\",$G155=\"\",M155=\"\",N155=\"\"),\"\",IF(AND($F155=M155,$G155=N155),10,IF($F155-$G155=M155-N155,7,IF(OR(AND($F155>$G155,M155>N155),AND($F155<$G155,M155<N155)),5,0))))","v":5},{"$f":"IF(M155=\"\",\"\",IF(M155>N155,\"A\",IF(M155<N155,\"B\",IF(M155=N155,\"X\"))))","v":"B"},0,2,{"$f":"IF(OR($F155=\"\",$G155=\"\",Q155=\"\",R155=\"\"),\"\",IF(AND($F155=Q155,$G155=R155),10,IF($F155-$G155=Q155-R155,7,IF(OR(AND($F155>$G155,Q155>R155),AND($F155<$G155,Q155<R155)),5,0))))","v":5},{"$f":"IF(Q155=\"\",\"\",IF(Q155>R155,\"A\",IF(Q155<R155,\"B\",IF(Q155=R155,\"X\"))))","v":"B"},1,3,{"$f":"IF(OR($F155=\"\",$G155=\"\",U155=\"\",V155=\"\"),\"\",IF(AND($F155=U155,$G155=V155),10,IF($F155-$G155=U155-V155,7,IF(OR(AND($F155>$G155,U155>V155),AND($F155<$G155,U155<V155)),5,0))))","v":5},{"$f":"IF(U155=\"\",\"\",IF(U155>V155,\"A\",IF(U155<V155,\"B\",IF(U155=V155,\"X\"))))","v":"B"},1,2,{"$f":"IF(OR($F155=\"\",$G155=\"\",Y155=\"\",Z155=\"\"),\"\",IF(AND($F155=Y155,$G155=Z155),10,IF($F155-$G155=Y155-Z155,7,IF(OR(AND($F155>$G155,Y155>Z155),AND($F155<$G155,Y155<Z155)),5,0))))","v":7},{"$f":"IF(Y155=\"\",\"\",IF(Y155>Z155,\"A\",IF(Y155<Z155,\"B\",IF(Y155=Z155,\"X\"))))","v":"B"},0,2,{"$f":"IF(OR($F155=\"\",$G155=\"\",AC155=\"\",AD155=\"\"),\"\",IF(AND($F155=AC155,$G155=AD155),10,IF($F155-$G155=AC155-AD155,7,IF(OR(AND($F155>$G155,AC155>AD155),AND($F155<$G155,AC155<AD155)),5,0))))","v":5},{"$f":"IF(AC155=\"\",\"\",IF(AC155>AD155,\"A\",IF(AC155<AD155,\"B\",IF(AC155=AD155,\"X\"))))","v":"B"},0,1,{"$f":"IF(OR($F155=\"\",$G155=\"\",AG155=\"\",AH155=\"\"),\"\",IF(AND($F155=AG155,$G155=AH155),10,IF($F155-$G155=AG155-AH155,7,IF(OR(AND($F155>$G155,AG155>AH155),AND($F155<$G155,AG155<AH155)),5,0))))","v":10},{"$f":"IF(AG155=\"\",\"\",IF(AG155>AH155,\"A\",IF(AG155<AH155,\"B\",IF(AG155=AH155,\"X\"))))","v":"B"},3,4,{"$f":"IF(OR($F155=\"\",$G155=\"\",AK155=\"\",AL155=\"\"),\"\",IF(AND($F155=AK155,$G155=AL155),10,IF($F155-$G155=AK155-AL155,7,IF(OR(AND($F155>$G155,AK155>AL155),AND($F155<$G155,AK155<AL155)),5,0))))","v":7},{"$f":"IF(AK155=\"\",\"\",IF(AK155>AL155,\"A\",IF(AK155<AL155,\"B\",IF(AK155=AL155,\"X\"))))","v":"B"},1,3,{"$f":"IF(OR($F155=\"\",$G155=\"\",AO155=\"\",AP155=\"\"),\"\",IF(AND($F155=AO155,$G155=AP155),10,IF($F155-$G155=AO155-AP155,7,IF(OR(AND($F155>$G155,AO155>AP155),AND($F155<$G155,AO155<AP155)),5,0))))","v":5},{"$f":"IF(AO155=\"\",\"\",IF(AO155>AP155,\"A\",IF(AO155<AP155,\"B\",IF(AO155=AP155,\"X\"))))","v":"B"},0,3,{"$f":"IF(OR($F155=\"\",$G155=\"\",AS155=\"\",AT155=\"\"),\"\",IF(AND($F155=AS155,$G155=AT155),10,IF($F155-$G155=AS155-AT155,7,IF(OR(AND($F155>$G155,AS155>AT155),AND($F155<$G155,AS155<AT155)),5,0))))","v":5},{"$f":"IF(AS155=\"\",\"\",IF(AS155>AT155,\"A\",IF(AS155<AT155,\"B\",IF(AS155=AT155,\"X\"))))","v":"B"},1,2,{"$f":"IF(OR($F155=\"\",$G155=\"\",AW155=\"\",AX155=\"\"),\"\",IF(AND($F155=AW155,$G155=AX155),10,IF($F155-$G155=AW155-AX155,7,IF(OR(AND($F155>$G155,AW155>AX155),AND($F155<$G155,AW155<AX155)),5,0))))","v":7},{"$f":"IF(AW155=\"\",\"\",IF(AW155>AX155,\"A\",IF(AW155<AX155,\"B\",IF(AW155=AX155,\"X\"))))","v":"B"},0,2,{"$f":"IF(OR($F155=\"\",$G155=\"\",BA155=\"\",BB155=\"\"),\"\",IF(AND($F155=BA155,$G155=BB155),10,IF($F155-$G155=BA155-BB155,7,IF(OR(AND($F155>$G155,BA155>BB155),AND($F155<$G155,BA155<BB155)),5,0))))","v":5},{"$f":"IF(BA155=\"\",\"\",IF(BA155>BB155,\"A\",IF(BA155<BB155,\"B\",IF(BA155=BB155,\"X\"))))","v":"B"},1,2,{"$f":"IF(OR($F155=\"\",$G155=\"\",BE155=\"\",BF155=\"\"),\"\",IF(AND($F155=BE155,$G155=BF155),10,IF($F155-$G155=BE155-BF155,7,IF(OR(AND($F155>$G155,BE155>BF155),AND($F155<$G155,BE155<BF155)),5,0))))","v":7},{"$f":"IF(BE155=\"\",\"\",IF(BE155>BF155,\"A\",IF(BE155<BF155,\"B\",IF(BE155=BF155,\"X\"))))","v":"B"},1,2,{"$f":"IF(OR($F155=\"\",$G155=\"\",BI155=\"\",BJ155=\"\"),\"\",IF(AND($F155=BI155,$G155=BJ155),10,IF($F155-$G155=BI155-BJ155,7,IF(OR(AND($F155>$G155,BI155>BJ155),AND($F155<$G155,BI155<BJ155)),5,0))))","v":7},{"$f":"IF(BI155=\"\",\"\",IF(BI155>BJ155,\"A\",IF(BI155<BJ155,\"B\",IF(BI155=BJ155,\"X\"))))","v":"B"},1,2,{"$f":"IF(OR($F155=\"\",$G155=\"\",BM155=\"\",BN155=\"\"),\"\",IF(AND($F155=BM155,$G155=BN155),10,IF($F155-$G155=BM155-BN155,7,IF(OR(AND($F155>$G155,BM155>BN155),AND($F155<$G155,BM155<BN155)),5,0))))","v":7},{"$f":"IF(BM155=\"\",\"\",IF(BM155>BN155,\"A\",IF(BM155<BN155,\"B\",IF(BM155=BN155,\"X\"))))","v":"B"},2,7,{"$f":"IF(OR($F155=\"\",$G155=\"\",BQ155=\"\",BR155=\"\"),\"\",IF(AND($F155=BQ155,$G155=BR155),10,IF($F155-$G155=BQ155-BR155,7,IF(OR(AND($F155>$G155,BQ155>BR155),AND($F155<$G155,BQ155<BR155)),5,0))))","v":5},{"$f":"IF(BQ155=\"\",\"\",IF(BQ155>BR155,\"A\",IF(BQ155<BR155,\"B\",IF(BQ155=BR155,\"X\"))))","v":"B"},1,2,{"$f":"IF(OR($F155=\"\",$G155=\"\",BU155=\"\",BV155=\"\"),\"\",IF(AND($F155=BU155,$G155=BV155),10,IF($F155-$G155=BU155-BV155,7,IF(OR(AND($F155>$G155,BU155>BV155),AND($F155<$G155,BU155<BV155)),5,0))))","v":7},{"$f":"IF(BU155=\"\",\"\",IF(BU155>BV155,\"A\",IF(BU155<BV155,\"B\",IF(BU155=BV155,\"X\"))))","v":"B"},1,2,{"$f":"IF(OR($F155=\"\",$G155=\"\",BY155=\"\",BZ155=\"\"),\"\",IF(AND($F155=BY155,$G155=BZ155),10,IF($F155-$G155=BY155-BZ155,7,IF(OR(AND($F155>$G155,BY155>BZ155),AND($F155<$G155,BY155<BZ155)),5,0))))","v":7},{"$f":"IF(BY155=\"\",\"\",IF(BY155>BZ155,\"A\",IF(BY155<BZ155,\"B\",IF(BY155=BZ155,\"X\"))))","v":"B"},0,2,{"$f":"IF(OR($F155=\"\",$G155=\"\",CC155=\"\",CD155=\"\"),\"\",IF(AND($F155=CC155,$G155=CD155),10,IF($F155-$G155=CC155-CD155,7,IF(OR(AND($F155>$G155,CC155>CD155),AND($F155<$G155,CC155<CD155)),5,0))))","v":5},{"$f":"IF(CC155=\"\",\"\",IF(CC155>CD155,\"A\",IF(CC155<CD155,\"B\",IF(CC155=CD155,\"X\"))))","v":"B"},1,3,{"$f":"IF(OR($F155=\"\",$G155=\"\",CG155=\"\",CH155=\"\"),\"\",IF(AND($F155=CG155,$G155=CH155),10,IF($F155-$G155=CG155-CH155,7,IF(OR(AND($F155>$G155,CG155>CH155),AND($F155<$G155,CG155<CH155)),5,0))))","v":5},{"$f":"IF(CG155=\"\",\"\",IF(CG155>CH155,\"A\",IF(CG155<CH155,\"B\",IF(CG155=CH155,\"X\"))))","v":"B"},1,3,{"$f":"IF(OR($F155=\"\",$G155=\"\",CK155=\"\",CL155=\"\"),\"\",IF(AND($F155=CK155,$G155=CL155),10,IF($F155-$G155=CK155-CL155,7,IF(OR(AND($F155>$G155,CK155>CL155),AND($F155<$G155,CK155<CL155)),5,0))))","v":5},{"$f":"IF(CK155=\"\",\"\",IF(CK155>CL155,\"A\",IF(CK155<CL155,\"B\",IF(CK155=CL155,\"X\"))))","v":"B"},1,1,{"$f":"IF(OR($F155=\"\",$G155=\"\",CO155=\"\",CP155=\"\"),\"\",IF(AND($F155=CO155,$G155=CP155),10,IF($F155-$G155=CO155-CP155,7,IF(OR(AND($F155>$G155,CO155>CP155),AND($F155<$G155,CO155<CP155)),5,0))))","v":0},{"$f":"IF(CO155=\"\",\"\",IF(CO155>CP155,\"A\",IF(CO155<CP155,\"B\",IF(CO155=CP155,\"X\"))))","v":"X"},2,3,{"$f":"IF(OR($F155=\"\",$G155=\"\",CS155=\"\",CT155=\"\"),\"\",IF(AND($F155=CS155,$G155=CT155),10,IF($F155-$G155=CS155-CT155,7,IF(OR(AND($F155>$G155,CS155>CT155),AND($F155<$G155,CS155<CT155)),5,0))))","v":7},{"$f":"IF(CS155=\"\",\"\",IF(CS155>CT155,\"A\",IF(CS155<CT155,\"B\",IF(CS155=CT155,\"X\"))))","v":"B"},1,2,{"$f":"IF(OR($F155=\"\",$G155=\"\",CW155=\"\",CX155=\"\"),\"\",IF(AND($F155=CW155,$G155=CX155),10,IF($F155-$G155=CW155-CX155,7,IF(OR(AND($F155>$G155,CW155>CX155),AND($F155<$G155,CW155<CX155)),5,0))))","v":7},{"$f":"IF(CW155=\"\",\"\",IF(CW155>CX155,\"A\",IF(CW155<CX155,\"B\",IF(CW155=CX155,\"X\"))))","v":"B"},1,2,{"$f":"IF(OR($F155=\"\",$G155=\"\",DA155=\"\",DB155=\"\"),\"\",IF(AND($F155=DA155,$G155=DB155),10,IF($F155-$G155=DA155-DB155,7,IF(OR(AND($F155>$G155,DA155>DB155),AND($F155<$G155,DA155<DB155)),5,0))))","v":7},{"$f":"IF(DA155=\"\",\"\",IF(DA155>DB155,\"A\",IF(DA155<DB155,\"B\",IF(DA155=DB155,\"X\"))))","v":"B"},1,1,{"$f":"IF(OR($F155=\"\",$G155=\"\",DE155=\"\",DF155=\"\"),\"\",IF(AND($F155=DE155,$G155=DF155),10,IF($F155-$G155=DE155-DF155,7,IF(OR(AND($F155>$G155,DE155>DF155),AND($F155<$G155,DE155<DF155)),5,0))))","v":0},{"$f":"IF(DE155=\"\",\"\",IF(DE155>DF155,\"A\",IF(DE155<DF155,\"B\",IF(DE155=DF155,\"X\"))))","v":"X"},0,1,{"$f":"IF(OR($F155=\"\",$G155=\"\",DI155=\"\",DJ155=\"\"),\"\",IF(AND($F155=DI155,$G155=DJ155),10,IF($F155-$G155=DI155-DJ155,7,IF(OR(AND($F155>$G155,DI155>DJ155),AND($F155<$G155,DI155<DJ155)),5,0))))","v":10},{"$f":"IF(DI155=\"\",\"\",IF(DI155>DJ155,\"A\",IF(DI155<DJ155,\"B\",IF(DI155=DJ155,\"X\"))))","v":"B"},1,2,{"$f":"IF(OR($F155=\"\",$G155=\"\",DM155=\"\",DN155=\"\"),\"\",IF(AND($F155=DM155,$G155=DN155),10,IF($F155-$G155=DM155-DN155,7,IF(OR(AND($F155>$G155,DM155>DN155),AND($F155<$G155,DM155<DN155)),5,0))))","v":7},{"$f":"IF(DM155=\"\",\"\",IF(DM155>DN155,\"A\",IF(DM155<DN155,\"B\",IF(DM155=DN155,\"X\"))))","v":"B"},1,1,{"$f":"IF(OR($F155=\"\",$G155=\"\",DQ155=\"\",DR155=\"\"),\"\",IF(AND($F155=DQ155,$G155=DR155),10,IF($F155-$G155=DQ155-DR155,7,IF(OR(AND($F155>$G155,DQ155>DR155),AND($F155<$G155,DQ155<DR155)),5,0))))","v":0},{"$f":"IF(DQ155=\"\",\"\",IF(DQ155>DR155,\"A\",IF(DQ155<DR155,\"B\",IF(DQ155=DR155,\"X\"))))","v":"X"},1,2,{"$f":"IF(OR($F155=\"\",$G155=\"\",DU155=\"\",DV155=\"\"),\"\",IF(AND($F155=DU155,$G155=DV155),10,IF($F155-$G155=DU155-DV155,7,IF(OR(AND($F155>$G155,DU155>DV155),AND($F155<$G155,DU155<DV155)),5,0))))","v":7},{"$f":"IF(DU155=\"\",\"\",IF(DU155>DV155,\"A\",IF(DU155<DV155,\"B\",IF(DU155=DV155,\"X\"))))","v":"B"},1,2,{"$f":"IF(OR($F155=\"\",$G155=\"\",DY155=\"\",DZ155=\"\"),\"\",IF(AND($F155=DY155,$G155=DZ155),10,IF($F155-$G155=DY155-DZ155,7,IF(OR(AND($F155>$G155,DY155>DZ155),AND($F155<$G155,DY155<DZ155)),5,0))))","v":7},{"$f":"IF(DY155=\"\",\"\",IF(DY155>DZ155,\"A\",IF(DY155<DZ155,\"B\",IF(DY155=DZ155,\"X\"))))","v":"B"},1,3,{"$f":"IF(OR($F155=\"\",$G155=\"\",EC155=\"\",ED155=\"\"),\"\",IF(AND($F155=EC155,$G155=ED155),10,IF($F155-$G155=EC155-ED155,7,IF(OR(AND($F155>$G155,EC155>ED155),AND($F155<$G155,EC155<ED155)),5,0))))","v":5},{"$f":"IF(EC155=\"\",\"\",IF(EC155>ED155,\"A\",IF(EC155<ED155,\"B\",IF(EC155=ED155,\"X\"))))","v":"B"},1,2,{"$f":"IF(OR($F155=\"\",$G155=\"\",EG155=\"\",EH155=\"\"),\"\",IF(AND($F155=EG155,$G155=EH155),10,IF($F155-$G155=EG155-EH155,7,IF(OR(AND($F155>$G155,EG155>EH155),AND($F155<$G155,EG155<EH155)),5,0))))","v":7},{"$f":"IF(EG155=\"\",\"\",IF(EG155>EH155,\"A\",IF(EG155<EH155,\"B\",IF(EG155=EH155,\"X\"))))","v":"B"},1,3,{"$f":"IF(OR($F155=\"\",$G155=\"\",EK155=\"\",EL155=\"\"),\"\",IF(AND($F155=EK155,$G155=EL155),10,IF($F155-$G155=EK155-EL155,7,IF(OR(AND($F155>$G155,EK155>EL155),AND($F155<$G155,EK155<EL155)),5,0))))","v":5},{"$f":"IF(EK155=\"\",\"\",IF(EK155>EL155,\"A\",IF(EK155<EL155,\"B\",IF(EK155=EL155,\"X\"))))","v":"B"},null,null,{"$f":"IF(OR($F155=\"\",$G155=\"\",EO155=\"\",EP155=\"\"),\"\",IF(AND($F155=EO155,$G155=EP155),10,IF($F155-$G155=EO155-EP155,7,IF(OR(AND($F155>$G155,EO155>EP155),AND($F155<$G155,EO155<EP155)),5,0))))","v":""},{"$f":"IF(EO155=\"\",\"\",IF(EO155>EP155,\"A\",IF(EO155<EP155,\"B\",IF(EO155=EP155,\"X\"))))","v":""},null,null,{"$f":"IF(OR($F155=\"\",$G155=\"\",ES155=\"\",ET155=\"\"),\"\",IF(AND($F155=ES155,$G155=ET155),10,IF($F155-$G155=ES155-ET155,7,IF(OR(AND($F155>$G155,ES155>ET155),AND($F155<$G155,ES155<ET155)),5,0))))","v":""},{"$f":"IF(ES155=\"\",\"\",IF(ES155>ET155,\"A\",IF(ES155<ET155,\"B\",IF(ES155=ET155,\"X\"))))","v":""},null,null,{"$f":"IF(OR($F155=\"\",$G155=\"\",EW155=\"\",EX155=\"\"),\"\",IF(AND($F155=EW155,$G155=EX155),10,IF($F155-$G155=EW155-EX155,7,IF(OR(AND($F155>$G155,EW155>EX155),AND($F155<$G155,EW155<EX155)),5,0))))","v":""},{"$f":"IF(EW155=\"\",\"\",IF(EW155>EX155,\"A\",IF(EW155<EX155,\"B\",IF(EW155=EX155,\"X\"))))","v":""},null,null,{"$f":"IF(OR($F155=\"\",$G155=\"\",FA155=\"\",FB155=\"\"),\"\",IF(AND($F155=FA155,$G155=FB155),10,IF($F155-$G155=FA155-FB155,7,IF(OR(AND($F155>$G155,FA155>FB155),AND($F155<$G155,FA155<FB155)),5,0))))","v":""},{"$f":"IF(FA155=\"\",\"\",IF(FA155>FB155,\"A\",IF(FA155<FB155,\"B\",IF(FA155=FB155,\"X\"))))","v":""},null,null,{"$f":"IF(OR($F155=\"\",$G155=\"\",FE155=\"\",FF155=\"\"),\"\",IF(AND($F155=FE155,$G155=FF155),10,IF($F155-$G155=FE155-FF155,7,IF(OR(AND($F155>$G155,FE155>FF155),AND($F155<$G155,FE155<FF155)),5,0))))","v":""},{"$f":"IF(FE155=\"\",\"\",IF(FE155>FF155,\"A\",IF(FE155<FF155,\"B\",IF(FE155=FF155,\"X\"))))","v":""},null,null,{"$f":"IF(OR($F155=\"\",$G155=\"\",FI155=\"\",FJ155=\"\"),\"\",IF(AND($F155=FI155,$G155=FJ155),10,IF($F155-$G155=FI155-FJ155,7,IF(OR(AND($F155>$G155,FI155>FJ155),AND($F155<$G155,FI155<FJ155)),5,0))))","v":""},{"$f":"IF(FI155=\"\",\"\",IF(FI155>FJ155,\"A\",IF(FI155<FJ155,\"B\",IF(FI155=FJ155,\"X\"))))","v":""},null,null,{"$f":"IF(OR($F155=\"\",$G155=\"\",FM155=\"\",FN155=\"\"),\"\",IF(AND($F155=FM155,$G155=FN155),10,IF($F155-$G155=FM155-FN155,7,IF(OR(AND($F155>$G155,FM155>FN155),AND($F155<$G155,FM155<FN155)),5,0))))","v":""},{"$f":"IF(FM155=\"\",\"\",IF(FM155>FN155,\"A\",IF(FM155<FN155,\"B\",IF(FM155=FN155,\"X\"))))","v":""},null,null,{"$f":"IF(OR($F155=\"\",$G155=\"\",FQ155=\"\",FR155=\"\"),\"\",IF(AND($F155=FQ155,$G155=FR155),10,IF($F155-$G155=FQ155-FR155,7,IF(OR(AND($F155>$G155,FQ155>FR155),AND($F155<$G155,FQ155<FR155)),5,0))))","v":""},{"$f":"IF(FQ155=\"\",\"\",IF(FQ155>FR155,\"A\",IF(FQ155<FR155,\"B\",IF(FQ155=FR155,\"X\"))))","v":""},null,null,{"$f":"IF(OR($F155=\"\",$G155=\"\",FU155=\"\",FV155=\"\"),\"\",IF(AND($F155=FU155,$G155=FV155),10,IF($F155-$G155=FU155-FV155,7,IF(OR(AND($F155>$G155,FU155>FV155),AND($F155<$G155,FU155<FV155)),5,0))))","v":""},{"$f":"IF(FU155=\"\",\"\",IF(FU155>FV155,\"A\",IF(FU155<FV155,\"B\",IF(FU155=FV155,\"X\"))))","v":""},null,null,{"$f":"IF(OR($F155=\"\",$G155=\"\",FY155=\"\",FZ155=\"\"),\"\",IF(AND($F155=FY155,$G155=FZ155),10,IF($F155-$G155=FY155-FZ155,7,IF(OR(AND($F155>$G155,FY155>FZ155),AND($F155<$G155,FY155<FZ155)),5,0))))","v":""},{"$f":"IF(FY155=\"\",\"\",IF(FY155>FZ155,\"A\",IF(FY155<FZ155,\"B\",IF(FY155=FZ155,\"X\"))))","v":""},null,null,{"$f":"IF(OR($F155=\"\",$G155=\"\",GC155=\"\",GD155=\"\"),\"\",IF(AND($F155=GC155,$G155=GD155),10,IF($F155-$G155=GC155-GD155,7,IF(OR(AND($F155>$G155,GC155>GD155),AND($F155<$G155,GC155<GD155)),5,0))))","v":""},{"$f":"IF(GC155=\"\",\"\",IF(GC155>GD155,\"A\",IF(GC155<GD155,\"B\",IF(GC155=GD155,\"X\"))))","v":""},null,null,{"$f":"IF(OR($F155=\"\",$G155=\"\",GG155=\"\",GH155=\"\"),\"\",IF(AND($F155=GG155,$G155=GH155),10,IF($F155-$G155=GG155-GH155,7,IF(OR(AND($F155>$G155,GG155>GH155),AND($F155<$G155,GG155<GH155)),5,0))))","v":""},{"$f":"IF(GG155=\"\",\"\",IF(GG155>GH155,\"A\",IF(GG155<GH155,\"B\",IF(GG155=GH155,\"X\"))))","v":""},null,null,{"$f":"IF(OR($F155=\"\",$G155=\"\",GK155=\"\",GL155=\"\"),\"\",IF(AND($F155=GK155,$G155=GL155),10,IF($F155-$G155=GK155-GL155,7,IF(OR(AND($F155>$G155,GK155>GL155),AND($F155<$G155,GK155<GL155)),5,0))))","v":""},{"$f":"IF(GK155=\"\",\"\",IF(GK155>GL155,\"A\",IF(GK155<GL155,\"B\",IF(GK155=GL155,\"X\"))))","v":""},null,null,{"$f":"IF(OR($F155=\"\",$G155=\"\",GO155=\"\",GP155=\"\"),\"\",IF(AND($F155=GO155,$G155=GP155),10,IF($F155-$G155=GO155-GP155,7,IF(OR(AND($F155>$G155,GO155>GP155),AND($F155<$G155,GO155<GP155)),5,0))))","v":""},{"$f":"IF(GO155=\"\",\"\",IF(GO155>GP155,\"A\",IF(GO155<GP155,\"B\",IF(GO155=GP155,\"X\"))))","v":""},null,null,{"$f":"IF(OR($F155=\"\",$G155=\"\",GS155=\"\",GT155=\"\"),\"\",IF(AND($F155=GS155,$G155=GT155),10,IF($F155-$G155=GS155-GT155,7,IF(OR(AND($F155>$G155,GS155>GT155),AND($F155<$G155,GS155<GT155)),5,0))))","v":""},{"$f":"IF(GS155=\"\",\"\",IF(GS155>GT155,\"A\",IF(GS155<GT155,\"B\",IF(GS155=GT155,\"X\"))))","v":""},null,null,{"$f":"IF(OR($F155=\"\",$G155=\"\",GW155=\"\",GX155=\"\"),\"\",IF(AND($F155=GW155,$G155=GX155),10,IF($F155-$G155=GW155-GX155,7,IF(OR(AND($F155>$G155,GW155>GX155),AND($F155<$G155,GW155<GX155)),5,0))))","v":""},{"$f":"IF(GW155=\"\",\"\",IF(GW155>GX155,\"A\",IF(GW155<GX155,\"B\",IF(GW155=GX155,\"X\"))))","v":""}]
["Sa. 27. Jun.","23:00:00",67,"Panama","England",0,2,null,0,2,10,"B",0,3,5,"B",1,2,5,"B",1,2,5,"B",1,2,5,"B",0,1,5,"B",0,6,5,"B",0,2,10,"B",0,3,5,"B",2,2,0,"X",0,4,5,"B",0,3,5,"B",1,2,5,"B",1,1,0,"X",0,2,10,"B",0,6,5,"B",1,4,5,"B",0,3,5,"B",0,2,10,"B",2,2,0,"X",0,2,10,"B",0,3,5,"B",1,4,5,"B",1,2,5,"B",0,3,5,"B",0,3,5,"B",0,4,5,"B",0,3,5,"B",0,4,5,"B",0,2,10,"B",0,2,10,"B",1,2,5,"B",0,2,10,"B",0,4,5,"B",null,null,"","",null,null,"","",null,null,"","",null,null,"","",null,null,"","",null,null,"","",null,null,"","",null,null,"","",null,null,"","",null,null,"","",null,null,"","",null,null,"","",null,null,"","",null,null,"","",null,null,"","",null,null,"",""]
["Sa. 27. Jun.","23:00:00",68,"Kroatien","Ghana",2,1,null,2,1,10,"A",3,1,5,"A",3,3,0,"X",3,0,5,"A",2,0,5,"A",1,0,7,"A",2,1,10,"A",2,1,10,"A",2,1,10,"A",2,2,0,"X",2,2,0,"X",2,0,5,"A",2,1,10,"A",1,1,0,"X",1,1,0,"X",2,2,0,"X",1,2,0,"B",2,1,10,"A",3,0,5,"A",2,1,10,"A",1,1,0,"X",2,1,10,"A",3,2,7,"A",2,0,5,"A",2,1,10,"A",1,1,0,"X",2,0,5,"A",2,1,10,"A",1,0,7,"A",1,0,7,"A",2,1,10,"A",3,0,5,"A",2,1,10,"A",3,0,5,"A",null,null,"","",null,null,"","",null,null,"","",null,null,"","",null,null,"","",null,null,"","",null,null,"","",null,null,"","",null,null,"","",null,null,"","",null,null,"","",null,null,"","",null,null,"","",null,null,"","",null,null,"","",null,null,"",""]
["So. 28. Jun.","04:00:00",69,"Algerien","Österreich",3,3,null,1,1,7,"X",2,1,0,"A",2,2,7,"X",0,2,0,"B",0,1,0,"B",0,0,7,"X",1,1,7,"X",1,1,7,"X",1,2,0,"B",1,0,0,"A",1,2,0,"B",1,1,7,"X",1,2,0,"B",1,1,7,"X",0,2,0,"B",0,2,0,"B",1,2,0,"B",1,1,7,"X",1,1,7,"X",1,0,0,"A",1,2,0,"B",1,2,0,"B",1,1,7,"X",1,3,0,"B",1,2,0,"B",1,1,7,"X",1,2,0,"B",1,2,0,"B",2,2,7,"X",1,2,0,"B",0,1,0,"B",0,1,0,"B",1,2,0,"B",0,3,0,"B",null,null,"","",null,null,"","",null,null,"","",null,null,"","",null,null,"","",null,null,"","",null,null,"","",null,null,"","",null,null,"","",null,null,"","",null,null,"","",null,null,"","",null,null,"","",null,null,"","",null,null,"","",null,null,"",""]
["So. 28. Jun.","04:00:00",70,"Jordanien","Argentinien",1,3,null,0,3,5,"B",0,4,5,"B",1,1,0,"X",0,2,7,"B",1,3,10,"B",0,3,5,"B",0,3,5,"B",0,2,7,"B",0,5,5,"B",0,4,5,"B",0,5,5,"B",0,3,5,"B",1,3,10,"B",0,4,5,"B",0,2,7,"B",0,4,5,"B",0,2,7,"B",0,3,5,"B",0,3,5,"B",0,4,5,"B",0,3,5,"B",0,4,5,"B",1,4,5,"B",0,4,5,"B",0,3,5,"B",0,2,7,"B",0,4,5,"B",0,4,5,"B",0,3,5,"B",0,3,5,"B",0,2,7,"B",0,4,5,"B",0,2,7,"B",0,4,5,"B",null,null,"","",null,null,"","",null,null,"","",null,null,"","",null,null,"","",null,null,"","",null,null,"","",null,null,"","",null,null,"","",null,null,"","",null,null,"","",null,null,"","",null,null,"","",null,null,"","",null,null,"","",null,null,"",""]
["So. 28. Jun.","01:30:00",71,"Kolumbien","Portugal",0,0,null,1,2,0,"B",0,4,0,"B",2,3,0,"B",1,3,0,"B",0,1,0,"B",0,2,0,"B",1,1,7,"X",2,3,0,"B",1,1,7,"X",0,2,0,"B",2,2,7,"X",1,2,0,"B",1,2,0,"B",1,2,0,"B",1,2,0,"B",2,6,0,"B",1,2,0,"B",2,2,7,"X",0,1,0,"B",1,2,0,"B",0,2,0,"B",1,2,0,"B",2,3,0,"B",1,1,7,"X",1,2,0,"B",1,1,7,"X",2,2,7,"X",1,2,0,"B",2,2,7,"X",1,2,0,"B",1,2,0,"B",3,3,7,"X",1,2,0,"B",1,2,0,"B",null,null,"","",null,null,"","",null,null,"","",null,null,"","",null,null,"","",null,null,"","",null,null,"","",null,null,"","",null,null,"","",null,null,"","",null,null,"","",null,null,"","",null,null,"","",null,null,"","",null,null,"","",null,null,"",""]
["So. 28. Jun.","01:30:00",72,"DR Kongo","Usbekistan",3,1,null,1,1,0,"X",1,1,0,"X",0,2,0,"B",2,3,0,"B",0,0,0,"X",1,1,0,"X",1,1,0,"X",1,0,5,"A",1,1,0,"X",3,1,10,"A",1,1,0,"X",1,1,0,"X",1,1,0,"X",1,1,0,"X",0,0,0,"X",0,0,0,"X",1,1,0,"X",1,0,5,"A",1,1,0,"X",3,1,10,"A",1,2,0,"B",1,0,5,"A",3,1,10,"A",2,0,7,"A",1,0,5,"A",2,1,5,"A",1,0,5,"A",1,1,0,"X",1,0,5,"A",1,1,0,"X",2,1,5,"A",0,0,0,"X",2,1,5,"A",1,1,0,"X",null,null,"","",null,null,"","",null,null,"","",null,null,"","",null,null,"","",null,null,"","",null,null,"","",null,null,"","",null,null,"","",null,null,"","",null,null,"","",null,null,"","",null,null,"","",null,null,"","",null,null,"","",null,null,"",""]
[null,null,null,null,null,null,"Gesamtpunktzahl:",null,{"$f":"Teilnehmerliste!$C56","v":"Mack"},null,{"$f":"SUM(K90:K161)","v":283},null,{"$f":"Teilnehmerliste!$C57","v":"Marini"},null,{"$f":"SUM(O90:O161)","v":245},null,{"$f":"Teilnehmerliste!$C58","v":"Marthaler"},null,{"$f":"SUM(S90:S161)","v":206},null,{"$f":"Teilnehmerliste!$C59","v":"Marthaler"},null,{"$f":"SUM(W90:W161)","v":224},null,{"$f":"Teilnehmerliste!$C60","v":"Marty"},null,{"$f":"SUM(AA90:AA161)","v":238},null,{"$f":"Teilnehmerliste!$C61","v":"Merkli"},null,{"$f":"SUM(AE90:AE161)","v":242},null,{"$f":"Teilnehmerliste!$C62","v":"Meyer"},null,{"$f":"SUM(AI90:AI161)","v":256},null,{"$f":"Teilnehmerliste!$C63","v":"Oliveira"},null,{"$f":"SUM(AM90:AM161)","v":262},null,{"$f":"Teilnehmerliste!$C64","v":"Oroshi"},null,{"$f":"SUM(AQ90:AQ161)","v":275},null,{"$f":"Teilnehmerliste!$C65","v":"Pek"},null,{"$f":"SUM(AU90:AU161)","v":242},null,{"$f":"Teilnehmerliste!$C66","v":"Principe"},null,{"$f":"SUM(AY90:AY161)","v":259},null,{"$f":"Teilnehmerliste!$C67","v":"Prucha"},null,{"$f":"SUM(BC90:BC161)","v":248},null,{"$f":"Teilnehmerliste!$C68","v":"Rauscher"},null,{"$f":"SUM(BG90:BG161)","v":253},null,{"$f":"Teilnehmerliste!$C69","v":"Rohner"},null,{"$f":"SUM(BK90:BK161)","v":227},null,{"$f":"Teilnehmerliste!$C70","v":"Rüdemann"},null,{"$f":"SUM(BO90:BO161)","v":260},null,{"$f":"Teilnehmerliste!$C71","v":"Rüegg"},null,{"$f":"SUM(BS90:BS161)","v":252},null,{"$f":"Teilnehmerliste!$C72","v":"Rüegg"},null,{"$f":"SUM(BW90:BW161)","v":262},null,{"$f":"Teilnehmerliste!$C73","v":"Rüegg"},null,{"$f":"SUM(CA90:CA161)","v":272},null,{"$f":"Teilnehmerliste!$C74","v":"Schawalder"},null,{"$f":"SUM(CE90:CE161)","v":283},null,{"$f":"Teilnehmerliste!$C75","v":"Schenk"},null,{"$f":"SUM(CI90:CI161)","v":245},null,{"$f":"Teilnehmerliste!$C76","v":"Schilliger"},null,{"$f":"SUM(CM90:CM161)","v":283},null,{"$f":"Teilnehmerliste!$C77","v":"Schommarz"},null,{"$f":"SUM(CQ90:CQ161)","v":263},null,{"$f":"Teilnehmerliste!$C78","v":"Schuster"},null,{"$f":"SUM(CU90:CU161)","v":241},null,{"$f":"Teilnehmerliste!$C79","v":"Silva"},null,{"$f":"SUM(CY90:CY161)","v":268},null,{"$f":"Teilnehmerliste!$C80","v":"Silvestri"},null,{"$f":"SUM(DC90:DC161)","v":306},null,{"$f":"Teilnehmerliste!$C81","v":"Thormann"},null,{"$f":"SUM(DG90:DG161)","v":271},null,{"$f":"Teilnehmerliste!$C82","v":"Treichler"},null,{"$f":"SUM(DK90:DK161)","v":274},null,{"$f":"Teilnehmerliste!$C83","v":"Treichler"},null,{"$f":"SUM(DO90:DO161)","v":278},null,{"$f":"Teilnehmerliste!$C84","v":"Wälti"},null,{"$f":"SUM(DS90:DS161)","v":313},null,{"$f":"Teilnehmerliste!$C85","v":"Wagner"},null,{"$f":"SUM(DW90:DW161)","v":283},null,{"$f":"Teilnehmerliste!$C86","v":"Walthard"},null,{"$f":"SUM(EA90:EA161)","v":266},null,{"$f":"Teilnehmerliste!$C87","v":"Wang"},null,{"$f":"SUM(EE90:EE161)","v":208},null,{"$f":"Teilnehmerliste!$C88","v":"Wullschleger"},null,{"$f":"SUM(EI90:EI161)","v":273},null,{"$f":"Teilnehmerliste!$C89","v":"Zachmann"},null,{"$f":"SUM(EM90:EM161)","v":209},null,{"$f":"Teilnehmerliste!$C90","v":0},null,{"$f":"SUM(EQ90:EQ161)","v":0},null,{"$f":"Teilnehmerliste!$C91","v":0},null,{"$f":"SUM(EU90:EU161)","v":0},null,{"$f":"Teilnehmerliste!$C92","v":0},null,{"$f":"SUM(EY90:EY161)","v":0},null,{"$f":"Teilnehmerliste!$C93","v":0},null,{"$f":"SUM(FC90:FC161)","v":0},null,{"$f":"Teilnehmerliste!$C94","v":0},null,{"$f":"SUM(FG90:FG161)","v":0},null,{"$f":"Teilnehmerliste!$C95","v":0},null,{"$f":"SUM(FK90:FK161)","v":0},null,{"$f":"Teilnehmerliste!$C96","v":0},null,{"$f":"SUM(FO90:FO161)","v":0},null,{"$f":"Teilnehmerliste!$C97","v":0},null,{"$f":"SUM(FS90:FS161)","v":0},null,{"$f":"Teilnehmerliste!$C98","v":0},null,{"$f":"SUM(FW90:FW161)","v":0},null,{"$f":"Teilnehmerliste!$C99","v":0},null,{"$f":"SUM(GA90:GA161)","v":0},null,{"$f":"Teilnehmerliste!$C100","v":0},null,{"$f":"SUM(GE90:GE161)","v":0},null,{"$f":"Teilnehmerliste!$C101","v":0},null,{"$f":"SUM(GI90:GI161)","v":0},null,{"$f":"Teilnehmerliste!$C102","v":0},null,{"$f":"SUM(GM90:GM161)","v":0},null,{"$f":"Teilnehmerliste!$C103","v":0},null,{"$f":"SUM(GQ90:GQ161)","v":0},null,{"$f":"Teilnehmerliste!$C104","v":0},null,{"$f":"SUM(GU90:GU161)","v":0},null,{"$f":"Teilnehmerliste!$C105","v":0},null,{"$f":"SUM(GY90:GY161)","v":0}]

{"sheet":"Endplatzierung","index":3,"n_rows":116,"n_cols":104,"rows_kept":116,"cut":false,"hidden":false,"merged":[[53,2,56,2],[95,2,98,2],[99,2,102,2],[103,2,106,2],[107,2,110,2],[111,2,114,2],[67,2,70,2],[71,2,74,2],[75,2,78,2],[79,2,82,2],[83,2,86,2],[87,2,90,2],[91,2,94,2],[4,98,4,99],[4,100,4,101],[4,54,4,55],[4,96,4,97],[4,72,4,73],[4,74,4,75],[4,76,4,77],[4,78,4,79],[4,64,4,65],[4,66,4,67],[4,68,4,69],[4,70,4,71],[4,42,4,43],[4,44,4,45],[4,46,4,47],[4,32,4,33],[4,34,4,35],[4,36,4,37],[4,38,4,39],[4,30,4,31],[4,102,4,103],[4,88,4,89],[4,90,4,91],[4,92,4,93],[4,94,4,95],[4,80,4,81],[4,82,4,83],[4,84,4,85],[4,86,4,87],[4,56,4,57],[4,58,4,59],[4,60,4,61],[4,62,4,63],[4,48,4,49],[4,50,4,51],[4,52,4,53],[4,18,4,19],[4,20,4,21],[4,22,4,23],[4,8,4,9],[4,10,4,11],[4,12,4,13],[4,14,4,15],[3,96,3,97],[3,72,3,73],[3,74,3,75],[3,76,3,77],[3,78,3,79],[3,64,3,65],[3,66,3,67],[3,68,3,69],[3,70,3,71],[3,56,3,57],[3,58,3,59],[3,60,3,61],[3,62,3,63],[3,48,3,49],[3,50,3,51],[3,52,3,53],[4,40,4,41],[3,98,3,99],[3,100,3,101],[3,102,3,103],[3,88,3,89],[3,90,3,91],[3,92,3,93],[3,94,3,95],[3,80,3,81],[3,82,3,83],[3,84,3,85],[3,86,3,87],[3,54,3,55],[3,40,3,41],[3,42,3,43],[3,44,3,45],[3,46,3,47],[3,32,3,33],[3,34,3,35],[3,36,3,37],[3,38,3,39],[3,30,3,31],[3,16,3,17],[3,18,3,19],[3,20,3,21],[3,22,3,23],[3,8,3,9],[3,10,3,11],[3,12,3,13],[3,14,3,15],[2,0,2,1],[60,0,60,1],[3,4,3,5],[3,6,3,7],[4,4,4,5],[4,6,4,7],[3,24,3,25],[3,26,3,27],[3,28,3,29],[4,24,4,25],[4,26,4,27],[4,28,4,29],[9,2,12,2],[13,2,16,2],[17,2,20,2],[21,2,24,2],[25,2,28,2],[29,2,32,2],[33,2,36,2],[37,2,40,2],[41,2,44,2],[45,2,48,2],[49,2,52,2],[4,16,4,17]]}
[{"$f":"Teams!$B$54","v":"WM 2026 by Rogerinho (www.fcbouncer.ch)"}]
[]
["Vorrunde",null,"Spieler 1 - 50"]
["20 Punkte für richtige Mannschaft auf Platz 3",null,null,null,{"$f":"Teilnehmerliste!$B6","v":"Panos"},null,{"$f":"Teilnehmerliste!$B7","v":"Yiannis"},null,{"$f":"Teilnehmerliste!$B8","v":"Ambra"},null,{"$f":"Teilnehmerliste!$B9","v":"Marco"},null,{"$f":"Teilnehmerliste!$B10","v":"Ruben"},null,{"$f":"Teilnehmerliste!$B11","v":"Peter"},null,{"$f":"Teilnehmerliste!$B12","v":"André"},null,{"$f":"Teilnehmerliste!$B13","v":"Aya"},null,{"$f":"Teilnehmerliste!$B14","v":"Philippe"},null,{"$f":"Teilnehmerliste!$B15","v":"Roger"},null,{"$f":"Teilnehmerliste!$B16","v":"Mara"},null,{"$f":"Teilnehmerliste!$B17","v":"Pongsapat Nott"},null,{"$f":"Teilnehmerliste!$B18","v":"Michael"},null,{"$f":"Teilnehmerliste!$B19","v":"Manfred"},null,{"$f":"Teilnehmerliste!$B20","v":"Manuel"},null,{"$f":"Teilnehmerliste!$B21","v":"Nicolas"},null,{"$f":"Teilnehmerliste!$B22","v":"Philip"},null,{"$f":"Teilnehmerliste!$B23","v":"André"},null,{"$f":"Teilnehmerliste!$B24","v":"Oli"},null,{"$f":"Teilnehmerliste!$B25","v":"Javier"},null,{"$f":"Teilnehmerliste!$B26","v":"Leo"},null,{"$f":"Teilnehmerliste!$B27","v":"Lisa"},null,{"$f":"Teilnehmerliste!$B28","v":"Niva"},null,{"$f":"Teilnehmerliste!$B29","v":"Vinci"},null,{"$f":"Teilnehmerliste!$B30","v":"Rafael"},null,{"$f":"Teilnehmerliste!$B31","v":"Goran"},null,{"$f":"Teilnehmerliste!$B32","v":"Armin"},null,{"$f":"Teilnehmerliste!$B33","v":"Dino"},null,{"$f":"Teilnehmerliste!$B34","v":"Djuma"},null,{"$f":"Teilnehmerliste!$B35","v":"Andreia"},null,{"$f":"Teilnehmerliste!$B36","v":"Rui"},null,{"$f":"Teilnehmerliste!$B37","v":"Deliz"},null,{"$f":"Teilnehmerliste!$B38","v":"Florian"},null,{"$f":"Teilnehmerliste!$B39","v":"Laurent"},null,{"$f":"Teilnehmerliste!$B40","v":"Reto"},null,{"$f":"Teilnehmerliste!$B41","v":"Robin"},null,{"$f":"Teilnehmerliste!$B42","v":"Sarina"},null,{"$f":"Teilnehmerliste!$B43","v":"Selina"},null,{"$f":"Teilnehmerliste!$B44","v":"Stefan"},null,{"$f":"Teilnehmerliste!$B45","v":"Timothy"},null,{"$f":"Teilnehmerliste!$B46","v":"Florian"},null,{"$f":"Teilnehmerliste!$B47","v":"Agnes"},null,{"$f":"Teilnehmerliste!$B48","v":"Andreas"},null,{"$f":"Teilnehmerliste!$B49","v":"Michael"},null,{"$f":"Teilnehmerliste!$B50","v":"Aiden"},null,{"$f":"Teilnehmerliste!$B51","v":"Pascal"},null,{"$f":"Teilnehmerliste!$B52","v":"Tanja"},null,{"$f":"Teilnehmerliste!$B53","v":"André"},null,{"$f":"Teilnehmerliste!$B54","v":"Franz"},null,{"$f":"Teilnehmerliste!$B55","v":"Marc"}]
["20 Punkte für richtige Mannschaft auf Platz 4",null,null,null,{"$f":"Teilnehmerliste!$C6","v":"Agorastos"},null,{"$f":"Teilnehmerliste!$C7","v":"Agorastos"},null,{"$f":"Teilnehmerliste!$C8","v":"Antonelli"},null,{"$f":"Teilnehmerliste!$C9","v":"Antonelli"},null,{"$f":"Teilnehmerliste!$C10","v":"Antonelli"},null,{"$f":"Teilnehmerliste!$C11","v":"Balazs"},null,{"$f":"Teilnehmerliste!$C12","v":"Bartholet"},null,{"$f":"Teilnehmerliste!$C13","v":"Bartholet"},null,{"$f":"Teilnehmerliste!$C14","v":"Bartholet"},null,{"$f":"Teilnehmerliste!$C15","v":"Bartholet"},null,{"$f":"Teilnehmerliste!$C16","v":"Beck"},null,{"$f":"Teilnehmerliste!$C17","v":"Boonaek"},null,{"$f":"Teilnehmerliste!$C18","v":"Bosshart"},null,{"$f":"Teilnehmerliste!$C19","v":"Brunner"},null,{"$f":"Teilnehmerliste!$C20","v":"Brunner"},null,{"$f":"Teilnehmerliste!$C21","v":"Brunner"},null,{"$f":"Teilnehmerliste!$C22","v":"Brunner"},null,{"$f":"Teilnehmerliste!$C23","v":"Burkart"},null,{"$f":"Teilnehmerliste!$C24","v":"Christiansen"},null,{"$f":"Teilnehmerliste!$C25","v":"Cruz"},null,{"$f":"Teilnehmerliste!$C26","v":"Rodrigues da Costa"},null,{"$f":"Teilnehmerliste!$C27","v":"D'Acunto"},null,{"$f":"Teilnehmerliste!$C28","v":"D'Acunto"},null,{"$f":"Teilnehmerliste!$C29","v":"D'Acunto"},null,{"$f":"Teilnehmerliste!$C30","v":"Derungs"},null,{"$f":"Teilnehmerliste!$C31","v":"Djukic"},null,{"$f":"Teilnehmerliste!$C32","v":"Duvnjak"},null,{"$f":"Teilnehmerliste!$C33","v":"Duvnjak"},null,{"$f":"Teilnehmerliste!$C34","v":"Duvnjak"},null,{"$f":"Teilnehmerliste!$C35","v":"Gomes"},null,{"$f":"Teilnehmerliste!$C36","v":"Gomes"},null,{"$f":"Teilnehmerliste!$C37","v":"González"},null,{"$f":"Teilnehmerliste!$C38","v":"González"},null,{"$f":"Teilnehmerliste!$C39","v":"Grosse"},null,{"$f":"Teilnehmerliste!$C40","v":"Gygli"},null,{"$f":"Teilnehmerliste!$C41","v":"Gygli"},null,{"$f":"Teilnehmerliste!$C42","v":"Gygli"},null,{"$f":"Teilnehmerliste!$C43","v":"Gygli"},null,{"$f":"Teilnehmerliste!$C44","v":"Gygli"},null,{"$f":"Teilnehmerliste!$C45","v":"Gygli"},null,{"$f":"Teilnehmerliste!$C46","v":"Haab"},null,{"$f":"Teilnehmerliste!$C47","v":"Isenschmid"},null,{"$f":"Teilnehmerliste!$C48","v":"Isenschmid"},null,{"$f":"Teilnehmerliste!$C49","v":"Isenschmid"},null,{"$f":"Teilnehmerliste!$C50","v":"Jones"},null,{"$f":"Teilnehmerliste!$C51","v":"Keller"},null,{"$f":"Teilnehmerliste!$C52","v":"Kistler"},null,{"$f":"Teilnehmerliste!$C53","v":"Lanz"},null,{"$f":"Teilnehmerliste!$C54","v":"Lischer"},null,{"$f":"Teilnehmerliste!$C55","v":"Lütolf"}]
["Punkte für 1. + 2. Platz werden in der Zwischenrunde dazugerechnet",null,null,null,null,{"$f":"Teilnehmerliste!$A6","v":1},null,{"$f":"Teilnehmerliste!$A7","v":2},null,{"$f":"Teilnehmerliste!$A8","v":3},null,{"$f":"Teilnehmerliste!$A9","v":4},null,{"$f":"Teilnehmerliste!$A10","v":5},null,{"$f":"Teilnehmerliste!$A11","v":6},null,{"$f":"Teilnehmerliste!$A12","v":7},null,{"$f":"Teilnehmerliste!$A13","v":8},null,{"$f":"Teilnehmerliste!$A14","v":9},null,{"$f":"Teilnehmerliste!$A15","v":10},null,{"$f":"Teilnehmerliste!$A16","v":11},null,{"$f":"Teilnehmerliste!$A17","v":12},null,{"$f":"Teilnehmerliste!$A18","v":13},null,{"$f":"Teilnehmerliste!$A19","v":14},null,{"$f":"Teilnehmerliste!$A20","v":15},null,{"$f":"Teilnehmerliste!$A21","v":16},null,{"$f":"Teilnehmerliste!$A22","v":17},null,{"$f":"Teilnehmerliste!$A23","v":18},null,{"$f":"Teilnehmerliste!$A24","v":19},null,{"$f":"Teilnehmerliste!$A25","v":20},null,{"$f":"Teilnehmerliste!$A26","v":21},null,{"$f":"Teilnehmerliste!$A27","v":22},null,{"$f":"Teilnehmerliste!$A28","v":23},null,{"$f":"Teilnehmerliste!$A29","v":24},null,{"$f":"Teilnehmerliste!$A30","v":25},null,{"$f":"Teilnehmerliste!$A31","v":26},null,{"$f":"Teilnehmerliste!$A32","v":27},null,{"$f":"Teilnehmerliste!$A33","v":28},null,{"$f":"Teilnehmerliste!$A34","v":29},null,{"$f":"Teilnehmerliste!$A35","v":30},null,{"$f":"Teilnehmerliste!$A36","v":31},null,{"$f":"Teilnehmerliste!$A37","v":32},null,{"$f":"Teilnehmerliste!$A38","v":33},null,{"$f":"Teilnehmerliste!$A39","v":34},null,{"$f":"Teilnehmerliste!$A40","v":35},null,{"$f":"Teilnehmerliste!$A41","v":36},null,{"$f":"Teilnehmerliste!$A42","v":37},null,{"$f":"Teilnehmerliste!$A43","v":38},null,{"$f":"Teilnehmerliste!$A44","v":39},null,{"$f":"Teilnehmerliste!$A45","v":40},null,{"$f":"Teilnehmerliste!$A46","v":41},null,{"$f":"Teilnehmerliste!$A47","v":42},null,{"$f":"Teilnehmerliste!$A48","v":43},null,{"$f":"Teilnehmerliste!$A49","v":44},null,{"$f":"Teilnehmerliste!$A50","v":45},null,{"$f":"Teilnehmerliste!$A51","v":46},null,{"$f":"Teilnehmerliste!$A52","v":47},null,{"$f":"Teilnehmerliste!$A53","v":48},null,{"$f":"Teilnehmerliste!$A54","v":49},null,{"$f":"Teilnehmerliste!$A55","v":50}]
[]
["Platz","Team",null,null,"Tipp","Pkt","Tipp","Pkt","Tipp","Pkt","Tipp","Pkt","Tipp","Pkt","Tipp","Pkt","Tipp","Pkt","Tipp","Pkt","Tipp","Pkt","Tipp","Pkt","Tipp","Pkt","Tipp","Pkt","Tipp","Pkt","Tipp","Pkt","Tipp","Pkt","Tipp","Pkt","Tipp","Pkt","Tipp","Pkt","Tipp","Pkt","Tipp","Pkt","Tipp","Pkt","Tipp","Pkt","Tipp","Pkt","Tipp","Pkt","Tipp","Pkt","Tipp","Pkt","Tipp","Pkt","Tipp","Pkt","Tipp","Pkt","Tipp","Pkt","Tipp","Pkt","Tipp","Pkt","Tipp","Pkt","Tipp","Pkt","Tipp","Pkt","Tipp","Pkt","Tipp","Pkt","Tipp","Pkt","Tipp","Pkt","Tipp","Pkt","Tipp","Pkt","Tipp","Pkt","Tipp","Pkt","Tipp","Pkt","Tipp","Pkt","Tipp","Pkt","Tipp","Pkt","Tipp","Pkt","Tipp","Pkt","Tipp","Pkt"]
["Endplatzierung"]
[1,"Mexiko","Gruppe A",null,"Mexiko","-","Tschechien","-","Mexiko","-","Tschechien","-","Mexiko","-","Mexiko","-","Mexiko","-","Mexiko","-","Tschechien","-","Mexiko","-","Mexiko","-","Tschechien","-","Mexiko","-","Mexiko","-","Mexiko","-","Mexiko","-","Mexiko","-","Südkorea","-","Südkorea","-","Mexiko","-","Mexiko","-","Mexiko","-","Mexiko","-","Mexiko","-","Mexiko","-","Mexiko","-","Mexiko","-","Mexiko","-","Mexiko","-","Tschechien","-","Mexiko","-","Mexiko","-","Mexiko","-","Südkorea","-","Mexiko","-","Mexiko","-","Mexiko","-","Mexiko","-","Südkorea","-","Mexiko","-","Mexiko","-","Südkorea","-","Mexiko","-","Mexiko","-","Mexiko","-","Mexiko","-","Mexiko","-","Mexiko","-","Tschechien","-","Mexiko","-"]
[2,"Südafrika",null,null,"Südkorea","-","Südkorea","-","Südafrika","-","Mexiko","-","Tschechien","-","Südkorea","-","Tschechien","-","Südafrika","-","Mexiko","-","Südafrika","-","Südkorea","-","Mexiko","-","Südkorea","-","Südkorea","-","Südkorea","-","Südkorea","-","Tschechien","-","Mexiko","-","Mexiko","-","Tschechien","-","Tschechien","-","Tschechien","-","Tschechien","-","Tschechien","-","Südkorea","-","Tschechien","-","Tschechien","-","Tschechien","-","Tschechien","-","Mexiko","-","Südkorea","-","Südkorea","-","Tschechien","-","Mexiko","-","Südkorea","-","Südkorea","-","Südkorea","-","Tschechien","-","Mexiko","-","Südafrika","-","Südkorea","-","Mexiko","-","Südkorea","-","Südkorea","-","Tschechien","-","Südkorea","-","Südafrika","-","Südkorea","-","Mexiko","-","Südkorea","-"]
[3,"Südkorea",null,null,"Tschechien",{"$f":"IF(OR($B12=\"\"),0,IF($B12=E12,20,0))","v":0},"Mexiko",{"$f":"IF(OR($B12=\"\"),0,IF($B12=G12,20,0))","v":0},"Südkorea",{"$f":"IF(OR($B12=\"\"),0,IF($B12=I12,20,0))","v":20},"Südafrika",{"$f":"IF(OR($B12=\"\"),0,IF($B12=K12,20,0))","v":0},"Südkorea",{"$f":"IF(OR($B12=\"\"),0,IF($B12=M12,20,0))","v":20},"Tschechien",{"$f":"IF(OR($B12=\"\"),0,IF($B12=O12,20,0))","v":0},"Südkorea",{"$f":"IF(OR($B12=\"\"),0,IF($B12=Q12,20,0))","v":20},"Tschechien",{"$f":"IF(OR($B12=\"\"),0,IF($B12=S12,20,0))","v":0},"Südafrika",{"$f":"IF(OR($B12=\"\"),0,IF($B12=U12,20,0))","v":0},"Tschechien",{"$f":"IF(OR($B12=\"\"),0,IF($B12=W12,20,0))","v":0},"Tschechien",{"$f":"IF(OR($B12=\"\"),0,IF($B12=Y12,20,0))","v":0},"Südkorea",{"$f":"IF(OR($B12=\"\"),0,IF($B12=AA12,20,0))","v":20},"Tschechien",{"$f":"IF(OR($B12=\"\"),0,IF($B12=AC12,20,0))","v":0},"Tschechien",{"$f":"IF(OR($B12=\"\"),0,IF($B12=AE12,20,0))","v":0},"Tschechien",{"$f":"IF(OR($B12=\"\"),0,IF($B12=AG12,20,0))","v":0},"Tschechien",{"$f":"IF(OR($B12=\"\"),0,IF($B12=AI12,20,0))","v":0},"Südkorea",{"$f":"IF(OR($B12=\"\"),0,IF($B12=AK12,20,0))","v":20},"Tschechien",{"$f":"IF(OR($B12=\"\"),0,IF($B12=AM12,20,0))","v":0},"Tschechien",{"$f":"IF(OR($B12=\"\"),0,IF($B12=AO12,20,0))","v":0},"Südkorea",{"$f":"IF(OR($B12=\"\"),0,IF($B12=AQ12,20,0))","v":20},"Südkorea",{"$f":"IF(OR($B12=\"\"),0,IF($B12=AS12,20,0))","v":20},"Südkorea",{"$f":"IF(OR($B12=\"\"),0,IF($B12=AU12,20,0))","v":20},"Südkorea",{"$f":"IF(OR($B12=\"\"),0,IF($B12=AW12,20,0))","v":20},"Südkorea",{"$f":"IF(OR($B12=\"\"),0,IF($B12=AY12,20,0))","v":20},"Tschechien",{"$f":"IF(OR($B12=\"\"),0,IF($B12=BA12,20,0))","v":0},"Südkorea",{"$f":"IF(OR($B12=\"\"),0,IF($B12=BC12,20,0))","v":20},"Südkorea",{"$f":"IF(OR($B12=\"\"),0,IF($B12=BE12,20,0))","v":20},"Südkorea",{"$f":"IF(OR($B12=\"\"),0,IF($B12=BG12,20,0))","v":20},"Südkorea",{"$f":"IF(OR($B12=\"\"),0,IF($B12=BI12,20,0))","v":20},"Südafrika",{"$f":"IF(OR($B12=\"\"),0,IF($B12=BK12,20,0))","v":0},"Tschechien",{"$f":"IF(OR($B12=\"\"),0,IF($B12=BM12,20,0))","v":0},"Tschechien",{"$f":"IF(OR($B12=\"\"),0,IF($B12=BO12,20,0))","v":0},"Südafrika",{"$f":"IF(OR($B12=\"\"),0,IF($B12=BQ12,20,0))","v":0},"Tschechien",{"$f":"IF(OR($B12=\"\"),0,IF($B12=BS12,20,0))","v":0},"Tschechien",{"$f":"IF(OR($B12=\"\"),0,IF($B12=BU12,20,0))","v":0},"Südafrika",{"$f":"IF(OR($B12=\"\"),0,IF($B12=BW12,20,0))","v":0},"Tschechien",{"$f":"IF(OR($B12=\"\"),0,IF($B12=BY12,20,0))","v":0},"Südafrika",{"$f":"IF(OR($B12=\"\"),0,IF($B12=CA12,20,0))","v":0},"Tschechien",{"$f":"IF(OR($B12=\"\"),0,IF($B12=CC12,20,0))","v":0},"Südkorea",{"$f":"IF(OR($B12=\"\"),0,IF($B12=CE12,20,0))","v":20},"Tschechien",{"$f":"IF(OR($B12=\"\"),0,IF($B12=CG12,20,0))","v":0},"Tschechien",{"$f":"IF(OR($B12=\"\"),0,IF($B12=CI12,20,0))","v":0},"Tschechien",{"$f":"IF(OR($B12=\"\"),0,IF($B12=CK12,20,0))","v":0},"Tschechien",{"$f":"IF(OR($B12=\"\"),0,IF($B12=CM12,20,0))","v":0},"Südkorea",{"$f":"IF(OR($B12=\"\"),0,IF($B12=CO12,20,0))","v":20},"Tschechien",{"$f":"IF(OR($B12=\"\"),0,IF($B12=CQ12,20,0))","v":0},"Tschechien",{"$f":"IF(OR($B12=\"\"),0,IF($B12=CS12,20,0))","v":0},"Tschechien",{"$f":"IF(OR($B12=\"\"),0,IF($B12=CU12,20,0))","v":0},"Südafrika",{"$f":"IF(OR($B12=\"\"),0,IF($B12=CW12,20,0))","v":0},"Tschechien",{"$f":"IF(OR($B12=\"\"),0,IF($B12=CY12,20,0))","v":0}]
[4,"Tschechien",null,null,"Südafrika",{"$f":"IF(OR($B13=\"\"),0,IF($B13=E13,20,0))","v":0},"Südafrika",{"$f":"IF(OR($B13=\"\"),0,IF($B13=G13,20,0))","v":0},"Tschechien",{"$f":"IF(OR($B13=\"\"),0,IF($B13=I13,20,0))","v":20},"Südkorea",{"$f":"IF(OR($B13=\"\"),0,IF($B13=K13,20,0))","v":0},"Südafrika",{"$f":"IF(OR($B13=\"\"),0,IF($B13=M13,20,0))","v":0},"Südafrika",{"$f":"IF(OR($B13=\"\"),0,IF($B13=O13,20,0))","v":0},"Südafrika",{"$f":"IF(OR($B13=\"\"),0,IF($B13=Q13,20,0))","v":0},"Südkorea",{"$f":"IF(OR($B13=\"\"),0,IF($B13=S13,20,0))","v":0},"Südkorea",{"$f":"IF(OR($B13=\"\"),0,IF($B13=U13,20,0))","v":0},"Südkorea",{"$f":"IF(OR($B13=\"\"),0,IF($B13=W13,20,0))","v":0},"Südafrika",{"$f":"IF(OR($B13=\"\"),0,IF($B13=Y13,20,0))","v":0},"Südafrika",{"$f":"IF(OR($B13=\"\"),0,IF($B13=AA13,20,0))","v":0},"Südafrika",{"$f":"IF(OR($B13=\"\"),0,IF($B13=AC13,20,0))","v":0},"Südafrika",{"$f":"IF(OR($B13=\"\"),0,IF($B13=AE13,20,0))","v":0},"Südafrika",{"$f":"IF(OR($B13=\"\"),0,IF($B13=AG13,20,0))","v":0},"Südafrika",{"$f":"IF(OR($B13=\"\"),0,IF($B13=AI13,20,0))","v":0},"Südafrika",{"$f":"IF(OR($B13=\"\"),0,IF($B13=AK13,20,0))","v":0},"Südafrika",{"$f":"IF(OR($B13=\"\"),0,IF($B13=AM13,20,0))","v":0},"Südafrika",{"$f":"IF(OR($B13=\"\"),0,IF($B13=AO13,20,0))","v":0},"Südafrika",{"$f":"IF(OR($B13=\"\"),0,IF($B13=AQ13,20,0))","v":0},"Südafrika",{"$f":"IF(OR($B13=\"\"),0,IF($B13=AS13,20,0))","v":0},"Südafrika",{"$f":"IF(OR($B13=\"\"),0,IF($B13=AU13,20,0))","v":0},"Südafrika",{"$f":"IF(OR($B13=\"\"),0,IF($B13=AW13,20,0))","v":0},"Südafrika",{"$f":"IF(OR($B13=\"\"),0,IF($B13=AY13,20,0))","v":0},"Südafrika",{"$f":"IF(OR($B13=\"\"),0,IF($B13=BA13,20,0))","v":0},"Südafrika",{"$f":"IF(OR($B13=\"\"),0,IF($B13=BC13,20,0))","v":0},"Südafrika",{"$f":"IF(OR($B13=\"\"),0,IF($B13=BE13,20,0))","v":0},"Südafrika",{"$f":"IF(OR($B13=\"\"),0,IF($B13=BG13,20,0))","v":0},"Südafrika",{"$f":"IF(OR($B13=\"\"),0,IF($B13=BI13,20,0))","v":0},"Südkorea",{"$f":"IF(OR($B13=\"\"),0,IF($B13=BK13,20,0))","v":0},"Südafrika",{"$f":"IF(OR($B13=\"\"),0,IF($B13=BM13,20,0))","v":0},"Südafrika",{"$f":"IF(OR($B13=\"\"),0,IF($B13=BO13,20,0))","v":0},"Südkorea",{"$f":"IF(OR($B13=\"\"),0,IF($B13=BQ13,20,0))","v":0},"Südafrika",{"$f":"IF(OR($B13=\"\"),0,IF($B13=BS13,20,0))","v":0},"Südafrika",{"$f":"IF(OR($B13=\"\"),0,IF($B13=BU13,20,0))","v":0},"Tschechien",{"$f":"IF(OR($B13=\"\"),0,IF($B13=BW13,20,0))","v":20},"Südafrika",{"$f":"IF(OR($B13=\"\"),0,IF($B13=BY13,20,0))","v":0},"Südkorea",{"$f":"IF(OR($B13=\"\"),0,IF($B13=CA13,20,0))","v":0},"Südafrika",{"$f":"IF(OR($B13=\"\"),0,IF($B13=CC13,20,0))","v":0},"Tschechien",{"$f":"IF(OR($B13=\"\"),0,IF($B13=CE13,20,0))","v":20},"Südafrika",{"$f":"IF(OR($B13=\"\"),0,IF($B13=CG13,20,0))","v":0},"Südafrika",{"$f":"IF(OR($B13=\"\"),0,IF($B13=CI13,20,0))","v":0},"Südafrika",{"$f":"IF(OR($B13=\"\"),0,IF($B13=CK13,20,0))","v":0},"Südafrika",{"$f":"IF(OR($B13=\"\"),0,IF($B13=CM13,20,0))","v":0},"Südafrika",{"$f":"IF(OR($B13=\"\"),0,IF($B13=CO13,20,0))","v":0},"Südafrika",{"$f":"IF(OR($B13=\"\"),0,IF($B13=CQ13,20,0))","v":0},"Südkorea",{"$f":"IF(OR($B13=\"\"),0,IF($B13=CS13,20,0))","v":0},"Südafrika",{"$f":"IF(OR($B13=\"\"),0,IF($B13=CU13,20,0))","v":0},"Südkorea",{"$f":"IF(OR($B13=\"\"),0,IF($B13=CW13,20,0))","v":0},"Südafrika",{"$f":"IF(OR($B13=\"\"),0,IF($B13=CY13,20,0))","v":0}]
[1,"Schweiz","Gruppe B",null,"Schweiz","-","Schweiz","-","Schweiz","-","Schweiz","-","Schweiz","-","Schweiz","-","Schweiz","-","Schweiz","-","Schweiz","-","Schweiz","-","Schweiz","-","Schweiz","-","Schweiz","-","Schweiz","-","Schweiz","-","Schweiz","-","Schweiz","-","Schweiz","-","Schweiz","-","Schweiz","-","Schweiz","-","Schweiz","-","Schweiz","-","Schweiz","-","Kanada","-","Schweiz","-","Schweiz","-","Schweiz","-","Schweiz","-","Bosnien-Herz.","-","Schweiz","-","Schweiz","-","Schweiz","-","Schweiz","-","Schweiz","-","Schweiz","-","Schweiz","-","Schweiz","-","Schweiz","-","Schweiz","-","Schweiz","-","Schweiz","-","Schweiz","-","Schweiz","-","Schweiz","-","Schweiz","-","Schweiz","-","Schweiz","-","Schweiz","-","Schweiz","-"]
[2,"Kanada",null,null,"Bosnien-Herz.","-","Bosnien-Herz.","-","Bosnien-Herz.","-","Bosnien-Herz.","-","Kanada","-","Kanada","-","Kanada","-","Kanada","-","Kanada","-","Kanada","-","Kanada","-","Kanada","-","Kanada","-","Bosnien-Herz.","-","Bosnien-Herz.","-","Bosnien-Herz.","-","Bosnien-Herz.","-","Bosnien-Herz.","-","Kanada","-","Bosnien-Herz.","-","Kanada","-","Kanada","-","Kanada","-","Bosnien-Herz.","-","Schweiz","-","Kanada","-","Bosnien-Herz.","-","Bosnien-Herz.","-","Bosnien-Herz.","-","Kanada","-","Bosnien-Herz.","-","Bosnien-Herz.","-","Bosnien-Herz.","-","Kanada","-","Kanada","-","Kanada","-","Kanada","-","Bosnien-Herz.","-","Kanada","-","Kanada","-","Kanada","-","Kanada","-","Bosnien-Herz.","-","Bosnien-Herz.","-","Bosnien-Herz.","-","Kanada","-","Bosnien-Herz.","-","Bosnien-Herz.","-","Kanada","-","Kanada","-"]
[3,"Bosnien-Herz.",null,null,"Kanada",{"$f":"IF(OR($B16=\"\"),0,IF($B16=E16,20,0))","v":0},"Kanada",{"$f":"IF(OR($B16=\"\"),0,IF($B16=G16,20,0))","v":0},"Kanada",{"$f":"IF(OR($B16=\"\"),0,IF($B16=I16,20,0))","v":0},"Kanada",{"$f":"IF(OR($B16=\"\"),0,IF($B16=K16,20,0))","v":0},"Bosnien-Herz.",{"$f":"IF(OR($B16=\"\"),0,IF($B16=M16,20,0))","v":20},"Bosnien-Herz.",{"$f":"IF(OR($B16=\"\"),0,IF($B16=O16,20,0))","v":20},"Bosnien-Herz.",{"$f":"IF(OR($B16=\"\"),0,IF($B16=Q16,20,0))","v":20},"Katar",{"$f":"IF(OR($B16=\"\"),0,IF($B16=S16,20,0))","v":0},"Bosnien-Herz.",{"$f":"IF(OR($B16=\"\"),0,IF($B16=U16,20,0))","v":20},"Bosnien-Herz.",{"$f":"IF(OR($B16=\"\"),0,IF($B16=W16,20,0))","v":20},"Bosnien-Herz.",{"$f":"IF(OR($B16=\"\"),0,IF($B16=Y16,20,0))","v":20},"Bosnien-Herz.",{"$f":"IF(OR($B16=\"\"),0,IF($B16=AA16,20,0))","v":20},"Bosnien-Herz.",{"$f":"IF(OR($B16=\"\"),0,IF($B16=AC16,20,0))","v":20},"Kanada",{"$f":"IF(OR($B16=\"\"),0,IF($B16=AE16,20,0))","v":0},"Kanada",{"$f":"IF(OR($B16=\"\"),0,IF($B16=AG16,20,0))","v":0},"Kanada",{"$f":"IF(OR($B16=\"\"),0,IF($B16=AI16,20,0))","v":0},"Kanada",{"$f":"IF(OR($B16=\"\"),0,IF($B16=AK16,20,0))","v":0},"Kanada",{"$f":"IF(OR($B16=\"\"),0,IF($B16=AM16,20,0))","v":0},"Bosnien-Herz.",{"$f":"IF(OR($B16=\"\"),0,IF($B16=AO16,20,0))","v":20},"Kanada",{"$f":"IF(OR($B16=\"\"),0,IF($B16=AQ16,20,0))","v":0},"Bosnien-Herz.",{"$f":"IF(OR($B16=\"\"),0,IF($B16=AS16,20,0))","v":20},"Bosnien-Herz.",{"$f":"IF(OR($B16=\"\"),0,IF($B16=AU16,20,0))","v":20},"Katar",{"$f":"IF(OR($B16=\"\"),0,IF($B16=AW16,20,0))","v":0},"Kanada",{"$f":"IF(OR($B16=\"\"),0,IF($B16=AY16,20,0))","v":0},"Bosnien-Herz.",{"$f":"IF(OR($B16=\"\"),0,IF($B16=BA16,20,0))","v":20},"Bosnien-Herz.",{"$f":"IF(OR($B16=\"\"),0,IF($B16=BC16,20,0))","v":20},"Kanada",{"$f":"IF(OR($B16=\"\"),0,IF($B16=BE16,20,0))","v":0},"Kanada",{"$f":"IF(OR($B16=\"\"),0,IF($B16=BG16,20,0))","v":0},"Kanada",{"$f":"IF(OR($B16=\"\"),0,IF($B16=BI16,20,0))","v":0},"Schweiz",{"$f":"IF(OR($B16=\"\"),0,IF($B16=BK16,20,0))","v":0},"Kanada",{"$f":"IF(OR($B16=\"\"),0,IF($B16=BM16,20,0))","v":0},"Katar",{"$f":"IF(OR($B16=\"\"),0,IF($B16=BO16,20,0))","v":0},"Katar",{"$f":"IF(OR($B16=\"\"),0,IF($B16=BQ16,20,0))","v":0},"Bosnien-Herz.",{"$f":"IF(OR($B16=\"\"),0,IF($B16=BS16,20,0))","v":20},"Bosnien-Herz.",{"$f":"IF(OR($B16=\"\"),0,IF($B16=BU16,20,0))","v":20},"Bosnien-Herz.",{"$f":"IF(OR($B16=\"\"),0,IF($B16=BW16,20,0))","v":20},"Bosnien-Herz.",{"$f":"IF(OR($B16=\"\"),0,IF($B16=BY16,20,0))","v":20},"Kanada",{"$f":"IF(OR($B16=\"\"),0,IF($B16=CA16,20,0))","v":0},"Bosnien-Herz.",{"$f":"IF(OR($B16=\"\"),0,IF($B16=CC16,20,0))","v":20},"Katar",{"$f":"IF(OR($B16=\"\"),0,IF($B16=CE16,20,0))","v":0},"Bosnien-Herz.",{"$f":"IF(OR($B16=\"\"),0,IF($B16=CG16,20,0))","v":20},"Bosnien-Herz.",{"$f":"IF(OR($B16=\"\"),0,IF($B16=CI16,20,0))","v":20},"Kanada",{"$f":"IF(OR($B16=\"\"),0,IF($B16=CK16,20,0))","v":0},"Kanada",{"$f":"IF(OR($B16=\"\"),0,IF($B16=CM16,20,0))","v":0},"Kanada",{"$f":"IF(OR($B16=\"\"),0,IF($B16=CO16,20,0))","v":0},"Bosnien-Herz.",{"$f":"IF(OR($B16=\"\"),0,IF($B16=CQ16,20,0))","v":20},"Kanada",{"$f":"IF(OR($B16=\"\"),0,IF($B16=CS16,20,0))","v":0},"Kanada",{"$f":"IF(OR($B16=\"\"),0,IF($B16=CU16,20,0))","v":0},"Bosnien-Herz.",{"$f":"IF(OR($B16=\"\"),0,IF($B16=CW16,20,0))","v":20},"Bosnien-Herz.",{"$f":"IF(OR($B16=\"\"),0,IF($B16=CY16,20,0))","v":20}]
[4,"Katar",null,null,"Katar",{"$f":"IF(OR($B17=\"\"),0,IF($B17=E17,20,0))","v":20},"Katar",{"$f":"IF(OR($B17=\"\"),0,IF($B17=G17,20,0))","v":20},"Katar",{"$f":"IF(OR($B17=\"\"),0,IF($B17=I17,20,0))","v":20},"Katar",{"$f":"IF(OR($B17=\"\"),0,IF($B17=K17,20,0))","v":20},"Katar",{"$f":"IF(OR($B17=\"\"),0,IF($B17=M17,20,0))","v":20},"Katar",{"$f":"IF(OR($B17=\"\"),0,IF($B17=O17,20,0))","v":20},"Katar",{"$f":"IF(OR($B17=\"\"),0,IF($B17=Q17,20,0))","v":20},"Bosnien-Herz.",{"$f":"IF(OR($B17=\"\"),0,IF($B17=S17,20,0))","v":0},"Katar",{"$f":"IF(OR($B17=\"\"),0,IF($B17=U17,20,0))","v":20},"Katar",{"$f":"IF(OR($B17=\"\"),0,IF($B17=W17,20,0))","v":20},"Katar",{"$f":"IF(OR($B17=\"\"),0,IF($B17=Y17,20,0))","v":20},"Katar",{"$f":"IF(OR($B17=\"\"),0,IF($B17=AA17,20,0))","v":20},"Katar",{"$f":"IF(OR($B17=\"\"),0,IF($B17=AC17,20,0))","v":20},"Katar",{"$f":"IF(OR($B17=\"\"),0,IF($B17=AE17,20,0))","v":20},"Katar",{"$f":"IF(OR($B17=\"\"),0,IF($B17=AG17,20,0))","v":20},"Katar",{"$f":"IF(OR($B17=\"\"),0,IF($B17=AI17,20,0))","v":20},"Katar",{"$f":"IF(OR($B17=\"\"),0,IF($B17=AK17,20,0))","v":20},"Katar",{"$f":"IF(OR($B17=\"\"),0,IF($B17=AM17,20,0))","v":20},"Katar",{"$f":"IF(OR($B17=\"\"),0,IF($B17=AO17,20,0))","v":20},"Katar",{"$f":"IF(OR($B17=\"\"),0,IF($B17=AQ17,20,0))","v":20},"Katar",{"$f":"IF(OR($B17=\"\"),0,IF($B17=AS17,20,0))","v":20},"Katar",{"$f":"IF(OR($B17=\"\"),0,IF($B17=AU17,20,0))","v":20},"Bosnien-Herz.",{"$f":"IF(OR($B17=\"\"),0,IF($B17=AW17,20,0))","v":0},"Katar",{"$f":"IF(OR($B17=\"\"),0,IF($B17=AY17,20,0))","v":20},"Katar",{"$f":"IF(OR($B17=\"\"),0,IF($B17=BA17,20,0))","v":20},"Katar",{"$f":"IF(OR($B17=\"\"),0,IF($B17=BC17,20,0))","v":20},"Katar",{"$f":"IF(OR($B17=\"\"),0,IF($B17=BE17,20,0))","v":20},"Katar",{"$f":"IF(OR($B17=\"\"),0,IF($B17=BG17,20,0))","v":20},"Katar",{"$f":"IF(OR($B17=\"\"),0,IF($B17=BI17,20,0))","v":20},"Katar",{"$f":"IF(OR($B17=\"\"),0,IF($B17=BK17,20,0))","v":20},"Katar",{"$f":"IF(OR($B17=\"\"),0,IF($B17=BM17,20,0))","v":20},"Kanada",{"$f":"IF(OR($B17=\"\"),0,IF($B17=BO17,20,0))","v":0},"Kanada",{"$f":"IF(OR($B17=\"\"),0,IF($B17=BQ17,20,0))","v":0},"Katar",{"$f":"IF(OR($B17=\"\"),0,IF($B17=BS17,20,0))","v":20},"Katar",{"$f":"IF(OR($B17=\"\"),0,IF($B17=BU17,20,0))","v":20},"Katar",{"$f":"IF(OR($B17=\"\"),0,IF($B17=BW17,20,0))","v":20},"Katar",{"$f":"IF(OR($B17=\"\"),0,IF($B17=BY17,20,0))","v":20},"Katar",{"$f":"IF(OR($B17=\"\"),0,IF($B17=CA17,20,0))","v":20},"Katar",{"$f":"IF(OR($B17=\"\"),0,IF($B17=CC17,20,0))","v":20},"Bosnien-Herz.",{"$f":"IF(OR($B17=\"\"),0,IF($B17=CE17,20,0))","v":0},"Katar",{"$f":"IF(OR($B17=\"\"),0,IF($B17=CG17,20,0))","v":20},"Katar",{"$f":"IF(OR($B17=\"\"),0,IF($B17=CI17,20,0))","v":20},"Katar",{"$f":"IF(OR($B17=\"\"),0,IF($B17=CK17,20,0))","v":20},"Katar",{"$f":"IF(OR($B17=\"\"),0,IF($B17=CM17,20,0))","v":20},"Katar",{"$f":"IF(OR($B17=\"\"),0,IF($B17=CO17,20,0))","v":20},"Katar",{"$f":"IF(OR($B17=\"\"),0,IF($B17=CQ17,20,0))","v":20},"Katar",{"$f":"IF(OR($B17=\"\"),0,IF($B17=CS17,20,0))","v":20},"Katar",{"$f":"IF(OR($B17=\"\"),0,IF($B17=CU17,20,0))","v":20},"Katar",{"$f":"IF(OR($B17=\"\"),0,IF($B17=CW17,20,0))","v":20},"Katar",{"$f":"IF(OR($B17=\"\"),0,IF($B17=CY17,20,0))","v":20}]
[1,"Brasilien","Gruppe C",null,"Brasilien","-","Brasilien","-","Brasilien","-","Brasilien","-","Brasilien","-","Brasilien","-","Brasilien","-","Brasilien","-","Brasilien","-","Brasilien","-","Brasilien","-","Brasilien","-","Brasilien","-","Brasilien","-","Brasilien","-","Brasilien","-","Brasilien","-","Brasilien","-","Brasilien","-","Marokko","-","Brasilien","-","Brasilien","-","Brasilien","-","Brasilien","-","Brasilien","-","Brasilien","-","Brasilien","-","Brasilien","-","Brasilien","-","Brasilien","-","Marokko","-","Brasilien","-","Brasilien","-","Brasilien","-","Brasilien","-","Brasilien","-","Brasilien","-","Brasilien","-","Brasilien","-","Marokko","-","Brasilien","-","Brasilien","-","Brasilien","-","Brasilien","-","Brasilien","-","Brasilien","-","Brasilien","-","Brasilien","-","Brasilien","-","Brasilien","-"]
[2,"Marokko",null,null,"Marokko","-","Marokko","-","Marokko","-","Marokko","-","Marokko","-","Marokko","-","Marokko","-","Schottland","-","Marokko","-","Schottland","-","Marokko","-","Marokko","-","Marokko","-","Marokko","-","Marokko","-","Marokko","-","Marokko","-","Marokko","-","Marokko","-","Brasilien","-","Marokko","-","Marokko","-","Marokko","-","Marokko","-","Marokko","-","Marokko","-","Marokko","-","Marokko","-","Marokko","-","Schottland","-","Brasilien","-","Marokko","-","Marokko","-","Schottland","-","Schottland","-","Schottland","-","Schottland","-","Marokko","-","Marokko","-","Brasilien","-","Marokko","-","Schottland","-","Schottland","-","Marokko","-","Marokko","-","Marokko","-","Marokko","-","Marokko","-","Schottland","-","Schottland","-"]
[3,"Schottland",null,null,"Schottland",{"$f":"IF(OR($B20=\"\"),0,IF($B20=E20,20,0))","v":20},"Schottland",{"$f":"IF(OR($B20=\"\"),0,IF($B20=G20,20,0))","v":20},"Schottland",{"$f":"IF(OR($B20=\"\"),0,IF($B20=I20,20,0))","v":20},"Schottland",{"$f":"IF(OR($B20=\"\"),0,IF($B20=K20,20,0))","v":20},"Schottland",{"$f":"IF(OR($B20=\"\"),0,IF($B20=M20,20,0))","v":20},"Schottland",{"$f":"IF(OR($B20=\"\"),0,IF($B20=O20,20,0))","v":20},"Schottland",{"$f":"IF(OR($B20=\"\"),0,IF($B20=Q20,20,0))","v":20},"Haiti",{"$f":"IF(OR($B20=\"\"),0,IF($B20=S20,20,0))","v":0},"Schottland",{"$f":"IF(OR($B20=\"\"),0,IF($B20=U20,20,0))","v":20},"Marokko",{"$f":"IF(OR($B20=\"\"),0,IF($B20=W20,20,0))","v":0},"Schottland",{"$f":"IF(OR($B20=\"\"),0,IF($B20=Y20,20,0))","v":20},"Schottland",{"$f":"IF(OR($B20=\"\"),0,IF($B20=AA20,20,0))","v":20},"Schottland",{"$f":"IF(OR($B20=\"\"),0,IF($B20=AC20,20,0))","v":20},"Schottland",{"$f":"IF(OR($B20=\"\"),0,IF($B20=AE20,20,0))","v":20},"Schottland",{"$f":"IF(OR($B20=\"\"),0,IF($B20=AG20,20,0))","v":20},"Schottland",{"$f":"IF(OR($B20=\"\"),0,IF($B20=AI20,20,0))","v":20},"Schottland",{"$f":"IF(OR($B20=\"\"),0,IF($B20=AK20,20,0))","v":20},"Schottland",{"$f":"IF(OR($B20=\"\"),0,IF($B20=AM20,20,0))","v":20},"Schottland",{"$f":"IF(OR($B20=\"\"),0,IF($B20=AO20,20,0))","v":20},"Schottland",{"$f":"IF(OR($B20=\"\"),0,IF($B20=AQ20,20,0))","v":20},"Schottland",{"$f":"IF(OR($B20=\"\"),0,IF($B20=AS20,20,0))","v":20},"Schottland",{"$f":"IF(OR($B20=\"\"),0,IF($B20=AU20,20,0))","v":20},"Schottland",{"$f":"IF(OR($B20=\"\"),0,IF($B20=AW20,20,0))","v":20},"Schottland",{"$f":"IF(OR($B20=\"\"),0,IF($B20=AY20,20,0))","v":20},"Schottland",{"$f":"IF(OR($B20=\"\"),0,IF($B20=BA20,20,0))","v":20},"Schottland",{"$f":"IF(OR($B20=\"\"),0,IF($B20=BC20,20,0))","v":20},"Schottland",{"$f":"IF(OR($B20=\"\"),0,IF($B20=BE20,20,0))","v":20},"Schottland",{"$f":"IF(OR($B20=\"\"),0,IF($B20=BG20,20,0))","v":20},"Schottland",{"$f":"IF(OR($B20=\"\"),0,IF($B20=BI20,20,0))","v":20},"Marokko",{"$f":"IF(OR($B20=\"\"),0,IF($B20=BK20,20,0))","v":0},"Schottland",{"$f":"IF(OR($B20=\"\"),0,IF($B20=BM20,20,0))","v":20},"Schottland",{"$f":"IF(OR($B20=\"\"),0,IF($B20=BO20,20,0))","v":20},"Schottland",{"$f":"IF(OR($B20=\"\"),0,IF($B20=BQ20,20,0))","v":20},"Marokko",{"$f":"IF(OR($B20=\"\"),0,IF($B20=BS20,20,0))","v":0},"Marokko",{"$f":"IF(OR($B20=\"\"),0,IF($B20=BU20,20,0))","v":0},"Marokko",{"$f":"IF(OR($B20=\"\"),0,IF($B20=BW20,20,0))","v":0},"Marokko",{"$f":"IF(OR($B20=\"\"),0,IF($B20=BY20,20,0))","v":0},"Schottland",{"$f":"IF(OR($B20=\"\"),0,IF($B20=CA20,20,0))","v":20},"Schottland",{"$f":"IF(OR($B20=\"\"),0,IF($B20=CC20,20,0))","v":20},"Schottland",{"$f":"IF(OR($B20=\"\"),0,IF($B20=CE20,20,0))","v":20},"Schottland",{"$f":"IF(OR($B20=\"\"),0,IF($B20=CG20,20,0))","v":20},"Marokko",{"$f":"IF(OR($B20=\"\"),0,IF($B20=CI20,20,0))","v":0},"Marokko",{"$f":"IF(OR($B20=\"\"),0,IF($B20=CK20,20,0))","v":0},"Schottland",{"$f":"IF(OR($B20=\"\"),0,IF($B20=CM20,20,0))","v":20},"Schottland",{"$f":"IF(OR($B20=\"\"),0,IF($B20=CO20,20,0))","v":20},"Schottland",{"$f":"IF(OR($B20=\"\"),0,IF($B20=CQ20,20,0))","v":20},"Schottland",{"$f":"IF(OR($B20=\"\"),0,IF($B20=CS20,20,0))","v":20},"Schottland",{"$f":"IF(OR($B20=\"\"),0,IF($B20=CU20,20,0))","v":20},"Marokko",{"$f":"IF(OR($B20=\"\"),0,IF($B20=CW20,20,0))","v":0},"Marokko",{"$f":"IF(OR($B20=\"\"),0,IF($B20=CY20,20,0))","v":0}]
[4,"Haiti",null,null,"Haiti",{"$f":"IF(OR($B21=\"\"),0,IF($B21=E21,20,0))","v":20},"Haiti",{"$f":"IF(OR($B21=\"\"),0,IF($B21=G21,20,0))","v":20},"Haiti",{"$f":"IF(OR($B21=\"\"),0,IF($B21=I21,20,0))","v":20},"Haiti",{"$f":"IF(OR($B21=\"\"),0,IF($B21=K21,20,0))","v":20},"Haiti",{"$f":"IF(OR($B21=\"\"),0,IF($B21=M21,20,0))","v":20},"Haiti",{"$f":"IF(OR($B21=\"\"),0,IF($B21=O21,20,0))","v":20},"Haiti",{"$f":"IF(OR($B21=\"\"),0,IF($B21=Q21,20,0))","v":20},"Marokko",{"$f":"IF(OR($B21=\"\"),0,IF($B21=S21,20,0))","v":0},"Haiti",{"$f":"IF(OR($B21=\"\"),0,IF($B21=U21,20,0))","v":20},"Haiti",{"$f":"IF(OR($B21=\"\"),0,IF($B21=W21,20,0))","v":20},"Haiti",{"$f":"IF(OR($B21=\"\"),0,IF($B21=Y21,20,0))","v":20},"Haiti",{"$f":"IF(OR($B21=\"\"),0,IF($B21=AA21,20,0))","v":20},"Haiti",{"$f":"IF(OR($B21=\"\"),0,IF($B21=AC21,20,0))","v":20},"Haiti",{"$f":"IF(OR($B21=\"\"),0,IF($B21=AE21,20,0))","v":20},"Haiti",{"$f":"IF(OR($B21=\"\"),0,IF($B21=AG21,20,0))","v":20},"Haiti",{"$f":"IF(OR($B21=\"\"),0,IF($B21=AI21,20,0))","v":20},"Haiti",{"$f":"IF(OR($B21=\"\"),0,IF($B21=AK21,20,0))","v":20},"Haiti",{"$f":"IF(OR($B21=\"\"),0,IF($B21=AM21,20,0))","v":20},"Haiti",{"$f":"IF(OR($B21=\"\"),0,IF($B21=AO21,20,0))","v":20},"Haiti",{"$f":"IF(OR($B21=\"\"),0,IF($B21=AQ21,20,0))","v":20},"Haiti",{"$f":"IF(OR($B21=\"\"),0,IF($B21=AS21,20,0))","v":20},"Haiti",{"$f":"IF(OR($B21=\"\"),0,IF($B21=AU21,20,0))","v":20},"Haiti",{"$f":"IF(OR($B21=\"\"),0,IF($B21=AW21,20,0))","v":20},"Haiti",{"$f":"IF(OR($B21=\"\"),0,IF($B21=AY21,20,0))","v":20},"Haiti",{"$f":"IF(OR($B21=\"\"),0,IF($B21=BA21,20,0))","v":20},"Haiti",{"$f":"IF(OR($B21=\"\"),0,IF($B21=BC21,20,0))","v":20},"Haiti",{"$f":"IF(OR($B21=\"\"),0,IF($B21=BE21,20,0))","v":20},"Haiti",{"$f":"IF(OR($B21=\"\"),0,IF($B21=BG21,20,0))","v":20},"Haiti",{"$f":"IF(OR($B21=\"\"),0,IF($B21=BI21,20,0))","v":20},"Haiti",{"$f":"IF(OR($B21=\"\"),0,IF($B21=BK21,20,0))","v":20},"Haiti",{"$f":"IF(OR($B21=\"\"),0,IF($B21=BM21,20,0))","v":20},"Haiti",{"$f":"IF(OR($B21=\"\"),0,IF($B21=BO21,20,0))","v":20},"Haiti",{"$f":"IF(OR($B21=\"\"),0,IF($B21=BQ21,20,0))","v":20},"Haiti",{"$f":"IF(OR($B21=\"\"),0,IF($B21=BS21,20,0))","v":20},"Haiti",{"$f":"IF(OR($B21=\"\"),0,IF($B21=BU21,20,0))","v":20},"Haiti",{"$f":"IF(OR($B21=\"\"),0,IF($B21=BW21,20,0))","v":20},"Haiti",{"$f":"IF(OR($B21=\"\"),0,IF($B21=BY21,20,0))","v":20},"Haiti",{"$f":"IF(OR($B21=\"\"),0,IF($B21=CA21,20,0))","v":20},"Haiti",{"$f":"IF(OR($B21=\"\"),0,IF($B21=CC21,20,0))","v":20},"Haiti",{"$f":"IF(OR($B21=\"\"),0,IF($B21=CE21,20,0))","v":20},"Haiti",{"$f":"IF(OR($B21=\"\"),0,IF($B21=CG21,20,0))","v":20},"Haiti",{"$f":"IF(OR($B21=\"\"),0,IF($B21=CI21,20,0))","v":20},"Haiti",{"$f":"IF(OR($B21=\"\"),0,IF($B21=CK21,20,0))","v":20},"Haiti",{"$f":"IF(OR($B21=\"\"),0,IF($B21=CM21,20,0))","v":20},"Haiti",{"$f":"IF(OR($B21=\"\"),0,IF($B21=CO21,20,0))","v":20},"Haiti",{"$f":"IF(OR($B21=\"\"),0,IF($B21=CQ21,20,0))","v":20},"Haiti",{"$f":"IF(OR($B21=\"\"),0,IF($B21=CS21,20,0))","v":20},"Haiti",{"$f":"IF(OR($B21=\"\"),0,IF($B21=CU21,20,0))","v":20},"Haiti",{"$f":"IF(OR($B21=\"\"),0,IF($B21=CW21,20,0))","v":20},"Haiti",{"$f":"IF(OR($B21=\"\"),0,IF($B21=CY21,20,0))","v":20}]
[1,"USA","Gruppe D",null,"USA","-","Türkei","-","Türkei","-","Türkei","-","Türkei","-","Türkei","-","Türkei","-","Australien","-","USA","-","Türkei","-","USA","-","Türkei","-","USA","-","Paraguay","-","Türkei","-","Türkei","-","USA","-","USA","-","Türkei","-","Türkei","-","Türkei","-","Türkei","-","Türkei","-","Türkei","-","USA","-","Türkei","-","Türkei","-","Türkei","-","Türkei","-","Türkei","-","Türkei","-","USA","-","Türkei","-","Türkei","-","USA","-","USA","-","USA","-","USA","-","Paraguay","-","Türkei","-","USA","-","USA","-","Paraguay","-","Türkei","-","Türkei","-","USA","-","Türkei","-","Türkei","-","Türkei","-","Türkei","-"]
[2,"Australien",null,null,"Türkei","-","Paraguay","-","Paraguay","-","USA","-","USA","-","USA","-","USA","-","USA","-","Türkei","-","USA","-","Paraguay","-","USA","-","Türkei","-","Türkei","-","USA","-","USA","-","Türkei","-","Paraguay","-","USA","-","USA","-","USA","-","USA","-","Paraguay","-","Paraguay","-","Türkei","-","USA","-","USA","-","USA","-","USA","-","USA","-","Paraguay","-","Paraguay","-","Paraguay","-","USA","-","Paraguay","-","Paraguay","-","Türkei","-","Australien","-","USA","-","USA","-","Türkei","-","Türkei","-","Türkei","-","Paraguay","-","USA","-","Türkei","-","USA","-","USA","-","Paraguay","-","Australien","-"]
[3,"Paraguay",null,null,"Australien",{"$f":"IF(OR($B24=\"\"),0,IF($B24=E24,20,0))","v":0},"USA",{"$f":"IF(OR($B24=\"\"),0,IF($B24=G24,20,0))","v":0},"USA",{"$f":"IF(OR($B24=\"\"),0,IF($B24=I24,20,0))","v":0},"Australien",{"$f":"IF(OR($B24=\"\"),0,IF($B24=K24,20,0))","v":0},"Australien",{"$f":"IF(OR($B24=\"\"),0,IF($B24=M24,20,0))","v":0},"Paraguay",{"$f":"IF(OR($B24=\"\"),0,IF($B24=O24,20,0))","v":20},"Paraguay",{"$f":"IF(OR($B24=\"\"),0,IF($B24=Q24,20,0))","v":20},"Türkei",{"$f":"IF(OR($B24=\"\"),0,IF($B24=S24,20,0))","v":0},"Paraguay",{"$f":"IF(OR($B24=\"\"),0,IF($B24=U24,20,0))","v":20},"Paraguay",{"$f":"IF(OR($B24=\"\"),0,IF($B24=W24,20,0))","v":20},"Australien",{"$f":"IF(OR($B24=\"\"),0,IF($B24=Y24,20,0))","v":0},"Australien",{"$f":"IF(OR($B24=\"\"),0,IF($B24=AA24,20,0))","v":0},"Australien",{"$f":"IF(OR($B24=\"\"),0,IF($B24=AC24,20,0))","v":0},"USA",{"$f":"IF(OR($B24=\"\"),0,IF($B24=AE24,20,0))","v":0},"Paraguay",{"$f":"IF(OR($B24=\"\"),0,IF($B24=AG24,20,0))","v":20},"Australien",{"$f":"IF(OR($B24=\"\"),0,IF($B24=AI24,20,0))","v":0},"Paraguay",{"$f":"IF(OR($B24=\"\"),0,IF($B24=AK24,20,0))","v":20},"Australien",{"$f":"IF(OR($B24=\"\"),0,IF($B24=AM24,20,0))","v":0},"Paraguay",{"$f":"IF(OR($B24=\"\"),0,IF($B24=AO24,20,0))","v":20},"Australien",{"$f":"IF(OR($B24=\"\"),0,IF($B24=AQ24,20,0))","v":0},"Paraguay",{"$f":"IF(OR($B24=\"\"),0,IF($B24=AS24,20,0))","v":20},"Australien",{"$f":"IF(OR($B24=\"\"),0,IF($B24=AU24,20,0))","v":0},"Australien",{"$f":"IF(OR($B24=\"\"),0,IF($B24=AW24,20,0))","v":0},"Australien",{"$f":"IF(OR($B24=\"\"),0,IF($B24=AY24,20,0))","v":0},"Paraguay",{"$f":"IF(OR($B24=\"\"),0,IF($B24=BA24,20,0))","v":20},"Paraguay",{"$f":"IF(OR($B24=\"\"),0,IF($B24=BC24,20,0))","v":20},"Australien",{"$f":"IF(OR($B24=\"\"),0,IF($B24=BE24,20,0))","v":0},"Australien",{"$f":"IF(OR($B24=\"\"),0,IF($B24=BG24,20,0))","v":0},"Australien",{"$f":"IF(OR($B24=\"\"),0,IF($B24=BI24,20,0))","v":0},"Australien",{"$f":"IF(OR($B24=\"\"),0,IF($B24=BK24,20,0))","v":0},"USA",{"$f":"IF(OR($B24=\"\"),0,IF($B24=BM24,20,0))","v":0},"Türkei",{"$f":"IF(OR($B24=\"\"),0,IF($B24=BO24,20,0))","v":0},"USA",{"$f":"IF(OR($B24=\"\"),0,IF($B24=BQ24,20,0))","v":0},"Paraguay",{"$f":"IF(OR($B24=\"\"),0,IF($B24=BS24,20,0))","v":20},"Türkei",{"$f":"IF(OR($B24=\"\"),0,IF($B24=BU24,20,0))","v":0},"Türkei",{"$f":"IF(OR($B24=\"\"),0,IF($B24=BW24,20,0))","v":0},"Paraguay",{"$f":"IF(OR($B24=\"\"),0,IF($B24=BY24,20,0))","v":20},"Türkei",{"$f":"IF(OR($B24=\"\"),0,IF($B24=CA24,20,0))","v":0},"Australien",{"$f":"IF(OR($B24=\"\"),0,IF($B24=CC24,20,0))","v":0},"Australien",{"$f":"IF(OR($B24=\"\"),0,IF($B24=CE24,20,0))","v":0},"Australien",{"$f":"IF(OR($B24=\"\"),0,IF($B24=CG24,20,0))","v":0},"Paraguay",{"$f":"IF(OR($B24=\"\"),0,IF($B24=CI24,20,0))","v":20},"Australien",{"$f":"IF(OR($B24=\"\"),0,IF($B24=CK24,20,0))","v":0},"USA",{"$f":"IF(OR($B24=\"\"),0,IF($B24=CM24,20,0))","v":0},"Australien",{"$f":"IF(OR($B24=\"\"),0,IF($B24=CO24,20,0))","v":0},"Paraguay",{"$f":"IF(OR($B24=\"\"),0,IF($B24=CQ24,20,0))","v":20},"Paraguay",{"$f":"IF(OR($B24=\"\"),0,IF($B24=CS24,20,0))","v":20},"Australien",{"$f":"IF(OR($B24=\"\"),0,IF($B24=CU24,20,0))","v":0},"Australien",{"$f":"IF(OR($B24=\"\"),0,IF($B24=CW24,20,0))","v":0},"Paraguay",{"$f":"IF(OR($B24=\"\"),0,IF($B24=CY24,20,0))","v":20}]
[4,"Türkei",null,null,"Paraguay",{"$f":"IF(OR($B25=\"\"),0,IF($B25=E25,20,0))","v":0},"Australien",{"$f":"IF(OR($B25=\"\"),0,IF($B25=G25,20,0))","v":0},"Australien",{"$f":"IF(OR($B25=\"\"),0,IF($B25=I25,20,0))","v":0},"Paraguay",{"$f":"IF(OR($B25=\"\"),0,IF($B25=K25,20,0))","v":0},"Paraguay",{"$f":"IF(OR($B25=\"\"),0,IF($B25=M25,20,0))","v":0},"Australien",{"$f":"IF(OR($B25=\"\"),0,IF($B25=O25,20,0))","v":0},"Australien",{"$f":"IF(OR($B25=\"\"),0,IF($B25=Q25,20,0))","v":0},"Paraguay",{"$f":"IF(OR($B25=\"\"),0,IF($B25=S25,20,0))","v":0},"Australien",{"$f":"IF(OR($B25=\"\"),0,IF($B25=U25,20,0))","v":0},"Australien",{"$f":"IF(OR($B25=\"\"),0,IF($B25=W25,20,0))","v":0},"Türkei",{"$f":"IF(OR($B25=\"\"),0,IF($B25=Y25,20,0))","v":20},"Paraguay",{"$f":"IF(OR($B25=\"\"),0,IF($B25=AA25,20,0))","v":0},"Paraguay",{"$f":"IF(OR($B25=\"\"),0,IF($B25=AC25,20,0))","v":0},"Australien",{"$f":"IF(OR($B25=\"\"),0,IF($B25=AE25,20,0))","v":0},"Australien",{"$f":"IF(OR($B25=\"\"),0,IF($B25=AG25,20,0))","v":0},"Paraguay",{"$f":"IF(OR($B25=\"\"),0,IF($B25=AI25,20,0))","v":0},"Australien",{"$f":"IF(OR($B25=\"\"),0,IF($B25=AK25,20,0))","v":0},"Türkei",{"$f":"IF(OR($B25=\"\"),0,IF($B25=AM25,20,0))","v":20},"Australien",{"$f":"IF(OR($B25=\"\"),0,IF($B25=AO25,20,0))","v":0},"Paraguay",{"$f":"IF(OR($B25=\"\"),0,IF($B25=AQ25,20,0))","v":0},"Australien",{"$f":"IF(OR($B25=\"\"),0,IF($B25=AS25,20,0))","v":0},"Paraguay",{"$f":"IF(OR($B25=\"\"),0,IF($B25=AU25,20,0))","v":0},"USA",{"$f":"IF(OR($B25=\"\"),0,IF($B25=AW25,20,0))","v":0},"USA",{"$f":"IF(OR($B25=\"\"),0,IF($B25=AY25,20,0))","v":0},"Australien",{"$f":"IF(OR($B25=\"\"),0,IF($B25=BA25,20,0))","v":0},"Australien",{"$f":"IF(OR($B25=\"\"),0,IF($B25=BC25,20,0))","v":0},"Paraguay",{"$f":"IF(OR($B25=\"\"),0,IF($B25=BE25,20,0))","v":0},"Paraguay",{"$f":"IF(OR($B25=\"\"),0,IF($B25=BG25,20,0))","v":0},"Paraguay",{"$f":"IF(OR($B25=\"\"),0,IF($B25=BI25,20,0))","v":0},"Paraguay",{"$f":"IF(OR($B25=\"\"),0,IF($B25=BK25,20,0))","v":0},"Australien",{"$f":"IF(OR($B25=\"\"),0,IF($B25=BM25,20,0))","v":0},"Australien",{"$f":"IF(OR($B25=\"\"),0,IF($B25=BO25,20,0))","v":0},"Australien",{"$f":"IF(OR($B25=\"\"),0,IF($B25=BQ25,20,0))","v":0},"Australien",{"$f":"IF(OR($B25=\"\"),0,IF($B25=BS25,20,0))","v":0},"Australien",{"$f":"IF(OR($B25=\"\"),0,IF($B25=BU25,20,0))","v":0},"Australien",{"$f":"IF(OR($B25=\"\"),0,IF($B25=BW25,20,0))","v":0},"Australien",{"$f":"IF(OR($B25=\"\"),0,IF($B25=BY25,20,0))","v":0},"Paraguay",{"$f":"IF(OR($B25=\"\"),0,IF($B25=CA25,20,0))","v":0},"Türkei",{"$f":"IF(OR($B25=\"\"),0,IF($B25=CC25,20,0))","v":20},"Paraguay",{"$f":"IF(OR($B25=\"\"),0,IF($B25=CE25,20,0))","v":0},"Paraguay",{"$f":"IF(OR($B25=\"\"),0,IF($B25=CG25,20,0))","v":0},"Australien",{"$f":"IF(OR($B25=\"\"),0,IF($B25=CI25,20,0))","v":0},"USA",{"$f":"IF(OR($B25=\"\"),0,IF($B25=CK25,20,0))","v":0},"Australien",{"$f":"IF(OR($B25=\"\"),0,IF($B25=CM25,20,0))","v":0},"Paraguay",{"$f":"IF(OR($B25=\"\"),0,IF($B25=CO25,20,0))","v":0},"Australien",{"$f":"IF(OR($B25=\"\"),0,IF($B25=CQ25,20,0))","v":0},"Australien",{"$f":"IF(OR($B25=\"\"),0,IF($B25=CS25,20,0))","v":0},"Paraguay",{"$f":"IF(OR($B25=\"\"),0,IF($B25=CU25,20,0))","v":0},"USA",{"$f":"IF(OR($B25=\"\"),0,IF($B25=CW25,20,0))","v":0},"USA",{"$f":"IF(OR($B25=\"\"),0,IF($B25=CY25,20,0))","v":0}]
[1,"Deutschland","Gruppe E",null,"Deutschland","-","Deutschland","-","Deutschland","-","Deutschland","-","Deutschland","-","Deutschland","-","Deutschland","-","Deutschland","-","Deutschland","-","Ecuador","-","Deutschland","-","Deutschland","-","Deutschland","-","Deutschland","-","Deutschland","-","Deutschland","-","Deutschland","-","Deutschland","-","Deutschland","-","Deutschland","-","Deutschland","-","Deutschland","-","Deutschland","-","Deutschland","-","Deutschland","-","Deutschland","-","Deutschland","-","Deutschland","-","Deutschland","-","Deutschland","-","Deutschland","-","Deutschland","-","Deutschland","-","Deutschland","-","Deutschland","-","Deutschland","-","Deutschland","-","Deutschland","-","Deutschland","-","Deutschland","-","Deutschland","-","Deutschland","-","Deutschland","-","Deutschland","-","Deutschland","-","Deutschland","-","Deutschland","-","Deutschland","-","Deutschland","-","Deutschland","-"]
[2,"Elfenbeinküste",null,null,"Ecuador","-","Elfenbeinküste","-","Ecuador","-","Elfenbeinküste","-","Ecuador","-","Elfenbeinküste","-","Ecuador","-","Ecuador","-","Ecuador","-","Deutschland","-","Ecuador","-","Elfenbeinküste","-","Ecuador","-","Elfenbeinküste","-","Ecuador","-","Ecuador","-","Ecuador","-","Elfenbeinküste","-","Elfenbeinküste","-","Elfenbeinküste","-","Ecuador","-","Ecuador","-","Ecuador","-","Elfenbeinküste","-","Ecuador","-","Ecuador","-","Ecuador","-","Ecuador","-","Ecuador","-","Ecuador","-","Elfenbeinküste","-","Ecuador","-","Ecuador","-","Ecuador","-","Ecuador","-","Ecuador","-","Ecuador","-","Ecuador","-","Ecuador","-","Ecuador","-","Ecuador","-","Elfenbeinküste","-","Ecuador","-","Elfenbeinküste","-","Ecuador","-","Elfenbeinküste","-","Ecuador","-","Elfenbeinküste","-","Ecuador","-","Ecuador","-"]
[3,"Ecuador",null,null,"Elfenbeinküste",{"$f":"IF(OR($B28=\"\"),0,IF($B28=E28,20,0))","v":0},"Ecuador",{"$f":"IF(OR($B28=\"\"),0,IF($B28=G28,20,0))","v":20},"Elfenbeinküste",{"$f":"IF(OR($B28=\"\"),0,IF($B28=I28,20,0))","v":0},"Ecuador",{"$f":"IF(OR($B28=\"\"),0,IF($B28=K28,20,0))","v":20},"Elfenbeinküste",{"$f":"IF(OR($B28=\"\"),0,IF($B28=M28,20,0))","v":0},"Ecuador",{"$f":"IF(OR($B28=\"\"),0,IF($B28=O28,20,0))","v":20},"Elfenbeinküste",{"$f":"IF(OR($B28=\"\"),0,IF($B28=Q28,20,0))","v":0},"Elfenbeinküste",{"$f":"IF(OR($B28=\"\"),0,IF($B28=S28,20,0))","v":0},"Elfenbeinküste",{"$f":"IF(OR($B28=\"\"),0,IF($B28=U28,20,0))","v":0},"Elfenbeinküste",{"$f":"IF(OR($B28=\"\"),0,IF($B28=W28,20,0))","v":0},"Elfenbeinküste",{"$f":"IF(OR($B28=\"\"),0,IF($B28=Y28,20,0))","v":0},"Ecuador",{"$f":"IF(OR($B28=\"\"),0,IF($B28=AA28,20,0))","v":20},"Elfenbeinküste",{"$f":"IF(OR($B28=\"\"),0,IF($B28=AC28,20,0))","v":0},"Ecuador",{"$f":"IF(OR($B28=\"\"),0,IF($B28=AE28,20,0))","v":20},"Elfenbeinküste",{"$f":"IF(OR($B28=\"\"),0,IF($B28=AG28,20,0))","v":0},"Elfenbeinküste",{"$f":"IF(OR($B28=\"\"),0,IF($B28=AI28,20,0))","v":0},"Elfenbeinküste",{"$f":"IF(OR($B28=\"\"),0,IF($B28=AK28,20,0))","v":0},"Ecuador",{"$f":"IF(OR($B28=\"\"),0,IF($B28=AM28,20,0))","v":20},"Ecuador",{"$f":"IF(OR($B28=\"\"),0,IF($B28=AO28,20,0))","v":20},"Ecuador",{"$f":"IF(OR($B28=\"\"),0,IF($B28=AQ28,20,0))","v":20},"Elfenbeinküste",{"$f":"IF(OR($B28=\"\"),0,IF($B28=AS28,20,0))","v":0},"Elfenbeinküste",{"$f":"IF(OR($B28=\"\"),0,IF($B28=AU28,20,0))","v":0},"Elfenbeinküste",{"$f":"IF(OR($B28=\"\"),0,IF($B28=AW28,20,0))","v":0},"Ecuador",{"$f":"IF(OR($B28=\"\"),0,IF($B28=AY28,20,0))","v":20},"Elfenbeinküste",{"$f":"IF(OR($B28=\"\"),0,IF($B28=BA28,20,0))","v":0},"Elfenbeinküste",{"$f":"IF(OR($B28=\"\"),0,IF($B28=BC28,20,0))","v":0},"Elfenbeinküste",{"$f":"IF(OR($B28=\"\"),0,IF($B28=BE28,20,0))","v":0},"Elfenbeinküste",{"$f":"IF(OR($B28=\"\"),0,IF($B28=BG28,20,0))","v":0},"Elfenbeinküste",{"$f":"IF(OR($B28=\"\"),0,IF($B28=BI28,20,0))","v":0},"Curacao",{"$f":"IF(OR($B28=\"\"),0,IF($B28=BK28,20,0))","v":0},"Ecuador",{"$f":"IF(OR($B28=\"\"),0,IF($B28=BM28,20,0))","v":20},"Curacao",{"$f":"IF(OR($B28=\"\"),0,IF($B28=BO28,20,0))","v":0},"Elfenbeinküste",{"$f":"IF(OR($B28=\"\"),0,IF($B28=BQ28,20,0))","v":0},"Elfenbeinküste",{"$f":"IF(OR($B28=\"\"),0,IF($B28=BS28,20,0))","v":0},"Elfenbeinküste",{"$f":"IF(OR($B28=\"\"),0,IF($B28=BU28,20,0))","v":0},"Elfenbeinküste",{"$f":"IF(OR($B28=\"\"),0,IF($B28=BW28,20,0))","v":0},"Elfenbeinküste",{"$f":"IF(OR($B28=\"\"),0,IF($B28=BY28,20,0))","v":0},"Elfenbeinküste",{"$f":"IF(OR($B28=\"\"),0,IF($B28=CA28,20,0))","v":0},"Elfenbeinküste",{"$f":"IF(OR($B28=\"\"),0,IF($B28=CC28,20,0))","v":0},"Elfenbeinküste",{"$f":"IF(OR($B28=\"\"),0,IF($B28=CE28,20,0))","v":0},"Elfenbeinküste",{"$f":"IF(OR($B28=\"\"),0,IF($B28=CG28,20,0))","v":0},"Ecuador",{"$f":"IF(OR($B28=\"\"),0,IF($B28=CI28,20,0))","v":20},"Elfenbeinküste",{"$f":"IF(OR($B28=\"\"),0,IF($B28=CK28,20,0))","v":0},"Ecuador",{"$f":"IF(OR($B28=\"\"),0,IF($B28=CM28,20,0))","v":20},"Elfenbeinküste",{"$f":"IF(OR($B28=\"\"),0,IF($B28=CO28,20,0))","v":0},"Ecuador",{"$f":"IF(OR($B28=\"\"),0,IF($B28=CQ28,20,0))","v":20},"Elfenbeinküste",{"$f":"IF(OR($B28=\"\"),0,IF($B28=CS28,20,0))","v":0},"Ecuador",{"$f":"IF(OR($B28=\"\"),0,IF($B28=CU28,20,0))","v":20},"Curacao",{"$f":"IF(OR($B28=\"\"),0,IF($B28=CW28,20,0))","v":0},"Elfenbeinküste",{"$f":"IF(OR($B28=\"\"),0,IF($B28=CY28,20,0))","v":0}]
[4,"Curacao",null,null,"Curacao",{"$f":"IF(OR($B29=\"\"),0,IF($B29=E29,20,0))","v":20},"Curacao",{"$f":"IF(OR($B29=\"\"),0,IF($B29=G29,20,0))","v":20},"Curacao",{"$f":"IF(OR($B29=\"\"),0,IF($B29=I29,20,0))","v":20},"Curacao",{"$f":"IF(OR($B29=\"\"),0,IF($B29=K29,20,0))","v":20},"Curacao",{"$f":"IF(OR($B29=\"\"),0,IF($B29=M29,20,0))","v":20},"Curacao",{"$f":"IF(OR($B29=\"\"),0,IF($B29=O29,20,0))","v":20},"Curacao",{"$f":"IF(OR($B29=\"\"),0,IF($B29=Q29,20,0))","v":20},"Curacao",{"$f":"IF(OR($B29=\"\"),0,IF($B29=S29,20,0))","v":20},"Curacao",{"$f":"IF(OR($B29=\"\"),0,IF($B29=U29,20,0))","v":20},"Curacao",{"$f":"IF(OR($B29=\"\"),0,IF($B29=W29,20,0))","v":20},"Curacao",{"$f":"IF(OR($B29=\"\"),0,IF($B29=Y29,20,0))","v":20},"Curacao",{"$f":"IF(OR($B29=\"\"),0,IF($B29=AA29,20,0))","v":20},"Curacao",{"$f":"IF(OR($B29=\"\"),0,IF($B29=AC29,20,0))","v":20},"Curacao",{"$f":"IF(OR($B29=\"\"),0,IF($B29=AE29,20,0))","v":20},"Curacao",{"$f":"IF(OR($B29=\"\"),0,IF($B29=AG29,20,0))","v":20},"Curacao",{"$f":"IF(OR($B29=\"\"),0,IF($B29=AI29,20,0))","v":20},"Curacao",{"$f":"IF(OR($B29=\"\"),0,IF($B29=AK29,20,0))","v":20},"Curacao",{"$f":"IF(OR($B29=\"\"),0,IF($B29=AM29,20,0))","v":20},"Curacao",{"$f":"IF(OR($B29=\"\"),0,IF($B29=AO29,20,0))","v":20},"Curacao",{"$f":"IF(OR($B29=\"\"),0,IF($B29=AQ29,20,0))","v":20},"Curacao",{"$f":"IF(OR($B29=\"\"),0,IF($B29=AS29,20,0))","v":20},"Curacao",{"$f":"IF(OR($B29=\"\"),0,IF($B29=AU29,20,0))","v":20},"Curacao",{"$f":"IF(OR($B29=\"\"),0,IF($B29=AW29,20,0))","v":20},"Curacao",{"$f":"IF(OR($B29=\"\"),0,IF($B29=AY29,20,0))","v":20},"Curacao",{"$f":"IF(OR($B29=\"\"),0,IF($B29=BA29,20,0))","v":20},"Curacao",{"$f":"IF(OR($B29=\"\"),0,IF($B29=BC29,20,0))","v":20},"Curacao",{"$f":"IF(OR($B29=\"\"),0,IF($B29=BE29,20,0))","v":20},"Curacao",{"$f":"IF(OR($B29=\"\"),0,IF($B29=BG29,20,0))","v":20},"Curacao",{"$f":"IF(OR($B29=\"\"),0,IF($B29=BI29,20,0))","v":20},"Elfenbeinküste",{"$f":"IF(OR($B29=\"\"),0,IF($B29=BK29,20,0))","v":0},"Curacao",{"$f":"IF(OR($B29=\"\"),0,IF($B29=BM29,20,0))","v":20},"Elfenbeinküste",{"$f":"IF(OR($B29=\"\"),0,IF($B29=BO29,20,0))","v":0},"Curacao",{"$f":"IF(OR($B29=\"\"),0,IF($B29=BQ29,20,0))","v":20},"Curacao",{"$f":"IF(OR($B29=\"\"),0,IF($B29=BS29,20,0))","v":20},"Curacao",{"$f":"IF(OR($B29=\"\"),0,IF($B29=BU29,20,0))","v":20},"Curacao",{"$f":"IF(OR($B29=\"\"),0,IF($B29=BW29,20,0))","v":20},"Curacao",{"$f":"IF(OR($B29=\"\"),0,IF($B29=BY29,20,0))","v":20},"Curacao",{"$f":"IF(OR($B29=\"\"),0,IF($B29=CA29,20,0))","v":20},"Curacao",{"$f":"IF(OR($B29=\"\"),0,IF($B29=CC29,20,0))","v":20},"Curacao",{"$f":"IF(OR($B29=\"\"),0,IF($B29=CE29,20,0))","v":20},"Curacao",{"$f":"IF(OR($B29=\"\"),0,IF($B29=CG29,20,0))","v":20},"Curacao",{"$f":"IF(OR($B29=\"\"),0,IF($B29=CI29,20,0))","v":20},"Curacao",{"$f":"IF(OR($B29=\"\"),0,IF($B29=CK29,20,0))","v":20},"Curacao",{"$f":"IF(OR($B29=\"\"),0,IF($B29=CM29,20,0))","v":20},"Curacao",{"$f":"IF(OR($B29=\"\"),0,IF($B29=CO29,20,0))","v":20},"Curacao",{"$f":"IF(OR($B29=\"\"),0,IF($B29=CQ29,20,0))","v":20},"Curacao",{"$f":"IF(OR($B29=\"\"),0,IF($B29=CS29,20,0))","v":20},"Curacao",{"$f":"IF(OR($B29=\"\"),0,IF($B29=CU29,20,0))","v":20},"Elfenbeinküste",{"$f":"IF(OR($B29=\"\"),0,IF($B29=CW29,20,0))","v":0},"Curacao",{"$f":"IF(OR($B29=\"\"),0,IF($B29=CY29,20,0))","v":20}]
[1,"Holland","Gruppe F",null,"Holland","-","Holland","-","Tunesien","-","Holland","-","Holland","-","Holland","-","Holland","-","Holland","-","Holland","-","Holland","-","Holland","-","Holland","-","Holland","-","Holland","-","Schweden","-","Schweden","-","Japan","-","Holland","-","Holland","-","Holland","-","Holland","-","Japan","-","Holland","-","Holland","-","Holland","-","Holland","-","Holland","-","Holland","-","Holland","-","Holland","-","Schweden","-","Holland","-","Holland","-","Schweden","-","Holland","-","Holland","-","Holland","-","Tunesien","-","Holland","-","Holland","-","Holland","-","Japan","-","Holland","-","Holland","-","Holland","-","Holland","-","Holland","-","Holland","-","Holland","-","Holland","-"]
[2,"Japan",null,null,"Japan","-","Schweden","-","Japan","-","Tunesien","-","Japan","-","Japan","-","Japan","-","Schweden","-","Schweden","-","Schweden","-","Schweden","-","Japan","-","Japan","-","Japan","-","Holland","-","Holland","-","Schweden","-","Schweden","-","Japan","-","Japan","-","Japan","-","Schweden","-","Tunesien","-","Japan","-","Japan","-","Japan","-","Japan","-","Japan","-","Japan","-","Schweden","-","Holland","-","Tunesien","-","Japan","-","Holland","-","Japan","-","Japan","-","Schweden","-","Japan","-","Japan","-","Japan","-","Japan","-","Holland","-","Japan","-","Japan","-","Japan","-","Japan","-","Japan","-","Japan","-","Japan","-","Japan","-"]
[3,"Schweden",null,null,"Schweden",{"$f":"IF(OR($B32=\"\"),0,IF($B32=E32,20,0))","v":20},"Japan",{"$f":"IF(OR($B32=\"\"),0,IF($B32=G32,20,0))","v":0},"Schweden",{"$f":"IF(OR($B32=\"\"),0,IF($B32=I32,20,0))","v":20},"Schweden",{"$f":"IF(OR($B32=\"\"),0,IF($B32=K32,20,0))","v":20},"Schweden",{"$f":"IF(OR($B32=\"\"),0,IF($B32=M32,20,0))","v":20},"Schweden",{"$f":"IF(OR($B32=\"\"),0,IF($B32=O32,20,0))","v":20},"Tunesien",{"$f":"IF(OR($B32=\"\"),0,IF($B32=Q32,20,0))","v":0},"Tunesien",{"$f":"IF(OR($B32=\"\"),0,IF($B32=S32,20,0))","v":0},"Japan",{"$f":"IF(OR($B32=\"\"),0,IF($B32=U32,20,0))","v":0},"Tunesien",{"$f":"IF(OR($B32=\"\"),0,IF($B32=W32,20,0))","v":0},"Japan",{"$f":"IF(OR($B32=\"\"),0,IF($B32=Y32,20,0))","v":0},"Schweden",{"$f":"IF(OR($B32=\"\"),0,IF($B32=AA32,20,0))","v":20},"Schweden",{"$f":"IF(OR($B32=\"\"),0,IF($B32=AC32,20,0))","v":20},"Schweden",{"$f":"IF(OR($B32=\"\"),0,IF($B32=AE32,20,0))","v":20},"Japan",{"$f":"IF(OR($B32=\"\"),0,IF($B32=AG32,20,0))","v":0},"Japan",{"$f":"IF(OR($B32=\"\"),0,IF($B32=AI32,20,0))","v":0},"Holland",{"$f":"IF(OR($B32=\"\"),0,IF($B32=AK32,20,0))","v":0},"Japan",{"$f":"IF(OR($B32=\"\"),0,IF($B32=AM32,20,0))","v":0},"Tunesien",{"$f":"IF(OR($B32=\"\"),0,IF($B32=AO32,20,0))","v":0},"Tunesien",{"$f":"IF(OR($B32=\"\"),0,IF($B32=AQ32,20,0))","v":0},"Schweden",{"$f":"IF(OR($B32=\"\"),0,IF($B32=AS32,20,0))","v":20},"Holland",{"$f":"IF(OR($B32=\"\"),0,IF($B32=AU32,20,0))","v":0},"Japan",{"$f":"IF(OR($B32=\"\"),0,IF($B32=AW32,20,0))","v":0},"Schweden",{"$f":"IF(OR($B32=\"\"),0,IF($B32=AY32,20,0))","v":20},"Tunesien",{"$f":"IF(OR($B32=\"\"),0,IF($B32=BA32,20,0))","v":0},"Tunesien",{"$f":"IF(OR($B32=\"\"),0,IF($B32=BC32,20,0))","v":0},"Schweden",{"$f":"IF(OR($B32=\"\"),0,IF($B32=BE32,20,0))","v":20},"Schweden",{"$f":"IF(OR($B32=\"\"),0,IF($B32=BG32,20,0))","v":20},"Schweden",{"$f":"IF(OR($B32=\"\"),0,IF($B32=BI32,20,0))","v":20},"Tunesien",{"$f":"IF(OR($B32=\"\"),0,IF($B32=BK32,20,0))","v":0},"Japan",{"$f":"IF(OR($B32=\"\"),0,IF($B32=BM32,20,0))","v":0},"Japan",{"$f":"IF(OR($B32=\"\"),0,IF($B32=BO32,20,0))","v":0},"Schweden",{"$f":"IF(OR($B32=\"\"),0,IF($B32=BQ32,20,0))","v":20},"Japan",{"$f":"IF(OR($B32=\"\"),0,IF($B32=BS32,20,0))","v":0},"Schweden",{"$f":"IF(OR($B32=\"\"),0,IF($B32=BU32,20,0))","v":20},"Schweden",{"$f":"IF(OR($B32=\"\"),0,IF($B32=BW32,20,0))","v":20},"Tunesien",{"$f":"IF(OR($B32=\"\"),0,IF($B32=BY32,20,0))","v":0},"Holland",{"$f":"IF(OR($B32=\"\"),0,IF($B32=CA32,20,0))","v":0},"Schweden",{"$f":"IF(OR($B32=\"\"),0,IF($B32=CC32,20,0))","v":20},"Schweden",{"$f":"IF(OR($B32=\"\"),0,IF($B32=CE32,20,0))","v":20},"Schweden",{"$f":"IF(OR($B32=\"\"),0,IF($B32=CG32,20,0))","v":20},"Schweden",{"$f":"IF(OR($B32=\"\"),0,IF($B32=CI32,20,0))","v":20},"Schweden",{"$f":"IF(OR($B32=\"\"),0,IF($B32=CK32,20,0))","v":20},"Schweden",{"$f":"IF(OR($B32=\"\"),0,IF($B32=CM32,20,0))","v":20},"Schweden",{"$f":"IF(OR($B32=\"\"),0,IF($B32=CO32,20,0))","v":20},"Tunesien",{"$f":"IF(OR($B32=\"\"),0,IF($B32=CQ32,20,0))","v":0},"Schweden",{"$f":"IF(OR($B32=\"\"),0,IF($B32=CS32,20,0))","v":20},"Schweden",{"$f":"IF(OR($B32=\"\"),0,IF($B32=CU32,20,0))","v":20},"Schweden",{"$f":"IF(OR($B32=\"\"),0,IF($B32=CW32,20,0))","v":20},"Schweden",{"$f":"IF(OR($B32=\"\"),0,IF($B32=CY32,20,0))","v":20}]
[4,"Tunesien",null,null,"Tunesien",{"$f":"IF(OR($B33=\"\"),0,IF($B33=E33,20,0))","v":20},"Tunesien",{"$f":"IF(OR($B33=\"\"),0,IF($B33=G33,20,0))","v":20},"Holland",{"$f":"IF(OR($B33=\"\"),0,IF($B33=I33,20,0))","v":0},"Japan",{"$f":"IF(OR($B33=\"\"),0,IF($B33=K33,20,0))","v":0},"Tunesien",{"$f":"IF(OR($B33=\"\"),0,IF($B33=M33,20,0))","v":20},"Tunesien",{"$f":"IF(OR($B33=\"\"),0,IF($B33=O33,20,0))","v":20},"Schweden",{"$f":"IF(OR($B33=\"\"),0,IF($B33=Q33,20,0))","v":0},"Japan",{"$f":"IF(OR($B33=\"\"),0,IF($B33=S33,20,0))","v":0},"Tunesien",{"$f":"IF(OR($B33=\"\"),0,IF($B33=U33,20,0))","v":20},"Japan",{"$f":"IF(OR($B33=\"\"),0,IF($B33=W33,20,0))","v":0},"Tunesien",{"$f":"IF(OR($B33=\"\"),0,IF($B33=Y33,20,0))","v":20},"Tunesien",{"$f":"IF(OR($B33=\"\"),0,IF($B33=AA33,20,0))","v":20},"Tunesien",{"$f":"IF(OR($B33=\"\"),0,IF($B33=AC33,20,0))","v":20},"Tunesien",{"$f":"IF(OR($B33=\"\"),0,IF($B33=AE33,20,0))","v":20},"Tunesien",{"$f":"IF(OR($B33=\"\"),0,IF($B33=AG33,20,0))","v":20},"Tunesien",{"$f":"IF(OR($B33=\"\"),0,IF($B33=AI33,20,0))","v":20},"Tunesien",{"$f":"IF(OR($B33=\"\"),0,IF($B33=AK33,20,0))","v":20},"Tunesien",{"$f":"IF(OR($B33=\"\"),0,IF($B33=AM33,20,0))","v":20},"Schweden",{"$f":"IF(OR($B33=\"\"),0,IF($B33=AO33,20,0))","v":0},"Schweden",{"$f":"IF(OR($B33=\"\"),0,IF($B33=AQ33,20,0))","v":0},"Tunesien",{"$f":"IF(OR($B33=\"\"),0,IF($B33=AS33,20,0))","v":20},"Tunesien",{"$f":"IF(OR($B33=\"\"),0,IF($B33=AU33,20,0))","v":20},"Schweden",{"$f":"IF(OR($B33=\"\"),0,IF($B33=AW33,20,0))","v":0},"Tunesien",{"$f":"IF(OR($B33=\"\"),0,IF($B33=AY33,20,0))","v":20},"Schweden",{"$f":"IF(OR($B33=\"\"),0,IF($B33=BA33,20,0))","v":0},"Schweden",{"$f":"IF(OR($B33=\"\"),0,IF($B33=BC33,20,0))","v":0},"Tunesien",{"$f":"IF(OR($B33=\"\"),0,IF($B33=BE33,20,0))","v":20},"Tunesien",{"$f":"IF(OR($B33=\"\"),0,IF($B33=BG33,20,0))","v":20},"Tunesien",{"$f":"IF(OR($B33=\"\"),0,IF($B33=BI33,20,0))","v":20},"Japan",{"$f":"IF(OR($B33=\"\"),0,IF($B33=BK33,20,0))","v":0},"Tunesien",{"$f":"IF(OR($B33=\"\"),0,IF($B33=BM33,20,0))","v":20},"Schweden",{"$f":"IF(OR($B33=\"\"),0,IF($B33=BO33,20,0))","v":0},"Tunesien",{"$f":"IF(OR($B33=\"\"),0,IF($B33=BQ33,20,0))","v":20},"Tunesien",{"$f":"IF(OR($B33=\"\"),0,IF($B33=BS33,20,0))","v":20},"Tunesien",{"$f":"IF(OR($B33=\"\"),0,IF($B33=BU33,20,0))","v":20},"Tunesien",{"$f":"IF(OR($B33=\"\"),0,IF($B33=BW33,20,0))","v":20},"Japan",{"$f":"IF(OR($B33=\"\"),0,IF($B33=BY33,20,0))","v":0},"Schweden",{"$f":"IF(OR($B33=\"\"),0,IF($B33=CA33,20,0))","v":0},"Tunesien",{"$f":"IF(OR($B33=\"\"),0,IF($B33=CC33,20,0))","v":20},"Tunesien",{"$f":"IF(OR($B33=\"\"),0,IF($B33=CE33,20,0))","v":20},"Tunesien",{"$f":"IF(OR($B33=\"\"),0,IF($B33=CG33,20,0))","v":20},"Tunesien",{"$f":"IF(OR($B33=\"\"),0,IF($B33=CI33,20,0))","v":20},"Tunesien",{"$f":"IF(OR($B33=\"\"),0,IF($B33=CK33,20,0))","v":20},"Tunesien",{"$f":"IF(OR($B33=\"\"),0,IF($B33=CM33,20,0))","v":20},"Tunesien",{"$f":"IF(OR($B33=\"\"),0,IF($B33=CO33,20,0))","v":20},"Schweden",{"$f":"IF(OR($B33=\"\"),0,IF($B33=CQ33,20,0))","v":0},"Tunesien",{"$f":"IF(OR($B33=\"\"),0,IF($B33=CS33,20,0))","v":20},"Tunesien",{"$f":"IF(OR($B33=\"\"),0,IF($B33=CU33,20,0))","v":20},"Tunesien",{"$f":"IF(OR($B33=\"\"),0,IF($B33=CW33,20,0))","v":20},"Tunesien",{"$f":"IF(OR($B33=\"\"),0,IF($B33=CY33,20,0))","v":20}]
[1,"Belgien","Gruppe G",null,"Belgien","-","Belgien","-","Belgien","-","Belgien","-","Belgien","-","Belgien","-","Belgien","-","Belgien","-","Belgien","-","Belgien","-","Belgien","-","Belgien","-","Belgien","-","Iran","-","Belgien","-","Belgien","-","Belgien","-","Belgien","-","Belgien","-","Belgien","-","Belgien","-","Belgien","-","Belgien","-","Belgien","-","Belgien","-","Belgien","-","Belgien","-","Belgien","-","Belgien","-","Belgien","-","Belgien","-","Belgien","-","Belgien","-","Belgien","-","Belgien","-","Belgien","-","Belgien","-","Belgien","-","Belgien","-","Belgien","-","Belgien","-","Belgien","-","Belgien","-","Belgien","-","Belgien","-","Belgien","-","Belgien","-","Belgien","-","Belgien","-","Belgien","-"]
[2,"Ägypten",null,null,"Ägypten","-","Ägypten","-","Neuseeland","-","Ägypten","-","Ägypten","-","Ägypten","-","Ägypten","-","Iran","-","Neuseeland","-","Ägypten","-","Iran","-","Ägypten","-","Ägypten","-","Ägypten","-","Ägypten","-","Ägypten","-","Iran","-","Ägypten","-","Ägypten","-","Ägypten","-","Ägypten","-","Ägypten","-","Ägypten","-","Ägypten","-","Iran","-","Iran","-","Ägypten","-","Ägypten","-","Ägypten","-","Iran","-","Ägypten","-","Neuseeland","-","Iran","-","Ägypten","-","Ägypten","-","Ägypten","-","Neuseeland","-","Neuseeland","-","Ägypten","-","Ägypten","-","Iran","-","Ägypten","-","Ägypten","-","Ägypten","-","Ägypten","-","Ägypten","-","Iran","-","Ägypten","-","Iran","-","Ägypten","-"]
[3,"Iran",null,null,"Iran",{"$f":"IF(OR($B36=\"\"),0,IF($B36=E36,20,0))","v":20},"Iran",{"$f":"IF(OR($B36=\"\"),0,IF($B36=G36,20,0))","v":20},"Ägypten",{"$f":"IF(OR($B36=\"\"),0,IF($B36=I36,20,0))","v":0},"Iran",{"$f":"IF(OR($B36=\"\"),0,IF($B36=K36,20,0))","v":20},"Iran",{"$f":"IF(OR($B36=\"\"),0,IF($B36=M36,20,0))","v":20},"Iran",{"$f":"IF(OR($B36=\"\"),0,IF($B36=O36,20,0))","v":20},"Iran",{"$f":"IF(OR($B36=\"\"),0,IF($B36=Q36,20,0))","v":20},"Neuseeland",{"$f":"IF(OR($B36=\"\"),0,IF($B36=S36,20,0))","v":0},"Ägypten",{"$f":"IF(OR($B36=\"\"),0,IF($B36=U36,20,0))","v":0},"Neuseeland",{"$f":"IF(OR($B36=\"\"),0,IF($B36=W36,20,0))","v":0},"Ägypten",{"$f":"IF(OR($B36=\"\"),0,IF($B36=Y36,20,0))","v":0},"Iran",{"$f":"IF(OR($B36=\"\"),0,IF($B36=AA36,20,0))","v":20},"Neuseeland",{"$f":"IF(OR($B36=\"\"),0,IF($B36=AC36,20,0))","v":0},"Belgien",{"$f":"IF(OR($B36=\"\"),0,IF($B36=AE36,20,0))","v":0},"Neuseeland",{"$f":"IF(OR($B36=\"\"),0,IF($B36=AG36,20,0))","v":0},"Neuseeland",{"$f":"IF(OR($B36=\"\"),0,IF($B36=AI36,20,0))","v":0},"Ägypten",{"$f":"IF(OR($B36=\"\"),0,IF($B36=AK36,20,0))","v":0},"Neuseeland",{"$f":"IF(OR($B36=\"\"),0,IF($B36=AM36,20,0))","v":0},"Neuseeland",{"$f":"IF(OR($B36=\"\"),0,IF($B36=AO36,20,0))","v":0},"Iran",{"$f":"IF(OR($B36=\"\"),0,IF($B36=AQ36,20,0))","v":20},"Iran",{"$f":"IF(OR($B36=\"\"),0,IF($B36=AS36,20,0))","v":20},"Iran",{"$f":"IF(OR($B36=\"\"),0,IF($B36=AU36,20,0))","v":20},"Iran",{"$f":"IF(OR($B36=\"\"),0,IF($B36=AW36,20,0))","v":20},"Neuseeland",{"$f":"IF(OR($B36=\"\"),0,IF($B36=AY36,20,0))","v":0},"Ägypten",{"$f":"IF(OR($B36=\"\"),0,IF($B36=BA36,20,0))","v":0},"Ägypten",{"$f":"IF(OR($B36=\"\"),0,IF($B36=BC36,20,0))","v":0},"Iran",{"$f":"IF(OR($B36=\"\"),0,IF($B36=BE36,20,0))","v":20},"Neuseeland",{"$f":"IF(OR($B36=\"\"),0,IF($B36=BG36,20,0))","v":0},"Iran",{"$f":"IF(OR($B36=\"\"),0,IF($B36=BI36,20,0))","v":20},"Ägypten",{"$f":"IF(OR($B36=\"\"),0,IF($B36=BK36,20,0))","v":0},"Neuseeland",{"$f":"IF(OR($B36=\"\"),0,IF($B36=BM36,20,0))","v":0},"Iran",{"$f":"IF(OR($B36=\"\"),0,IF($B36=BO36,20,0))","v":20},"Ägypten",{"$f":"IF(OR($B36=\"\"),0,IF($B36=BQ36,20,0))","v":0},"Neuseeland",{"$f":"IF(OR($B36=\"\"),0,IF($B36=BS36,20,0))","v":0},"Neuseeland",{"$f":"IF(OR($B36=\"\"),0,IF($B36=BU36,20,0))","v":0},"Neuseeland",{"$f":"IF(OR($B36=\"\"),0,IF($B36=BW36,20,0))","v":0},"Iran",{"$f":"IF(OR($B36=\"\"),0,IF($B36=BY36,20,0))","v":20},"Ägypten",{"$f":"IF(OR($B36=\"\"),0,IF($B36=CA36,20,0))","v":0},"Neuseeland",{"$f":"IF(OR($B36=\"\"),0,IF($B36=CC36,20,0))","v":0},"Iran",{"$f":"IF(OR($B36=\"\"),0,IF($B36=CE36,20,0))","v":20},"Ägypten",{"$f":"IF(OR($B36=\"\"),0,IF($B36=CG36,20,0))","v":0},"Iran",{"$f":"IF(OR($B36=\"\"),0,IF($B36=CI36,20,0))","v":20},"Neuseeland",{"$f":"IF(OR($B36=\"\"),0,IF($B36=CK36,20,0))","v":0},"Neuseeland",{"$f":"IF(OR($B36=\"\"),0,IF($B36=CM36,20,0))","v":0},"Iran",{"$f":"IF(OR($B36=\"\"),0,IF($B36=CO36,20,0))","v":20},"Iran",{"$f":"IF(OR($B36=\"\"),0,IF($B36=CQ36,20,0))","v":20},"Ägypten",{"$f":"IF(OR($B36=\"\"),0,IF($B36=CS36,20,0))","v":0},"Iran",{"$f":"IF(OR($B36=\"\"),0,IF($B36=CU36,20,0))","v":20},"Ägypten",{"$f":"IF(OR($B36=\"\"),0,IF($B36=CW36,20,0))","v":0},"Neuseeland",{"$f":"IF(OR($B36=\"\"),0,IF($B36=CY36,20,0))","v":0}]
[4,"Neuseeland",null,null,"Neuseeland",{"$f":"IF(OR($B37=\"\"),0,IF($B37=E37,20,0))","v":20},"Neuseeland",{"$f":"IF(OR($B37=\"\"),0,IF($B37=G37,20,0))","v":20},"Iran",{"$f":"IF(OR($B37=\"\"),0,IF($B37=I37,20,0))","v":0},"Neuseeland",{"$f":"IF(OR($B37=\"\"),0,IF($B37=K37,20,0))","v":20},"Neuseeland",{"$f":"IF(OR($B37=\"\"),0,IF($B37=M37,20,0))","v":20},"Neuseeland",{"$f":"IF(OR($B37=\"\"),0,IF($B37=O37,20,0))","v":20},"Neuseeland",{"$f":"IF(OR($B37=\"\"),0,IF($B37=Q37,20,0))","v":20},"Ägypten",{"$f":"IF(OR($B37=\"\"),0,IF($B37=S37,20,0))","v":0},"Iran",{"$f":"IF(OR($B37=\"\"),0,IF($B37=U37,20,0))","v":0},"Iran",{"$f":"IF(OR($B37=\"\"),0,IF($B37=W37,20,0))","v":0},"Neuseeland",{"$f":"IF(OR($B37=\"\"),0,IF($B37=Y37,20,0))","v":20},"Neuseeland",{"$f":"IF(OR($B37=\"\"),0,IF($B37=AA37,20,0))","v":20},"Iran",{"$f":"IF(OR($B37=\"\"),0,IF($B37=AC37,20,0))","v":0},"Neuseeland",{"$f":"IF(OR($B37=\"\"),0,IF($B37=AE37,20,0))","v":20},"Iran",{"$f":"IF(OR($B37=\"\"),0,IF($B37=AG37,20,0))","v":0},"Iran",{"$f":"IF(OR($B37=\"\"),0,IF($B37=AI37,20,0))","v":0},"Neuseeland",{"$f":"IF(OR($B37=\"\"),0,IF($B37=AK37,20,0))","v":20},"Iran",{"$f":"IF(OR($B37=\"\"),0,IF($B37=AM37,20,0))","v":0},"Iran",{"$f":"IF(OR($B37=\"\"),0,IF($B37=AO37,20,0))","v":0},"Neuseeland",{"$f":"IF(OR($B37=\"\"),0,IF($B37=AQ37,20,0))","v":20},"Neuseeland",{"$f":"IF(OR($B37=\"\"),0,IF($B37=AS37,20,0))","v":20},"Neuseeland",{"$f":"IF(OR($B37=\"\"),0,IF($B37=AU37,20,0))","v":20},"Neuseeland",{"$f":"IF(OR($B37=\"\"),0,IF($B37=AW37,20,0))","v":20},"Iran",{"$f":"IF(OR($B37=\"\"),0,IF($B37=AY37,20,0))","v":0},"Neuseeland",{"$f":"IF(OR($B37=\"\"),0,IF($B37=BA37,20,0))","v":20},"Neuseeland",{"$f":"IF(OR($B37=\"\"),0,IF($B37=BC37,20,0))","v":20},"Neuseeland",{"$f":"IF(OR($B37=\"\"),0,IF($B37=BE37,20,0))","v":20},"Iran",{"$f":"IF(OR($B37=\"\"),0,IF($B37=BG37,20,0))","v":0},"Neuseeland",{"$f":"IF(OR($B37=\"\"),0,IF($B37=BI37,20,0))","v":20},"Neuseeland",{"$f":"IF(OR($B37=\"\"),0,IF($B37=BK37,20,0))","v":20},"Iran",{"$f":"IF(OR($B37=\"\"),0,IF($B37=BM37,20,0))","v":0},"Ägypten",{"$f":"IF(OR($B37=\"\"),0,IF($B37=BO37,20,0))","v":0},"Neuseeland",{"$f":"IF(OR($B37=\"\"),0,IF($B37=BQ37,20,0))","v":20},"Iran",{"$f":"IF(OR($B37=\"\"),0,IF($B37=BS37,20,0))","v":0},"Iran",{"$f":"IF(OR($B37=\"\"),0,IF($B37=BU37,20,0))","v":0},"Iran",{"$f":"IF(OR($B37=\"\"),0,IF($B37=BW37,20,0))","v":0},"Ägypten",{"$f":"IF(OR($B37=\"\"),0,IF($B37=BY37,20,0))","v":0},"Iran",{"$f":"IF(OR($B37=\"\"),0,IF($B37=CA37,20,0))","v":0},"Iran",{"$f":"IF(OR($B37=\"\"),0,IF($B37=CC37,20,0))","v":0},"Neuseeland",{"$f":"IF(OR($B37=\"\"),0,IF($B37=CE37,20,0))","v":20},"Neuseeland",{"$f":"IF(OR($B37=\"\"),0,IF($B37=CG37,20,0))","v":20},"Neuseeland",{"$f":"IF(OR($B37=\"\"),0,IF($B37=CI37,20,0))","v":20},"Iran",{"$f":"IF(OR($B37=\"\"),0,IF($B37=CK37,20,0))","v":0},"Iran",{"$f":"IF(OR($B37=\"\"),0,IF($B37=CM37,20,0))","v":0},"Neuseeland",{"$f":"IF(OR($B37=\"\"),0,IF($B37=CO37,20,0))","v":20},"Neuseeland",{"$f":"IF(OR($B37=\"\"),0,IF($B37=CQ37,20,0))","v":20},"Neuseeland",{"$f":"IF(OR($B37=\"\"),0,IF($B37=CS37,20,0))","v":20},"Neuseeland",{"$f":"IF(OR($B37=\"\"),0,IF($B37=CU37,20,0))","v":20},"Neuseeland",{"$f":"IF(OR($B37=\"\"),0,IF($B37=CW37,20,0))","v":20},"Iran",{"$f":"IF(OR($B37=\"\"),0,IF($B37=CY37,20,0))","v":0}]
[1,"Spanien","Gruppe H",null,"Spanien","-","Spanien","-","Spanien","-","Spanien","-","Spanien","-","Spanien","-","Spanien","-","Spanien","-","Spanien","-","Spanien","-","Spanien","-","Spanien","-","Spanien","-","Spanien","-","Spanien","-","Spanien","-","Spanien","-","Spanien","-","Spanien","-","Spanien","-","Spanien","-","Spanien","-","Spanien","-","Spanien","-","Spanien","-","Spanien","-","Spanien","-","Spanien","-","Spanien","-","Spanien","-","Spanien","-","Spanien","-","Spanien","-","Spanien","-","Spanien","-","Spanien","-","Spanien","-","Spanien","-","Spanien","-","Spanien","-","Spanien","-","Spanien","-","Spanien","-","Spanien","-","Spanien","-","Spanien","-","Spanien","-","Spanien","-","Spanien","-","Spanien","-"]
[2,"Kap Verde",null,null,"Uruguay","-","Uruguay","-","Uruguay","-","Uruguay","-","Uruguay","-","Uruguay","-","Uruguay","-","Uruguay","-","Uruguay","-","Uruguay","-","Saudi-Arabien","-","Uruguay","-","Uruguay","-","Uruguay","-","Uruguay","-","Uruguay","-","Uruguay","-","Uruguay","-","Uruguay","-","Uruguay","-","Uruguay","-","Saudi-Arabien","-","Uruguay","-","Uruguay","-","Uruguay","-","Uruguay","-","Uruguay","-","Uruguay","-","Uruguay","-","Saudi-Arabien","-","Kap Verde","-","Saudi-Arabien","-","Uruguay","-","Uruguay","-","Uruguay","-","Uruguay","-","Uruguay","-","Uruguay","-","Uruguay","-","Uruguay","-","Uruguay","-","Uruguay","-","Uruguay","-","Uruguay","-","Uruguay","-","Uruguay","-","Uruguay","-","Uruguay","-","Uruguay","-","Uruguay","-"]
[3,"Uruguay",null,null,"Saudi-Arabien",{"$f":"IF(OR($B40=\"\"),0,IF($B40=E40,20,0))","v":0},"Saudi-Arabien",{"$f":"IF(OR($B40=\"\"),0,IF($B40=G40,20,0))","v":0},"Saudi-Arabien",{"$f":"IF(OR($B40=\"\"),0,IF($B40=I40,20,0))","v":0},"Saudi-Arabien",{"$f":"IF(OR($B40=\"\"),0,IF($B40=K40,20,0))","v":0},"Saudi-Arabien",{"$f":"IF(OR($B40=\"\"),0,IF($B40=M40,20,0))","v":0},"Kap Verde",{"$f":"IF(OR($B40=\"\"),0,IF($B40=O40,20,0))","v":0},"Saudi-Arabien",{"$f":"IF(OR($B40=\"\"),0,IF($B40=Q40,20,0))","v":0},"Saudi-Arabien",{"$f":"IF(OR($B40=\"\"),0,IF($B40=S40,20,0))","v":0},"Saudi-Arabien",{"$f":"IF(OR($B40=\"\"),0,IF($B40=U40,20,0))","v":0},"Saudi-Arabien",{"$f":"IF(OR($B40=\"\"),0,IF($B40=W40,20,0))","v":0},"Uruguay",{"$f":"IF(OR($B40=\"\"),0,IF($B40=Y40,20,0))","v":20},"Saudi-Arabien",{"$f":"IF(OR($B40=\"\"),0,IF($B40=AA40,20,0))","v":0},"Saudi-Arabien",{"$f":"IF(OR($B40=\"\"),0,IF($B40=AC40,20,0))","v":0},"Saudi-Arabien",{"$f":"IF(OR($B40=\"\"),0,IF($B40=AE40,20,0))","v":0},"Saudi-Arabien",{"$f":"IF(OR($B40=\"\"),0,IF($B40=AG40,20,0))","v":0},"Saudi-Arabien",{"$f":"IF(OR($B40=\"\"),0,IF($B40=AI40,20,0))","v":0},"Saudi-Arabien",{"$f":"IF(OR($B40=\"\"),0,IF($B40=AK40,20,0))","v":0},"Saudi-Arabien",{"$f":"IF(OR($B40=\"\"),0,IF($B40=AM40,20,0))","v":0},"Saudi-Arabien",{"$f":"IF(OR($B40=\"\"),0,IF($B40=AO40,20,0))","v":0},"Saudi-Arabien",{"$f":"IF(OR($B40=\"\"),0,IF($B40=AQ40,20,0))","v":0},"Kap Verde",{"$f":"IF(OR($B40=\"\"),0,IF($B40=AS40,20,0))","v":0},"Uruguay",{"$f":"IF(OR($B40=\"\"),0,IF($B40=AU40,20,0))","v":20},"Saudi-Arabien",{"$f":"IF(OR($B40=\"\"),0,IF($B40=AW40,20,0))","v":0},"Saudi-Arabien",{"$f":"IF(OR($B40=\"\"),0,IF($B40=AY40,20,0))","v":0},"Saudi-Arabien",{"$f":"IF(OR($B40=\"\"),0,IF($B40=BA40,20,0))","v":0},"Kap Verde",{"$f":"IF(OR($B40=\"\"),0,IF($B40=BC40,20,0))","v":0},"Saudi-Arabien",{"$f":"IF(OR($B40=\"\"),0,IF($B40=BE40,20,0))","v":0},"Saudi-Arabien",{"$f":"IF(OR($B40=\"\"),0,IF($B40=BG40,20,0))","v":0},"Saudi-Arabien",{"$f":"IF(OR($B40=\"\"),0,IF($B40=BI40,20,0))","v":0},"Kap Verde",{"$f":"IF(OR($B40=\"\"),0,IF($B40=BK40,20,0))","v":0},"Uruguay",{"$f":"IF(OR($B40=\"\"),0,IF($B40=BM40,20,0))","v":20},"Uruguay",{"$f":"IF(OR($B40=\"\"),0,IF($B40=BO40,20,0))","v":20},"Saudi-Arabien",{"$f":"IF(OR($B40=\"\"),0,IF($B40=BQ40,20,0))","v":0},"Saudi-Arabien",{"$f":"IF(OR($B40=\"\"),0,IF($B40=BS40,20,0))","v":0},"Saudi-Arabien",{"$f":"IF(OR($B40=\"\"),0,IF($B40=BU40,20,0))","v":0},"Saudi-Arabien",{"$f":"IF(OR($B40=\"\"),0,IF($B40=BW40,20,0))","v":0},"Saudi-Arabien",{"$f":"IF(OR($B40=\"\"),0,IF($B40=BY40,20,0))","v":0},"Saudi-Arabien",{"$f":"IF(OR($B40=\"\"),0,IF($B40=CA40,20,0))","v":0},"Saudi-Arabien",{"$f":"IF(OR($B40=\"\"),0,IF($B40=CC40,20,0))","v":0},"Kap Verde",{"$f":"IF(OR($B40=\"\"),0,IF($B40=CE40,20,0))","v":0},"Saudi-Arabien",{"$f":"IF(OR($B40=\"\"),0,IF($B40=CG40,20,0))","v":0},"Saudi-Arabien",{"$f":"IF(OR($B40=\"\"),0,IF($B40=CI40,20,0))","v":0},"Saudi-Arabien",{"$f":"IF(OR($B40=\"\"),0,IF($B40=CK40,20,0))","v":0},"Saudi-Arabien",{"$f":"IF(OR($B40=\"\"),0,IF($B40=CM40,20,0))","v":0},"Saudi-Arabien",{"$f":"IF(OR($B40=\"\"),0,IF($B40=CO40,20,0))","v":0},"Saudi-Arabien",{"$f":"IF(OR($B40=\"\"),0,IF($B40=CQ40,20,0))","v":0},"Saudi-Arabien",{"$f":"IF(OR($B40=\"\"),0,IF($B40=CS40,20,0))","v":0},"Saudi-Arabien",{"$f":"IF(OR($B40=\"\"),0,IF($B40=CU40,20,0))","v":0},"Saudi-Arabien",{"$f":"IF(OR($B40=\"\"),0,IF($B40=CW40,20,0))","v":0},"Saudi-Arabien",{"$f":"IF(OR($B40=\"\"),0,IF($B40=CY40,20,0))","v":0}]
[4,"Saudi-Arabien",null,null,"Kap Verde",{"$f":"IF(OR($B41=\"\"),0,IF($B41=E41,20,0))","v":0},"Kap Verde",{"$f":"IF(OR($B41=\"\"),0,IF($B41=G41,20,0))","v":0},"Kap Verde",{"$f":"IF(OR($B41=\"\"),0,IF($B41=I41,20,0))","v":0},"Kap Verde",{"$f":"IF(OR($B41=\"\"),0,IF($B41=K41,20,0))","v":0},"Kap Verde",{"$f":"IF(OR($B41=\"\"),0,IF($B41=M41,20,0))","v":0},"Saudi-Arabien",{"$f":"IF(OR($B41=\"\"),0,IF($B41=O41,20,0))","v":20},"Kap Verde",{"$f":"IF(OR($B41=\"\"),0,IF($B41=Q41,20,0))","v":0},"Kap Verde",{"$f":"IF(OR($B41=\"\"),0,IF($B41=S41,20,0))","v":0},"Kap Verde",{"$f":"IF(OR($B41=\"\"),0,IF($B41=U41,20,0))","v":0},"Kap Verde",{"$f":"IF(OR($B41=\"\"),0,IF($B41=W41,20,0))","v":0},"Kap Verde",{"$f":"IF(OR($B41=\"\"),0,IF($B41=Y41,20,0))","v":0},"Kap Verde",{"$f":"IF(OR($B41=\"\"),0,IF($B41=AA41,20,0))","v":0},"Kap Verde",{"$f":"IF(OR($B41=\"\"),0,IF($B41=AC41,20,0))","v":0},"Kap Verde",{"$f":"IF(OR($B41=\"\"),0,IF($B41=AE41,20,0))","v":0},"Kap Verde",{"$f":"IF(OR($B41=\"\"),0,IF($B41=AG41,20,0))","v":0},"Kap Verde",{"$f":"IF(OR($B41=\"\"),0,IF($B41=AI41,20,0))","v":0},"Kap Verde",{"$f":"IF(OR($B41=\"\"),0,IF($B41=AK41,20,0))","v":0},"Kap Verde",{"$f":"IF(OR($B41=\"\"),0,IF($B41=AM41,20,0))","v":0},"Kap Verde",{"$f":"IF(OR($B41=\"\"),0,IF($B41=AO41,20,0))","v":0},"Kap Verde",{"$f":"IF(OR($B41=\"\"),0,IF($B41=AQ41,20,0))","v":0},"Saudi-Arabien",{"$f":"IF(OR($B41=\"\"),0,IF($B41=AS41,20,0))","v":20},"Kap Verde",{"$f":"IF(OR($B41=\"\"),0,IF($B41=AU41,20,0))","v":0},"Kap Verde",{"$f":"IF(OR($B41=\"\"),0,IF($B41=AW41,20,0))","v":0},"Kap Verde",{"$f":"IF(OR($B41=\"\"),0,IF($B41=AY41,20,0))","v":0},"Kap Verde",{"$f":"IF(OR($B41=\"\"),0,IF($B41=BA41,20,0))","v":0},"Saudi-Arabien",{"$f":"IF(OR($B41=\"\"),0,IF($B41=BC41,20,0))","v":20},"Kap Verde",{"$f":"IF(OR($B41=\"\"),0,IF($B41=BE41,20,0))","v":0},"Kap Verde",{"$f":"IF(OR($B41=\"\"),0,IF($B41=BG41,20,0))","v":0},"Kap Verde",{"$f":"IF(OR($B41=\"\"),0,IF($B41=BI41,20,0))","v":0},"Uruguay",{"$f":"IF(OR($B41=\"\"),0,IF($B41=BK41,20,0))","v":0},"Saudi-Arabien",{"$f":"IF(OR($B41=\"\"),0,IF($B41=BM41,20,0))","v":20},"Kap Verde",{"$f":"IF(OR($B41=\"\"),0,IF($B41=BO41,20,0))","v":0},"Kap Verde",{"$f":"IF(OR($B41=\"\"),0,IF($B41=BQ41,20,0))","v":0},"Kap Verde",{"$f":"IF(OR($B41=\"\"),0,IF($B41=BS41,20,0))","v":0},"Kap Verde",{"$f":"IF(OR($B41=\"\"),0,IF($B41=BU41,20,0))","v":0},"Kap Verde",{"$f":"IF(OR($B41=\"\"),0,IF($B41=BW41,20,0))","v":0},"Kap Verde",{"$f":"IF(OR($B41=\"\"),0,IF($B41=BY41,20,0))","v":0},"Kap Verde",{"$f":"IF(OR($B41=\"\"),0,IF($B41=CA41,20,0))","v":0},"Kap Verde",{"$f":"IF(OR($B41=\"\"),0,IF($B41=CC41,20,0))","v":0},"Saudi-Arabien",{"$f":"IF(OR($B41=\"\"),0,IF($B41=CE41,20,0))","v":20},"Kap Verde",{"$f":"IF(OR($B41=\"\"),0,IF($B41=CG41,20,0))","v":0},"Kap Verde",{"$f":"IF(OR($B41=\"\"),0,IF($B41=CI41,20,0))","v":0},"Kap Verde",{"$f":"IF(OR($B41=\"\"),0,IF($B41=CK41,20,0))","v":0},"Kap Verde",{"$f":"IF(OR($B41=\"\"),0,IF($B41=CM41,20,0))","v":0},"Kap Verde",{"$f":"IF(OR($B41=\"\"),0,IF($B41=CO41,20,0))","v":0},"Kap Verde",{"$f":"IF(OR($B41=\"\"),0,IF($B41=CQ41,20,0))","v":0},"Kap Verde",{"$f":"IF(OR($B41=\"\"),0,IF($B41=CS41,20,0))","v":0},"Kap Verde",{"$f":"IF(OR($B41=\"\"),0,IF($B41=CU41,20,0))","v":0},"Kap Verde",{"$f":"IF(OR($B41=\"\"),0,IF($B41=CW41,20,0))","v":0},"Kap Verde",{"$f":"IF(OR($B41=\"\"),0,IF($B41=CY41,20,0))","v":0}]
[1,"Frankreich","Gruppe I",null,"Frankreich","-","Frankreich","-","Frankreich","-","Frankreich","-","Frankreich","-","Frankreich","-","Norwegen","-","Frankreich","-","Frankreich","-","Frankreich","-","Frankreich","-","Frankreich","-","Frankreich","-","Frankreich","-","Frankreich","-","Frankreich","-","Frankreich","-","Frankreich","-","Frankreich","-","Frankreich","-","Frankreich","-","Frankreich","-","Norwegen","-","Norwegen","-","Frankreich","-","Frankreich","-","Frankreich","-","Frankreich","-","Frankreich","-","Frankreich","-","Frankreich","-","Frankreich","-","Frankreich","-","Frankreich","-","Frankreich","-","Frankreich","-","Frankreich","-","Frankreich","-","Senegal","-","Frankreich","-","Frankreich","-","Frankreich","-","Frankreich","-","Frankreich","-","Frankreich","-","Frankreich","-","Frankreich","-","Frankreich","-","Frankreich","-","Frankreich","-"]
[2,"Norwegen",null,null,"Senegal","-","Senegal","-","Norwegen","-","Norwegen","-","Norwegen","-","Norwegen","-","Frankreich","-","Senegal","-","Norwegen","-","Norwegen","-","Senegal","-","Norwegen","-","Norwegen","-","Norwegen","-","Senegal","-","Norwegen","-","Norwegen","-","Senegal","-","Norwegen","-","Norwegen","-","Norwegen","-","Norwegen","-","Frankreich","-","Frankreich","-","Senegal","-","Norwegen","-","Norwegen","-","Norwegen","-","Norwegen","-","Norwegen","-","Norwegen","-","Norwegen","-","Norwegen","-","Norwegen","-","Senegal","-","Senegal","-","Norwegen","-","Senegal","-","Frankreich","-","Senegal","-","Norwegen","-","Norwegen","-","Norwegen","-","Senegal","-","Norwegen","-","Senegal","-","Norwegen","-","Norwegen","-","Norwegen","-","Norwegen","-"]
[3,"Senegal",null,null,"Norwegen",{"$f":"IF(OR($B44=\"\"),0,IF($B44=E44,20,0))","v":0},"Norwegen",{"$f":"IF(OR($B44=\"\"),0,IF($B44=G44,20,0))","v":0},"Senegal",{"$f":"IF(OR($B44=\"\"),0,IF($B44=I44,20,0))","v":20},"Senegal",{"$f":"IF(OR($B44=\"\"),0,IF($B44=K44,20,0))","v":20},"Senegal",{"$f":"IF(OR($B44=\"\"),0,IF($B44=M44,20,0))","v":20},"Senegal",{"$f":"IF(OR($B44=\"\"),0,IF($B44=O44,20,0))","v":20},"Senegal",{"$f":"IF(OR($B44=\"\"),0,IF($B44=Q44,20,0))","v":20},"Norwegen",{"$f":"IF(OR($B44=\"\"),0,IF($B44=S44,20,0))","v":0},"Senegal",{"$f":"IF(OR($B44=\"\"),0,IF($B44=U44,20,0))","v":20},"Senegal",{"$f":"IF(OR($B44=\"\"),0,IF($B44=W44,20,0))","v":20},"Norwegen",{"$f":"IF(OR($B44=\"\"),0,IF($B44=Y44,20,0))","v":0},"Senegal",{"$f":"IF(OR($B44=\"\"),0,IF($B44=AA44,20,0))","v":20},"Senegal",{"$f":"IF(OR($B44=\"\"),0,IF($B44=AC44,20,0))","v":20},"Irak",{"$f":"IF(OR($B44=\"\"),0,IF($B44=AE44,20,0))","v":0},"Irak",{"$f":"IF(OR($B44=\"\"),0,IF($B44=AG44,20,0))","v":0},"Senegal",{"$f":"IF(OR($B44=\"\"),0,IF($B44=AI44,20,0))","v":20},"Senegal",{"$f":"IF(OR($B44=\"\"),0,IF($B44=AK44,20,0))","v":20},"Norwegen",{"$f":"IF(OR($B44=\"\"),0,IF($B44=AM44,20,0))","v":0},"Senegal",{"$f":"IF(OR($B44=\"\"),0,IF($B44=AO44,20,0))","v":20},"Senegal",{"$f":"IF(OR($B44=\"\"),0,IF($B44=AQ44,20,0))","v":20},"Senegal",{"$f":"IF(OR($B44=\"\"),0,IF($B44=AS44,20,0))","v":20},"Senegal",{"$f":"IF(OR($B44=\"\"),0,IF($B44=AU44,20,0))","v":20},"Senegal",{"$f":"IF(OR($B44=\"\"),0,IF($B44=AW44,20,0))","v":20},"Senegal",{"$f":"IF(OR($B44=\"\"),0,IF($B44=AY44,20,0))","v":20},"Norwegen",{"$f":"IF(OR($B44=\"\"),0,IF($B44=BA44,20,0))","v":0},"Senegal",{"$f":"IF(OR($B44=\"\"),0,IF($B44=BC44,20,0))","v":20},"Senegal",{"$f":"IF(OR($B44=\"\"),0,IF($B44=BE44,20,0))","v":20},"Senegal",{"$f":"IF(OR($B44=\"\"),0,IF($B44=BG44,20,0))","v":20},"Senegal",{"$f":"IF(OR($B44=\"\"),0,IF($B44=BI44,20,0))","v":20},"Senegal",{"$f":"IF(OR($B44=\"\"),0,IF($B44=BK44,20,0))","v":20},"Senegal",{"$f":"IF(OR($B44=\"\"),0,IF($B44=BM44,20,0))","v":20},"Senegal",{"$f":"IF(OR($B44=\"\"),0,IF($B44=BO44,20,0))","v":20},"Senegal",{"$f":"IF(OR($B44=\"\"),0,IF($B44=BQ44,20,0))","v":20},"Senegal",{"$f":"IF(OR($B44=\"\"),0,IF($B44=BS44,20,0))","v":20},"Norwegen",{"$f":"IF(OR($B44=\"\"),0,IF($B44=BU44,20,0))","v":0},"Norwegen",{"$f":"IF(OR($B44=\"\"),0,IF($B44=BW44,20,0))","v":0},"Irak",{"$f":"IF(OR($B44=\"\"),0,IF($B44=BY44,20,0))","v":0},"Norwegen",{"$f":"IF(OR($B44=\"\"),0,IF($B44=CA44,20,0))","v":0},"Norwegen",{"$f":"IF(OR($B44=\"\"),0,IF($B44=CC44,20,0))","v":0},"Norwegen",{"$f":"IF(OR($B44=\"\"),0,IF($B44=CE44,20,0))","v":0},"Senegal",{"$f":"IF(OR($B44=\"\"),0,IF($B44=CG44,20,0))","v":20},"Senegal",{"$f":"IF(OR($B44=\"\"),0,IF($B44=CI44,20,0))","v":20},"Irak",{"$f":"IF(OR($B44=\"\"),0,IF($B44=CK44,20,0))","v":0},"Norwegen",{"$f":"IF(OR($B44=\"\"),0,IF($B44=CM44,20,0))","v":0},"Senegal",{"$f":"IF(OR($B44=\"\"),0,IF($B44=CO44,20,0))","v":20},"Norwegen",{"$f":"IF(OR($B44=\"\"),0,IF($B44=CQ44,20,0))","v":0},"Senegal",{"$f":"IF(OR($B44=\"\"),0,IF($B44=CS44,20,0))","v":20},"Senegal",{"$f":"IF(OR($B44=\"\"),0,IF($B44=CU44,20,0))","v":20},"Senegal",{"$f":"IF(OR($B44=\"\"),0,IF($B44=CW44,20,0))","v":20},"Senegal",{"$f":"IF(OR($B44=\"\"),0,IF($B44=CY44,20,0))","v":20}]
[4,"Irak",null,null,"Irak",{"$f":"IF(OR($B45=\"\"),0,IF($B45=E45,20,0))","v":20},"Irak",{"$f":"IF(OR($B45=\"\"),0,IF($B45=G45,20,0))","v":20},"Irak",{"$f":"IF(OR($B45=\"\"),0,IF($B45=I45,20,0))","v":20},"Irak",{"$f":"IF(OR($B45=\"\"),0,IF($B45=K45,20,0))","v":20},"Irak",{"$f":"IF(OR($B45=\"\"),0,IF($B45=M45,20,0))","v":20},"Irak",{"$f":"IF(OR($B45=\"\"),0,IF($B45=O45,20,0))","v":20},"Irak",{"$f":"IF(OR($B45=\"\"),0,IF($B45=Q45,20,0))","v":20},"Irak",{"$f":"IF(OR($B45=\"\"),0,IF($B45=S45,20,0))","v":20},"Irak",{"$f":"IF(OR($B45=\"\"),0,IF($B45=U45,20,0))","v":20},"Irak",{"$f":"IF(OR($B45=\"\"),0,IF($B45=W45,20,0))","v":20},"Irak",{"$f":"IF(OR($B45=\"\"),0,IF($B45=Y45,20,0))","v":20},"Irak",{"$f":"IF(OR($B45=\"\"),0,IF($B45=AA45,20,0))","v":20},"Irak",{"$f":"IF(OR($B45=\"\"),0,IF($B45=AC45,20,0))","v":20},"Senegal",{"$f":"IF(OR($B45=\"\"),0,IF($B45=AE45,20,0))","v":0},"Norwegen",{"$f":"IF(OR($B45=\"\"),0,IF($B45=AG45,20,0))","v":0},"Irak",{"$f":"IF(OR($B45=\"\"),0,IF($B45=AI45,20,0))","v":20},"Irak",{"$f":"IF(OR($B45=\"\"),0,IF($B45=AK45,20,0))","v":20},"Irak",{"$f":"IF(OR($B45=\"\"),0,IF($B45=AM45,20,0))","v":20},"Irak",{"$f":"IF(OR($B45=\"\"),0,IF($B45=AO45,20,0))","v":20},"Irak",{"$f":"IF(OR($B45=\"\"),0,IF($B45=AQ45,20,0))","v":20},"Irak",{"$f":"IF(OR($B45=\"\"),0,IF($B45=AS45,20,0))","v":20},"Irak",{"$f":"IF(OR($B45=\"\"),0,IF($B45=AU45,20,0))","v":20},"Irak",{"$f":"IF(OR($B45=\"\"),0,IF($B45=AW45,20,0))","v":20},"Irak",{"$f":"IF(OR($B45=\"\"),0,IF($B45=AY45,20,0))","v":20},"Irak",{"$f":"IF(OR($B45=\"\"),0,IF($B45=BA45,20,0))","v":20},"Irak",{"$f":"IF(OR($B45=\"\"),0,IF($B45=BC45,20,0))","v":20},"Irak",{"$f":"IF(OR($B45=\"\"),0,IF($B45=BE45,20,0))","v":20},"Irak",{"$f":"IF(OR($B45=\"\"),0,IF($B45=BG45,20,0))","v":20},"Irak",{"$f":"IF(OR($B45=\"\"),0,IF($B45=BI45,20,0))","v":20},"Irak",{"$f":"IF(OR($B45=\"\"),0,IF($B45=BK45,20,0))","v":20},"Irak",{"$f":"IF(OR($B45=\"\"),0,IF($B45=BM45,20,0))","v":20},"Irak",{"$f":"IF(OR($B45=\"\"),0,IF($B45=BO45,20,0))","v":20},"Irak",{"$f":"IF(OR($B45=\"\"),0,IF($B45=BQ45,20,0))","v":20},"Irak",{"$f":"IF(OR($B45=\"\"),0,IF($B45=BS45,20,0))","v":20},"Irak",{"$f":"IF(OR($B45=\"\"),0,IF($B45=BU45,20,0))","v":20},"Irak",{"$f":"IF(OR($B45=\"\"),0,IF($B45=BW45,20,0))","v":20},"Senegal",{"$f":"IF(OR($B45=\"\"),0,IF($B45=BY45,20,0))","v":0},"Irak",{"$f":"IF(OR($B45=\"\"),0,IF($B45=CA45,20,0))","v":20},"Irak",{"$f":"IF(OR($B45=\"\"),0,IF($B45=CC45,20,0))","v":20},"Irak",{"$f":"IF(OR($B45=\"\"),0,IF($B45=CE45,20,0))","v":20},"Irak",{"$f":"IF(OR($B45=\"\"),0,IF($B45=CG45,20,0))","v":20},"Irak",{"$f":"IF(OR($B45=\"\"),0,IF($B45=CI45,20,0))","v":20},"Senegal",{"$f":"IF(OR($B45=\"\"),0,IF($B45=CK45,20,0))","v":0},"Irak",{"$f":"IF(OR($B45=\"\"),0,IF($B45=CM45,20,0))","v":20},"Irak",{"$f":"IF(OR($B45=\"\"),0,IF($B45=CO45,20,0))","v":20},"Irak",{"$f":"IF(OR($B45=\"\"),0,IF($B45=CQ45,20,0))","v":20},"Irak",{"$f":"IF(OR($B45=\"\"),0,IF($B45=CS45,20,0))","v":20},"Irak",{"$f":"IF(OR($B45=\"\"),0,IF($B45=CU45,20,0))","v":20},"Irak",{"$f":"IF(OR($B45=\"\"),0,IF($B45=CW45,20,0))","v":20},"Irak",{"$f":"IF(OR($B45=\"\"),0,IF($B45=CY45,20,0))","v":20}]
[1,"Argentinien","Gruppe J",null,"Argentinien","-","Argentinien","-","Argentinien","-","Argentinien","-","Österreich","-","Argentinien","-","Argentinien","-","Argentinien","-","Argentinien","-","Argentinien","-","Argentinien","-","Argentinien","-","Argentinien","-","Argentinien","-","Argentinien","-","Argentinien","-","Argentinien","-","Argentinien","-","Argentinien","-","Argentinien","-","Argentinien","-","Argentinien","-","Argentinien","-","Argentinien","-","Argentinien","-","Argentinien","-","Argentinien","-","Argentinien","-","Argentinien","-","Argentinien","-","Argentinien","-","Argentinien","-","Argentinien","-","Argentinien","-","Argentinien","-","Argentinien","-","Argentinien","-","Argentinien","-","Argentinien","-","Argentinien","-","Argentinien","-","Argentinien","-","Argentinien","-","Argentinien","-","Argentinien","-","Argentinien","-","Argentinien","-","Argentinien","-","Argentinien","-","Argentinien","-"]
[2,"Österreich",null,null,"Österreich","-","Österreich","-","Algerien","-","Algerien","-","Argentinien","-","Österreich","-","Österreich","-","Österreich","-","Österreich","-","Österreich","-","Österreich","-","Österreich","-","Österreich","-","Österreich","-","Österreich","-","Österreich","-","Österreich","-","Österreich","-","Österreich","-","Österreich","-","Österreich","-","Österreich","-","Österreich","-","Österreich","-","Österreich","-","Österreich","-","Österreich","-","Österreich","-","Österreich","-","Österreich","-","Österreich","-","Jordanien","-","Österreich","-","Österreich","-","Österreich","-","Österreich","-","Österreich","-","Österreich","-","Österreich","-","Österreich","-","Österreich","-","Österreich","-","Österreich","-","Österreich","-","Algerien","-","Österreich","-","Österreich","-","Österreich","-","Österreich","-","Österreich","-"]
[3,"Algerien",null,null,"Algerien",{"$f":"IF(OR($B48=\"\"),0,IF($B48=E48,20,0))","v":20},"Algerien",{"$f":"IF(OR($B48=\"\"),0,IF($B48=G48,20,0))","v":20},"Österreich",{"$f":"IF(OR($B48=\"\"),0,IF($B48=I48,20,0))","v":0},"Österreich",{"$f":"IF(OR($B48=\"\"),0,IF($B48=K48,20,0))","v":0},"Algerien",{"$f":"IF(OR($B48=\"\"),0,IF($B48=M48,20,0))","v":20},"Algerien",{"$f":"IF(OR($B48=\"\"),0,IF($B48=O48,20,0))","v":20},"Algerien",{"$f":"IF(OR($B48=\"\"),0,IF($B48=Q48,20,0))","v":20},"Algerien",{"$f":"IF(OR($B48=\"\"),0,IF($B48=S48,20,0))","v":20},"Jordanien",{"$f":"IF(OR($B48=\"\"),0,IF($B48=U48,20,0))","v":0},"Algerien",{"$f":"IF(OR($B48=\"\"),0,IF($B48=W48,20,0))","v":20},"Algerien",{"$f":"IF(OR($B48=\"\"),0,IF($B48=Y48,20,0))","v":20},"Algerien",{"$f":"IF(OR($B48=\"\"),0,IF($B48=AA48,20,0))","v":20},"Algerien",{"$f":"IF(OR($B48=\"\"),0,IF($B48=AC48,20,0))","v":20},"Algerien",{"$f":"IF(OR($B48=\"\"),0,IF($B48=AE48,20,0))","v":20},"Algerien",{"$f":"IF(OR($B48=\"\"),0,IF($B48=AG48,20,0))","v":20},"Algerien",{"$f":"IF(OR($B48=\"\"),0,IF($B48=AI48,20,0))","v":20},"Algerien",{"$f":"IF(OR($B48=\"\"),0,IF($B48=AK48,20,0))","v":20},"Algerien",{"$f":"IF(OR($B48=\"\"),0,IF($B48=AM48,20,0))","v":20},"Algerien",{"$f":"IF(OR($B48=\"\"),0,IF($B48=AO48,20,0))","v":20},"Algerien",{"$f":"IF(OR($B48=\"\"),0,IF($B48=AQ48,20,0))","v":20},"Algerien",{"$f":"IF(OR($B48=\"\"),0,IF($B48=AS48,20,0))","v":20},"Algerien",{"$f":"IF(OR($B48=\"\"),0,IF($B48=AU48,20,0))","v":20},"Algerien",{"$f":"IF(OR($B48=\"\"),0,IF($B48=AW48,20,0))","v":20},"Algerien",{"$f":"IF(OR($B48=\"\"),0,IF($B48=AY48,20,0))","v":20},"Algerien",{"$f":"IF(OR($B48=\"\"),0,IF($B48=BA48,20,0))","v":20},"Algerien",{"$f":"IF(OR($B48=\"\"),0,IF($B48=BC48,20,0))","v":20},"Algerien",{"$f":"IF(OR($B48=\"\"),0,IF($B48=BE48,20,0))","v":20},"Algerien",{"$f":"IF(OR($B48=\"\"),0,IF($B48=BG48,20,0))","v":20},"Algerien",{"$f":"IF(OR($B48=\"\"),0,IF($B48=BI48,20,0))","v":20},"Jordanien",{"$f":"IF(OR($B48=\"\"),0,IF($B48=BK48,20,0))","v":0},"Algerien",{"$f":"IF(OR($B48=\"\"),0,IF($B48=BM48,20,0))","v":20},"Österreich",{"$f":"IF(OR($B48=\"\"),0,IF($B48=BO48,20,0))","v":0},"Algerien",{"$f":"IF(OR($B48=\"\"),0,IF($B48=BQ48,20,0))","v":20},"Jordanien",{"$f":"IF(OR($B48=\"\"),0,IF($B48=BS48,20,0))","v":0},"Algerien",{"$f":"IF(OR($B48=\"\"),0,IF($B48=BU48,20,0))","v":20},"Algerien",{"$f":"IF(OR($B48=\"\"),0,IF($B48=BW48,20,0))","v":20},"Algerien",{"$f":"IF(OR($B48=\"\"),0,IF($B48=BY48,20,0))","v":20},"Algerien",{"$f":"IF(OR($B48=\"\"),0,IF($B48=CA48,20,0))","v":20},"Algerien",{"$f":"IF(OR($B48=\"\"),0,IF($B48=CC48,20,0))","v":20},"Jordanien",{"$f":"IF(OR($B48=\"\"),0,IF($B48=CE48,20,0))","v":0},"Algerien",{"$f":"IF(OR($B48=\"\"),0,IF($B48=CG48,20,0))","v":20},"Algerien",{"$f":"IF(OR($B48=\"\"),0,IF($B48=CI48,20,0))","v":20},"Algerien",{"$f":"IF(OR($B48=\"\"),0,IF($B48=CK48,20,0))","v":20},"Algerien",{"$f":"IF(OR($B48=\"\"),0,IF($B48=CM48,20,0))","v":20},"Österreich",{"$f":"IF(OR($B48=\"\"),0,IF($B48=CO48,20,0))","v":0},"Algerien",{"$f":"IF(OR($B48=\"\"),0,IF($B48=CQ48,20,0))","v":20},"Jordanien",{"$f":"IF(OR($B48=\"\"),0,IF($B48=CS48,20,0))","v":0},"Algerien",{"$f":"IF(OR($B48=\"\"),0,IF($B48=CU48,20,0))","v":20},"Algerien",{"$f":"IF(OR($B48=\"\"),0,IF($B48=CW48,20,0))","v":20},"Algerien",{"$f":"IF(OR($B48=\"\"),0,IF($B48=CY48,20,0))","v":20}]
[4,"Jordanien",null,null,"Jordanien",{"$f":"IF(OR($B49=\"\"),0,IF($B49=E49,20,0))","v":20},"Jordanien",{"$f":"IF(OR($B49=\"\"),0,IF($B49=G49,20,0))","v":20},"Jordanien",{"$f":"IF(OR($B49=\"\"),0,IF($B49=I49,20,0))","v":20},"Jordanien",{"$f":"IF(OR($B49=\"\"),0,IF($B49=K49,20,0))","v":20},"Jordanien",{"$f":"IF(OR($B49=\"\"),0,IF($B49=M49,20,0))","v":20},"Jordanien",{"$f":"IF(OR($B49=\"\"),0,IF($B49=O49,20,0))","v":20},"Jordanien",{"$f":"IF(OR($B49=\"\"),0,IF($B49=Q49,20,0))","v":20},"Jordanien",{"$f":"IF(OR($B49=\"\"),0,IF($B49=S49,20,0))","v":20},"Algerien",{"$f":"IF(OR($B49=\"\"),0,IF($B49=U49,20,0))","v":0},"Jordanien",{"$f":"IF(OR($B49=\"\"),0,IF($B49=W49,20,0))","v":20},"Jordanien",{"$f":"IF(OR($B49=\"\"),0,IF($B49=Y49,20,0))","v":20},"Jordanien",{"$f":"IF(OR($B49=\"\"),0,IF($B49=AA49,20,0))","v":20},"Jordanien",{"$f":"IF(OR($B49=\"\"),0,IF($B49=AC49,20,0))","v":20},"Jordanien",{"$f":"IF(OR($B49=\"\"),0,IF($B49=AE49,20,0))","v":20},"Jordanien",{"$f":"IF(OR($B49=\"\"),0,IF($B49=AG49,20,0))","v":20},"Jordanien",{"$f":"IF(OR($B49=\"\"),0,IF($B49=AI49,20,0))","v":20},"Jordanien",{"$f":"IF(OR($B49=\"\"),0,IF($B49=AK49,20,0))","v":20},"Jordanien",{"$f":"IF(OR($B49=\"\"),0,IF($B49=AM49,20,0))","v":20},"Jordanien",{"$f":"IF(OR($B49=\"\"),0,IF($B49=AO49,20,0))","v":20},"Jordanien",{"$f":"IF(OR($B49=\"\"),0,IF($B49=AQ49,20,0))","v":20},"Jordanien",{"$f":"IF(OR($B49=\"\"),0,IF($B49=AS49,20,0))","v":20},"Jordanien",{"$f":"IF(OR($B49=\"\"),0,IF($B49=AU49,20,0))","v":20},"Jordanien",{"$f":"IF(OR($B49=\"\"),0,IF($B49=AW49,20,0))","v":20},"Jordanien",{"$f":"IF(OR($B49=\"\"),0,IF($B49=AY49,20,0))","v":20},"Jordanien",{"$f":"IF(OR($B49=\"\"),0,IF($B49=BA49,20,0))","v":20},"Jordanien",{"$f":"IF(OR($B49=\"\"),0,IF($B49=BC49,20,0))","v":20},"Jordanien",{"$f":"IF(OR($B49=\"\"),0,IF($B49=BE49,20,0))","v":20},"Jordanien",{"$f":"IF(OR($B49=\"\"),0,IF($B49=BG49,20,0))","v":20},"Jordanien",{"$f":"IF(OR($B49=\"\"),0,IF($B49=BI49,20,0))","v":20},"Algerien",{"$f":"IF(OR($B49=\"\"),0,IF($B49=BK49,20,0))","v":0},"Jordanien",{"$f":"IF(OR($B49=\"\"),0,IF($B49=BM49,20,0))","v":20},"Algerien",{"$f":"IF(OR($B49=\"\"),0,IF($B49=BO49,20,0))","v":0},"Jordanien",{"$f":"IF(OR($B49=\"\"),0,IF($B49=BQ49,20,0))","v":20},"Algerien",{"$f":"IF(OR($B49=\"\"),0,IF($B49=BS49,20,0))","v":0},"Jordanien",{"$f":"IF(OR($B49=\"\"),0,IF($B49=BU49,20,0))","v":20},"Jordanien",{"$f":"IF(OR($B49=\"\"),0,IF($B49=BW49,20,0))","v":20},"Jordanien",{"$f":"IF(OR($B49=\"\"),0,IF($B49=BY49,20,0))","v":20},"Jordanien",{"$f":"IF(OR($B49=\"\"),0,IF($B49=CA49,20,0))","v":20},"Jordanien",{"$f":"IF(OR($B49=\"\"),0,IF($B49=CC49,20,0))","v":20},"Algerien",{"$f":"IF(OR($B49=\"\"),0,IF($B49=CE49,20,0))","v":0},"Jordanien",{"$f":"IF(OR($B49=\"\"),0,IF($B49=CG49,20,0))","v":20},"Jordanien",{"$f":"IF(OR($B49=\"\"),0,IF($B49=CI49,20,0))","v":20},"Jordanien",{"$f":"IF(OR($B49=\"\"),0,IF($B49=CK49,20,0))","v":20},"Jordanien",{"$f":"IF(OR($B49=\"\"),0,IF($B49=CM49,20,0))","v":20},"Jordanien",{"$f":"IF(OR($B49=\"\"),0,IF($B49=CO49,20,0))","v":20},"Jordanien",{"$f":"IF(OR($B49=\"\"),0,IF($B49=CQ49,20,0))","v":20},"Algerien",{"$f":"IF(OR($B49=\"\"),0,IF($B49=CS49,20,0))","v":0},"Jordanien",{"$f":"IF(OR($B49=\"\"),0,IF($B49=CU49,20,0))","v":20},"Jordanien",{"$f":"IF(OR($B49=\"\"),0,IF($B49=CW49,20,0))","v":20},"Jordanien",{"$f":"IF(OR($B49=\"\"),0,IF($B49=CY49,20,0))","v":20}]
[1,"Kolumbien","Gruppe K",null,"Portugal","-","Kolumbien","-","Portugal","-","Portugal","-","Portugal","-","Portugal","-","Portugal","-","Portugal","-","Portugal","-","Portugal","-","Portugal","-","Portugal","-","Portugal","-","Portugal","-","Portugal","-","Portugal","-","Portugal","-","Portugal","-","Portugal","-","Portugal","-","Portugal","-","Portugal","-","Portugal","-","Kolumbien","-","Portugal","-","Portugal","-","Portugal","-","Portugal","-","Portugal","-","Portugal","-","Portugal","-","Kolumbien","-","Portugal","-","Portugal","-","Portugal","-","Portugal","-","Portugal","-","Portugal","-","Kolumbien","-","Portugal","-","Portugal","-","Portugal","-","Portugal","-","Portugal","-","Portugal","-","Portugal","-","Portugal","-","Portugal","-","Portugal","-","Portugal","-"]
[2,"Portugal",null,null,"Kolumbien","-","Portugal","-","Kolumbien","-","Kolumbien","-","Kolumbien","-","Kolumbien","-","Kolumbien","-","Kolumbien","-","Kolumbien","-","Kolumbien","-","Kolumbien","-","Kolumbien","-","Kolumbien","-","Kolumbien","-","Kolumbien","-","Kolumbien","-","Kolumbien","-","Kolumbien","-","Kolumbien","-","Kolumbien","-","Kolumbien","-","Kolumbien","-","Kolumbien","-","Portugal","-","Kolumbien","-","Kolumbien","-","Kolumbien","-","Kolumbien","-","Kolumbien","-","Kolumbien","-","Kolumbien","-","Portugal","-","Kolumbien","-","DR Kongo","-","Kolumbien","-","Kolumbien","-","Kolumbien","-","DR Kongo","-","Portugal","-","Kolumbien","-","Kolumbien","-","Kolumbien","-","Kolumbien","-","Kolumbien","-","Kolumbien","-","Kolumbien","-","Kolumbien","-","Kolumbien","-","Kolumbien","-","Kolumbien","-"]
[3,"DR Kongo",null,null,"Usbekistan",{"$f":"IF(OR($B52=\"\"),0,IF($B52=E52,20,0))","v":0},"Usbekistan",{"$f":"IF(OR($B52=\"\"),0,IF($B52=G52,20,0))","v":0},"DR Kongo",{"$f":"IF(OR($B52=\"\"),0,IF($B52=I52,20,0))","v":20},"DR Kongo",{"$f":"IF(OR($B52=\"\"),0,IF($B52=K52,20,0))","v":20},"DR Kongo",{"$f":"IF(OR($B52=\"\"),0,IF($B52=M52,20,0))","v":20},"DR Kongo",{"$f":"IF(OR($B52=\"\"),0,IF($B52=O52,20,0))","v":20},"DR Kongo",{"$f":"IF(OR($B52=\"\"),0,IF($B52=Q52,20,0))","v":20},"DR Kongo",{"$f":"IF(OR($B52=\"\"),0,IF($B52=S52,20,0))","v":20},"Usbekistan",{"$f":"IF(OR($B52=\"\"),0,IF($B52=U52,20,0))","v":0},"DR Kongo",{"$f":"IF(OR($B52=\"\"),0,IF($B52=W52,20,0))","v":20},"DR Kongo",{"$f":"IF(OR($B52=\"\"),0,IF($B52=Y52,20,0))","v":20},"DR Kongo",{"$f":"IF(OR($B52=\"\"),0,IF($B52=AA52,20,0))","v":20},"DR Kongo",{"$f":"IF(OR($B52=\"\"),0,IF($B52=AC52,20,0))","v":20},"DR Kongo",{"$f":"IF(OR($B52=\"\"),0,IF($B52=AE52,20,0))","v":20},"Usbekistan",{"$f":"IF(OR($B52=\"\"),0,IF($B52=AG52,20,0))","v":0},"DR Kongo",{"$f":"IF(OR($B52=\"\"),0,IF($B52=AI52,20,0))","v":20},"DR Kongo",{"$f":"IF(OR($B52=\"\"),0,IF($B52=AK52,20,0))","v":20},"DR Kongo",{"$f":"IF(OR($B52=\"\"),0,IF($B52=AM52,20,0))","v":20},"DR Kongo",{"$f":"IF(OR($B52=\"\"),0,IF($B52=AO52,20,0))","v":20},"DR Kongo",{"$f":"IF(OR($B52=\"\"),0,IF($B52=AQ52,20,0))","v":20},"DR Kongo",{"$f":"IF(OR($B52=\"\"),0,IF($B52=AS52,20,0))","v":20},"DR Kongo",{"$f":"IF(OR($B52=\"\"),0,IF($B52=AU52,20,0))","v":20},"DR Kongo",{"$f":"IF(OR($B52=\"\"),0,IF($B52=AW52,20,0))","v":20},"DR Kongo",{"$f":"IF(OR($B52=\"\"),0,IF($B52=AY52,20,0))","v":20},"DR Kongo",{"$f":"IF(OR($B52=\"\"),0,IF($B52=BA52,20,0))","v":20},"Usbekistan",{"$f":"IF(OR($B52=\"\"),0,IF($B52=BC52,20,0))","v":0},"DR Kongo",{"$f":"IF(OR($B52=\"\"),0,IF($B52=BE52,20,0))","v":20},"Usbekistan",{"$f":"IF(OR($B52=\"\"),0,IF($B52=BG52,20,0))","v":0},"DR Kongo",{"$f":"IF(OR($B52=\"\"),0,IF($B52=BI52,20,0))","v":20},"DR Kongo",{"$f":"IF(OR($B52=\"\"),0,IF($B52=BK52,20,0))","v":20},"DR Kongo",{"$f":"IF(OR($B52=\"\"),0,IF($B52=BM52,20,0))","v":20},"Usbekistan",{"$f":"IF(OR($B52=\"\"),0,IF($B52=BO52,20,0))","v":0},"DR Kongo",{"$f":"IF(OR($B52=\"\"),0,IF($B52=BQ52,20,0))","v":20},"Kolumbien",{"$f":"IF(OR($B52=\"\"),0,IF($B52=BS52,20,0))","v":0},"DR Kongo",{"$f":"IF(OR($B52=\"\"),0,IF($B52=BU52,20,0))","v":20},"DR Kongo",{"$f":"IF(OR($B52=\"\"),0,IF($B52=BW52,20,0))","v":20},"DR Kongo",{"$f":"IF(OR($B52=\"\"),0,IF($B52=BY52,20,0))","v":20},"Kolumbien",{"$f":"IF(OR($B52=\"\"),0,IF($B52=CA52,20,0))","v":0},"DR Kongo",{"$f":"IF(OR($B52=\"\"),0,IF($B52=CC52,20,0))","v":20},"DR Kongo",{"$f":"IF(OR($B52=\"\"),0,IF($B52=CE52,20,0))","v":20},"DR Kongo",{"$f":"IF(OR($B52=\"\"),0,IF($B52=CG52,20,0))","v":20},"DR Kongo",{"$f":"IF(OR($B52=\"\"),0,IF($B52=CI52,20,0))","v":20},"DR Kongo",{"$f":"IF(OR($B52=\"\"),0,IF($B52=CK52,20,0))","v":20},"DR Kongo",{"$f":"IF(OR($B52=\"\"),0,IF($B52=CM52,20,0))","v":20},"Usbekistan",{"$f":"IF(OR($B52=\"\"),0,IF($B52=CO52,20,0))","v":0},"DR Kongo",{"$f":"IF(OR($B52=\"\"),0,IF($B52=CQ52,20,0))","v":20},"DR Kongo",{"$f":"IF(OR($B52=\"\"),0,IF($B52=CS52,20,0))","v":20},"Usbekistan",{"$f":"IF(OR($B52=\"\"),0,IF($B52=CU52,20,0))","v":0},"DR Kongo",{"$f":"IF(OR($B52=\"\"),0,IF($B52=CW52,20,0))","v":20},"Usbekistan",{"$f":"IF(OR($B52=\"\"),0,IF($B52=CY52,20,0))","v":0}]
[4,"Usbekistan",null,null,"DR Kongo",{"$f":"IF(OR($B53=\"\"),0,IF($B53=E53,20,0))","v":0},"DR Kongo",{"$f":"IF(OR($B53=\"\"),0,IF($B53=G53,20,0))","v":0},"Usbekistan",{"$f":"IF(OR($B53=\"\"),0,IF($B53=I53,20,0))","v":20},"Usbekistan",{"$f":"IF(OR($B53=\"\"),0,IF($B53=K53,20,0))","v":20},"Usbekistan",{"$f":"IF(OR($B53=\"\"),0,IF($B53=M53,20,0))","v":20},"Usbekistan",{"$f":"IF(OR($B53=\"\"),0,IF($B53=O53,20,0))","v":20},"Usbekistan",{"$f":"IF(OR($B53=\"\"),0,IF($B53=Q53,20,0))","v":20},"Usbekistan",{"$f":"IF(OR($B53=\"\"),0,IF($B53=S53,20,0))","v":20},"DR Kongo",{"$f":"IF(OR($B53=\"\"),0,IF($B53=U53,20,0))","v":0},"Usbekistan",{"$f":"IF(OR($B53=\"\"),0,IF($B53=W53,20,0))","v":20},"Usbekistan",{"$f":"IF(OR($B53=\"\"),0,IF($B53=Y53,20,0))","v":20},"Usbekistan",{"$f":"IF(OR($B53=\"\"),0,IF($B53=AA53,20,0))","v":20},"Usbekistan",{"$f":"IF(OR($B53=\"\"),0,IF($B53=AC53,20,0))","v":20},"Usbekistan",{"$f":"IF(OR($B53=\"\"),0,IF($B53=AE53,20,0))","v":20},"DR Kongo",{"$f":"IF(OR($B53=\"\"),0,IF($B53=AG53,20,0))","v":0},"Usbekistan",{"$f":"IF(OR($B53=\"\"),0,IF($B53=AI53,20,0))","v":20},"Usbekistan",{"$f":"IF(OR($B53=\"\"),0,IF($B53=AK53,20,0))","v":20},"Usbekistan",{"$f":"IF(OR($B53=\"\"),0,IF($B53=AM53,20,0))","v":20},"Usbekistan",{"$f":"IF(OR($B53=\"\"),0,IF($B53=AO53,20,0))","v":20},"Usbekistan",{"$f":"IF(OR($B53=\"\"),0,IF($B53=AQ53,20,0))","v":20},"Usbekistan",{"$f":"IF(OR($B53=\"\"),0,IF($B53=AS53,20,0))","v":20},"Usbekistan",{"$f":"IF(OR($B53=\"\"),0,IF($B53=AU53,20,0))","v":20},"Usbekistan",{"$f":"IF(OR($B53=\"\"),0,IF($B53=AW53,20,0))","v":20},"Usbekistan",{"$f":"IF(OR($B53=\"\"),0,IF($B53=AY53,20,0))","v":20},"Usbekistan",{"$f":"IF(OR($B53=\"\"),0,IF($B53=BA53,20,0))","v":20},"DR Kongo",{"$f":"IF(OR($B53=\"\"),0,IF($B53=BC53,20,0))","v":0},"Usbekistan",{"$f":"IF(OR($B53=\"\"),0,IF($B53=BE53,20,0))","v":20},"DR Kongo",{"$f":"IF(OR($B53=\"\"),0,IF($B53=BG53,20,0))","v":0},"Usbekistan",{"$f":"IF(OR($B53=\"\"),0,IF($B53=BI53,20,0))","v":20},"Usbekistan",{"$f":"IF(OR($B53=\"\"),0,IF($B53=BK53,20,0))","v":20},"Usbekistan",{"$f":"IF(OR($B53=\"\"),0,IF($B53=BM53,20,0))","v":20},"DR Kongo",{"$f":"IF(OR($B53=\"\"),0,IF($B53=BO53,20,0))","v":0},"Usbekistan",{"$f":"IF(OR($B53=\"\"),0,IF($B53=BQ53,20,0))","v":20},"Usbekistan",{"$f":"IF(OR($B53=\"\"),0,IF($B53=BS53,20,0))","v":20},"Usbekistan",{"$f":"IF(OR($B53=\"\"),0,IF($B53=BU53,20,0))","v":20},"Usbekistan",{"$f":"IF(OR($B53=\"\"),0,IF($B53=BW53,20,0))","v":20},"Usbekistan",{"$f":"IF(OR($B53=\"\"),0,IF($B53=BY53,20,0))","v":20},"Usbekistan",{"$f":"IF(OR($B53=\"\"),0,IF($B53=CA53,20,0))","v":20},"Usbekistan",{"$f":"IF(OR($B53=\"\"),0,IF($B53=CC53,20,0))","v":20},"Usbekistan",{"$f":"IF(OR($B53=\"\"),0,IF($B53=CE53,20,0))","v":20},"Usbekistan",{"$f":"IF(OR($B53=\"\"),0,IF($B53=CG53,20,0))","v":20},"Usbekistan",{"$f":"IF(OR($B53=\"\"),0,IF($B53=CI53,20,0))","v":20},"Usbekistan",{"$f":"IF(OR($B53=\"\"),0,IF($B53=CK53,20,0))","v":20},"Usbekistan",{"$f":"IF(OR($B53=\"\"),0,IF($B53=CM53,20,0))","v":20},"DR Kongo",{"$f":"IF(OR($B53=\"\"),0,IF($B53=CO53,20,0))","v":0},"Usbekistan",{"$f":"IF(OR($B53=\"\"),0,IF($B53=CQ53,20,0))","v":20},"Usbekistan",{"$f":"IF(OR($B53=\"\"),0,IF($B53=CS53,20,0))","v":20},"DR Kongo",{"$f":"IF(OR($B53=\"\"),0,IF($B53=CU53,20,0))","v":0},"Usbekistan",{"$f":"IF(OR($B53=\"\"),0,IF($B53=CW53,20,0))","v":20},"DR Kongo",{"$f":"IF(OR($B53=\"\"),0,IF($B53=CY53,20,0))","v":0}]
[1,"England","Gruppe L",null,"England","-","England","-","England","-","England","-","England","-","Kroatien","-","England","-","England","-","England","-","England","-","England","-","England","-","England","-","Kroatien","-","England","-","England","-","England","-","England","-","Kroatien","-","England","-","England","-","England","-","England","-","England","-","Kroatien","-","England","-","England","-","England","-","England","-","England","-","England","-","Kroatien","-","England","-","England","-","England","-","England","-","England","-","England","-","England","-","England","-","England","-","England","-","England","-","England","-","England","-","England","-","Kroatien","-","England","-","England","-","England","-"]
[2,"Kroatien",null,null,"Kroatien","-","Kroatien","-","Panama","-","Kroatien","-","Kroatien","-","England","-","Kroatien","-","Kroatien","-","Kroatien","-","Kroatien","-","Kroatien","-","Kroatien","-","Kroatien","-","England","-","Kroatien","-","Kroatien","-","Kroatien","-","Ghana","-","England","-","Ghana","-","Kroatien","-","Kroatien","-","Kroatien","-","Kroatien","-","England","-","Kroatien","-","Kroatien","-","Kroatien","-","Kroatien","-","Kroatien","-","Kroatien","-","Ghana","-","Kroatien","-","Kroatien","-","Kroatien","-","Kroatien","-","Ghana","-","Ghana","-","Kroatien","-","Kroatien","-","Kroatien","-","Kroatien","-","Kroatien","-","Kroatien","-","Ghana","-","Ghana","-","England","-","Kroatien","-","Kroatien","-","Kroatien","-"]
[3,"Ghana",null,null,"Ghana",{"$f":"IF(OR($B56=\"\"),0,IF($B56=E56,20,0))","v":20},"Ghana",{"$f":"IF(OR($B56=\"\"),0,IF($B56=G56,20,0))","v":20},"Ghana",{"$f":"IF(OR($B56=\"\"),0,IF($B56=I56,20,0))","v":20},"Ghana",{"$f":"IF(OR($B56=\"\"),0,IF($B56=K56,20,0))","v":20},"Ghana",{"$f":"IF(OR($B56=\"\"),0,IF($B56=M56,20,0))","v":20},"Ghana",{"$f":"IF(OR($B56=\"\"),0,IF($B56=O56,20,0))","v":20},"Ghana",{"$f":"IF(OR($B56=\"\"),0,IF($B56=Q56,20,0))","v":20},"Ghana",{"$f":"IF(OR($B56=\"\"),0,IF($B56=S56,20,0))","v":20},"Ghana",{"$f":"IF(OR($B56=\"\"),0,IF($B56=U56,20,0))","v":20},"Ghana",{"$f":"IF(OR($B56=\"\"),0,IF($B56=W56,20,0))","v":20},"Panama",{"$f":"IF(OR($B56=\"\"),0,IF($B56=Y56,20,0))","v":0},"Ghana",{"$f":"IF(OR($B56=\"\"),0,IF($B56=AA56,20,0))","v":20},"Ghana",{"$f":"IF(OR($B56=\"\"),0,IF($B56=AC56,20,0))","v":20},"Panama",{"$f":"IF(OR($B56=\"\"),0,IF($B56=AE56,20,0))","v":0},"Ghana",{"$f":"IF(OR($B56=\"\"),0,IF($B56=AG56,20,0))","v":20},"Ghana",{"$f":"IF(OR($B56=\"\"),0,IF($B56=AI56,20,0))","v":20},"Ghana",{"$f":"IF(OR($B56=\"\"),0,IF($B56=AK56,20,0))","v":20},"Kroatien",{"$f":"IF(OR($B56=\"\"),0,IF($B56=AM56,20,0))","v":0},"Ghana",{"$f":"IF(OR($B56=\"\"),0,IF($B56=AO56,20,0))","v":20},"Kroatien",{"$f":"IF(OR($B56=\"\"),0,IF($B56=AQ56,20,0))","v":0},"Ghana",{"$f":"IF(OR($B56=\"\"),0,IF($B56=AS56,20,0))","v":20},"Ghana",{"$f":"IF(OR($B56=\"\"),0,IF($B56=AU56,20,0))","v":20},"Ghana",{"$f":"IF(OR($B56=\"\"),0,IF($B56=AW56,20,0))","v":20},"Ghana",{"$f":"IF(OR($B56=\"\"),0,IF($B56=AY56,20,0))","v":20},"Ghana",{"$f":"IF(OR($B56=\"\"),0,IF($B56=BA56,20,0))","v":20},"Panama",{"$f":"IF(OR($B56=\"\"),0,IF($B56=BC56,20,0))","v":0},"Ghana",{"$f":"IF(OR($B56=\"\"),0,IF($B56=BE56,20,0))","v":20},"Ghana",{"$f":"IF(OR($B56=\"\"),0,IF($B56=BG56,20,0))","v":20},"Ghana",{"$f":"IF(OR($B56=\"\"),0,IF($B56=BI56,20,0))","v":20},"Ghana",{"$f":"IF(OR($B56=\"\"),0,IF($B56=BK56,20,0))","v":20},"Ghana",{"$f":"IF(OR($B56=\"\"),0,IF($B56=BM56,20,0))","v":20},"England",{"$f":"IF(OR($B56=\"\"),0,IF($B56=BO56,20,0))","v":0},"Ghana",{"$f":"IF(OR($B56=\"\"),0,IF($B56=BQ56,20,0))","v":20},"Ghana",{"$f":"IF(OR($B56=\"\"),0,IF($B56=BS56,20,0))","v":20},"Ghana",{"$f":"IF(OR($B56=\"\"),0,IF($B56=BU56,20,0))","v":20},"Ghana",{"$f":"IF(OR($B56=\"\"),0,IF($B56=BW56,20,0))","v":20},"Kroatien",{"$f":"IF(OR($B56=\"\"),0,IF($B56=BY56,20,0))","v":0},"Kroatien",{"$f":"IF(OR($B56=\"\"),0,IF($B56=CA56,20,0))","v":0},"Ghana",{"$f":"IF(OR($B56=\"\"),0,IF($B56=CC56,20,0))","v":20},"Ghana",{"$f":"IF(OR($B56=\"\"),0,IF($B56=CE56,20,0))","v":20},"Ghana",{"$f":"IF(OR($B56=\"\"),0,IF($B56=CG56,20,0))","v":20},"Ghana",{"$f":"IF(OR($B56=\"\"),0,IF($B56=CI56,20,0))","v":20},"Ghana",{"$f":"IF(OR($B56=\"\"),0,IF($B56=CK56,20,0))","v":20},"Ghana",{"$f":"IF(OR($B56=\"\"),0,IF($B56=CM56,20,0))","v":20},"Kroatien",{"$f":"IF(OR($B56=\"\"),0,IF($B56=CO56,20,0))","v":0},"Kroatien",{"$f":"IF(OR($B56=\"\"),0,IF($B56=CQ56,20,0))","v":0},"Ghana",{"$f":"IF(OR($B56=\"\"),0,IF($B56=CS56,20,0))","v":20},"Panama",{"$f":"IF(OR($B56=\"\"),0,IF($B56=CU56,20,0))","v":0},"Panama",{"$f":"IF(OR($B56=\"\"),0,IF($B56=CW56,20,0))","v":0},"Ghana",{"$f":"IF(OR($B56=\"\"),0,IF($B56=CY56,20,0))","v":20}]
[4,"Panama",null,null,"Panama",{"$f":"IF(OR($B57=\"\"),0,IF($B57=E57,20,0))","v":20},"Panama",{"$f":"IF(OR($B57=\"\"),0,IF($B57=G57,20,0))","v":20},"Kroatien",{"$f":"IF(OR($B57=\"\"),0,IF($B57=I57,20,0))","v":0},"Panama",{"$f":"IF(OR($B57=\"\"),0,IF($B57=K57,20,0))","v":20},"Panama",{"$f":"IF(OR($B57=\"\"),0,IF($B57=M57,20,0))","v":20},"Panama",{"$f":"IF(OR($B57=\"\"),0,IF($B57=O57,20,0))","v":20},"Panama",{"$f":"IF(OR($B57=\"\"),0,IF($B57=Q57,20,0))","v":20},"Panama",{"$f":"IF(OR($B57=\"\"),0,IF($B57=S57,20,0))","v":20},"Panama",{"$f":"IF(OR($B57=\"\"),0,IF($B57=U57,20,0))","v":20},"Panama",{"$f":"IF(OR($B57=\"\"),0,IF($B57=W57,20,0))","v":20},"Ghana",{"$f":"IF(OR($B57=\"\"),0,IF($B57=Y57,20,0))","v":0},"Panama",{"$f":"IF(OR($B57=\"\"),0,IF($B57=AA57,20,0))","v":20},"Panama",{"$f":"IF(OR($B57=\"\"),0,IF($B57=AC57,20,0))","v":20},"Ghana",{"$f":"IF(OR($B57=\"\"),0,IF($B57=AE57,20,0))","v":0},"Panama",{"$f":"IF(OR($B57=\"\"),0,IF($B57=AG57,20,0))","v":20},"Panama",{"$f":"IF(OR($B57=\"\"),0,IF($B57=AI57,20,0))","v":20},"Panama",{"$f":"IF(OR($B57=\"\"),0,IF($B57=AK57,20,0))","v":20},"Panama",{"$f":"IF(OR($B57=\"\"),0,IF($B57=AM57,20,0))","v":20},"Panama",{"$f":"IF(OR($B57=\"\"),0,IF($B57=AO57,20,0))","v":20},"Panama",{"$f":"IF(OR($B57=\"\"),0,IF($B57=AQ57,20,0))","v":20},"Panama",{"$f":"IF(OR($B57=\"\"),0,IF($B57=AS57,20,0))","v":20},"Panama",{"$f":"IF(OR($B57=\"\"),0,IF($B57=AU57,20,0))","v":20},"Panama",{"$f":"IF(OR($B57=\"\"),0,IF($B57=AW57,20,0))","v":20},"Panama",{"$f":"IF(OR($B57=\"\"),0,IF($B57=AY57,20,0))","v":20},"Panama",{"$f":"IF(OR($B57=\"\"),0,IF($B57=BA57,20,0))","v":20},"Ghana",{"$f":"IF(OR($B57=\"\"),0,IF($B57=BC57,20,0))","v":0},"Panama",{"$f":"IF(OR($B57=\"\"),0,IF($B57=BE57,20,0))","v":20},"Panama",{"$f":"IF(OR($B57=\"\"),0,IF($B57=BG57,20,0))","v":20},"Panama",{"$f":"IF(OR($B57=\"\"),0,IF($B57=BI57,20,0))","v":20},"Panama",{"$f":"IF(OR($B57=\"\"),0,IF($B57=BK57,20,0))","v":20},"Panama",{"$f":"IF(OR($B57=\"\"),0,IF($B57=BM57,20,0))","v":20},"Panama",{"$f":"IF(OR($B57=\"\"),0,IF($B57=BO57,20,0))","v":20},"Panama",{"$f":"IF(OR($B57=\"\"),0,IF($B57=BQ57,20,0))","v":20},"Panama",{"$f":"IF(OR($B57=\"\"),0,IF($B57=BS57,20,0))","v":20},"Panama",{"$f":"IF(OR($B57=\"\"),0,IF($B57=BU57,20,0))","v":20},"Panama",{"$f":"IF(OR($B57=\"\"),0,IF($B57=BW57,20,0))","v":20},"Panama",{"$f":"IF(OR($B57=\"\"),0,IF($B57=BY57,20,0))","v":20},"Panama",{"$f":"IF(OR($B57=\"\"),0,IF($B57=CA57,20,0))","v":20},"Panama",{"$f":"IF(OR($B57=\"\"),0,IF($B57=CC57,20,0))","v":20},"Panama",{"$f":"IF(OR($B57=\"\"),0,IF($B57=CE57,20,0))","v":20},"Panama",{"$f":"IF(OR($B57=\"\"),0,IF($B57=CG57,20,0))","v":20},"Panama",{"$f":"IF(OR($B57=\"\"),0,IF($B57=CI57,20,0))","v":20},"Panama",{"$f":"IF(OR($B57=\"\"),0,IF($B57=CK57,20,0))","v":20},"Panama",{"$f":"IF(OR($B57=\"\"),0,IF($B57=CM57,20,0))","v":20},"Panama",{"$f":"IF(OR($B57=\"\"),0,IF($B57=CO57,20,0))","v":20},"Panama",{"$f":"IF(OR($B57=\"\"),0,IF($B57=CQ57,20,0))","v":20},"Panama",{"$f":"IF(OR($B57=\"\"),0,IF($B57=CS57,20,0))","v":20},"Ghana",{"$f":"IF(OR($B57=\"\"),0,IF($B57=CU57,20,0))","v":0},"Ghana",{"$f":"IF(OR($B57=\"\"),0,IF($B57=CW57,20,0))","v":0},"Panama",{"$f":"IF(OR($B57=\"\"),0,IF($B57=CY57,20,0))","v":20}]
[null,null,"Gesamtpunktzahl:",null,{"$f":"Teilnehmerliste!$C6","v":"Agorastos"},{"$f":"SUM(F10:F57)","v":260},{"$f":"Teilnehmerliste!$C7","v":"Agorastos"},{"$f":"SUM(H10:H57)","v":260},{"$f":"Teilnehmerliste!$C8","v":"Antonelli"},{"$f":"SUM(J10:J57)","v":260},{"$f":"Teilnehmerliste!$C9","v":"Antonelli"},{"$f":"SUM(L10:L57)","v":300},{"$f":"Teilnehmerliste!$C10","v":"Antonelli"},{"$f":"SUM(N10:N57)","v":360},{"$f":"Teilnehmerliste!$C11","v":"Balazs"},{"$f":"SUM(P10:P57)","v":400},{"$f":"Teilnehmerliste!$C12","v":"Bartholet"},{"$f":"SUM(R10:R57)","v":340},{"$f":"Teilnehmerliste!$C13","v":"Bartholet"},{"$f":"SUM(T10:T57)","v":160},{"$f":"Teilnehmerliste!$C14","v":"Bartholet"},{"$f":"SUM(V10:V57)","v":220},{"$f":"Teilnehmerliste!$C15","v":"Bartholet"},{"$f":"SUM(X10:X57)","v":260},{"$f":"Teilnehmerliste!$C16","v":"Beck"},{"$f":"SUM(Z10:Z57)","v":280},{"$f":"Teilnehmerliste!$C17","v":"Boonaek"},{"$f":"SUM(AB10:AB57)","v":380},{"$f":"Teilnehmerliste!$C18","v":"Bosshart"},{"$f":"SUM(AD10:AD57)","v":300},{"$f":"Teilnehmerliste!$C19","v":"Brunner"},{"$f":"SUM(AF10:AF57)","v":240},{"$f":"Teilnehmerliste!$C20","v":"Brunner"},{"$f":"SUM(AH10:AH57)","v":200},{"$f":"Teilnehmerliste!$C21","v":"Brunner"},{"$f":"SUM(AJ10:AJ57)","v":260},{"$f":"Teilnehmerliste!$C22","v":"Brunner"},{"$f":"SUM(AL10:AL57)","v":320},{"$f":"Teilnehmerliste!$C23","v":"Burkart"},{"$f":"SUM(AN10:AN57)","v":260},{"$f":"Teilnehmerliste!$C24","v":"Christiansen"},{"$f":"SUM(AP10:AP57)","v":300},{"$f":"Teilnehmerliste!$C25","v":"Cruz"},{"$f":"SUM(AR10:AR57)","v":300},{"$f":"Teilnehmerliste!$C26","v":"Rodrigues da Costa"},{"$f":"SUM(AT10:AT57)","v":400},{"$f":"Teilnehmerliste!$C27","v":"D'Acunto"},{"$f":"SUM(AV10:AV57)","v":360},{"$f":"Teilnehmerliste!$C28","v":"D'Acunto"},{"$f":"SUM(AX10:AX57)","v":280},{"$f":"Teilnehmerliste!$C29","v":"D'Acunto"},{"$f":"SUM(AZ10:AZ57)","v":320},{"$f":"Teilnehmerliste!$C30","v":"Derungs"},{"$f":"SUM(BB10:BB57)","v":280},{"$f":"Teilnehmerliste!$C31","v":"Djukic"},{"$f":"SUM(BD10:BD57)","v":260},{"$f":"Teilnehmerliste!$C32","v":"Duvnjak"},{"$f":"SUM(BF10:BF57)","v":340},{"$f":"Teilnehmerliste!$C33","v":"Duvnjak"},{"$f":"SUM(BH10:BH57)","v":260},{"$f":"Teilnehmerliste!$C34","v":"Duvnjak"},{"$f":"SUM(BJ10:BJ57)","v":340},{"$f":"Teilnehmerliste!$C35","v":"Gomes"},{"$f":"SUM(BL10:BL57)","v":180},{"$f":"Teilnehmerliste!$C36","v":"Gomes"},{"$f":"SUM(BN10:BN57)","v":320},{"$f":"Teilnehmerliste!$C37","v":"González"},{"$f":"SUM(BP10:BP57)","v":140},{"$f":"Teilnehmerliste!$C38","v":"González"},{"$f":"SUM(BR10:BR57)","v":280},{"$f":"Teilnehmerliste!$C39","v":"Grosse"},{"$f":"SUM(BT10:BT57)","v":220},{"$f":"Teilnehmerliste!$C40","v":"Gygli"},{"$f":"SUM(BV10:BV57)","v":260},{"$f":"Teilnehmerliste!$C41","v":"Gygli"},{"$f":"SUM(BX10:BX57)","v":280},{"$f":"Teilnehmerliste!$C42","v":"Gygli"},{"$f":"SUM(BZ10:BZ57)","v":220},{"$f":"Teilnehmerliste!$C43","v":"Gygli"},{"$f":"SUM(CB10:CB57)","v":180},{"$f":"Teilnehmerliste!$C44","v":"Gygli"},{"$f":"SUM(CD10:CD57)","v":300},{"$f":"Teilnehmerliste!$C45","v":"Gygli"},{"$f":"SUM(CF10:CF57)","v":300},{"$f":"Teilnehmerliste!$C46","v":"Haab"},{"$f":"SUM(CH10:CH57)","v":320},{"$f":"Teilnehmerliste!$C47","v":"Isenschmid"},{"$f":"SUM(CJ10:CJ57)","v":360},{"$f":"Teilnehmerliste!$C48","v":"Isenschmid"},{"$f":"SUM(CL10:CL57)","v":220},{"$f":"Teilnehmerliste!$C49","v":"Isenschmid"},{"$f":"SUM(CN10:CN57)","v":280},{"$f":"Teilnehmerliste!$C50","v":"Jones"},{"$f":"SUM(CP10:CP57)","v":260},{"$f":"Teilnehmerliste!$C51","v":"Keller"},{"$f":"SUM(CR10:CR57)","v":300},{"$f":"Teilnehmerliste!$C52","v":"Kistler"},{"$f":"SUM(CT10:CT57)","v":280},{"$f":"Teilnehmerliste!$C53","v":"Lanz"},{"$f":"SUM(CV10:CV57)","v":260},{"$f":"Teilnehmerliste!$C54","v":"Lischer"},{"$f":"SUM(CX10:CX57)","v":240},{"$f":"Teilnehmerliste!$C55","v":"Lütolf"},{"$f":"SUM(CZ10:CZ57)","v":260}]
[]
[]
["Vorrunde",null,"Spieler 51 - 100"]
["10 Punkte für richtige Mannschaft auf Platz 3",null,null,null,{"$f":"Teilnehmerliste!$B56","v":"Nicolas"},null,{"$f":"Teilnehmerliste!$B57","v":"Mauro"},null,{"$f":"Teilnehmerliste!$B58","v":"Ben"},null,{"$f":"Teilnehmerliste!$B59","v":"Martin"},null,{"$f":"Teilnehmerliste!$B60","v":"Elias"},null,{"$f":"Teilnehmerliste!$B61","v":"Julian"},null,{"$f":"Teilnehmerliste!$B62","v":"Philipp"},null,{"$f":"Teilnehmerliste!$B63","v":"Telmo"},null,{"$f":"Teilnehmerliste!$B64","v":"Martin"},null,{"$f":"Teilnehmerliste!$B65","v":"Lechena"},null,{"$f":"Teilnehmerliste!$B66","v":"Stefan"},null,{"$f":"Teilnehmerliste!$B67","v":"Michael"},null,{"$f":"Teilnehmerliste!$B68","v":"Petra"},null,{"$f":"Teilnehmerliste!$B69","v":"Martin"},null,{"$f":"Teilnehmerliste!$B70","v":"Ivo und Brigitte"},null,{"$f":"Teilnehmerliste!$B71","v":"Lynn"},null,{"$f":"Teilnehmerliste!$B72","v":"Michael"},null,{"$f":"Teilnehmerliste!$B73","v":"Sabine"},null,{"$f":"Teilnehmerliste!$B74","v":"Martin"},null,{"$f":"Teilnehmerliste!$B75","v":"Evelyne"},null,{"$f":"Teilnehmerliste!$B76","v":"Yannick"},null,{"$f":"Teilnehmerliste!$B77","v":"Erich"},null,{"$f":"Teilnehmerliste!$B78","v":"Ralph"},null,{"$f":"Teilnehmerliste!$B79","v":"Bruno"},null,{"$f":"Teilnehmerliste!$B80","v":"Aleandro"},null,{"$f":"Teilnehmerliste!$B81","v":"Armando"},null,{"$f":"Teilnehmerliste!$B82","v":"Lea"},null,{"$f":"Teilnehmerliste!$B83","v":"Reto"},null,{"$f":"Teilnehmerliste!$B84","v":"Christoph"},null,{"$f":"Teilnehmerliste!$B85","v":"Markus"},null,{"$f":"Teilnehmerliste!$B86","v":"Marc"},null,{"$f":"Teilnehmerliste!$B87","v":"Jingwen"},null,{"$f":"Teilnehmerliste!$B88","v":"Stefan"},null,{"$f":"Teilnehmerliste!$B89","v":"Stefan"},null,{"$f":"Teilnehmerliste!$B90","v":0},null,{"$f":"Teilnehmerliste!$B91","v":0},null,{"$f":"Teilnehmerliste!$B92","v":0},null,{"$f":"Teilnehmerliste!$B93","v":0},null,{"$f":"Teilnehmerliste!$B94","v":0},null,{"$f":"Teilnehmerliste!$B95","v":0},null,{"$f":"Teilnehmerliste!$B96","v":0},null,{"$f":"Teilnehmerliste!$B97","v":0},null,{"$f":"Teilnehmerliste!$B98","v":0},null,{"$f":"Teilnehmerliste!$B99","v":0},null,{"$f":"Teilnehmerliste!$B100","v":0},null,{"$f":"Teilnehmerliste!$B101","v":0},null,{"$f":"Teilnehmerliste!$B102","v":0},null,{"$f":"Teilnehmerliste!$B103","v":0},null,{"$f":"Teilnehmerliste!$B104","v":0},null,{"$f":"Teilnehmerliste!$B105","v":0}]
["10 Punkte für richtige Mannschaft auf Platz 4",null,null,null,{"$f":"Teilnehmerliste!$C56","v":"Mack"},null,{"$f":"Teilnehmerliste!$C57","v":"Marini"},null,{"$f":"Teilnehmerliste!$C58","v":"Marthaler"},null,{"$f":"Teilnehmerliste!$C59","v":"Marthaler"},null,{"$f":"Teilnehmerliste!$C60","v":"Marty"},null,{"$f":"Teilnehmerliste!$C61","v":"Merkli"},null,{"$f":"Teilnehmerliste!$C62","v":"Meyer"},null,{"$f":"Teilnehmerliste!$C63","v":"Oliveira"},null,{"$f":"Teilnehmerliste!$C64","v":"Oroshi"},null,{"$f":"Teilnehmerliste!$C65","v":"Pek"},null,{"$f":"Teilnehmerliste!$C66","v":"Principe"},null,{"$f":"Teilnehmerliste!$C67","v":"Prucha"},null,{"$f":"Teilnehmerliste!$C68","v":"Rauscher"},null,{"$f":"Teilnehmerliste!$C69","v":"Rohner"},null,{"$f":"Teilnehmerliste!$C70","v":"Rüdemann"},null,{"$f":"Teilnehmerliste!$C71","v":"Rüegg"},null,{"$f":"Teilnehmerliste!$C72","v":"Rüegg"},null,{"$f":"Teilnehmerliste!$C73","v":"Rüegg"},null,{"$f":"Teilnehmerliste!$C74","v":"Schawalder"},null,{"$f":"Teilnehmerliste!$C75","v":"Schenk"},null,{"$f":"Teilnehmerliste!$C76","v":"Schilliger"},null,{"$f":"Teilnehmerliste!$C77","v":"Schommarz"},null,{"$f":"Teilnehmerliste!$C78","v":"Schuster"},null,{"$f":"Teilnehmerliste!$C79","v":"Silva"},null,{"$f":"Teilnehmerliste!$C80","v":"Silvestri"},null,{"$f":"Teilnehmerliste!$C81","v":"Thormann"},null,{"$f":"Teilnehmerliste!$C82","v":"Treichler"},null,{"$f":"Teilnehmerliste!$C83","v":"Treichler"},null,{"$f":"Teilnehmerliste!$C84","v":"Wälti"},null,{"$f":"Teilnehmerliste!$C85","v":"Wagner"},null,{"$f":"Teilnehmerliste!$C86","v":"Walthard"},null,{"$f":"Teilnehmerliste!$C87","v":"Wang"},null,{"$f":"Teilnehmerliste!$C88","v":"Wullschleger"},null,{"$f":"Teilnehmerliste!$C89","v":"Zachmann"},null,{"$f":"Teilnehmerliste!$C90","v":0},null,{"$f":"Teilnehmerliste!$C91","v":0},null,{"$f":"Teilnehmerliste!$C92","v":0},null,{"$f":"Teilnehmerliste!$C93","v":0},null,{"$f":"Teilnehmerliste!$C94","v":0},null,{"$f":"Teilnehmerliste!$C95","v":0},null,{"$f":"Teilnehmerliste!$C96","v":0},null,{"$f":"Teilnehmerliste!$C97","v":0},null,{"$f":"Teilnehmerliste!$C98","v":0},null,{"$f":"Teilnehmerliste!$C99","v":0},null,{"$f":"Teilnehmerliste!$C100","v":0},null,{"$f":"Teilnehmerliste!$C101","v":0},null,{"$f":"Teilnehmerliste!$C102","v":0},null,{"$f":"Teilnehmerliste!$C103","v":0},null,{"$f":"Teilnehmerliste!$C104","v":0},null,{"$f":"Teilnehmerliste!$C105","v":0}]
["Punkte für 1. + 2. Platz werden in der Zwischenrunde dazugerechnet",null,null,null,null,{"$f":"Teilnehmerliste!$A56","v":51},null,{"$f":"Teilnehmerliste!$A57","v":52},null,{"$f":"Teilnehmerliste!$A58","v":53},null,{"$f":"Teilnehmerliste!$A59","v":54},null,{"$f":"Teilnehmerliste!$A60","v":55},null,{"$f":"Teilnehmerliste!$A61","v":56},null,{"$f":"Teilnehmerliste!$A62","v":57},null,{"$f":"Teilnehmerliste!$A63","v":58},null,{"$f":"Teilnehmerliste!$A64","v":59},null,{"$f":"Teilnehmerliste!$A65","v":60},null,{"$f":"Teilnehmerliste!$A66","v":61},null,{"$f":"Teilnehmerliste!$A67","v":62},null,{"$f":"Teilnehmerliste!$A68","v":63},null,{"$f":"Teilnehmerliste!$A69","v":64},null,{"$f":"Teilnehmerliste!$A70","v":65},null,{"$f":"Teilnehmerliste!$A71","v":66},null,{"$f":"Teilnehmerliste!$A72","v":67},null,{"$f":"Teilnehmerliste!$A73","v":68},null,{"$f":"Teilnehmerliste!$A74","v":69},null,{"$f":"Teilnehmerliste!$A75","v":70},null,{"$f":"Teilnehmerliste!$A76","v":71},null,{"$f":"Teilnehmerliste!$A77","v":72},null,{"$f":"Teilnehmerliste!$A78","v":73},null,{"$f":"Teilnehmerliste!$A79","v":74},null,{"$f":"Teilnehmerliste!$A80","v":75},null,{"$f":"Teilnehmerliste!$A81","v":76},null,{"$f":"Teilnehmerliste!$A82","v":77},null,{"$f":"Teilnehmerliste!$A83","v":78},null,{"$f":"Teilnehmerliste!$A84","v":79},null,{"$f":"Teilnehmerliste!$A85","v":80},null,{"$f":"Teilnehmerliste!$A86","v":81},null,{"$f":"Teilnehmerliste!$A87","v":82},null,{"$f":"Teilnehmerliste!$A88","v":83},null,{"$f":"Teilnehmerliste!$A89","v":84},null,{"$f":"Teilnehmerliste!$A90","v":85},null,{"$f":"Teilnehmerliste!$A91","v":86},null,{"$f":"Teilnehmerliste!$A92","v":87},null,{"$f":"Teilnehmerliste!$A93","v":88},null,{"$f":"Teilnehmerliste!$A94","v":89},null,{"$f":"Teilnehmerliste!$A95","v":90},null,{"$f":"Teilnehmerliste!$A96","v":91},null,{"$f":"Teilnehmerliste!$A97","v":92},null,{"$f":"Teilnehmerliste!$A98","v":93},null,{"$f":"Teilnehmerliste!$A99","v":94},null,{"$f":"Teilnehmerliste!$A100","v":95},null,{"$f":"Teilnehmerliste!$A101","v":96},null,{"$f":"Teilnehmerliste!$A102","v":97},null,{"$f":"Teilnehmerliste!$A103","v":98},null,{"$f":"Teilnehmerliste!$A104","v":99},null,{"$f":"Teilnehmerliste!$A105","v":100}]
[]
["Platz","Team",null,null,"Tipp","Pkt","Tipp","Pkt","Tipp","Pkt","Tipp","Pkt","Tipp","Pkt","Tipp","Pkt","Tipp","Pkt","Tipp","Pkt","Tipp","Pkt","Tipp","Pkt","Tipp","Pkt","Tipp","Pkt","Tipp","Pkt","Tipp","Pkt","Tipp","Pkt","Tipp","Pkt","Tipp","Pkt","Tipp","Pkt","Tipp","Pkt","Tipp","Pkt","Tipp","Pkt","Tipp","Pkt","Tipp","Pkt","Tipp","Pkt","Tipp","Pkt","Tipp","Pkt","Tipp","Pkt","Tipp","Pkt","Tipp","Pkt","Tipp","Pkt","Tipp","Pkt","Tipp","Pkt","Tipp","Pkt","Tipp","Pkt","Tipp","Pkt","Tipp","Pkt","Tipp","Pkt","Tipp","Pkt","Tipp","Pkt","Tipp","Pkt","Tipp","Pkt","Tipp","Pkt","Tipp","Pkt","Tipp","Pkt","Tipp","Pkt","Tipp","Pkt","Tipp","Pkt","Tipp","Pkt","Tipp","Pkt","Tipp","Pkt"]
["Endplatzierung"]
[1,{"$f":"IF(B10=\"\",\"\",B10)","v":"Mexiko"},"Gruppe A",null,"Mexiko","-","Mexiko","-","Mexiko","-","Mexiko","-","Mexiko","-","Tschechien","-","Mexiko","-","Mexiko","-","Mexiko","-","Südkorea","-","Südkorea","-","Mexiko","-","Mexiko","-","Tschechien","-","Tschechien","-","Südkorea","-","Südkorea","-","Tschechien","-","Mexiko","-","Mexiko","-","Mexiko","-","Mexiko","-","Südkorea","-","Mexiko","-","Mexiko","-","Mexiko","-","Mexiko","-","Mexiko","-","Mexiko","-","Mexiko","-","Mexiko","-","Mexiko","-","Mexiko","-","Mexiko","-",null,"-",null,"-",null,"-",null,"-",null,"-",null,"-",null,"-",null,"-",null,"-",null,"-",null,"-",null,"-",null,"-",null,"-",null,"-",null,"-"]
[2,{"$f":"IF(B11=\"\",\"\",B11)","v":"Südafrika"},null,null,"Tschechien","-","Tschechien","-","Südafrika","-","Tschechien","-","Südafrika","-","Mexiko","-","Tschechien","-","Tschechien","-","Tschechien","-","Tschechien","-","Tschechien","-","Tschechien","-","Tschechien","-","Mexiko","-","Mexiko","-","Mexiko","-","Tschechien","-","Mexiko","-","Südkorea","-","Südkorea","-","Südkorea","-","Tschechien","-","Südafrika","-","Südkorea","-","Tschechien","-","Tschechien","-","Tschechien","-","Südkorea","-","Südkorea","-","Südkorea","-","Südafrika","-","Tschechien","-","Tschechien","-","Tschechien","-",null,"-",null,"-",null,"-",null,"-",null,"-",null,"-",null,"-",null,"-",null,"-",null,"-",null,"-",null,"-",null,"-",null,"-",null,"-",null,"-"]
[3,"Südkorea",null,null,"Südkorea",{"$f":"IF(OR($B70=\"\"),0,IF($B70=E70,20,0))","v":20},"Südkorea",{"$f":"IF(OR($B70=\"\"),0,IF($B70=G70,20,0))","v":20},"Südkorea",{"$f":"IF(OR($B70=\"\"),0,IF($B70=I70,20,0))","v":20},"Südafrika",{"$f":"IF(OR($B70=\"\"),0,IF($B70=K70,20,0))","v":0},"Tschechien",{"$f":"IF(OR($B70=\"\"),0,IF($B70=M70,20,0))","v":0},"Südkorea",{"$f":"IF(OR($B70=\"\"),0,IF($B70=O70,20,0))","v":20},"Südkorea",{"$f":"IF(OR($B70=\"\"),0,IF($B70=Q70,20,0))","v":20},"Südafrika",{"$f":"IF(OR($B70=\"\"),0,IF($B70=S70,20,0))","v":0},"Südkorea",{"$f":"IF(OR($B70=\"\"),0,IF($B70=U70,20,0))","v":20},"Südafrika",{"$f":"IF(OR($B70=\"\"),0,IF($B70=W70,20,0))","v":0},"Mexiko",{"$f":"IF(OR($B70=\"\"),0,IF($B70=Y70,20,0))","v":0},"Südkorea",{"$f":"IF(OR($B70=\"\"),0,IF($B70=AA70,20,0))","v":20},"Südkorea",{"$f":"IF(OR($B70=\"\"),0,IF($B70=AC70,20,0))","v":20},"Südkorea",{"$f":"IF(OR($B70=\"\"),0,IF($B70=AE70,20,0))","v":20},"Südafrika",{"$f":"IF(OR($B70=\"\"),0,IF($B70=AG70,20,0))","v":0},"Südafrika",{"$f":"IF(OR($B70=\"\"),0,IF($B70=AI70,20,0))","v":0},"Südafrika",{"$f":"IF(OR($B70=\"\"),0,IF($B70=AK70,20,0))","v":0},"Südkorea",{"$f":"IF(OR($B70=\"\"),0,IF($B70=AM70,20,0))","v":20},"Tschechien",{"$f":"IF(OR($B70=\"\"),0,IF($B70=AO70,20,0))","v":0},"Südafrika",{"$f":"IF(OR($B70=\"\"),0,IF($B70=AQ70,20,0))","v":0},"Tschechien",{"$f":"IF(OR($B70=\"\"),0,IF($B70=AS70,20,0))","v":0},"Südkorea",{"$f":"IF(OR($B70=\"\"),0,IF($B70=AU70,20,0))","v":20},"Mexiko",{"$f":"IF(OR($B70=\"\"),0,IF($B70=AW70,20,0))","v":0},"Tschechien",{"$f":"IF(OR($B70=\"\"),0,IF($B70=AY70,20,0))","v":0},"Südkorea",{"$f":"IF(OR($B70=\"\"),0,IF($B70=BA70,20,0))","v":20},"Südkorea",{"$f":"IF(OR($B70=\"\"),0,IF($B70=BC70,20,0))","v":20},"Südkorea",{"$f":"IF(OR($B70=\"\"),0,IF($B70=BE70,20,0))","v":20},"Tschechien",{"$f":"IF(OR($B70=\"\"),0,IF($B70=BG70,20,0))","v":0},"Tschechien",{"$f":"IF(OR($B70=\"\"),0,IF($B70=BI70,20,0))","v":0},"Tschechien",{"$f":"IF(OR($B70=\"\"),0,IF($B70=BK70,20,0))","v":0},"Tschechien",{"$f":"IF(OR($B70=\"\"),0,IF($B70=BM70,20,0))","v":0},"Südkorea",{"$f":"IF(OR($B70=\"\"),0,IF($B70=BO70,20,0))","v":20},"Südkorea",{"$f":"IF(OR($B70=\"\"),0,IF($B70=BQ70,20,0))","v":20},"Südkorea",{"$f":"IF(OR($B70=\"\"),0,IF($B70=BS70,20,0))","v":20},null,{"$f":"IF(OR($B70=\"\"),0,IF($B70=BU70,20,0))","v":0},null,{"$f":"IF(OR($B70=\"\"),0,IF($B70=BW70,20,0))","v":0},null,{"$f":"IF(OR($B70=\"\"),0,IF($B70=BY70,20,0))","v":0},null,{"$f":"IF(OR($B70=\"\"),0,IF($B70=CA70,20,0))","v":0},null,{"$f":"IF(OR($B70=\"\"),0,IF($B70=CC70,20,0))","v":0},null,{"$f":"IF(OR($B70=\"\"),0,IF($B70=CE70,20,0))","v":0},null,{"$f":"IF(OR($B70=\"\"),0,IF($B70=CG70,20,0))","v":0},null,{"$f":"IF(OR($B70=\"\"),0,IF($B70=CI70,20,0))","v":0},null,{"$f":"IF(OR($B70=\"\"),0,IF($B70=CK70,20,0))","v":0},null,{"$f":"IF(OR($B70=\"\"),0,IF($B70=CM70,20,0))","v":0},null,{"$f":"IF(OR($B70=\"\"),0,IF($B70=CO70,20,0))","v":0},null,{"$f":"IF(OR($B70=\"\"),0,IF($B70=CQ70,20,0))","v":0},null,{"$f":"IF(OR($B70=\"\"),0,IF($B70=CS70,20,0))","v":0},null,{"$f":"IF(OR($B70=\"\"),0,IF($B70=CU70,20,0))","v":0},null,{"$f":"IF(OR($B70=\"\"),0,IF($B70=CW70,20,0))","v":0},null,{"$f":"IF(OR($B70=\"\"),0,IF($B70=CY70,20,0))","v":0}]
[4,"Tschechien",null,null,"Südafrika",{"$f":"IF(OR($B71=\"\"),0,IF($B71=E71,20,0))","v":0},"Südafrika",{"$f":"IF(OR($B71=\"\"),0,IF($B71=G71,20,0))","v":0},"Tschechien",{"$f":"IF(OR($B71=\"\"),0,IF($B71=I71,20,0))","v":20},"Südkorea",{"$f":"IF(OR($B71=\"\"),0,IF($B71=K71,20,0))","v":0},"Südkorea",{"$f":"IF(OR($B71=\"\"),0,IF($B71=M71,20,0))","v":0},"Südafrika",{"$f":"IF(OR($B71=\"\"),0,IF($B71=O71,20,0))","v":0},"Südafrika",{"$f":"IF(OR($B71=\"\"),0,IF($B71=Q71,20,0))","v":0},"Südkorea",{"$f":"IF(OR($B71=\"\"),0,IF($B71=S71,20,0))","v":0},"Südafrika",{"$f":"IF(OR($B71=\"\"),0,IF($B71=U71,20,0))","v":0},"Mexiko",{"$f":"IF(OR($B71=\"\"),0,IF($B71=W71,20,0))","v":0},"Südafrika",{"$f":"IF(OR($B71=\"\"),0,IF($B71=Y71,20,0))","v":0},"Südafrika",{"$f":"IF(OR($B71=\"\"),0,IF($B71=AA71,20,0))","v":0},"Südafrika",{"$f":"IF(OR($B71=\"\"),0,IF($B71=AC71,20,0))","v":0},"Südafrika",{"$f":"IF(OR($B71=\"\"),0,IF($B71=AE71,20,0))","v":0},"Südkorea",{"$f":"IF(OR($B71=\"\"),0,IF($B71=AG71,20,0))","v":0},"Tschechien",{"$f":"IF(OR($B71=\"\"),0,IF($B71=AI71,20,0))","v":20},"Mexiko",{"$f":"IF(OR($B71=\"\"),0,IF($B71=AK71,20,0))","v":0},"Südafrika",{"$f":"IF(OR($B71=\"\"),0,IF($B71=AM71,20,0))","v":0},"Südafrika",{"$f":"IF(OR($B71=\"\"),0,IF($B71=AO71,20,0))","v":0},"Tschechien",{"$f":"IF(OR($B71=\"\"),0,IF($B71=AQ71,20,0))","v":20},"Südafrika",{"$f":"IF(OR($B71=\"\"),0,IF($B71=AS71,20,0))","v":0},"Südafrika",{"$f":"IF(OR($B71=\"\"),0,IF($B71=AU71,20,0))","v":0},"Tschechien",{"$f":"IF(OR($B71=\"\"),0,IF($B71=AW71,20,0))","v":20},"Südafrika",{"$f":"IF(OR($B71=\"\"),0,IF($B71=AY71,20,0))","v":0},"Südafrika",{"$f":"IF(OR($B71=\"\"),0,IF($B71=BA71,20,0))","v":0},"Südafrika",{"$f":"IF(OR($B71=\"\"),0,IF($B71=BC71,20,0))","v":0},"Südafrika",{"$f":"IF(OR($B71=\"\"),0,IF($B71=BE71,20,0))","v":0},"Südafrika",{"$f":"IF(OR($B71=\"\"),0,IF($B71=BG71,20,0))","v":0},"Südafrika",{"$f":"IF(OR($B71=\"\"),0,IF($B71=BI71,20,0))","v":0},"Südafrika",{"$f":"IF(OR($B71=\"\"),0,IF($B71=BK71,20,0))","v":0},"Südkorea",{"$f":"IF(OR($B71=\"\"),0,IF($B71=BM71,20,0))","v":0},"Südafrika",{"$f":"IF(OR($B71=\"\"),0,IF($B71=BO71,20,0))","v":0},"Südafrika",{"$f":"IF(OR($B71=\"\"),0,IF($B71=BQ71,20,0))","v":0},"Südafrika",{"$f":"IF(OR($B71=\"\"),0,IF($B71=BS71,20,0))","v":0},null,{"$f":"IF(OR($B71=\"\"),0,IF($B71=BU71,20,0))","v":0},null,{"$f":"IF(OR($B71=\"\"),0,IF($B71=BW71,20,0))","v":0},null,{"$f":"IF(OR($B71=\"\"),0,IF($B71=BY71,20,0))","v":0},null,{"$f":"IF(OR($B71=\"\"),0,IF($B71=CA71,20,0))","v":0},null,{"$f":"IF(OR($B71=\"\"),0,IF($B71=CC71,20,0))","v":0},null,{"$f":"IF(OR($B71=\"\"),0,IF($B71=CE71,20,0))","v":0},null,{"$f":"IF(OR($B71=\"\"),0,IF($B71=CG71,20,0))","v":0},null,{"$f":"IF(OR($B71=\"\"),0,IF($B71=CI71,20,0))","v":0},null,{"$f":"IF(OR($B71=\"\"),0,IF($B71=CK71,20,0))","v":0},null,{"$f":"IF(OR($B71=\"\"),0,IF($B71=CM71,20,0))","v":0},null,{"$f":"IF(OR($B71=\"\"),0,IF($B71=CO71,20,0))","v":0},null,{"$f":"IF(OR($B71=\"\"),0,IF($B71=CQ71,20,0))","v":0},null,{"$f":"IF(OR($B71=\"\"),0,IF($B71=CS71,20,0))","v":0},null,{"$f":"IF(OR($B71=\"\"),0,IF($B71=CU71,20,0))","v":0},null,{"$f":"IF(OR($B71=\"\"),0,IF($B71=CW71,20,0))","v":0},null,{"$f":"IF(OR($B71=\"\"),0,IF($B71=CY71,20,0))","v":0}]
[1,"Schweiz","Gruppe B",null,"Schweiz","-","Schweiz","-","Schweiz","-","Schweiz","-","Schweiz","-","Schweiz","-","Schweiz","-","Bosnien-Herz.","-","Schweiz","-","Schweiz","-","Schweiz","-","Kanada","-","Schweiz","-","Schweiz","-","Schweiz","-","Schweiz","-","Schweiz","-","Schweiz","-","Schweiz","-","Schweiz","-","Schweiz","-","Schweiz","-","Schweiz","-","Schweiz","-","Schweiz","-","Schweiz","-","Schweiz","-","Schweiz","-","Schweiz","-","Schweiz","-","Schweiz","-","Schweiz","-","Schweiz","-","Schweiz","-",null,"-",null,"-",null,"-",null,"-",null,"-",null,"-",null,"-",null,"-",null,"-",null,"-",null,"-",null,"-",null,"-",null,"-",null,"-",null,"-"]
[2,"Kanada",null,null,"Kanada","-","Kanada","-","Kanada","-","Kanada","-","Bosnien-Herz.","-","Bosnien-Herz.","-","Bosnien-Herz.","-","Schweiz","-","Bosnien-Herz.","-","Kanada","-","Kanada","-","Schweiz","-","Kanada","-","Kanada","-","Bosnien-Herz.","-","Kanada","-","Kanada","-","Kanada","-","Kanada","-","Kanada","-","Kanada","-","Kanada","-","Bosnien-Herz.","-","Kanada","-","Kanada","-","Kanada","-","Kanada","-","Kanada","-","Bosnien-Herz.","-","Kanada","-","Kanada","-","Bosnien-Herz.","-","Kanada","-","Bosnien-Herz.","-",null,"-",null,"-",null,"-",null,"-",null,"-",null,"-",null,"-",null,"-",null,"-",null,"-",null,"-",null,"-",null,"-",null,"-",null,"-",null,"-"]
[3,"Bosnien-Herz.",null,null,"Bosnien-Herz.",{"$f":"IF(OR($B74=\"\"),0,IF($B74=E74,20,0))","v":20},"Bosnien-Herz.",{"$f":"IF(OR($B74=\"\"),0,IF($B74=G74,20,0))","v":20},"Bosnien-Herz.",{"$f":"IF(OR($B74=\"\"),0,IF($B74=I74,20,0))","v":20},"Bosnien-Herz.",{"$f":"IF(OR($B74=\"\"),0,IF($B74=K74,20,0))","v":20},"Kanada",{"$f":"IF(OR($B74=\"\"),0,IF($B74=M74,20,0))","v":0},"Katar",{"$f":"IF(OR($B74=\"\"),0,IF($B74=O74,20,0))","v":0},"Kanada",{"$f":"IF(OR($B74=\"\"),0,IF($B74=Q74,20,0))","v":0},"Kanada",{"$f":"IF(OR($B74=\"\"),0,IF($B74=S74,20,0))","v":0},"Kanada",{"$f":"IF(OR($B74=\"\"),0,IF($B74=U74,20,0))","v":0},"Bosnien-Herz.",{"$f":"IF(OR($B74=\"\"),0,IF($B74=W74,20,0))","v":20},"Bosnien-Herz.",{"$f":"IF(OR($B74=\"\"),0,IF($B74=Y74,20,0))","v":20},"Bosnien-Herz.",{"$f":"IF(OR($B74=\"\"),0,IF($B74=AA74,20,0))","v":20},"Bosnien-Herz.",{"$f":"IF(OR($B74=\"\"),0,IF($B74=AC74,20,0))","v":20},"Bosnien-Herz.",{"$f":"IF(OR($B74=\"\"),0,IF($B74=AE74,20,0))","v":20},"Kanada",{"$f":"IF(OR($B74=\"\"),0,IF($B74=AG74,20,0))","v":0},"Bosnien-Herz.",{"$f":"IF(OR($B74=\"\"),0,IF($B74=AI74,20,0))","v":20},"Bosnien-Herz.",{"$f":"IF(OR($B74=\"\"),0,IF($B74=AK74,20,0))","v":20},"Bosnien-Herz.",{"$f":"IF(OR($B74=\"\"),0,IF($B74=AM74,20,0))","v":20},"Katar",{"$f":"IF(OR($B74=\"\"),0,IF($B74=AO74,20,0))","v":0},"Katar",{"$f":"IF(OR($B74=\"\"),0,IF($B74=AQ74,20,0))","v":0},"Bosnien-Herz.",{"$f":"IF(OR($B74=\"\"),0,IF($B74=AS74,20,0))","v":20},"Bosnien-Herz.",{"$f":"IF(OR($B74=\"\"),0,IF($B74=AU74,20,0))","v":20},"Kanada",{"$f":"IF(OR($B74=\"\"),0,IF($B74=AW74,20,0))","v":0},"Bosnien-Herz.",{"$f":"IF(OR($B74=\"\"),0,IF($B74=AY74,20,0))","v":20},"Bosnien-Herz.",{"$f":"IF(OR($B74=\"\"),0,IF($B74=BA74,20,0))","v":20},"Bosnien-Herz.",{"$f":"IF(OR($B74=\"\"),0,IF($B74=BC74,20,0))","v":20},"Bosnien-Herz.",{"$f":"IF(OR($B74=\"\"),0,IF($B74=BE74,20,0))","v":20},"Bosnien-Herz.",{"$f":"IF(OR($B74=\"\"),0,IF($B74=BG74,20,0))","v":20},"Kanada",{"$f":"IF(OR($B74=\"\"),0,IF($B74=BI74,20,0))","v":0},"Bosnien-Herz.",{"$f":"IF(OR($B74=\"\"),0,IF($B74=BK74,20,0))","v":20},"Katar",{"$f":"IF(OR($B74=\"\"),0,IF($B74=BM74,20,0))","v":0},"Kanada",{"$f":"IF(OR($B74=\"\"),0,IF($B74=BO74,20,0))","v":0},"Bosnien-Herz.",{"$f":"IF(OR($B74=\"\"),0,IF($B74=BQ74,20,0))","v":20},"Kanada",{"$f":"IF(OR($B74=\"\"),0,IF($B74=BS74,20,0))","v":0},null,{"$f":"IF(OR($B74=\"\"),0,IF($B74=BU74,20,0))","v":0},null,{"$f":"IF(OR($B74=\"\"),0,IF($B74=BW74,20,0))","v":0},null,{"$f":"IF(OR($B74=\"\"),0,IF($B74=BY74,20,0))","v":0},null,{"$f":"IF(OR($B74=\"\"),0,IF($B74=CA74,20,0))","v":0},null,{"$f":"IF(OR($B74=\"\"),0,IF($B74=CC74,20,0))","v":0},null,{"$f":"IF(OR($B74=\"\"),0,IF($B74=CE74,20,0))","v":0},null,{"$f":"IF(OR($B74=\"\"),0,IF($B74=CG74,20,0))","v":0},null,{"$f":"IF(OR($B74=\"\"),0,IF($B74=CI74,20,0))","v":0},null,{"$f":"IF(OR($B74=\"\"),0,IF($B74=CK74,20,0))","v":0},null,{"$f":"IF(OR($B74=\"\"),0,IF($B74=CM74,20,0))","v":0},null,{"$f":"IF(OR($B74=\"\"),0,IF($B74=CO74,20,0))","v":0},null,{"$f":"IF(OR($B74=\"\"),0,IF($B74=CQ74,20,0))","v":0},null,{"$f":"IF(OR($B74=\"\"),0,IF($B74=CS74,20,0))","v":0},null,{"$f":"IF(OR($B74=\"\"),0,IF($B74=CU74,20,0))","v":0},null,{"$f":"IF(OR($B74=\"\"),0,IF($B74=CW74,20,0))","v":0},null,{"$f":"IF(OR($B74=\"\"),0,IF($B74=CY74,20,0))","v":0}]
[4,"Katar",null,null,"Katar",{"$f":"IF(OR($B75=\"\"),0,IF($B75=E75,20,0))","v":20},"Katar",{"$f":"IF(OR($B75=\"\"),0,IF($B75=G75,20,0))","v":20},"Katar",{"$f":"IF(OR($B75=\"\"),0,IF($B75=I75,20,0))","v":20},"Katar",{"$f":"IF(OR($B75=\"\"),0,IF($B75=K75,20,0))","v":20},"Katar",{"$f":"IF(OR($B75=\"\"),0,IF($B75=M75,20,0))","v":20},"Kanada",{"$f":"IF(OR($B75=\"\"),0,IF($B75=O75,20,0))","v":0},"Katar",{"$f":"IF(OR($B75=\"\"),0,IF($B75=Q75,20,0))","v":20},"Katar",{"$f":"IF(OR($B75=\"\"),0,IF($B75=S75,20,0))","v":20},"Katar",{"$f":"IF(OR($B75=\"\"),0,IF($B75=U75,20,0))","v":20},"Katar",{"$f":"IF(OR($B75=\"\"),0,IF($B75=W75,20,0))","v":20},"Katar",{"$f":"IF(OR($B75=\"\"),0,IF($B75=Y75,20,0))","v":20},"Katar",{"$f":"IF(OR($B75=\"\"),0,IF($B75=AA75,20,0))","v":20},"Katar",{"$f":"IF(OR($B75=\"\"),0,IF($B75=AC75,20,0))","v":20},"Katar",{"$f":"IF(OR($B75=\"\"),0,IF($B75=AE75,20,0))","v":20},"Katar",{"$f":"IF(OR($B75=\"\"),0,IF($B75=AG75,20,0))","v":20},"Katar",{"$f":"IF(OR($B75=\"\"),0,IF($B75=AI75,20,0))","v":20},"Katar",{"$f":"IF(OR($B75=\"\"),0,IF($B75=AK75,20,0))","v":20},"Katar",{"$f":"IF(OR($B75=\"\"),0,IF($B75=AM75,20,0))","v":20},"Bosnien-Herz.",{"$f":"IF(OR($B75=\"\"),0,IF($B75=AO75,20,0))","v":0},"Bosnien-Herz.",{"$f":"IF(OR($B75=\"\"),0,IF($B75=AQ75,20,0))","v":0},"Katar",{"$f":"IF(OR($B75=\"\"),0,IF($B75=AS75,20,0))","v":20},"Katar",{"$f":"IF(OR($B75=\"\"),0,IF($B75=AU75,20,0))","v":20},"Katar",{"$f":"IF(OR($B75=\"\"),0,IF($B75=AW75,20,0))","v":20},"Katar",{"$f":"IF(OR($B75=\"\"),0,IF($B75=AY75,20,0))","v":20},"Katar",{"$f":"IF(OR($B75=\"\"),0,IF($B75=BA75,20,0))","v":20},"Katar",{"$f":"IF(OR($B75=\"\"),0,IF($B75=BC75,20,0))","v":20},"Katar",{"$f":"IF(OR($B75=\"\"),0,IF($B75=BE75,20,0))","v":20},"Katar",{"$f":"IF(OR($B75=\"\"),0,IF($B75=BG75,20,0))","v":20},"Katar",{"$f":"IF(OR($B75=\"\"),0,IF($B75=BI75,20,0))","v":20},"Katar",{"$f":"IF(OR($B75=\"\"),0,IF($B75=BK75,20,0))","v":20},"Bosnien-Herz.",{"$f":"IF(OR($B75=\"\"),0,IF($B75=BM75,20,0))","v":0},"Katar",{"$f":"IF(OR($B75=\"\"),0,IF($B75=BO75,20,0))","v":20},"Katar",{"$f":"IF(OR($B75=\"\"),0,IF($B75=BQ75,20,0))","v":20},"Katar",{"$f":"IF(OR($B75=\"\"),0,IF($B75=BS75,20,0))","v":20},null,{"$f":"IF(OR($B75=\"\"),0,IF($B75=BU75,20,0))","v":0},null,{"$f":"IF(OR($B75=\"\"),0,IF($B75=BW75,20,0))","v":0},null,{"$f":"IF(OR($B75=\"\"),0,IF($B75=BY75,20,0))","v":0},null,{"$f":"IF(OR($B75=\"\"),0,IF($B75=CA75,20,0))","v":0},null,{"$f":"IF(OR($B75=\"\"),0,IF($B75=CC75,20,0))","v":0},null,{"$f":"IF(OR($B75=\"\"),0,IF($B75=CE75,20,0))","v":0},null,{"$f":"IF(OR($B75=\"\"),0,IF($B75=CG75,20,0))","v":0},null,{"$f":"IF(OR($B75=\"\"),0,IF($B75=CI75,20,0))","v":0},null,{"$f":"IF(OR($B75=\"\"),0,IF($B75=CK75,20,0))","v":0},null,{"$f":"IF(OR($B75=\"\"),0,IF($B75=CM75,20,0))","v":0},null,{"$f":"IF(OR($B75=\"\"),0,IF($B75=CO75,20,0))","v":0},null,{"$f":"IF(OR($B75=\"\"),0,IF($B75=CQ75,20,0))","v":0},null,{"$f":"IF(OR($B75=\"\"),0,IF($B75=CS75,20,0))","v":0},null,{"$f":"IF(OR($B75=\"\"),0,IF($B75=CU75,20,0))","v":0},null,{"$f":"IF(OR($B75=\"\"),0,IF($B75=CW75,20,0))","v":0},null,{"$f":"IF(OR($B75=\"\"),0,IF($B75=CY75,20,0))","v":0}]
[1,"Brasilien","Gruppe C",null,"Brasilien","-","Brasilien","-","Brasilien","-","Brasilien","-","Brasilien","-","Brasilien","-","Brasilien","-","Brasilien","-","Brasilien","-","Brasilien","-","Brasilien","-","Brasilien","-","Brasilien","-","Brasilien","-","Brasilien","-","Brasilien","-","Brasilien","-","Brasilien","-","Brasilien","-","Brasilien","-","Brasilien","-","Brasilien","-","Brasilien","-","Brasilien","-","Brasilien","-","Brasilien","-","Brasilien","-","Brasilien","-","Brasilien","-","Brasilien","-","Brasilien","-","Brasilien","-","Brasilien","-","Brasilien","-",null,"-",null,"-",null,"-",null,"-",null,"-",null,"-",null,"-",null,"-",null,"-",null,"-",null,"-",null,"-",null,"-",null,"-",null,"-",null,"-"]
[2,"Marokko",null,null,"Marokko","-","Marokko","-","Marokko","-","Schottland","-","Marokko","-","Marokko","-","Marokko","-","Marokko","-","Marokko","-","Marokko","-","Marokko","-","Marokko","-","Schottland","-","Marokko","-","Marokko","-","Marokko","-","Marokko","-","Marokko","-","Marokko","-","Schottland","-","Marokko","-","Schottland","-","Schottland","-","Marokko","-","Marokko","-","Marokko","-","Schottland","-","Marokko","-","Marokko","-","Marokko","-","Marokko","-","Schottland","-","Marokko","-","Schottland","-",null,"-",null,"-",null,"-",null,"-",null,"-",null,"-",null,"-",null,"-",null,"-",null,"-",null,"-",null,"-",null,"-",null,"-",null,"-",null,"-"]
[3,"Schottland",null,null,"Schottland",{"$f":"IF(OR($B78=\"\"),0,IF($B78=E78,20,0))","v":20},"Schottland",{"$f":"IF(OR($B78=\"\"),0,IF($B78=G78,20,0))","v":20},"Schottland",{"$f":"IF(OR($B78=\"\"),0,IF($B78=I78,20,0))","v":20},"Marokko",{"$f":"IF(OR($B78=\"\"),0,IF($B78=K78,20,0))","v":0},"Schottland",{"$f":"IF(OR($B78=\"\"),0,IF($B78=M78,20,0))","v":20},"Schottland",{"$f":"IF(OR($B78=\"\"),0,IF($B78=O78,20,0))","v":20},"Schottland",{"$f":"IF(OR($B78=\"\"),0,IF($B78=Q78,20,0))","v":20},"Schottland",{"$f":"IF(OR($B78=\"\"),0,IF($B78=S78,20,0))","v":20},"Schottland",{"$f":"IF(OR($B78=\"\"),0,IF($B78=U78,20,0))","v":20},"Schottland",{"$f":"IF(OR($B78=\"\"),0,IF($B78=W78,20,0))","v":20},"Schottland",{"$f":"IF(OR($B78=\"\"),0,IF($B78=Y78,20,0))","v":20},"Schottland",{"$f":"IF(OR($B78=\"\"),0,IF($B78=AA78,20,0))","v":20},"Marokko",{"$f":"IF(OR($B78=\"\"),0,IF($B78=AC78,20,0))","v":0},"Schottland",{"$f":"IF(OR($B78=\"\"),0,IF($B78=AE78,20,0))","v":20},"Schottland",{"$f":"IF(OR($B78=\"\"),0,IF($B78=AG78,20,0))","v":20},"Schottland",{"$f":"IF(OR($B78=\"\"),0,IF($B78=AI78,20,0))","v":20},"Schottland",{"$f":"IF(OR($B78=\"\"),0,IF($B78=AK78,20,0))","v":20},"Schottland",{"$f":"IF(OR($B78=\"\"),0,IF($B78=AM78,20,0))","v":20},"Schottland",{"$f":"IF(OR($B78=\"\"),0,IF($B78=AO78,20,0))","v":20},"Marokko",{"$f":"IF(OR($B78=\"\"),0,IF($B78=AQ78,20,0))","v":0},"Schottland",{"$f":"IF(OR($B78=\"\"),0,IF($B78=AS78,20,0))","v":20},"Marokko",{"$f":"IF(OR($B78=\"\"),0,IF($B78=AU78,20,0))","v":0},"Marokko",{"$f":"IF(OR($B78=\"\"),0,IF($B78=AW78,20,0))","v":0},"Schottland",{"$f":"IF(OR($B78=\"\"),0,IF($B78=AY78,20,0))","v":20},"Schottland",{"$f":"IF(OR($B78=\"\"),0,IF($B78=BA78,20,0))","v":20},"Schottland",{"$f":"IF(OR($B78=\"\"),0,IF($B78=BC78,20,0))","v":20},"Marokko",{"$f":"IF(OR($B78=\"\"),0,IF($B78=BE78,20,0))","v":0},"Schottland",{"$f":"IF(OR($B78=\"\"),0,IF($B78=BG78,20,0))","v":20},"Schottland",{"$f":"IF(OR($B78=\"\"),0,IF($B78=BI78,20,0))","v":20},"Schottland",{"$f":"IF(OR($B78=\"\"),0,IF($B78=BK78,20,0))","v":20},"Schottland",{"$f":"IF(OR($B78=\"\"),0,IF($B78=BM78,20,0))","v":20},"Marokko",{"$f":"IF(OR($B78=\"\"),0,IF($B78=BO78,20,0))","v":0},"Schottland",{"$f":"IF(OR($B78=\"\"),0,IF($B78=BQ78,20,0))","v":20},"Marokko",{"$f":"IF(OR($B78=\"\"),0,IF($B78=BS78,20,0))","v":0},null,{"$f":"IF(OR($B78=\"\"),0,IF($B78=BU78,20,0))","v":0},null,{"$f":"IF(OR($B78=\"\"),0,IF($B78=BW78,20,0))","v":0},null,{"$f":"IF(OR($B78=\"\"),0,IF($B78=BY78,20,0))","v":0},null,{"$f":"IF(OR($B78=\"\"),0,IF($B78=CA78,20,0))","v":0},null,{"$f":"IF(OR($B78=\"\"),0,IF($B78=CC78,20,0))","v":0},null,{"$f":"IF(OR($B78=\"\"),0,IF($B78=CE78,20,0))","v":0},null,{"$f":"IF(OR($B78=\"\"),0,IF($B78=CG78,20,0))","v":0},null,{"$f":"IF(OR($B78=\"\"),0,IF($B78=CI78,20,0))","v":0},null,{"$f":"IF(OR($B78=\"\"),0,IF($B78=CK78,20,0))","v":0},null,{"$f":"IF(OR($B78=\"\"),0,IF($B78=CM78,20,0))","v":0},null,{"$f":"IF(OR($B78=\"\"),0,IF($B78=CO78,20,0))","v":0},null,{"$f":"IF(OR($B78=\"\"),0,IF($B78=CQ78,20,0))","v":0},null,{"$f":"IF(OR($B78=\"\"),0,IF($B78=CS78,20,0))","v":0},null,{"$f":"IF(OR($B78=\"\"),0,IF($B78=CU78,20,0))","v":0},null,{"$f":"IF(OR($B78=\"\"),0,IF($B78=CW78,20,0))","v":0},null,{"$f":"IF(OR($B78=\"\"),0,IF($B78=CY78,20,0))","v":0}]
[4,"Haiti",null,null,"Haiti",{"$f":"IF(OR($B79=\"\"),0,IF($B79=E79,20,0))","v":20},"Haiti",{"$f":"IF(OR($B79=\"\"),0,IF($B79=G79,20,0))","v":20},"Haiti",{"$f":"IF(OR($B79=\"\"),0,IF($B79=I79,20,0))","v":20},"Haiti",{"$f":"IF(OR($B79=\"\"),0,IF($B79=K79,20,0))","v":20},"Haiti",{"$f":"IF(OR($B79=\"\"),0,IF($B79=M79,20,0))","v":20},"Haiti",{"$f":"IF(OR($B79=\"\"),0,IF($B79=O79,20,0))","v":20},"Haiti",{"$f":"IF(OR($B79=\"\"),0,IF($B79=Q79,20,0))","v":20},"Haiti",{"$f":"IF(OR($B79=\"\"),0,IF($B79=S79,20,0))","v":20},"Haiti",{"$f":"IF(OR($B79=\"\"),0,IF($B79=U79,20,0))","v":20},"Haiti",{"$f":"IF(OR($B79=\"\"),0,IF($B79=W79,20,0))","v":20},"Haiti",{"$f":"IF(OR($B79=\"\"),0,IF($B79=Y79,20,0))","v":20},"Haiti",{"$f":"IF(OR($B79=\"\"),0,IF($B79=AA79,20,0))","v":20},"Haiti",{"$f":"IF(OR($B79=\"\"),0,IF($B79=AC79,20,0))","v":20},"Haiti",{"$f":"IF(OR($B79=\"\"),0,IF($B79=AE79,20,0))","v":20},"Haiti",{"$f":"IF(OR($B79=\"\"),0,IF($B79=AG79,20,0))","v":20},"Haiti",{"$f":"IF(OR($B79=\"\"),0,IF($B79=AI79,20,0))","v":20},"Haiti",{"$f":"IF(OR($B79=\"\"),0,IF($B79=AK79,20,0))","v":20},"Haiti",{"$f":"IF(OR($B79=\"\"),0,IF($B79=AM79,20,0))","v":20},"Haiti",{"$f":"IF(OR($B79=\"\"),0,IF($B79=AO79,20,0))","v":20},"Haiti",{"$f":"IF(OR($B79=\"\"),0,IF($B79=AQ79,20,0))","v":20},"Haiti",{"$f":"IF(OR($B79=\"\"),0,IF($B79=AS79,20,0))","v":20},"Haiti",{"$f":"IF(OR($B79=\"\"),0,IF($B79=AU79,20,0))","v":20},"Haiti",{"$f":"IF(OR($B79=\"\"),0,IF($B79=AW79,20,0))","v":20},"Haiti",{"$f":"IF(OR($B79=\"\"),0,IF($B79=AY79,20,0))","v":20},"Haiti",{"$f":"IF(OR($B79=\"\"),0,IF($B79=BA79,20,0))","v":20},"Haiti",{"$f":"IF(OR($B79=\"\"),0,IF($B79=BC79,20,0))","v":20},"Haiti",{"$f":"IF(OR($B79=\"\"),0,IF($B79=BE79,20,0))","v":20},"Haiti",{"$f":"IF(OR($B79=\"\"),0,IF($B79=BG79,20,0))","v":20},"Haiti",{"$f":"IF(OR($B79=\"\"),0,IF($B79=BI79,20,0))","v":20},"Haiti",{"$f":"IF(OR($B79=\"\"),0,IF($B79=BK79,20,0))","v":20},"Haiti",{"$f":"IF(OR($B79=\"\"),0,IF($B79=BM79,20,0))","v":20},"Haiti",{"$f":"IF(OR($B79=\"\"),0,IF($B79=BO79,20,0))","v":20},"Haiti",{"$f":"IF(OR($B79=\"\"),0,IF($B79=BQ79,20,0))","v":20},"Haiti",{"$f":"IF(OR($B79=\"\"),0,IF($B79=BS79,20,0))","v":20},null,{"$f":"IF(OR($B79=\"\"),0,IF($B79=BU79,20,0))","v":0},null,{"$f":"IF(OR($B79=\"\"),0,IF($B79=BW79,20,0))","v":0},null,{"$f":"IF(OR($B79=\"\"),0,IF($B79=BY79,20,0))","v":0},null,{"$f":"IF(OR($B79=\"\"),0,IF($B79=CA79,20,0))","v":0},null,{"$f":"IF(OR($B79=\"\"),0,IF($B79=CC79,20,0))","v":0},null,{"$f":"IF(OR($B79=\"\"),0,IF($B79=CE79,20,0))","v":0},null,{"$f":"IF(OR($B79=\"\"),0,IF($B79=CG79,20,0))","v":0},null,{"$f":"IF(OR($B79=\"\"),0,IF($B79=CI79,20,0))","v":0},null,{"$f":"IF(OR($B79=\"\"),0,IF($B79=CK79,20,0))","v":0},null,{"$f":"IF(OR($B79=\"\"),0,IF($B79=CM79,20,0))","v":0},null,{"$f":"IF(OR($B79=\"\"),0,IF($B79=CO79,20,0))","v":0},null,{"$f":"IF(OR($B79=\"\"),0,IF($B79=CQ79,20,0))","v":0},null,{"$f":"IF(OR($B79=\"\"),0,IF($B79=CS79,20,0))","v":0},null,{"$f":"IF(OR($B79=\"\"),0,IF($B79=CU79,20,0))","v":0},null,{"$f":"IF(OR($B79=\"\"),0,IF($B79=CW79,20,0))","v":0},null,{"$f":"IF(OR($B79=\"\"),0,IF($B79=CY79,20,0))","v":0}]
[1,"USA","Gruppe D",null,"USA","-","Türkei","-","Türkei","-","USA","-","Türkei","-","USA","-","Türkei","-","Türkei","-","Türkei","-","USA","-","Paraguay","-","USA","-","Türkei","-","Türkei","-","Australien","-","Türkei","-","USA","-","Türkei","-","USA","-","USA","-","USA","-","USA","-","USA","-","USA","-","Türkei","-","USA","-","Türkei","-","USA","-","USA","-","USA","-","USA","-","Paraguay","-","USA","-","USA","-",null,"-",null,"-",null,"-",null,"-",null,"-",null,"-",null,"-",null,"-",null,"-",null,"-",null,"-",null,"-",null,"-",null,"-",null,"-",null,"-"]
[2,"Australien",null,null,"Türkei","-","USA","-","USA","-","Türkei","-","Australien","-","Türkei","-","Paraguay","-","USA","-","USA","-","Türkei","-","Türkei","-","Türkei","-","USA","-","Paraguay","-","Paraguay","-","Australien","-","Türkei","-","USA","-","Türkei","-","Türkei","-","Türkei","-","Türkei","-","Australien","-","Türkei","-","USA","-","Paraguay","-","USA","-","Türkei","-","Türkei","-","Türkei","-","Türkei","-","Australien","-","Türkei","-","Türkei","-",null,"-",null,"-",null,"-",null,"-",null,"-",null,"-",null,"-",null,"-",null,"-",null,"-",null,"-",null,"-",null,"-",null,"-",null,"-",null,"-"]
[3,"Paraguay",null,null,"Australien",{"$f":"IF(OR($B82=\"\"),0,IF($B82=E82,20,0))","v":0},"Australien",{"$f":"IF(OR($B82=\"\"),0,IF($B82=G82,20,0))","v":0},"Australien",{"$f":"IF(OR($B82=\"\"),0,IF($B82=I82,20,0))","v":0},"Australien",{"$f":"IF(OR($B82=\"\"),0,IF($B82=K82,20,0))","v":0},"USA",{"$f":"IF(OR($B82=\"\"),0,IF($B82=M82,20,0))","v":0},"Australien",{"$f":"IF(OR($B82=\"\"),0,IF($B82=O82,20,0))","v":0},"USA",{"$f":"IF(OR($B82=\"\"),0,IF($B82=Q82,20,0))","v":0},"Australien",{"$f":"IF(OR($B82=\"\"),0,IF($B82=S82,20,0))","v":0},"Paraguay",{"$f":"IF(OR($B82=\"\"),0,IF($B82=U82,20,0))","v":20},"Australien",{"$f":"IF(OR($B82=\"\"),0,IF($B82=W82,20,0))","v":0},"USA",{"$f":"IF(OR($B82=\"\"),0,IF($B82=Y82,20,0))","v":0},"Paraguay",{"$f":"IF(OR($B82=\"\"),0,IF($B82=AA82,20,0))","v":20},"Australien",{"$f":"IF(OR($B82=\"\"),0,IF($B82=AC82,20,0))","v":0},"USA",{"$f":"IF(OR($B82=\"\"),0,IF($B82=AE82,20,0))","v":0},"USA",{"$f":"IF(OR($B82=\"\"),0,IF($B82=AG82,20,0))","v":0},"USA",{"$f":"IF(OR($B82=\"\"),0,IF($B82=AI82,20,0))","v":0},"Australien",{"$f":"IF(OR($B82=\"\"),0,IF($B82=AK82,20,0))","v":0},"Paraguay",{"$f":"IF(OR($B82=\"\"),0,IF($B82=AM82,20,0))","v":20},"Australien",{"$f":"IF(OR($B82=\"\"),0,IF($B82=AO82,20,0))","v":0},"Australien",{"$f":"IF(OR($B82=\"\"),0,IF($B82=AQ82,20,0))","v":0},"Paraguay",{"$f":"IF(OR($B82=\"\"),0,IF($B82=AS82,20,0))","v":20},"Australien",{"$f":"IF(OR($B82=\"\"),0,IF($B82=AU82,20,0))","v":0},"Türkei",{"$f":"IF(OR($B82=\"\"),0,IF($B82=AW82,20,0))","v":0},"Paraguay",{"$f":"IF(OR($B82=\"\"),0,IF($B82=AY82,20,0))","v":20},"Paraguay",{"$f":"IF(OR($B82=\"\"),0,IF($B82=BA82,20,0))","v":20},"Türkei",{"$f":"IF(OR($B82=\"\"),0,IF($B82=BC82,20,0))","v":0},"Paraguay",{"$f":"IF(OR($B82=\"\"),0,IF($B82=BE82,20,0))","v":20},"Australien",{"$f":"IF(OR($B82=\"\"),0,IF($B82=BG82,20,0))","v":0},"Paraguay",{"$f":"IF(OR($B82=\"\"),0,IF($B82=BI82,20,0))","v":20},"Australien",{"$f":"IF(OR($B82=\"\"),0,IF($B82=BK82,20,0))","v":0},"Australien",{"$f":"IF(OR($B82=\"\"),0,IF($B82=BM82,20,0))","v":0},"USA",{"$f":"IF(OR($B82=\"\"),0,IF($B82=BO82,20,0))","v":0},"Paraguay",{"$f":"IF(OR($B82=\"\"),0,IF($B82=BQ82,20,0))","v":20},"Paraguay",{"$f":"IF(OR($B82=\"\"),0,IF($B82=BS82,20,0))","v":20},null,{"$f":"IF(OR($B82=\"\"),0,IF($B82=BU82,20,0))","v":0},null,{"$f":"IF(OR($B82=\"\"),0,IF($B82=BW82,20,0))","v":0},null,{"$f":"IF(OR($B82=\"\"),0,IF($B82=BY82,20,0))","v":0},null,{"$f":"IF(OR($B82=\"\"),0,IF($B82=CA82,20,0))","v":0},null,{"$f":"IF(OR($B82=\"\"),0,IF($B82=CC82,20,0))","v":0},null,{"$f":"IF(OR($B82=\"\"),0,IF($B82=CE82,20,0))","v":0},null,{"$f":"IF(OR($B82=\"\"),0,IF($B82=CG82,20,0))","v":0},null,{"$f":"IF(OR($B82=\"\"),0,IF($B82=CI82,20,0))","v":0},null,{"$f":"IF(OR($B82=\"\"),0,IF($B82=CK82,20,0))","v":0},null,{"$f":"IF(OR($B82=\"\"),0,IF($B82=CM82,20,0))","v":0},null,{"$f":"IF(OR($B82=\"\"),0,IF($B82=CO82,20,0))","v":0},null,{"$f":"IF(OR($B82=\"\"),0,IF($B82=CQ82,20,0))","v":0},null,{"$f":"IF(OR($B82=\"\"),0,IF($B82=CS82,20,0))","v":0},null,{"$f":"IF(OR($B82=\"\"),0,IF($B82=CU82,20,0))","v":0},null,{"$f":"IF(OR($B82=\"\"),0,IF($B82=CW82,20,0))","v":0},null,{"$f":"IF(OR($B82=\"\"),0,IF($B82=CY82,20,0))","v":0}]
[4,"Türkei",null,null,"Paraguay",{"$f":"IF(OR($B83=\"\"),0,IF($B83=E83,20,0))","v":0},"Paraguay",{"$f":"IF(OR($B83=\"\"),0,IF($B83=G83,20,0))","v":0},"Paraguay",{"$f":"IF(OR($B83=\"\"),0,IF($B83=I83,20,0))","v":0},"Paraguay",{"$f":"IF(OR($B83=\"\"),0,IF($B83=K83,20,0))","v":0},"Paraguay",{"$f":"IF(OR($B83=\"\"),0,IF($B83=M83,20,0))","v":0},"Paraguay",{"$f":"IF(OR($B83=\"\"),0,IF($B83=O83,20,0))","v":0},"Australien",{"$f":"IF(OR($B83=\"\"),0,IF($B83=Q83,20,0))","v":0},"Paraguay",{"$f":"IF(OR($B83=\"\"),0,IF($B83=S83,20,0))","v":0},"Australien",{"$f":"IF(OR($B83=\"\"),0,IF($B83=U83,20,0))","v":0},"Paraguay",{"$f":"IF(OR($B83=\"\"),0,IF($B83=W83,20,0))","v":0},"Australien",{"$f":"IF(OR($B83=\"\"),0,IF($B83=Y83,20,0))","v":0},"Australien",{"$f":"IF(OR($B83=\"\"),0,IF($B83=AA83,20,0))","v":0},"Paraguay",{"$f":"IF(OR($B83=\"\"),0,IF($B83=AC83,20,0))","v":0},"Australien",{"$f":"IF(OR($B83=\"\"),0,IF($B83=AE83,20,0))","v":0},"Türkei",{"$f":"IF(OR($B83=\"\"),0,IF($B83=AG83,20,0))","v":20},"Paraguay",{"$f":"IF(OR($B83=\"\"),0,IF($B83=AI83,20,0))","v":0},"Paraguay",{"$f":"IF(OR($B83=\"\"),0,IF($B83=AK83,20,0))","v":0},"Australien",{"$f":"IF(OR($B83=\"\"),0,IF($B83=AM83,20,0))","v":0},"Paraguay",{"$f":"IF(OR($B83=\"\"),0,IF($B83=AO83,20,0))","v":0},"Paraguay",{"$f":"IF(OR($B83=\"\"),0,IF($B83=AQ83,20,0))","v":0},"Australien",{"$f":"IF(OR($B83=\"\"),0,IF($B83=AS83,20,0))","v":0},"Paraguay",{"$f":"IF(OR($B83=\"\"),0,IF($B83=AU83,20,0))","v":0},"Paraguay",{"$f":"IF(OR($B83=\"\"),0,IF($B83=AW83,20,0))","v":0},"Australien",{"$f":"IF(OR($B83=\"\"),0,IF($B83=AY83,20,0))","v":0},"Australien",{"$f":"IF(OR($B83=\"\"),0,IF($B83=BA83,20,0))","v":0},"Australien",{"$f":"IF(OR($B83=\"\"),0,IF($B83=BC83,20,0))","v":0},"Australien",{"$f":"IF(OR($B83=\"\"),0,IF($B83=BE83,20,0))","v":0},"Paraguay",{"$f":"IF(OR($B83=\"\"),0,IF($B83=BG83,20,0))","v":0},"Australien",{"$f":"IF(OR($B83=\"\"),0,IF($B83=BI83,20,0))","v":0},"Paraguay",{"$f":"IF(OR($B83=\"\"),0,IF($B83=BK83,20,0))","v":0},"Paraguay",{"$f":"IF(OR($B83=\"\"),0,IF($B83=BM83,20,0))","v":0},"Türkei",{"$f":"IF(OR($B83=\"\"),0,IF($B83=BO83,20,0))","v":20},"Australien",{"$f":"IF(OR($B83=\"\"),0,IF($B83=BQ83,20,0))","v":0},"Australien",{"$f":"IF(OR($B83=\"\"),0,IF($B83=BS83,20,0))","v":0},null,{"$f":"IF(OR($B83=\"\"),0,IF($B83=BU83,20,0))","v":0},null,{"$f":"IF(OR($B83=\"\"),0,IF($B83=BW83,20,0))","v":0},null,{"$f":"IF(OR($B83=\"\"),0,IF($B83=BY83,20,0))","v":0},null,{"$f":"IF(OR($B83=\"\"),0,IF($B83=CA83,20,0))","v":0},null,{"$f":"IF(OR($B83=\"\"),0,IF($B83=CC83,20,0))","v":0},null,{"$f":"IF(OR($B83=\"\"),0,IF($B83=CE83,20,0))","v":0},null,{"$f":"IF(OR($B83=\"\"),0,IF($B83=CG83,20,0))","v":0},null,{"$f":"IF(OR($B83=\"\"),0,IF($B83=CI83,20,0))","v":0},null,{"$f":"IF(OR($B83=\"\"),0,IF($B83=CK83,20,0))","v":0},null,{"$f":"IF(OR($B83=\"\"),0,IF($B83=CM83,20,0))","v":0},null,{"$f":"IF(OR($B83=\"\"),0,IF($B83=CO83,20,0))","v":0},null,{"$f":"IF(OR($B83=\"\"),0,IF($B83=CQ83,20,0))","v":0},null,{"$f":"IF(OR($B83=\"\"),0,IF($B83=CS83,20,0))","v":0},null,{"$f":"IF(OR($B83=\"\"),0,IF($B83=CU83,20,0))","v":0},null,{"$f":"IF(OR($B83=\"\"),0,IF($B83=CW83,20,0))","v":0},null,{"$f":"IF(OR($B83=\"\"),0,IF($B83=CY83,20,0))","v":0}]
[1,"Deutschland","Gruppe E",null,"Deutschland","-","Deutschland","-","Curacao","-","Deutschland","-","Deutschland","-","Deutschland","-","Deutschland","-","Deutschland","-","Deutschland","-","Deutschland","-","Deutschland","-","Deutschland","-","Deutschland","-","Deutschland","-","Deutschland","-","Deutschland","-","Deutschland","-","Deutschland","-","Deutschland","-","Deutschland","-","Deutschland","-","Deutschland","-","Deutschland","-","Deutschland","-","Deutschland","-","Deutschland","-","Deutschland","-","Deutschland","-","Deutschland","-","Deutschland","-","Deutschland","-","Deutschland","-","Deutschland","-","Deutschland","-",null,"-",null,"-",null,"-",null,"-",null,"-",null,"-",null,"-",null,"-",null,"-",null,"-",null,"-",null,"-",null,"-",null,"-",null,"-",null,"-"]
[2,"Elfenbeinküste",null,null,"Ecuador","-","Elfenbeinküste","-","Deutschland","-","Elfenbeinküste","-","Ecuador","-","Elfenbeinküste","-","Ecuador","-","Ecuador","-","Ecuador","-","Elfenbeinküste","-","Elfenbeinküste","-","Ecuador","-","Ecuador","-","Ecuador","-","Ecuador","-","Elfenbeinküste","-","Elfenbeinküste","-","Ecuador","-","Ecuador","-","Elfenbeinküste","-","Elfenbeinküste","-","Ecuador","-","Elfenbeinküste","-","Ecuador","-","Ecuador","-","Elfenbeinküste","-","Ecuador","-","Ecuador","-","Ecuador","-","Ecuador","-","Ecuador","-","Ecuador","-","Ecuador","-","Curacao","-",null,"-",null,"-",null,"-",null,"-",null,"-",null,"-",null,"-",null,"-",null,"-",null,"-",null,"-",null,"-",null,"-",null,"-",null,"-",null,"-"]
[3,"Ecuador",null,null,"Elfenbeinküste",{"$f":"IF(OR($B86=\"\"),0,IF($B86=E86,20,0))","v":0},"Ecuador",{"$f":"IF(OR($B86=\"\"),0,IF($B86=G86,20,0))","v":20},"Ecuador",{"$f":"IF(OR($B86=\"\"),0,IF($B86=I86,20,0))","v":20},"Ecuador",{"$f":"IF(OR($B86=\"\"),0,IF($B86=K86,20,0))","v":20},"Elfenbeinküste",{"$f":"IF(OR($B86=\"\"),0,IF($B86=M86,20,0))","v":0},"Ecuador",{"$f":"IF(OR($B86=\"\"),0,IF($B86=O86,20,0))","v":20},"Elfenbeinküste",{"$f":"IF(OR($B86=\"\"),0,IF($B86=Q86,20,0))","v":0},"Elfenbeinküste",{"$f":"IF(OR($B86=\"\"),0,IF($B86=S86,20,0))","v":0},"Elfenbeinküste",{"$f":"IF(OR($B86=\"\"),0,IF($B86=U86,20,0))","v":0},"Ecuador",{"$f":"IF(OR($B86=\"\"),0,IF($B86=W86,20,0))","v":20},"Ecuador",{"$f":"IF(OR($B86=\"\"),0,IF($B86=Y86,20,0))","v":20},"Elfenbeinküste",{"$f":"IF(OR($B86=\"\"),0,IF($B86=AA86,20,0))","v":0},"Curacao",{"$f":"IF(OR($B86=\"\"),0,IF($B86=AC86,20,0))","v":0},"Elfenbeinküste",{"$f":"IF(OR($B86=\"\"),0,IF($B86=AE86,20,0))","v":0},"Elfenbeinküste",{"$f":"IF(OR($B86=\"\"),0,IF($B86=AG86,20,0))","v":0},"Ecuador",{"$f":"IF(OR($B86=\"\"),0,IF($B86=AI86,20,0))","v":20},"Ecuador",{"$f":"IF(OR($B86=\"\"),0,IF($B86=AK86,20,0))","v":20},"Elfenbeinküste",{"$f":"IF(OR($B86=\"\"),0,IF($B86=AM86,20,0))","v":0},"Elfenbeinküste",{"$f":"IF(OR($B86=\"\"),0,IF($B86=AO86,20,0))","v":0},"Ecuador",{"$f":"IF(OR($B86=\"\"),0,IF($B86=AQ86,20,0))","v":20},"Ecuador",{"$f":"IF(OR($B86=\"\"),0,IF($B86=AS86,20,0))","v":20},"Elfenbeinküste",{"$f":"IF(OR($B86=\"\"),0,IF($B86=AU86,20,0))","v":0},"Ecuador",{"$f":"IF(OR($B86=\"\"),0,IF($B86=AW86,20,0))","v":20},"Elfenbeinküste",{"$f":"IF(OR($B86=\"\"),0,IF($B86=AY86,20,0))","v":0},"Elfenbeinküste",{"$f":"IF(OR($B86=\"\"),0,IF($B86=BA86,20,0))","v":0},"Ecuador",{"$f":"IF(OR($B86=\"\"),0,IF($B86=BC86,20,0))","v":20},"Elfenbeinküste",{"$f":"IF(OR($B86=\"\"),0,IF($B86=BE86,20,0))","v":0},"Elfenbeinküste",{"$f":"IF(OR($B86=\"\"),0,IF($B86=BG86,20,0))","v":0},"Elfenbeinküste",{"$f":"IF(OR($B86=\"\"),0,IF($B86=BI86,20,0))","v":0},"Elfenbeinküste",{"$f":"IF(OR($B86=\"\"),0,IF($B86=BK86,20,0))","v":0},"Elfenbeinküste",{"$f":"IF(OR($B86=\"\"),0,IF($B86=BM86,20,0))","v":0},"Curacao",{"$f":"IF(OR($B86=\"\"),0,IF($B86=BO86,20,0))","v":0},"Elfenbeinküste",{"$f":"IF(OR($B86=\"\"),0,IF($B86=BQ86,20,0))","v":0},"Ecuador",{"$f":"IF(OR($B86=\"\"),0,IF($B86=BS86,20,0))","v":20},null,{"$f":"IF(OR($B86=\"\"),0,IF($B86=BU86,20,0))","v":0},null,{"$f":"IF(OR($B86=\"\"),0,IF($B86=BW86,20,0))","v":0},null,{"$f":"IF(OR($B86=\"\"),0,IF($B86=BY86,20,0))","v":0},null,{"$f":"IF(OR($B86=\"\"),0,IF($B86=CA86,20,0))","v":0},null,{"$f":"IF(OR($B86=\"\"),0,IF($B86=CC86,20,0))","v":0},null,{"$f":"IF(OR($B86=\"\"),0,IF($B86=CE86,20,0))","v":0},null,{"$f":"IF(OR($B86=\"\"),0,IF($B86=CG86,20,0))","v":0},null,{"$f":"IF(OR($B86=\"\"),0,IF($B86=CI86,20,0))","v":0},null,{"$f":"IF(OR($B86=\"\"),0,IF($B86=CK86,20,0))","v":0},null,{"$f":"IF(OR($B86=\"\"),0,IF($B86=CM86,20,0))","v":0},null,{"$f":"IF(OR($B86=\"\"),0,IF($B86=CO86,20,0))","v":0},null,{"$f":"IF(OR($B86=\"\"),0,IF($B86=CQ86,20,0))","v":0},null,{"$f":"IF(OR($B86=\"\"),0,IF($B86=CS86,20,0))","v":0},null,{"$f":"IF(OR($B86=\"\"),0,IF($B86=CU86,20,0))","v":0},null,{"$f":"IF(OR($B86=\"\"),0,IF($B86=CW86,20,0))","v":0},null,{"$f":"IF(OR($B86=\"\"),0,IF($B86=CY86,20,0))","v":0}]
[4,"Curacao",null,null,"Curacao",{"$f":"IF(OR($B87=\"\"),0,IF($B87=E87,20,0))","v":20},"Curacao",{"$f":"IF(OR($B87=\"\"),0,IF($B87=G87,20,0))","v":20},"Elfenbeinküste",{"$f":"IF(OR($B87=\"\"),0,IF($B87=I87,20,0))","v":0},"Curacao",{"$f":"IF(OR($B87=\"\"),0,IF($B87=K87,20,0))","v":20},"Curacao",{"$f":"IF(OR($B87=\"\"),0,IF($B87=M87,20,0))","v":20},"Curacao",{"$f":"IF(OR($B87=\"\"),0,IF($B87=O87,20,0))","v":20},"Curacao",{"$f":"IF(OR($B87=\"\"),0,IF($B87=Q87,20,0))","v":20},"Curacao",{"$f":"IF(OR($B87=\"\"),0,IF($B87=S87,20,0))","v":20},"Curacao",{"$f":"IF(OR($B87=\"\"),0,IF($B87=U87,20,0))","v":20},"Curacao",{"$f":"IF(OR($B87=\"\"),0,IF($B87=W87,20,0))","v":20},"Curacao",{"$f":"IF(OR($B87=\"\"),0,IF($B87=Y87,20,0))","v":20},"Curacao",{"$f":"IF(OR($B87=\"\"),0,IF($B87=AA87,20,0))","v":20},"Elfenbeinküste",{"$f":"IF(OR($B87=\"\"),0,IF($B87=AC87,20,0))","v":0},"Curacao",{"$f":"IF(OR($B87=\"\"),0,IF($B87=AE87,20,0))","v":20},"Curacao",{"$f":"IF(OR($B87=\"\"),0,IF($B87=AG87,20,0))","v":20},"Curacao",{"$f":"IF(OR($B87=\"\"),0,IF($B87=AI87,20,0))","v":20},"Curacao",{"$f":"IF(OR($B87=\"\"),0,IF($B87=AK87,20,0))","v":20},"Curacao",{"$f":"IF(OR($B87=\"\"),0,IF($B87=AM87,20,0))","v":20},"Curacao",{"$f":"IF(OR($B87=\"\"),0,IF($B87=AO87,20,0))","v":20},"Curacao",{"$f":"IF(OR($B87=\"\"),0,IF($B87=AQ87,20,0))","v":20},"Curacao",{"$f":"IF(OR($B87=\"\"),0,IF($B87=AS87,20,0))","v":20},"Curacao",{"$f":"IF(OR($B87=\"\"),0,IF($B87=AU87,20,0))","v":20},"Curacao",{"$f":"IF(OR($B87=\"\"),0,IF($B87=AW87,20,0))","v":20},"Curacao",{"$f":"IF(OR($B87=\"\"),0,IF($B87=AY87,20,0))","v":20},"Curacao",{"$f":"IF(OR($B87=\"\"),0,IF($B87=BA87,20,0))","v":20},"Curacao",{"$f":"IF(OR($B87=\"\"),0,IF($B87=BC87,20,0))","v":20},"Curacao",{"$f":"IF(OR($B87=\"\"),0,IF($B87=BE87,20,0))","v":20},"Curacao",{"$f":"IF(OR($B87=\"\"),0,IF($B87=BG87,20,0))","v":20},"Curacao",{"$f":"IF(OR($B87=\"\"),0,IF($B87=BI87,20,0))","v":20},"Curacao",{"$f":"IF(OR($B87=\"\"),0,IF($B87=BK87,20,0))","v":20},"Curacao",{"$f":"IF(OR($B87=\"\"),0,IF($B87=BM87,20,0))","v":20},"Elfenbeinküste",{"$f":"IF(OR($B87=\"\"),0,IF($B87=BO87,20,0))","v":0},"Curacao",{"$f":"IF(OR($B87=\"\"),0,IF($B87=BQ87,20,0))","v":20},"Elfenbeinküste",{"$f":"IF(OR($B87=\"\"),0,IF($B87=BS87,20,0))","v":0},null,{"$f":"IF(OR($B87=\"\"),0,IF($B87=BU87,20,0))","v":0},null,{"$f":"IF(OR($B87=\"\"),0,IF($B87=BW87,20,0))","v":0},null,{"$f":"IF(OR($B87=\"\"),0,IF($B87=BY87,20,0))","v":0},null,{"$f":"IF(OR($B87=\"\"),0,IF($B87=CA87,20,0))","v":0},null,{"$f":"IF(OR($B87=\"\"),0,IF($B87=CC87,20,0))","v":0},null,{"$f":"IF(OR($B87=\"\"),0,IF($B87=CE87,20,0))","v":0},null,{"$f":"IF(OR($B87=\"\"),0,IF($B87=CG87,20,0))","v":0},null,{"$f":"IF(OR($B87=\"\"),0,IF($B87=CI87,20,0))","v":0},null,{"$f":"IF(OR($B87=\"\"),0,IF($B87=CK87,20,0))","v":0},null,{"$f":"IF(OR($B87=\"\"),0,IF($B87=CM87,20,0))","v":0},null,{"$f":"IF(OR($B87=\"\"),0,IF($B87=CO87,20,0))","v":0},null,{"$f":"IF(OR($B87=\"\"),0,IF($B87=CQ87,20,0))","v":0},null,{"$f":"IF(OR($B87=\"\"),0,IF($B87=CS87,20,0))","v":0},null,{"$f":"IF(OR($B87=\"\"),0,IF($B87=CU87,20,0))","v":0},null,{"$f":"IF(OR($B87=\"\"),0,IF($B87=CW87,20,0))","v":0},null,{"$f":"IF(OR($B87=\"\"),0,IF($B87=CY87,20,0))","v":0}]
[1,"Holland","Gruppe F",null,"Holland","-","Tunesien","-","Japan","-","Schweden","-","Holland","-","Holland","-","Holland","-","Schweden","-","Holland","-","Holland","-","Holland","-","Holland","-","Holland","-","Holland","-","Holland","-","Holland","-","Holland","-","Holland","-","Holland","-","Holland","-","Holland","-","Holland","-","Holland","-","Holland","-","Holland","-","Holland","-","Holland","-","Holland","-","Holland","-","Holland","-","Holland","-","Holland","-","Holland","-","Holland","-",null,"-",null,"-",null,"-",null,"-",null,"-",null,"-",null,"-",null,"-",null,"-",null,"-",null,"-",null,"-",null,"-",null,"-",null,"-",null,"-"]
[2,"Japan",null,null,"Schweden","-","Japan","-","Schweden","-","Holland","-","Schweden","-","Japan","-","Schweden","-","Holland","-","Japan","-","Japan","-","Japan","-","Japan","-","Japan","-","Japan","-","Schweden","-","Japan","-","Tunesien","-","Schweden","-","Japan","-","Japan","-","Japan","-","Japan","-","Schweden","-","Japan","-","Japan","-","Japan","-","Schweden","-","Schweden","-","Japan","-","Japan","-","Schweden","-","Schweden","-","Japan","-","Japan","-",null,"-",null,"-",null,"-",null,"-",null,"-",null,"-",null,"-",null,"-",null,"-",null,"-",null,"-",null,"-",null,"-",null,"-",null,"-",null,"-"]
[3,"Schweden",null,null,"Japan",{"$f":"IF(OR($B90=\"\"),0,IF($B90=E90,20,0))","v":0},"Holland",{"$f":"IF(OR($B90=\"\"),0,IF($B90=G90,20,0))","v":0},"Holland",{"$f":"IF(OR($B90=\"\"),0,IF($B90=I90,20,0))","v":0},"Japan",{"$f":"IF(OR($B90=\"\"),0,IF($B90=K90,20,0))","v":0},"Japan",{"$f":"IF(OR($B90=\"\"),0,IF($B90=M90,20,0))","v":0},"Schweden",{"$f":"IF(OR($B90=\"\"),0,IF($B90=O90,20,0))","v":20},"Japan",{"$f":"IF(OR($B90=\"\"),0,IF($B90=Q90,20,0))","v":0},"Japan",{"$f":"IF(OR($B90=\"\"),0,IF($B90=S90,20,0))","v":0},"Tunesien",{"$f":"IF(OR($B90=\"\"),0,IF($B90=U90,20,0))","v":0},"Schweden",{"$f":"IF(OR($B90=\"\"),0,IF($B90=W90,20,0))","v":20},"Tunesien",{"$f":"IF(OR($B90=\"\"),0,IF($B90=Y90,20,0))","v":0},"Tunesien",{"$f":"IF(OR($B90=\"\"),0,IF($B90=AA90,20,0))","v":0},"Tunesien",{"$f":"IF(OR($B90=\"\"),0,IF($B90=AC90,20,0))","v":0},"Schweden",{"$f":"IF(OR($B90=\"\"),0,IF($B90=AE90,20,0))","v":20},"Japan",{"$f":"IF(OR($B90=\"\"),0,IF($B90=AG90,20,0))","v":0},"Schweden",{"$f":"IF(OR($B90=\"\"),0,IF($B90=AI90,20,0))","v":20},"Japan",{"$f":"IF(OR($B90=\"\"),0,IF($B90=AK90,20,0))","v":0},"Japan",{"$f":"IF(OR($B90=\"\"),0,IF($B90=AM90,20,0))","v":0},"Schweden",{"$f":"IF(OR($B90=\"\"),0,IF($B90=AO90,20,0))","v":20},"Schweden",{"$f":"IF(OR($B90=\"\"),0,IF($B90=AQ90,20,0))","v":20},"Schweden",{"$f":"IF(OR($B90=\"\"),0,IF($B90=AS90,20,0))","v":20},"Schweden",{"$f":"IF(OR($B90=\"\"),0,IF($B90=AU90,20,0))","v":20},"Japan",{"$f":"IF(OR($B90=\"\"),0,IF($B90=AW90,20,0))","v":0},"Schweden",{"$f":"IF(OR($B90=\"\"),0,IF($B90=AY90,20,0))","v":20},"Schweden",{"$f":"IF(OR($B90=\"\"),0,IF($B90=BA90,20,0))","v":20},"Schweden",{"$f":"IF(OR($B90=\"\"),0,IF($B90=BC90,20,0))","v":20},"Japan",{"$f":"IF(OR($B90=\"\"),0,IF($B90=BE90,20,0))","v":0},"Japan",{"$f":"IF(OR($B90=\"\"),0,IF($B90=BG90,20,0))","v":0},"Schweden",{"$f":"IF(OR($B90=\"\"),0,IF($B90=BI90,20,0))","v":20},"Schweden",{"$f":"IF(OR($B90=\"\"),0,IF($B90=BK90,20,0))","v":20},"Japan",{"$f":"IF(OR($B90=\"\"),0,IF($B90=BM90,20,0))","v":0},"Japan",{"$f":"IF(OR($B90=\"\"),0,IF($B90=BO90,20,0))","v":0},"Schweden",{"$f":"IF(OR($B90=\"\"),0,IF($B90=BQ90,20,0))","v":20},"Schweden",{"$f":"IF(OR($B90=\"\"),0,IF($B90=BS90,20,0))","v":20},null,{"$f":"IF(OR($B90=\"\"),0,IF($B90=BU90,20,0))","v":0},null,{"$f":"IF(OR($B90=\"\"),0,IF($B90=BW90,20,0))","v":0},null,{"$f":"IF(OR($B90=\"\"),0,IF($B90=BY90,20,0))","v":0},null,{"$f":"IF(OR($B90=\"\"),0,IF($B90=CA90,20,0))","v":0},null,{"$f":"IF(OR($B90=\"\"),0,IF($B90=CC90,20,0))","v":0},null,{"$f":"IF(OR($B90=\"\"),0,IF($B90=CE90,20,0))","v":0},null,{"$f":"IF(OR($B90=\"\"),0,IF($B90=CG90,20,0))","v":0},null,{"$f":"IF(OR($B90=\"\"),0,IF($B90=CI90,20,0))","v":0},null,{"$f":"IF(OR($B90=\"\"),0,IF($B90=CK90,20,0))","v":0},null,{"$f":"IF(OR($B90=\"\"),0,IF($B90=CM90,20,0))","v":0},null,{"$f":"IF(OR($B90=\"\"),0,IF($B90=CO90,20,0))","v":0},null,{"$f":"IF(OR($B90=\"\"),0,IF($B90=CQ90,20,0))","v":0},null,{"$f":"IF(OR($B90=\"\"),0,IF($B90=CS90,20,0))","v":0},null,{"$f":"IF(OR($B90=\"\"),0,IF($B90=CU90,20,0))","v":0},null,{"$f":"IF(OR($B90=\"\"),0,IF($B90=CW90,20,0))","v":0},null,{"$f":"IF(OR($B90=\"\"),0,IF($B90=CY90,20,0))","v":0}]
[4,"Tunesien",null,null,"Tunesien",{"$f":"IF(OR($B91=\"\"),0,IF($B91=E91,20,0))","v":20},"Schweden",{"$f":"IF(OR($B91=\"\"),0,IF($B91=G91,20,0))","v":0},"Tunesien",{"$f":"IF(OR($B91=\"\"),0,IF($B91=I91,20,0))","v":20},"Tunesien",{"$f":"IF(OR($B91=\"\"),0,IF($B91=K91,20,0))","v":20},"Tunesien",{"$f":"IF(OR($B91=\"\"),0,IF($B91=M91,20,0))","v":20},"Tunesien",{"$f":"IF(OR($B91=\"\"),0,IF($B91=O91,20,0))","v":20},"Tunesien",{"$f":"IF(OR($B91=\"\"),0,IF($B91=Q91,20,0))","v":20},"Tunesien",{"$f":"IF(OR($B91=\"\"),0,IF($B91=S91,20,0))","v":20},"Schweden",{"$f":"IF(OR($B91=\"\"),0,IF($B91=U91,20,0))","v":0},"Tunesien",{"$f":"IF(OR($B91=\"\"),0,IF($B91=W91,20,0))","v":20},"Schweden",{"$f":"IF(OR($B91=\"\"),0,IF($B91=Y91,20,0))","v":0},"Schweden",{"$f":"IF(OR($B91=\"\"),0,IF($B91=AA91,20,0))","v":0},"Schweden",{"$f":"IF(OR($B91=\"\"),0,IF($B91=AC91,20,0))","v":0},"Tunesien",{"$f":"IF(OR($B91=\"\"),0,IF($B91=AE91,20,0))","v":20},"Tunesien",{"$f":"IF(OR($B91=\"\"),0,IF($B91=AG91,20,0))","v":20},"Tunesien",{"$f":"IF(OR($B91=\"\"),0,IF($B91=AI91,20,0))","v":20},"Schweden",{"$f":"IF(OR($B91=\"\"),0,IF($B91=AK91,20,0))","v":0},"Tunesien",{"$f":"IF(OR($B91=\"\"),0,IF($B91=AM91,20,0))","v":20},"Tunesien",{"$f":"IF(OR($B91=\"\"),0,IF($B91=AO91,20,0))","v":20},"Tunesien",{"$f":"IF(OR($B91=\"\"),0,IF($B91=AQ91,20,0))","v":20},"Tunesien",{"$f":"IF(OR($B91=\"\"),0,IF($B91=AS91,20,0))","v":20},"Tunesien",{"$f":"IF(OR($B91=\"\"),0,IF($B91=AU91,20,0))","v":20},"Tunesien",{"$f":"IF(OR($B91=\"\"),0,IF($B91=AW91,20,0))","v":20},"Tunesien",{"$f":"IF(OR($B91=\"\"),0,IF($B91=AY91,20,0))","v":20},"Tunesien",{"$f":"IF(OR($B91=\"\"),0,IF($B91=BA91,20,0))","v":20},"Tunesien",{"$f":"IF(OR($B91=\"\"),0,IF($B91=BC91,20,0))","v":20},"Tunesien",{"$f":"IF(OR($B91=\"\"),0,IF($B91=BE91,20,0))","v":20},"Tunesien",{"$f":"IF(OR($B91=\"\"),0,IF($B91=BG91,20,0))","v":20},"Tunesien",{"$f":"IF(OR($B91=\"\"),0,IF($B91=BI91,20,0))","v":20},"Tunesien",{"$f":"IF(OR($B91=\"\"),0,IF($B91=BK91,20,0))","v":20},"Tunesien",{"$f":"IF(OR($B91=\"\"),0,IF($B91=BM91,20,0))","v":20},"Tunesien",{"$f":"IF(OR($B91=\"\"),0,IF($B91=BO91,20,0))","v":20},"Tunesien",{"$f":"IF(OR($B91=\"\"),0,IF($B91=BQ91,20,0))","v":20},"Tunesien",{"$f":"IF(OR($B91=\"\"),0,IF($B91=BS91,20,0))","v":20},null,{"$f":"IF(OR($B91=\"\"),0,IF($B91=BU91,20,0))","v":0},null,{"$f":"IF(OR($B91=\"\"),0,IF($B91=BW91,20,0))","v":0},null,{"$f":"IF(OR($B91=\"\"),0,IF($B91=BY91,20,0))","v":0},null,{"$f":"IF(OR($B91=\"\"),0,IF($B91=CA91,20,0))","v":0},null,{"$f":"IF(OR($B91=\"\"),0,IF($B91=CC91,20,0))","v":0},null,{"$f":"IF(OR($B91=\"\"),0,IF($B91=CE91,20,0))","v":0},null,{"$f":"IF(OR($B91=\"\"),0,IF($B91=CG91,20,0))","v":0},null,{"$f":"IF(OR($B91=\"\"),0,IF($B91=CI91,20,0))","v":0},null,{"$f":"IF(OR($B91=\"\"),0,IF($B91=CK91,20,0))","v":0},null,{"$f":"IF(OR($B91=\"\"),0,IF($B91=CM91,20,0))","v":0},null,{"$f":"IF(OR($B91=\"\"),0,IF($B91=CO91,20,0))","v":0},null,{"$f":"IF(OR($B91=\"\"),0,IF($B91=CQ91,20,0))","v":0},null,{"$f":"IF(OR($B91=\"\"),0,IF($B91=CS91,20,0))","v":0},null,{"$f":"IF(OR($B91=\"\"),0,IF($B91=CU91,20,0))","v":0},null,{"$f":"IF(OR($B91=\"\"),0,IF($B91=CW91,20,0))","v":0},null,{"$f":"IF(OR($B91=\"\"),0,IF($B91=CY91,20,0))","v":0}]
[1,"Belgien","Gruppe G",null,"Belgien","-","Belgien","-","Iran","-","Belgien","-","Ägypten","-","Belgien","-","Belgien","-","Belgien","-","Belgien","-","Belgien","-","Belgien","-","Belgien","-","Belgien","-","Belgien","-","Belgien","-","Neuseeland","-","Belgien","-","Belgien","-","Belgien","-","Belgien","-","Belgien","-","Belgien","-","Belgien","-","Belgien","-","Belgien","-","Belgien","-","Belgien","-","Belgien","-","Belgien","-","Belgien","-","Belgien","-","Belgien","-","Belgien","-","Belgien","-",null,"-",null,"-",null,"-",null,"-",null,"-",null,"-",null,"-",null,"-",null,"-",null,"-",null,"-",null,"-",null,"-",null,"-",null,"-",null,"-"]
[2,"Ägypten",null,null,"Iran","-","Ägypten","-","Ägypten","-","Iran","-","Neuseeland","-","Ägypten","-","Ägypten","-","Neuseeland","-","Ägypten","-","Iran","-","Ägypten","-","Ägypten","-","Ägypten","-","Iran","-","Ägypten","-","Belgien","-","Iran","-","Iran","-","Iran","-","Neuseeland","-","Iran","-","Ägypten","-","Ägypten","-","Ägypten","-","Ägypten","-","Ägypten","-","Ägypten","-","Ägypten","-","Ägypten","-","Iran","-","Ägypten","-","Iran","-","Ägypten","-","Iran","-",null,"-",null,"-",null,"-",null,"-",null,"-",null,"-",null,"-",null,"-",null,"-",null,"-",null,"-",null,"-",null,"-",null,"-",null,"-",null,"-"]
[3,"Iran",null,null,"Ägypten",{"$f":"IF(OR($B94=\"\"),0,IF($B94=E94,20,0))","v":0},"Iran",{"$f":"IF(OR($B94=\"\"),0,IF($B94=G94,20,0))","v":20},"Neuseeland",{"$f":"IF(OR($B94=\"\"),0,IF($B94=I94,20,0))","v":0},"Neuseeland",{"$f":"IF(OR($B94=\"\"),0,IF($B94=K94,20,0))","v":0},"Belgien",{"$f":"IF(OR($B94=\"\"),0,IF($B94=M94,20,0))","v":0},"Neuseeland",{"$f":"IF(OR($B94=\"\"),0,IF($B94=O94,20,0))","v":0},"Iran",{"$f":"IF(OR($B94=\"\"),0,IF($B94=Q94,20,0))","v":20},"Ägypten",{"$f":"IF(OR($B94=\"\"),0,IF($B94=S94,20,0))","v":0},"Iran",{"$f":"IF(OR($B94=\"\"),0,IF($B94=U94,20,0))","v":20},"Ägypten",{"$f":"IF(OR($B94=\"\"),0,IF($B94=W94,20,0))","v":0},"Iran",{"$f":"IF(OR($B94=\"\"),0,IF($B94=Y94,20,0))","v":20},"Iran",{"$f":"IF(OR($B94=\"\"),0,IF($B94=AA94,20,0))","v":20},"Neuseeland",{"$f":"IF(OR($B94=\"\"),0,IF($B94=AC94,20,0))","v":0},"Ägypten",{"$f":"IF(OR($B94=\"\"),0,IF($B94=AE94,20,0))","v":0},"Neuseeland",{"$f":"IF(OR($B94=\"\"),0,IF($B94=AG94,20,0))","v":0},"Ägypten",{"$f":"IF(OR($B94=\"\"),0,IF($B94=AI94,20,0))","v":0},"Ägypten",{"$f":"IF(OR($B94=\"\"),0,IF($B94=AK94,20,0))","v":0},"Ägypten",{"$f":"IF(OR($B94=\"\"),0,IF($B94=AM94,20,0))","v":0},"Ägypten",{"$f":"IF(OR($B94=\"\"),0,IF($B94=AO94,20,0))","v":0},"Iran",{"$f":"IF(OR($B94=\"\"),0,IF($B94=AQ94,20,0))","v":20},"Ägypten",{"$f":"IF(OR($B94=\"\"),0,IF($B94=AS94,20,0))","v":0},"Iran",{"$f":"IF(OR($B94=\"\"),0,IF($B94=AU94,20,0))","v":20},"Neuseeland",{"$f":"IF(OR($B94=\"\"),0,IF($B94=AW94,20,0))","v":0},"Iran",{"$f":"IF(OR($B94=\"\"),0,IF($B94=AY94,20,0))","v":20},"Iran",{"$f":"IF(OR($B94=\"\"),0,IF($B94=BA94,20,0))","v":20},"Iran",{"$f":"IF(OR($B94=\"\"),0,IF($B94=BC94,20,0))","v":20},"Neuseeland",{"$f":"IF(OR($B94=\"\"),0,IF($B94=BE94,20,0))","v":0},"Iran",{"$f":"IF(OR($B94=\"\"),0,IF($B94=BG94,20,0))","v":20},"Iran",{"$f":"IF(OR($B94=\"\"),0,IF($B94=BI94,20,0))","v":20},"Ägypten",{"$f":"IF(OR($B94=\"\"),0,IF($B94=BK94,20,0))","v":0},"Neuseeland",{"$f":"IF(OR($B94=\"\"),0,IF($B94=BM94,20,0))","v":0},"Neuseeland",{"$f":"IF(OR($B94=\"\"),0,IF($B94=BO94,20,0))","v":0},"Iran",{"$f":"IF(OR($B94=\"\"),0,IF($B94=BQ94,20,0))","v":20},"Ägypten",{"$f":"IF(OR($B94=\"\"),0,IF($B94=BS94,20,0))","v":0},null,{"$f":"IF(OR($B94=\"\"),0,IF($B94=BU94,20,0))","v":0},null,{"$f":"IF(OR($B94=\"\"),0,IF($B94=BW94,20,0))","v":0},null,{"$f":"IF(OR($B94=\"\"),0,IF($B94=BY94,20,0))","v":0},null,{"$f":"IF(OR($B94=\"\"),0,IF($B94=CA94,20,0))","v":0},null,{"$f":"IF(OR($B94=\"\"),0,IF($B94=CC94,20,0))","v":0},null,{"$f":"IF(OR($B94=\"\"),0,IF($B94=CE94,20,0))","v":0},null,{"$f":"IF(OR($B94=\"\"),0,IF($B94=CG94,20,0))","v":0},null,{"$f":"IF(OR($B94=\"\"),0,IF($B94=CI94,20,0))","v":0},null,{"$f":"IF(OR($B94=\"\"),0,IF($B94=CK94,20,0))","v":0},null,{"$f":"IF(OR($B94=\"\"),0,IF($B94=CM94,20,0))","v":0},null,{"$f":"IF(OR($B94=\"\"),0,IF($B94=CO94,20,0))","v":0},null,{"$f":"IF(OR($B94=\"\"),0,IF($B94=CQ94,20,0))","v":0},null,{"$f":"IF(OR($B94=\"\"),0,IF($B94=CS94,20,0))","v":0},null,{"$f":"IF(OR($B94=\"\"),0,IF($B94=CU94,20,0))","v":0},null,{"$f":"IF(OR($B94=\"\"),0,IF($B94=CW94,20,0))","v":0},null,{"$f":"IF(OR($B94=\"\"),0,IF($B94=CY94,20,0))","v":0}]
[4,"Neuseeland",null,null,"Neuseeland",{"$f":"IF(OR($B95=\"\"),0,IF($B95=E95,20,0))","v":20},"Neuseeland",{"$f":"IF(OR($B95=\"\"),0,IF($B95=G95,20,0))","v":20},"Belgien",{"$f":"IF(OR($B95=\"\"),0,IF($B95=I95,20,0))","v":0},"Ägypten",{"$f":"IF(OR($B95=\"\"),0,IF($B95=K95,20,0))","v":0},"Iran",{"$f":"IF(OR($B95=\"\"),0,IF($B95=M95,20,0))","v":0},"Iran",{"$f":"IF(OR($B95=\"\"),0,IF($B95=O95,20,0))","v":0},"Neuseeland",{"$f":"IF(OR($B95=\"\"),0,IF($B95=Q95,20,0))","v":20},"Iran",{"$f":"IF(OR($B95=\"\"),0,IF($B95=S95,20,0))","v":0},"Neuseeland",{"$f":"IF(OR($B95=\"\"),0,IF($B95=U95,20,0))","v":20},"Neuseeland",{"$f":"IF(OR($B95=\"\"),0,IF($B95=W95,20,0))","v":20},"Neuseeland",{"$f":"IF(OR($B95=\"\"),0,IF($B95=Y95,20,0))","v":20},"Neuseeland",{"$f":"IF(OR($B95=\"\"),0,IF($B95=AA95,20,0))","v":20},"Iran",{"$f":"IF(OR($B95=\"\"),0,IF($B95=AC95,20,0))","v":0},"Neuseeland",{"$f":"IF(OR($B95=\"\"),0,IF($B95=AE95,20,0))","v":20},"Iran",{"$f":"IF(OR($B95=\"\"),0,IF($B95=AG95,20,0))","v":0},"Iran",{"$f":"IF(OR($B95=\"\"),0,IF($B95=AI95,20,0))","v":0},"Neuseeland",{"$f":"IF(OR($B95=\"\"),0,IF($B95=AK95,20,0))","v":20},"Neuseeland",{"$f":"IF(OR($B95=\"\"),0,IF($B95=AM95,20,0))","v":20},"Neuseeland",{"$f":"IF(OR($B95=\"\"),0,IF($B95=AO95,20,0))","v":20},"Ägypten",{"$f":"IF(OR($B95=\"\"),0,IF($B95=AQ95,20,0))","v":0},"Neuseeland",{"$f":"IF(OR($B95=\"\"),0,IF($B95=AS95,20,0))","v":20},"Neuseeland",{"$f":"IF(OR($B95=\"\"),0,IF($B95=AU95,20,0))","v":20},"Iran",{"$f":"IF(OR($B95=\"\"),0,IF($B95=AW95,20,0))","v":0},"Neuseeland",{"$f":"IF(OR($B95=\"\"),0,IF($B95=AY95,20,0))","v":20},"Neuseeland",{"$f":"IF(OR($B95=\"\"),0,IF($B95=BA95,20,0))","v":20},"Neuseeland",{"$f":"IF(OR($B95=\"\"),0,IF($B95=BC95,20,0))","v":20},"Iran",{"$f":"IF(OR($B95=\"\"),0,IF($B95=BE95,20,0))","v":0},"Neuseeland",{"$f":"IF(OR($B95=\"\"),0,IF($B95=BG95,20,0))","v":20},"Neuseeland",{"$f":"IF(OR($B95=\"\"),0,IF($B95=BI95,20,0))","v":20},"Neuseeland",{"$f":"IF(OR($B95=\"\"),0,IF($B95=BK95,20,0))","v":20},"Iran",{"$f":"IF(OR($B95=\"\"),0,IF($B95=BM95,20,0))","v":0},"Ägypten",{"$f":"IF(OR($B95=\"\"),0,IF($B95=BO95,20,0))","v":0},"Neuseeland",{"$f":"IF(OR($B95=\"\"),0,IF($B95=BQ95,20,0))","v":20},"Neuseeland",{"$f":"IF(OR($B95=\"\"),0,IF($B95=BS95,20,0))","v":20},null,{"$f":"IF(OR($B95=\"\"),0,IF($B95=BU95,20,0))","v":0},null,{"$f":"IF(OR($B95=\"\"),0,IF($B95=BW95,20,0))","v":0},null,{"$f":"IF(OR($B95=\"\"),0,IF($B95=BY95,20,0))","v":0},null,{"$f":"IF(OR($B95=\"\"),0,IF($B95=CA95,20,0))","v":0},null,{"$f":"IF(OR($B95=\"\"),0,IF($B95=CC95,20,0))","v":0},null,{"$f":"IF(OR($B95=\"\"),0,IF($B95=CE95,20,0))","v":0},null,{"$f":"IF(OR($B95=\"\"),0,IF($B95=CG95,20,0))","v":0},null,{"$f":"IF(OR($B95=\"\"),0,IF($B95=CI95,20,0))","v":0},null,{"$f":"IF(OR($B95=\"\"),0,IF($B95=CK95,20,0))","v":0},null,{"$f":"IF(OR($B95=\"\"),0,IF($B95=CM95,20,0))","v":0},null,{"$f":"IF(OR($B95=\"\"),0,IF($B95=CO95,20,0))","v":0},null,{"$f":"IF(OR($B95=\"\"),0,IF($B95=CQ95,20,0))","v":0},null,{"$f":"IF(OR($B95=\"\"),0,IF($B95=CS95,20,0))","v":0},null,{"$f":"IF(OR($B95=\"\"),0,IF($B95=CU95,20,0))","v":0},null,{"$f":"IF(OR($B95=\"\"),0,IF($B95=CW95,20,0))","v":0},null,{"$f":"IF(OR($B95=\"\"),0,IF($B95=CY95,20,0))","v":0}]
[1,"Spanien","Gruppe H",null,"Spanien","-","Spanien","-","Spanien","-","Spanien","-","Spanien","-","Spanien","-","Spanien","-","Spanien","-","Spanien","-","Spanien","-","Spanien","-","Spanien","-","Spanien","-","Spanien","-","Spanien","-","Spanien","-","Spanien","-","Spanien","-","Spanien","-","Spanien","-","Spanien","-","Spanien","-","Spanien","-","Spanien","-","Spanien","-","Spanien","-","Spanien","-","Spanien","-","Spanien","-","Spanien","-","Spanien","-","Spanien","-","Spanien","-","Spanien","-",null,"-",null,"-",null,"-",null,"-",null,"-",null,"-",null,"-",null,"-",null,"-",null,"-",null,"-",null,"-",null,"-",null,"-",null,"-",null,"-"]
[2,"Kap Verde",null,null,"Uruguay","-","Uruguay","-","Saudi-Arabien","-","Saudi-Arabien","-","Uruguay","-","Uruguay","-","Uruguay","-","Uruguay","-","Uruguay","-","Uruguay","-","Uruguay","-","Uruguay","-","Uruguay","-","Uruguay","-","Uruguay","-","Uruguay","-","Uruguay","-","Uruguay","-","Uruguay","-","Uruguay","-","Uruguay","-","Uruguay","-","Uruguay","-","Uruguay","-","Uruguay","-","Uruguay","-","Uruguay","-","Uruguay","-","Uruguay","-","Uruguay","-","Uruguay","-","Uruguay","-","Uruguay","-","Uruguay","-",null,"-",null,"-",null,"-",null,"-",null,"-",null,"-",null,"-",null,"-",null,"-",null,"-",null,"-",null,"-",null,"-",null,"-",null,"-",null,"-"]
[3,"Uruguay",null,null,"Saudi-Arabien",{"$f":"IF(OR($B98=\"\"),0,IF($B98=E98,20,0))","v":0},"Saudi-Arabien",{"$f":"IF(OR($B98=\"\"),0,IF($B98=G98,20,0))","v":0},"Kap Verde",{"$f":"IF(OR($B98=\"\"),0,IF($B98=I98,20,0))","v":0},"Uruguay",{"$f":"IF(OR($B98=\"\"),0,IF($B98=K98,20,0))","v":20},"Saudi-Arabien",{"$f":"IF(OR($B98=\"\"),0,IF($B98=M98,20,0))","v":0},"Saudi-Arabien",{"$f":"IF(OR($B98=\"\"),0,IF($B98=O98,20,0))","v":0},"Saudi-Arabien",{"$f":"IF(OR($B98=\"\"),0,IF($B98=Q98,20,0))","v":0},"Kap Verde",{"$f":"IF(OR($B98=\"\"),0,IF($B98=S98,20,0))","v":0},"Saudi-Arabien",{"$f":"IF(OR($B98=\"\"),0,IF($B98=U98,20,0))","v":0},"Saudi-Arabien",{"$f":"IF(OR($B98=\"\"),0,IF($B98=W98,20,0))","v":0},"Saudi-Arabien",{"$f":"IF(OR($B98=\"\"),0,IF($B98=Y98,20,0))","v":0},"Kap Verde",{"$f":"IF(OR($B98=\"\"),0,IF($B98=AA98,20,0))","v":0},"Saudi-Arabien",{"$f":"IF(OR($B98=\"\"),0,IF($B98=AC98,20,0))","v":0},"Saudi-Arabien",{"$f":"IF(OR($B98=\"\"),0,IF($B98=AE98,20,0))","v":0},"Saudi-Arabien",{"$f":"IF(OR($B98=\"\"),0,IF($B98=AG98,20,0))","v":0},"Kap Verde",{"$f":"IF(OR($B98=\"\"),0,IF($B98=AI98,20,0))","v":0},"Saudi-Arabien",{"$f":"IF(OR($B98=\"\"),0,IF($B98=AK98,20,0))","v":0},"Saudi-Arabien",{"$f":"IF(OR($B98=\"\"),0,IF($B98=AM98,20,0))","v":0},"Saudi-Arabien",{"$f":"IF(OR($B98=\"\"),0,IF($B98=AO98,20,0))","v":0},"Kap Verde",{"$f":"IF(OR($B98=\"\"),0,IF($B98=AQ98,20,0))","v":0},"Saudi-Arabien",{"$f":"IF(OR($B98=\"\"),0,IF($B98=AS98,20,0))","v":0},"Saudi-Arabien",{"$f":"IF(OR($B98=\"\"),0,IF($B98=AU98,20,0))","v":0},"Saudi-Arabien",{"$f":"IF(OR($B98=\"\"),0,IF($B98=AW98,20,0))","v":0},"Kap Verde",{"$f":"IF(OR($B98=\"\"),0,IF($B98=AY98,20,0))","v":0},"Saudi-Arabien",{"$f":"IF(OR($B98=\"\"),0,IF($B98=BA98,20,0))","v":0},"Saudi-Arabien",{"$f":"IF(OR($B98=\"\"),0,IF($B98=BC98,20,0))","v":0},"Saudi-Arabien",{"$f":"IF(OR($B98=\"\"),0,IF($B98=BE98,20,0))","v":0},"Saudi-Arabien",{"$f":"IF(OR($B98=\"\"),0,IF($B98=BG98,20,0))","v":0},"Saudi-Arabien",{"$f":"IF(OR($B98=\"\"),0,IF($B98=BI98,20,0))","v":0},"Saudi-Arabien",{"$f":"IF(OR($B98=\"\"),0,IF($B98=BK98,20,0))","v":0},"Saudi-Arabien",{"$f":"IF(OR($B98=\"\"),0,IF($B98=BM98,20,0))","v":0},"Saudi-Arabien",{"$f":"IF(OR($B98=\"\"),0,IF($B98=BO98,20,0))","v":0},"Saudi-Arabien",{"$f":"IF(OR($B98=\"\"),0,IF($B98=BQ98,20,0))","v":0},"Saudi-Arabien",{"$f":"IF(OR($B98=\"\"),0,IF($B98=BS98,20,0))","v":0},null,{"$f":"IF(OR($B98=\"\"),0,IF($B98=BU98,20,0))","v":0},null,{"$f":"IF(OR($B98=\"\"),0,IF($B98=BW98,20,0))","v":0},null,{"$f":"IF(OR($B98=\"\"),0,IF($B98=BY98,20,0))","v":0},null,{"$f":"IF(OR($B98=\"\"),0,IF($B98=CA98,20,0))","v":0},null,{"$f":"IF(OR($B98=\"\"),0,IF($B98=CC98,20,0))","v":0},null,{"$f":"IF(OR($B98=\"\"),0,IF($B98=CE98,20,0))","v":0},null,{"$f":"IF(OR($B98=\"\"),0,IF($B98=CG98,20,0))","v":0},null,{"$f":"IF(OR($B98=\"\"),0,IF($B98=CI98,20,0))","v":0},null,{"$f":"IF(OR($B98=\"\"),0,IF($B98=CK98,20,0))","v":0},null,{"$f":"IF(OR($B98=\"\"),0,IF($B98=CM98,20,0))","v":0},null,{"$f":"IF(OR($B98=\"\"),0,IF($B98=CO98,20,0))","v":0},null,{"$f":"IF(OR($B98=\"\"),0,IF($B98=CQ98,20,0))","v":0},null,{"$f":"IF(OR($B98=\"\"),0,IF($B98=CS98,20,0))","v":0},null,{"$f":"IF(OR($B98=\"\"),0,IF($B98=CU98,20,0))","v":0},null,{"$f":"IF(OR($B98=\"\"),0,IF($B98=CW98,20,0))","v":0},null,{"$f":"IF(OR($B98=\"\"),0,IF($B98=CY98,20,0))","v":0}]
[4,"Saudi-Arabien",null,null,"Kap Verde",{"$f":"IF(OR($B99=\"\"),0,IF($B99=E99,20,0))","v":0},"Kap Verde",{"$f":"IF(OR($B99=\"\"),0,IF($B99=G99,20,0))","v":0},"Uruguay",{"$f":"IF(OR($B99=\"\"),0,IF($B99=I99,20,0))","v":0},"Kap Verde",{"$f":"IF(OR($B99=\"\"),0,IF($B99=K99,20,0))","v":0},"Kap Verde",{"$f":"IF(OR($B99=\"\"),0,IF($B99=M99,20,0))","v":0},"Kap Verde",{"$f":"IF(OR($B99=\"\"),0,IF($B99=O99,20,0))","v":0},"Kap Verde",{"$f":"IF(OR($B99=\"\"),0,IF($B99=Q99,20,0))","v":0},"Saudi-Arabien",{"$f":"IF(OR($B99=\"\"),0,IF($B99=S99,20,0))","v":20},"Kap Verde",{"$f":"IF(OR($B99=\"\"),0,IF($B99=U99,20,0))","v":0},"Kap Verde",{"$f":"IF(OR($B99=\"\"),0,IF($B99=W99,20,0))","v":0},"Kap Verde",{"$f":"IF(OR($B99=\"\"),0,IF($B99=Y99,20,0))","v":0},"Saudi-Arabien",{"$f":"IF(OR($B99=\"\"),0,IF($B99=AA99,20,0))","v":20},"Kap Verde",{"$f":"IF(OR($B99=\"\"),0,IF($B99=AC99,20,0))","v":0},"Kap Verde",{"$f":"IF(OR($B99=\"\"),0,IF($B99=AE99,20,0))","v":0},"Kap Verde",{"$f":"IF(OR($B99=\"\"),0,IF($B99=AG99,20,0))","v":0},"Saudi-Arabien",{"$f":"IF(OR($B99=\"\"),0,IF($B99=AI99,20,0))","v":20},"Kap Verde",{"$f":"IF(OR($B99=\"\"),0,IF($B99=AK99,20,0))","v":0},"Kap Verde",{"$f":"IF(OR($B99=\"\"),0,IF($B99=AM99,20,0))","v":0},"Kap Verde",{"$f":"IF(OR($B99=\"\"),0,IF($B99=AO99,20,0))","v":0},"Saudi-Arabien",{"$f":"IF(OR($B99=\"\"),0,IF($B99=AQ99,20,0))","v":20},"Kap Verde",{"$f":"IF(OR($B99=\"\"),0,IF($B99=AS99,20,0))","v":0},"Kap Verde",{"$f":"IF(OR($B99=\"\"),0,IF($B99=AU99,20,0))","v":0},"Kap Verde",{"$f":"IF(OR($B99=\"\"),0,IF($B99=AW99,20,0))","v":0},"Saudi-Arabien",{"$f":"IF(OR($B99=\"\"),0,IF($B99=AY99,20,0))","v":20},"Kap Verde",{"$f":"IF(OR($B99=\"\"),0,IF($B99=BA99,20,0))","v":0},"Kap Verde",{"$f":"IF(OR($B99=\"\"),0,IF($B99=BC99,20,0))","v":0},"Kap Verde",{"$f":"IF(OR($B99=\"\"),0,IF($B99=BE99,20,0))","v":0},"Kap Verde",{"$f":"IF(OR($B99=\"\"),0,IF($B99=BG99,20,0))","v":0},"Kap Verde",{"$f":"IF(OR($B99=\"\"),0,IF($B99=BI99,20,0))","v":0},"Kap Verde",{"$f":"IF(OR($B99=\"\"),0,IF($B99=BK99,20,0))","v":0},"Kap Verde",{"$f":"IF(OR($B99=\"\"),0,IF($B99=BM99,20,0))","v":0},"Kap Verde",{"$f":"IF(OR($B99=\"\"),0,IF($B99=BO99,20,0))","v":0},"Kap Verde",{"$f":"IF(OR($B99=\"\"),0,IF($B99=BQ99,20,0))","v":0},"Kap Verde",{"$f":"IF(OR($B99=\"\"),0,IF($B99=BS99,20,0))","v":0},null,{"$f":"IF(OR($B99=\"\"),0,IF($B99=BU99,20,0))","v":0},null,{"$f":"IF(OR($B99=\"\"),0,IF($B99=BW99,20,0))","v":0},null,{"$f":"IF(OR($B99=\"\"),0,IF($B99=BY99,20,0))","v":0},null,{"$f":"IF(OR($B99=\"\"),0,IF($B99=CA99,20,0))","v":0},null,{"$f":"IF(OR($B99=\"\"),0,IF($B99=CC99,20,0))","v":0},null,{"$f":"IF(OR($B99=\"\"),0,IF($B99=CE99,20,0))","v":0},null,{"$f":"IF(OR($B99=\"\"),0,IF($B99=CG99,20,0))","v":0},null,{"$f":"IF(OR($B99=\"\"),0,IF($B99=CI99,20,0))","v":0},null,{"$f":"IF(OR($B99=\"\"),0,IF($B99=CK99,20,0))","v":0},null,{"$f":"IF(OR($B99=\"\"),0,IF($B99=CM99,20,0))","v":0},null,{"$f":"IF(OR($B99=\"\"),0,IF($B99=CO99,20,0))","v":0},null,{"$f":"IF(OR($B99=\"\"),0,IF($B99=CQ99,20,0))","v":0},null,{"$f":"IF(OR($B99=\"\"),0,IF($B99=CS99,20,0))","v":0},null,{"$f":"IF(OR($B99=\"\"),0,IF($B99=CU99,20,0))","v":0},null,{"$f":"IF(OR($B99=\"\"),0,IF($B99=CW99,20,0))","v":0},null,{"$f":"IF(OR($B99=\"\"),0,IF($B99=CY99,20,0))","v":0}]
[1,"Frankreich","Gruppe I",null,"Frankreich","-","Frankreich","-","Frankreich","-","Frankreich","-","Frankreich","-","Frankreich","-","Frankreich","-","Frankreich","-","Frankreich","-","Frankreich","-","Frankreich","-","Frankreich","-","Frankreich","-","Frankreich","-","Frankreich","-","Frankreich","-","Frankreich","-","Frankreich","-","Frankreich","-","Frankreich","-","Frankreich","-","Frankreich","-","Frankreich","-","Frankreich","-","Frankreich","-","Frankreich","-","Frankreich","-","Frankreich","-","Frankreich","-","Frankreich","-","Frankreich","-","Frankreich","-","Frankreich","-","Frankreich","-",null,"-",null,"-",null,"-",null,"-",null,"-",null,"-",null,"-",null,"-",null,"-",null,"-",null,"-",null,"-",null,"-",null,"-",null,"-",null,"-"]
[2,"Norwegen",null,null,"Norwegen","-","Senegal","-","Irak","-","Norwegen","-","Norwegen","-","Norwegen","-","Senegal","-","Norwegen","-","Norwegen","-","Norwegen","-","Norwegen","-","Norwegen","-","Norwegen","-","Norwegen","-","Norwegen","-","Norwegen","-","Senegal","-","Norwegen","-","Senegal","-","Norwegen","-","Norwegen","-","Norwegen","-","Senegal","-","Senegal","-","Norwegen","-","Norwegen","-","Norwegen","-","Norwegen","-","Norwegen","-","Norwegen","-","Senegal","-","Norwegen","-","Norwegen","-","Norwegen","-",null,"-",null,"-",null,"-",null,"-",null,"-",null,"-",null,"-",null,"-",null,"-",null,"-",null,"-",null,"-",null,"-",null,"-",null,"-",null,"-"]
[3,"Senegal",null,null,"Senegal",{"$f":"IF(OR($B102=\"\"),0,IF($B102=E102,20,0))","v":20},"Norwegen",{"$f":"IF(OR($B102=\"\"),0,IF($B102=G102,20,0))","v":0},"Senegal",{"$f":"IF(OR($B102=\"\"),0,IF($B102=I102,20,0))","v":20},"Irak",{"$f":"IF(OR($B102=\"\"),0,IF($B102=K102,20,0))","v":0},"Senegal",{"$f":"IF(OR($B102=\"\"),0,IF($B102=M102,20,0))","v":20},"Senegal",{"$f":"IF(OR($B102=\"\"),0,IF($B102=O102,20,0))","v":20},"Norwegen",{"$f":"IF(OR($B102=\"\"),0,IF($B102=Q102,20,0))","v":0},"Senegal",{"$f":"IF(OR($B102=\"\"),0,IF($B102=S102,20,0))","v":20},"Senegal",{"$f":"IF(OR($B102=\"\"),0,IF($B102=U102,20,0))","v":20},"Senegal",{"$f":"IF(OR($B102=\"\"),0,IF($B102=W102,20,0))","v":20},"Senegal",{"$f":"IF(OR($B102=\"\"),0,IF($B102=Y102,20,0))","v":20},"Senegal",{"$f":"IF(OR($B102=\"\"),0,IF($B102=AA102,20,0))","v":20},"Senegal",{"$f":"IF(OR($B102=\"\"),0,IF($B102=AC102,20,0))","v":20},"Senegal",{"$f":"IF(OR($B102=\"\"),0,IF($B102=AE102,20,0))","v":20},"Senegal",{"$f":"IF(OR($B102=\"\"),0,IF($B102=AG102,20,0))","v":20},"Senegal",{"$f":"IF(OR($B102=\"\"),0,IF($B102=AI102,20,0))","v":20},"Norwegen",{"$f":"IF(OR($B102=\"\"),0,IF($B102=AK102,20,0))","v":0},"Senegal",{"$f":"IF(OR($B102=\"\"),0,IF($B102=AM102,20,0))","v":20},"Norwegen",{"$f":"IF(OR($B102=\"\"),0,IF($B102=AO102,20,0))","v":0},"Senegal",{"$f":"IF(OR($B102=\"\"),0,IF($B102=AQ102,20,0))","v":20},"Senegal",{"$f":"IF(OR($B102=\"\"),0,IF($B102=AS102,20,0))","v":20},"Senegal",{"$f":"IF(OR($B102=\"\"),0,IF($B102=AU102,20,0))","v":20},"Norwegen",{"$f":"IF(OR($B102=\"\"),0,IF($B102=AW102,20,0))","v":0},"Norwegen",{"$f":"IF(OR($B102=\"\"),0,IF($B102=AY102,20,0))","v":0},"Senegal",{"$f":"IF(OR($B102=\"\"),0,IF($B102=BA102,20,0))","v":20},"Senegal",{"$f":"IF(OR($B102=\"\"),0,IF($B102=BC102,20,0))","v":20},"Senegal",{"$f":"IF(OR($B102=\"\"),0,IF($B102=BE102,20,0))","v":20},"Senegal",{"$f":"IF(OR($B102=\"\"),0,IF($B102=BG102,20,0))","v":20},"Senegal",{"$f":"IF(OR($B102=\"\"),0,IF($B102=BI102,20,0))","v":20},"Senegal",{"$f":"IF(OR($B102=\"\"),0,IF($B102=BK102,20,0))","v":20},"Norwegen",{"$f":"IF(OR($B102=\"\"),0,IF($B102=BM102,20,0))","v":0},"Irak",{"$f":"IF(OR($B102=\"\"),0,IF($B102=BO102,20,0))","v":0},"Senegal",{"$f":"IF(OR($B102=\"\"),0,IF($B102=BQ102,20,0))","v":20},"Irak",{"$f":"IF(OR($B102=\"\"),0,IF($B102=BS102,20,0))","v":0},null,{"$f":"IF(OR($B102=\"\"),0,IF($B102=BU102,20,0))","v":0},null,{"$f":"IF(OR($B102=\"\"),0,IF($B102=BW102,20,0))","v":0},null,{"$f":"IF(OR($B102=\"\"),0,IF($B102=BY102,20,0))","v":0},null,{"$f":"IF(OR($B102=\"\"),0,IF($B102=CA102,20,0))","v":0},null,{"$f":"IF(OR($B102=\"\"),0,IF($B102=CC102,20,0))","v":0},null,{"$f":"IF(OR($B102=\"\"),0,IF($B102=CE102,20,0))","v":0},null,{"$f":"IF(OR($B102=\"\"),0,IF($B102=CG102,20,0))","v":0},null,{"$f":"IF(OR($B102=\"\"),0,IF($B102=CI102,20,0))","v":0},null,{"$f":"IF(OR($B102=\"\"),0,IF($B102=CK102,20,0))","v":0},null,{"$f":"IF(OR($B102=\"\"),0,IF($B102=CM102,20,0))","v":0},null,{"$f":"IF(OR($B102=\"\"),0,IF($B102=CO102,20,0))","v":0},null,{"$f":"IF(OR($B102=\"\"),0,IF($B102=CQ102,20,0))","v":0},null,{"$f":"IF(OR($B102=\"\"),0,IF($B102=CS102,20,0))","v":0},null,{"$f":"IF(OR($B102=\"\"),0,IF($B102=CU102,20,0))","v":0},null,{"$f":"IF(OR($B102=\"\"),0,IF($B102=CW102,20,0))","v":0},null,{"$f":"IF(OR($B102=\"\"),0,IF($B102=CY102,20,0))","v":0}]
[4,"Irak",null,null,"Irak",{"$f":"IF(OR($B103=\"\"),0,IF($B103=E103,20,0))","v":20},"Irak",{"$f":"IF(OR($B103=\"\"),0,IF($B103=G103,20,0))","v":20},"Norwegen",{"$f":"IF(OR($B103=\"\"),0,IF($B103=I103,20,0))","v":0},"Senegal",{"$f":"IF(OR($B103=\"\"),0,IF($B103=K103,20,0))","v":0},"Irak",{"$f":"IF(OR($B103=\"\"),0,IF($B103=M103,20,0))","v":20},"Irak",{"$f":"IF(OR($B103=\"\"),0,IF($B103=O103,20,0))","v":20},"Irak",{"$f":"IF(OR($B103=\"\"),0,IF($B103=Q103,20,0))","v":20},"Irak",{"$f":"IF(OR($B103=\"\"),0,IF($B103=S103,20,0))","v":20},"Irak",{"$f":"IF(OR($B103=\"\"),0,IF($B103=U103,20,0))","v":20},"Irak",{"$f":"IF(OR($B103=\"\"),0,IF($B103=W103,20,0))","v":20},"Irak",{"$f":"IF(OR($B103=\"\"),0,IF($B103=Y103,20,0))","v":20},"Irak",{"$f":"IF(OR($B103=\"\"),0,IF($B103=AA103,20,0))","v":20},"Irak",{"$f":"IF(OR($B103=\"\"),0,IF($B103=AC103,20,0))","v":20},"Irak",{"$f":"IF(OR($B103=\"\"),0,IF($B103=AE103,20,0))","v":20},"Irak",{"$f":"IF(OR($B103=\"\"),0,IF($B103=AG103,20,0))","v":20},"Irak",{"$f":"IF(OR($B103=\"\"),0,IF($B103=AI103,20,0))","v":20},"Irak",{"$f":"IF(OR($B103=\"\"),0,IF($B103=AK103,20,0))","v":20},"Irak",{"$f":"IF(OR($B103=\"\"),0,IF($B103=AM103,20,0))","v":20},"Irak",{"$f":"IF(OR($B103=\"\"),0,IF($B103=AO103,20,0))","v":20},"Irak",{"$f":"IF(OR($B103=\"\"),0,IF($B103=AQ103,20,0))","v":20},"Irak",{"$f":"IF(OR($B103=\"\"),0,IF($B103=AS103,20,0))","v":20},"Irak",{"$f":"IF(OR($B103=\"\"),0,IF($B103=AU103,20,0))","v":20},"Irak",{"$f":"IF(OR($B103=\"\"),0,IF($B103=AW103,20,0))","v":20},"Irak",{"$f":"IF(OR($B103=\"\"),0,IF($B103=AY103,20,0))","v":20},"Irak",{"$f":"IF(OR($B103=\"\"),0,IF($B103=BA103,20,0))","v":20},"Irak",{"$f":"IF(OR($B103=\"\"),0,IF($B103=BC103,20,0))","v":20},"Irak",{"$f":"IF(OR($B103=\"\"),0,IF($B103=BE103,20,0))","v":20},"Irak",{"$f":"IF(OR($B103=\"\"),0,IF($B103=BG103,20,0))","v":20},"Irak",{"$f":"IF(OR($B103=\"\"),0,IF($B103=BI103,20,0))","v":20},"Irak",{"$f":"IF(OR($B103=\"\"),0,IF($B103=BK103,20,0))","v":20},"Irak",{"$f":"IF(OR($B103=\"\"),0,IF($B103=BM103,20,0))","v":20},"Senegal",{"$f":"IF(OR($B103=\"\"),0,IF($B103=BO103,20,0))","v":0},"Irak",{"$f":"IF(OR($B103=\"\"),0,IF($B103=BQ103,20,0))","v":20},"Senegal",{"$f":"IF(OR($B103=\"\"),0,IF($B103=BS103,20,0))","v":0},null,{"$f":"IF(OR($B103=\"\"),0,IF($B103=BU103,20,0))","v":0},null,{"$f":"IF(OR($B103=\"\"),0,IF($B103=BW103,20,0))","v":0},null,{"$f":"IF(OR($B103=\"\"),0,IF($B103=BY103,20,0))","v":0},null,{"$f":"IF(OR($B103=\"\"),0,IF($B103=CA103,20,0))","v":0},null,{"$f":"IF(OR($B103=\"\"),0,IF($B103=CC103,20,0))","v":0},null,{"$f":"IF(OR($B103=\"\"),0,IF($B103=CE103,20,0))","v":0},null,{"$f":"IF(OR($B103=\"\"),0,IF($B103=CG103,20,0))","v":0},null,{"$f":"IF(OR($B103=\"\"),0,IF($B103=CI103,20,0))","v":0},null,{"$f":"IF(OR($B103=\"\"),0,IF($B103=CK103,20,0))","v":0},null,{"$f":"IF(OR($B103=\"\"),0,IF($B103=CM103,20,0))","v":0},null,{"$f":"IF(OR($B103=\"\"),0,IF($B103=CO103,20,0))","v":0},null,{"$f":"IF(OR($B103=\"\"),0,IF($B103=CQ103,20,0))","v":0},null,{"$f":"IF(OR($B103=\"\"),0,IF($B103=CS103,20,0))","v":0},null,{"$f":"IF(OR($B103=\"\"),0,IF($B103=CU103,20,0))","v":0},null,{"$f":"IF(OR($B103=\"\"),0,IF($B103=CW103,20,0))","v":0},null,{"$f":"IF(OR($B103=\"\"),0,IF($B103=CY103,20,0))","v":0}]
[1,"Argentinien","Gruppe J",null,"Argentinien","-","Argentinien","-","Österreich","-","Argentinien","-","Argentinien","-","Argentinien","-","Argentinien","-","Argentinien","-","Österreich","-","Argentinien","-","Argentinien","-","Argentinien","-","Argentinien","-","Argentinien","-","Argentinien","-","Österreich","-","Argentinien","-","Argentinien","-","Argentinien","-","Argentinien","-","Argentinien","-","Argentinien","-","Argentinien","-","Argentinien","-","Argentinien","-","Argentinien","-","Argentinien","-","Argentinien","-","Argentinien","-","Argentinien","-","Argentinien","-","Argentinien","-","Argentinien","-","Argentinien","-",null,"-",null,"-",null,"-",null,"-",null,"-",null,"-",null,"-",null,"-",null,"-",null,"-",null,"-",null,"-",null,"-",null,"-",null,"-",null,"-"]
[2,"Österreich",null,null,"Österreich","-","Algerien","-","Argentinien","-","Österreich","-","Österreich","-","Österreich","-","Österreich","-","Österreich","-","Argentinien","-","Algerien","-","Österreich","-","Österreich","-","Österreich","-","Algerien","-","Österreich","-","Argentinien","-","Österreich","-","Österreich","-","Österreich","-","Algerien","-","Österreich","-","Österreich","-","Österreich","-","Österreich","-","Österreich","-","Österreich","-","Österreich","-","Österreich","-","Algerien","-","Österreich","-","Österreich","-","Österreich","-","Österreich","-","Österreich","-",null,"-",null,"-",null,"-",null,"-",null,"-",null,"-",null,"-",null,"-",null,"-",null,"-",null,"-",null,"-",null,"-",null,"-",null,"-",null,"-"]
[3,"Algerien",null,null,"Algerien",{"$f":"IF(OR($B106=\"\"),0,IF($B106=E106,20,0))","v":20},"Österreich",{"$f":"IF(OR($B106=\"\"),0,IF($B106=G106,20,0))","v":0},"Algerien",{"$f":"IF(OR($B106=\"\"),0,IF($B106=I106,20,0))","v":20},"Jordanien",{"$f":"IF(OR($B106=\"\"),0,IF($B106=K106,20,0))","v":0},"Jordanien",{"$f":"IF(OR($B106=\"\"),0,IF($B106=M106,20,0))","v":0},"Algerien",{"$f":"IF(OR($B106=\"\"),0,IF($B106=O106,20,0))","v":20},"Algerien",{"$f":"IF(OR($B106=\"\"),0,IF($B106=Q106,20,0))","v":20},"Algerien",{"$f":"IF(OR($B106=\"\"),0,IF($B106=S106,20,0))","v":20},"Algerien",{"$f":"IF(OR($B106=\"\"),0,IF($B106=U106,20,0))","v":20},"Jordanien",{"$f":"IF(OR($B106=\"\"),0,IF($B106=W106,20,0))","v":0},"Algerien",{"$f":"IF(OR($B106=\"\"),0,IF($B106=Y106,20,0))","v":20},"Algerien",{"$f":"IF(OR($B106=\"\"),0,IF($B106=AA106,20,0))","v":20},"Algerien",{"$f":"IF(OR($B106=\"\"),0,IF($B106=AC106,20,0))","v":20},"Österreich",{"$f":"IF(OR($B106=\"\"),0,IF($B106=AE106,20,0))","v":0},"Algerien",{"$f":"IF(OR($B106=\"\"),0,IF($B106=AG106,20,0))","v":20},"Algerien",{"$f":"IF(OR($B106=\"\"),0,IF($B106=AI106,20,0))","v":20},"Algerien",{"$f":"IF(OR($B106=\"\"),0,IF($B106=AK106,20,0))","v":20},"Algerien",{"$f":"IF(OR($B106=\"\"),0,IF($B106=AM106,20,0))","v":20},"Algerien",{"$f":"IF(OR($B106=\"\"),0,IF($B106=AO106,20,0))","v":20},"Österreich",{"$f":"IF(OR($B106=\"\"),0,IF($B106=AQ106,20,0))","v":0},"Algerien",{"$f":"IF(OR($B106=\"\"),0,IF($B106=AS106,20,0))","v":20},"Algerien",{"$f":"IF(OR($B106=\"\"),0,IF($B106=AU106,20,0))","v":20},"Algerien",{"$f":"IF(OR($B106=\"\"),0,IF($B106=AW106,20,0))","v":20},"Algerien",{"$f":"IF(OR($B106=\"\"),0,IF($B106=AY106,20,0))","v":20},"Algerien",{"$f":"IF(OR($B106=\"\"),0,IF($B106=BA106,20,0))","v":20},"Algerien",{"$f":"IF(OR($B106=\"\"),0,IF($B106=BC106,20,0))","v":20},"Algerien",{"$f":"IF(OR($B106=\"\"),0,IF($B106=BE106,20,0))","v":20},"Algerien",{"$f":"IF(OR($B106=\"\"),0,IF($B106=BG106,20,0))","v":20},"Österreich",{"$f":"IF(OR($B106=\"\"),0,IF($B106=BI106,20,0))","v":0},"Algerien",{"$f":"IF(OR($B106=\"\"),0,IF($B106=BK106,20,0))","v":20},"Algerien",{"$f":"IF(OR($B106=\"\"),0,IF($B106=BM106,20,0))","v":20},"Algerien",{"$f":"IF(OR($B106=\"\"),0,IF($B106=BO106,20,0))","v":20},"Algerien",{"$f":"IF(OR($B106=\"\"),0,IF($B106=BQ106,20,0))","v":20},"Algerien",{"$f":"IF(OR($B106=\"\"),0,IF($B106=BS106,20,0))","v":20},null,{"$f":"IF(OR($B106=\"\"),0,IF($B106=BU106,20,0))","v":0},null,{"$f":"IF(OR($B106=\"\"),0,IF($B106=BW106,20,0))","v":0},null,{"$f":"IF(OR($B106=\"\"),0,IF($B106=BY106,20,0))","v":0},null,{"$f":"IF(OR($B106=\"\"),0,IF($B106=CA106,20,0))","v":0},null,{"$f":"IF(OR($B106=\"\"),0,IF($B106=CC106,20,0))","v":0},null,{"$f":"IF(OR($B106=\"\"),0,IF($B106=CE106,20,0))","v":0},null,{"$f":"IF(OR($B106=\"\"),0,IF($B106=CG106,20,0))","v":0},null,{"$f":"IF(OR($B106=\"\"),0,IF($B106=CI106,20,0))","v":0},null,{"$f":"IF(OR($B106=\"\"),0,IF($B106=CK106,20,0))","v":0},null,{"$f":"IF(OR($B106=\"\"),0,IF($B106=CM106,20,0))","v":0},null,{"$f":"IF(OR($B106=\"\"),0,IF($B106=CO106,20,0))","v":0},null,{"$f":"IF(OR($B106=\"\"),0,IF($B106=CQ106,20,0))","v":0},null,{"$f":"IF(OR($B106=\"\"),0,IF($B106=CS106,20,0))","v":0},null,{"$f":"IF(OR($B106=\"\"),0,IF($B106=CU106,20,0))","v":0},null,{"$f":"IF(OR($B106=\"\"),0,IF($B106=CW106,20,0))","v":0},null,{"$f":"IF(OR($B106=\"\"),0,IF($B106=CY106,20,0))","v":0}]
[4,"Jordanien",null,null,"Jordanien",{"$f":"IF(OR($B107=\"\"),0,IF($B107=E107,20,0))","v":20},"Jordanien",{"$f":"IF(OR($B107=\"\"),0,IF($B107=G107,20,0))","v":20},"Jordanien",{"$f":"IF(OR($B107=\"\"),0,IF($B107=I107,20,0))","v":20},"Algerien",{"$f":"IF(OR($B107=\"\"),0,IF($B107=K107,20,0))","v":0},"Algerien",{"$f":"IF(OR($B107=\"\"),0,IF($B107=M107,20,0))","v":0},"Jordanien",{"$f":"IF(OR($B107=\"\"),0,IF($B107=O107,20,0))","v":20},"Jordanien",{"$f":"IF(OR($B107=\"\"),0,IF($B107=Q107,20,0))","v":20},"Jordanien",{"$f":"IF(OR($B107=\"\"),0,IF($B107=S107,20,0))","v":20},"Jordanien",{"$f":"IF(OR($B107=\"\"),0,IF($B107=U107,20,0))","v":20},"Österreich",{"$f":"IF(OR($B107=\"\"),0,IF($B107=W107,20,0))","v":0},"Jordanien",{"$f":"IF(OR($B107=\"\"),0,IF($B107=Y107,20,0))","v":20},"Jordanien",{"$f":"IF(OR($B107=\"\"),0,IF($B107=AA107,20,0))","v":20},"Jordanien",{"$f":"IF(OR($B107=\"\"),0,IF($B107=AC107,20,0))","v":20},"Jordanien",{"$f":"IF(OR($B107=\"\"),0,IF($B107=AE107,20,0))","v":20},"Jordanien",{"$f":"IF(OR($B107=\"\"),0,IF($B107=AG107,20,0))","v":20},"Jordanien",{"$f":"IF(OR($B107=\"\"),0,IF($B107=AI107,20,0))","v":20},"Jordanien",{"$f":"IF(OR($B107=\"\"),0,IF($B107=AK107,20,0))","v":20},"Jordanien",{"$f":"IF(OR($B107=\"\"),0,IF($B107=AM107,20,0))","v":20},"Jordanien",{"$f":"IF(OR($B107=\"\"),0,IF($B107=AO107,20,0))","v":20},"Jordanien",{"$f":"IF(OR($B107=\"\"),0,IF($B107=AQ107,20,0))","v":20},"Jordanien",{"$f":"IF(OR($B107=\"\"),0,IF($B107=AS107,20,0))","v":20},"Jordanien",{"$f":"IF(OR($B107=\"\"),0,IF($B107=AU107,20,0))","v":20},"Jordanien",{"$f":"IF(OR($B107=\"\"),0,IF($B107=AW107,20,0))","v":20},"Jordanien",{"$f":"IF(OR($B107=\"\"),0,IF($B107=AY107,20,0))","v":20},"Jordanien",{"$f":"IF(OR($B107=\"\"),0,IF($B107=BA107,20,0))","v":20},"Jordanien",{"$f":"IF(OR($B107=\"\"),0,IF($B107=BC107,20,0))","v":20},"Jordanien",{"$f":"IF(OR($B107=\"\"),0,IF($B107=BE107,20,0))","v":20},"Jordanien",{"$f":"IF(OR($B107=\"\"),0,IF($B107=BG107,20,0))","v":20},"Jordanien",{"$f":"IF(OR($B107=\"\"),0,IF($B107=BI107,20,0))","v":20},"Jordanien",{"$f":"IF(OR($B107=\"\"),0,IF($B107=BK107,20,0))","v":20},"Jordanien",{"$f":"IF(OR($B107=\"\"),0,IF($B107=BM107,20,0))","v":20},"Jordanien",{"$f":"IF(OR($B107=\"\"),0,IF($B107=BO107,20,0))","v":20},"Jordanien",{"$f":"IF(OR($B107=\"\"),0,IF($B107=BQ107,20,0))","v":20},"Jordanien",{"$f":"IF(OR($B107=\"\"),0,IF($B107=BS107,20,0))","v":20},null,{"$f":"IF(OR($B107=\"\"),0,IF($B107=BU107,20,0))","v":0},null,{"$f":"IF(OR($B107=\"\"),0,IF($B107=BW107,20,0))","v":0},null,{"$f":"IF(OR($B107=\"\"),0,IF($B107=BY107,20,0))","v":0},null,{"$f":"IF(OR($B107=\"\"),0,IF($B107=CA107,20,0))","v":0},null,{"$f":"IF(OR($B107=\"\"),0,IF($B107=CC107,20,0))","v":0},null,{"$f":"IF(OR($B107=\"\"),0,IF($B107=CE107,20,0))","v":0},null,{"$f":"IF(OR($B107=\"\"),0,IF($B107=CG107,20,0))","v":0},null,{"$f":"IF(OR($B107=\"\"),0,IF($B107=CI107,20,0))","v":0},null,{"$f":"IF(OR($B107=\"\"),0,IF($B107=CK107,20,0))","v":0},null,{"$f":"IF(OR($B107=\"\"),0,IF($B107=CM107,20,0))","v":0},null,{"$f":"IF(OR($B107=\"\"),0,IF($B107=CO107,20,0))","v":0},null,{"$f":"IF(OR($B107=\"\"),0,IF($B107=CQ107,20,0))","v":0},null,{"$f":"IF(OR($B107=\"\"),0,IF($B107=CS107,20,0))","v":0},null,{"$f":"IF(OR($B107=\"\"),0,IF($B107=CU107,20,0))","v":0},null,{"$f":"IF(OR($B107=\"\"),0,IF($B107=CW107,20,0))","v":0},null,{"$f":"IF(OR($B107=\"\"),0,IF($B107=CY107,20,0))","v":0}]
[1,"Kolumbien","Gruppe K",null,"Portugal","-","Portugal","-","Portugal","-","Portugal","-","Portugal","-","Portugal","-","Portugal","-","Portugal","-","Portugal","-","Portugal","-","Portugal","-","Portugal","-","Portugal","-","Portugal","-","Portugal","-","Portugal","-","Portugal","-","Kolumbien","-","Portugal","-","Portugal","-","Portugal","-","Portugal","-","Portugal","-","Portugal","-","Portugal","-","Portugal","-","Portugal","-","Portugal","-","Portugal","-","Portugal","-","Portugal","-","Portugal","-","Portugal","-","Portugal","-",null,"-",null,"-",null,"-",null,"-",null,"-",null,"-",null,"-",null,"-",null,"-",null,"-",null,"-",null,"-",null,"-",null,"-",null,"-",null,"-"]
[2,"Portugal",null,null,"Kolumbien","-","Kolumbien","-","Usbekistan","-","Usbekistan","-","Kolumbien","-","Kolumbien","-","Kolumbien","-","Kolumbien","-","DR Kongo","-","Kolumbien","-","Kolumbien","-","Kolumbien","-","Kolumbien","-","Kolumbien","-","Kolumbien","-","Kolumbien","-","Kolumbien","-","Portugal","-","Kolumbien","-","Kolumbien","-","Kolumbien","-","Kolumbien","-","Kolumbien","-","Kolumbien","-","Kolumbien","-","Kolumbien","-","Kolumbien","-","Kolumbien","-","Kolumbien","-","Kolumbien","-","DR Kongo","-","Kolumbien","-","Kolumbien","-","Kolumbien","-",null,"-",null,"-",null,"-",null,"-",null,"-",null,"-",null,"-",null,"-",null,"-",null,"-",null,"-",null,"-",null,"-",null,"-",null,"-",null,"-"]
[3,"DR Kongo",null,null,"Usbekistan",{"$f":"IF(OR($B110=\"\"),0,IF($B110=E110,20,0))","v":0},"DR Kongo",{"$f":"IF(OR($B110=\"\"),0,IF($B110=G110,20,0))","v":20},"Kolumbien",{"$f":"IF(OR($B110=\"\"),0,IF($B110=I110,20,0))","v":0},"Kolumbien",{"$f":"IF(OR($B110=\"\"),0,IF($B110=K110,20,0))","v":0},"DR Kongo",{"$f":"IF(OR($B110=\"\"),0,IF($B110=M110,20,0))","v":20},"DR Kongo",{"$f":"IF(OR($B110=\"\"),0,IF($B110=O110,20,0))","v":20},"DR Kongo",{"$f":"IF(OR($B110=\"\"),0,IF($B110=Q110,20,0))","v":20},"DR Kongo",{"$f":"IF(OR($B110=\"\"),0,IF($B110=S110,20,0))","v":20},"Kolumbien",{"$f":"IF(OR($B110=\"\"),0,IF($B110=U110,20,0))","v":0},"DR Kongo",{"$f":"IF(OR($B110=\"\"),0,IF($B110=W110,20,0))","v":20},"DR Kongo",{"$f":"IF(OR($B110=\"\"),0,IF($B110=Y110,20,0))","v":20},"Usbekistan",{"$f":"IF(OR($B110=\"\"),0,IF($B110=AA110,20,0))","v":0},"Usbekistan",{"$f":"IF(OR($B110=\"\"),0,IF($B110=AC110,20,0))","v":0},"Usbekistan",{"$f":"IF(OR($B110=\"\"),0,IF($B110=AE110,20,0))","v":0},"Usbekistan",{"$f":"IF(OR($B110=\"\"),0,IF($B110=AG110,20,0))","v":0},"DR Kongo",{"$f":"IF(OR($B110=\"\"),0,IF($B110=AI110,20,0))","v":20},"DR Kongo",{"$f":"IF(OR($B110=\"\"),0,IF($B110=AK110,20,0))","v":20},"DR Kongo",{"$f":"IF(OR($B110=\"\"),0,IF($B110=AM110,20,0))","v":20},"DR Kongo",{"$f":"IF(OR($B110=\"\"),0,IF($B110=AO110,20,0))","v":20},"DR Kongo",{"$f":"IF(OR($B110=\"\"),0,IF($B110=AQ110,20,0))","v":20},"Usbekistan",{"$f":"IF(OR($B110=\"\"),0,IF($B110=AS110,20,0))","v":0},"DR Kongo",{"$f":"IF(OR($B110=\"\"),0,IF($B110=AU110,20,0))","v":20},"DR Kongo",{"$f":"IF(OR($B110=\"\"),0,IF($B110=AW110,20,0))","v":20},"DR Kongo",{"$f":"IF(OR($B110=\"\"),0,IF($B110=AY110,20,0))","v":20},"DR Kongo",{"$f":"IF(OR($B110=\"\"),0,IF($B110=BA110,20,0))","v":20},"DR Kongo",{"$f":"IF(OR($B110=\"\"),0,IF($B110=BC110,20,0))","v":20},"DR Kongo",{"$f":"IF(OR($B110=\"\"),0,IF($B110=BE110,20,0))","v":20},"DR Kongo",{"$f":"IF(OR($B110=\"\"),0,IF($B110=BG110,20,0))","v":20},"DR Kongo",{"$f":"IF(OR($B110=\"\"),0,IF($B110=BI110,20,0))","v":20},"DR Kongo",{"$f":"IF(OR($B110=\"\"),0,IF($B110=BK110,20,0))","v":20},"Kolumbien",{"$f":"IF(OR($B110=\"\"),0,IF($B110=BM110,20,0))","v":0},"DR Kongo",{"$f":"IF(OR($B110=\"\"),0,IF($B110=BO110,20,0))","v":20},"DR Kongo",{"$f":"IF(OR($B110=\"\"),0,IF($B110=BQ110,20,0))","v":20},"DR Kongo",{"$f":"IF(OR($B110=\"\"),0,IF($B110=BS110,20,0))","v":20},null,{"$f":"IF(OR($B110=\"\"),0,IF($B110=BU110,20,0))","v":0},null,{"$f":"IF(OR($B110=\"\"),0,IF($B110=BW110,20,0))","v":0},null,{"$f":"IF(OR($B110=\"\"),0,IF($B110=BY110,20,0))","v":0},null,{"$f":"IF(OR($B110=\"\"),0,IF($B110=CA110,20,0))","v":0},null,{"$f":"IF(OR($B110=\"\"),0,IF($B110=CC110,20,0))","v":0},null,{"$f":"IF(OR($B110=\"\"),0,IF($B110=CE110,20,0))","v":0},null,{"$f":"IF(OR($B110=\"\"),0,IF($B110=CG110,20,0))","v":0},null,{"$f":"IF(OR($B110=\"\"),0,IF($B110=CI110,20,0))","v":0},null,{"$f":"IF(OR($B110=\"\"),0,IF($B110=CK110,20,0))","v":0},null,{"$f":"IF(OR($B110=\"\"),0,IF($B110=CM110,20,0))","v":0},null,{"$f":"IF(OR($B110=\"\"),0,IF($B110=CO110,20,0))","v":0},null,{"$f":"IF(OR($B110=\"\"),0,IF($B110=CQ110,20,0))","v":0},null,{"$f":"IF(OR($B110=\"\"),0,IF($B110=CS110,20,0))","v":0},null,{"$f":"IF(OR($B110=\"\"),0,IF($B110=CU110,20,0))","v":0},null,{"$f":"IF(OR($B110=\"\"),0,IF($B110=CW110,20,0))","v":0},null,{"$f":"IF(OR($B110=\"\"),0,IF($B110=CY110,20,0))","v":0}]
[4,"Usbekistan",null,null,"DR Kongo",{"$f":"IF(OR($B111=\"\"),0,IF($B111=E111,20,0))","v":0},"Usbekistan",{"$f":"IF(OR($B111=\"\"),0,IF($B111=G111,20,0))","v":20},"DR Kongo",{"$f":"IF(OR($B111=\"\"),0,IF($B111=I111,20,0))","v":0},"DR Kongo",{"$f":"IF(OR($B111=\"\"),0,IF($B111=K111,20,0))","v":0},"Usbekistan",{"$f":"IF(OR($B111=\"\"),0,IF($B111=M111,20,0))","v":20},"Usbekistan",{"$f":"IF(OR($B111=\"\"),0,IF($B111=O111,20,0))","v":20},"Usbekistan",{"$f":"IF(OR($B111=\"\"),0,IF($B111=Q111,20,0))","v":20},"Usbekistan",{"$f":"IF(OR($B111=\"\"),0,IF($B111=S111,20,0))","v":20},"Usbekistan",{"$f":"IF(OR($B111=\"\"),0,IF($B111=U111,20,0))","v":20},"Usbekistan",{"$f":"IF(OR($B111=\"\"),0,IF($B111=W111,20,0))","v":20},"Usbekistan",{"$f":"IF(OR($B111=\"\"),0,IF($B111=Y111,20,0))","v":20},"DR Kongo",{"$f":"IF(OR($B111=\"\"),0,IF($B111=AA111,20,0))","v":0},"DR Kongo",{"$f":"IF(OR($B111=\"\"),0,IF($B111=AC111,20,0))","v":0},"DR Kongo",{"$f":"IF(OR($B111=\"\"),0,IF($B111=AE111,20,0))","v":0},"DR Kongo",{"$f":"IF(OR($B111=\"\"),0,IF($B111=AG111,20,0))","v":0},"Usbekistan",{"$f":"IF(OR($B111=\"\"),0,IF($B111=AI111,20,0))","v":20},"Usbekistan",{"$f":"IF(OR($B111=\"\"),0,IF($B111=AK111,20,0))","v":20},"Usbekistan",{"$f":"IF(OR($B111=\"\"),0,IF($B111=AM111,20,0))","v":20},"Usbekistan",{"$f":"IF(OR($B111=\"\"),0,IF($B111=AO111,20,0))","v":20},"Usbekistan",{"$f":"IF(OR($B111=\"\"),0,IF($B111=AQ111,20,0))","v":20},"DR Kongo",{"$f":"IF(OR($B111=\"\"),0,IF($B111=AS111,20,0))","v":0},"Usbekistan",{"$f":"IF(OR($B111=\"\"),0,IF($B111=AU111,20,0))","v":20},"Usbekistan",{"$f":"IF(OR($B111=\"\"),0,IF($B111=AW111,20,0))","v":20},"Usbekistan",{"$f":"IF(OR($B111=\"\"),0,IF($B111=AY111,20,0))","v":20},"Usbekistan",{"$f":"IF(OR($B111=\"\"),0,IF($B111=BA111,20,0))","v":20},"Usbekistan",{"$f":"IF(OR($B111=\"\"),0,IF($B111=BC111,20,0))","v":20},"Usbekistan",{"$f":"IF(OR($B111=\"\"),0,IF($B111=BE111,20,0))","v":20},"Usbekistan",{"$f":"IF(OR($B111=\"\"),0,IF($B111=BG111,20,0))","v":20},"Usbekistan",{"$f":"IF(OR($B111=\"\"),0,IF($B111=BI111,20,0))","v":20},"Usbekistan",{"$f":"IF(OR($B111=\"\"),0,IF($B111=BK111,20,0))","v":20},"Usbekistan",{"$f":"IF(OR($B111=\"\"),0,IF($B111=BM111,20,0))","v":20},"Usbekistan",{"$f":"IF(OR($B111=\"\"),0,IF($B111=BO111,20,0))","v":20},"Usbekistan",{"$f":"IF(OR($B111=\"\"),0,IF($B111=BQ111,20,0))","v":20},"Usbekistan",{"$f":"IF(OR($B111=\"\"),0,IF($B111=BS111,20,0))","v":20},null,{"$f":"IF(OR($B111=\"\"),0,IF($B111=BU111,20,0))","v":0},null,{"$f":"IF(OR($B111=\"\"),0,IF($B111=BW111,20,0))","v":0},null,{"$f":"IF(OR($B111=\"\"),0,IF($B111=BY111,20,0))","v":0},null,{"$f":"IF(OR($B111=\"\"),0,IF($B111=CA111,20,0))","v":0},null,{"$f":"IF(OR($B111=\"\"),0,IF($B111=CC111,20,0))","v":0},null,{"$f":"IF(OR($B111=\"\"),0,IF($B111=CE111,20,0))","v":0},null,{"$f":"IF(OR($B111=\"\"),0,IF($B111=CG111,20,0))","v":0},null,{"$f":"IF(OR($B111=\"\"),0,IF($B111=CI111,20,0))","v":0},null,{"$f":"IF(OR($B111=\"\"),0,IF($B111=CK111,20,0))","v":0},null,{"$f":"IF(OR($B111=\"\"),0,IF($B111=CM111,20,0))","v":0},null,{"$f":"IF(OR($B111=\"\"),0,IF($B111=CO111,20,0))","v":0},null,{"$f":"IF(OR($B111=\"\"),0,IF($B111=CQ111,20,0))","v":0},null,{"$f":"IF(OR($B111=\"\"),0,IF($B111=CS111,20,0))","v":0},null,{"$f":"IF(OR($B111=\"\"),0,IF($B111=CU111,20,0))","v":0},null,{"$f":"IF(OR($B111=\"\"),0,IF($B111=CW111,20,0))","v":0},null,{"$f":"IF(OR($B111=\"\"),0,IF($B111=CY111,20,0))","v":0}]
[1,"England","Gruppe L",null,"England","-","England","-","England","-","England","-","Kroatien","-","Kroatien","-","Kroatien","-","England","-","England","-","England","-","England","-","England","-","England","-","England","-","England","-","England","-","England","-","England","-","England","-","England","-","England","-","England","-","Kroatien","-","England","-","England","-","England","-","England","-","England","-","England","-","England","-","England","-","Kroatien","-","England","-","England","-",null,"-",null,"-",null,"-",null,"-",null,"-",null,"-",null,"-",null,"-",null,"-",null,"-",null,"-",null,"-",null,"-",null,"-",null,"-",null,"-"]
[2,"Kroatien",null,null,"Kroatien","-","Kroatien","-","Ghana","-","Kroatien","-","England","-","England","-","England","-","Kroatien","-","Kroatien","-","Ghana","-","Ghana","-","Kroatien","-","Kroatien","-","Kroatien","-","Kroatien","-","Kroatien","-","Ghana","-","Kroatien","-","Kroatien","-","Kroatien","-","Ghana","-","Kroatien","-","Ghana","-","Kroatien","-","Kroatien","-","Kroatien","-","Kroatien","-","Kroatien","-","Kroatien","-","Kroatien","-","Kroatien","-","England","-","Kroatien","-","Kroatien","-",null,"-",null,"-",null,"-",null,"-",null,"-",null,"-",null,"-",null,"-",null,"-",null,"-",null,"-",null,"-",null,"-",null,"-",null,"-",null,"-"]
[3,"Ghana",null,null,"Panama",{"$f":"IF(OR($B114=\"\"),0,IF($B114=E114,20,0))","v":0},"Ghana",{"$f":"IF(OR($B114=\"\"),0,IF($B114=G114,20,0))","v":20},"Panama",{"$f":"IF(OR($B114=\"\"),0,IF($B114=I114,20,0))","v":0},"Panama",{"$f":"IF(OR($B114=\"\"),0,IF($B114=K114,20,0))","v":0},"Panama",{"$f":"IF(OR($B114=\"\"),0,IF($B114=M114,20,0))","v":0},"Ghana",{"$f":"IF(OR($B114=\"\"),0,IF($B114=O114,20,0))","v":20},"Ghana",{"$f":"IF(OR($B114=\"\"),0,IF($B114=Q114,20,0))","v":20},"Ghana",{"$f":"IF(OR($B114=\"\"),0,IF($B114=S114,20,0))","v":20},"Ghana",{"$f":"IF(OR($B114=\"\"),0,IF($B114=U114,20,0))","v":20},"Kroatien",{"$f":"IF(OR($B114=\"\"),0,IF($B114=W114,20,0))","v":0},"Kroatien",{"$f":"IF(OR($B114=\"\"),0,IF($B114=Y114,20,0))","v":0},"Panama",{"$f":"IF(OR($B114=\"\"),0,IF($B114=AA114,20,0))","v":0},"Ghana",{"$f":"IF(OR($B114=\"\"),0,IF($B114=AC114,20,0))","v":20},"Panama",{"$f":"IF(OR($B114=\"\"),0,IF($B114=AE114,20,0))","v":0},"Ghana",{"$f":"IF(OR($B114=\"\"),0,IF($B114=AG114,20,0))","v":20},"Ghana",{"$f":"IF(OR($B114=\"\"),0,IF($B114=AI114,20,0))","v":20},"Kroatien",{"$f":"IF(OR($B114=\"\"),0,IF($B114=AK114,20,0))","v":0},"Panama",{"$f":"IF(OR($B114=\"\"),0,IF($B114=AM114,20,0))","v":0},"Panama",{"$f":"IF(OR($B114=\"\"),0,IF($B114=AO114,20,0))","v":0},"Panama",{"$f":"IF(OR($B114=\"\"),0,IF($B114=AQ114,20,0))","v":0},"Kroatien",{"$f":"IF(OR($B114=\"\"),0,IF($B114=AS114,20,0))","v":0},"Ghana",{"$f":"IF(OR($B114=\"\"),0,IF($B114=AU114,20,0))","v":20},"England",{"$f":"IF(OR($B114=\"\"),0,IF($B114=AW114,20,0))","v":0},"Ghana",{"$f":"IF(OR($B114=\"\"),0,IF($B114=AY114,20,0))","v":20},"Ghana",{"$f":"IF(OR($B114=\"\"),0,IF($B114=BA114,20,0))","v":20},"Ghana",{"$f":"IF(OR($B114=\"\"),0,IF($B114=BC114,20,0))","v":20},"Ghana",{"$f":"IF(OR($B114=\"\"),0,IF($B114=BE114,20,0))","v":20},"Ghana",{"$f":"IF(OR($B114=\"\"),0,IF($B114=BG114,20,0))","v":20},"Ghana",{"$f":"IF(OR($B114=\"\"),0,IF($B114=BI114,20,0))","v":20},"Ghana",{"$f":"IF(OR($B114=\"\"),0,IF($B114=BK114,20,0))","v":20},"Ghana",{"$f":"IF(OR($B114=\"\"),0,IF($B114=BM114,20,0))","v":20},"Panama",{"$f":"IF(OR($B114=\"\"),0,IF($B114=BO114,20,0))","v":0},"Ghana",{"$f":"IF(OR($B114=\"\"),0,IF($B114=BQ114,20,0))","v":20},"Panama",{"$f":"IF(OR($B114=\"\"),0,IF($B114=BS114,20,0))","v":0},null,{"$f":"IF(OR($B114=\"\"),0,IF($B114=BU114,20,0))","v":0},null,{"$f":"IF(OR($B114=\"\"),0,IF($B114=BW114,20,0))","v":0},null,{"$f":"IF(OR($B114=\"\"),0,IF($B114=BY114,20,0))","v":0},null,{"$f":"IF(OR($B114=\"\"),0,IF($B114=CA114,20,0))","v":0},null,{"$f":"IF(OR($B114=\"\"),0,IF($B114=CC114,20,0))","v":0},null,{"$f":"IF(OR($B114=\"\"),0,IF($B114=CE114,20,0))","v":0},null,{"$f":"IF(OR($B114=\"\"),0,IF($B114=CG114,20,0))","v":0},null,{"$f":"IF(OR($B114=\"\"),0,IF($B114=CI114,20,0))","v":0},null,{"$f":"IF(OR($B114=\"\"),0,IF($B114=CK114,20,0))","v":0},null,{"$f":"IF(OR($B114=\"\"),0,IF($B114=CM114,20,0))","v":0},null,{"$f":"IF(OR($B114=\"\"),0,IF($B114=CO114,20,0))","v":0},null,{"$f":"IF(OR($B114=\"\"),0,IF($B114=CQ114,20,0))","v":0},null,{"$f":"IF(OR($B114=\"\"),0,IF($B114=CS114,20,0))","v":0},null,{"$f":"IF(OR($B114=\"\"),0,IF($B114=CU114,20,0))","v":0},null,{"$f":"IF(OR($B114=\"\"),0,IF($B114=CW114,20,0))","v":0},null,{"$f":"IF(OR($B114=\"\"),0,IF($B114=CY114,20,0))","v":0}]
[4,"Panama",null,null,"Ghana",{"$f":"IF(OR($B115=\"\"),0,IF($B115=E115,20,0))","v":0},"Panama",{"$f":"IF(OR($B115=\"\"),0,IF($B115=G115,20,0))","v":20},"Kroatien",{"$f":"IF(OR($B115=\"\"),0,IF($B115=I115,20,0))","v":0},"Ghana",{"$f":"IF(OR($B115=\"\"),0,IF($B115=K115,20,0))","v":0},"Ghana",{"$f":"IF(OR($B115=\"\"),0,IF($B115=M115,20,0))","v":0},"Panama",{"$f":"IF(OR($B115=\"\"),0,IF($B115=O115,20,0))","v":20},"Panama",{"$f":"IF(OR($B115=\"\"),0,IF($B115=Q115,20,0))","v":20},"Panama",{"$f":"IF(OR($B115=\"\"),0,IF($B115=S115,20,0))","v":20},"Panama",{"$f":"IF(OR($B115=\"\"),0,IF($B115=U115,20,0))","v":20},"Panama",{"$f":"IF(OR($B115=\"\"),0,IF($B115=W115,20,0))","v":20},"Panama",{"$f":"IF(OR($B115=\"\"),0,IF($B115=Y115,20,0))","v":20},"Ghana",{"$f":"IF(OR($B115=\"\"),0,IF($B115=AA115,20,0))","v":0},"Panama",{"$f":"IF(OR($B115=\"\"),0,IF($B115=AC115,20,0))","v":20},"Ghana",{"$f":"IF(OR($B115=\"\"),0,IF($B115=AE115,20,0))","v":0},"Panama",{"$f":"IF(OR($B115=\"\"),0,IF($B115=AG115,20,0))","v":20},"Panama",{"$f":"IF(OR($B115=\"\"),0,IF($B115=AI115,20,0))","v":20},"Panama",{"$f":"IF(OR($B115=\"\"),0,IF($B115=AK115,20,0))","v":20},"Ghana",{"$f":"IF(OR($B115=\"\"),0,IF($B115=AM115,20,0))","v":0},"Ghana",{"$f":"IF(OR($B115=\"\"),0,IF($B115=AO115,20,0))","v":0},"Ghana",{"$f":"IF(OR($B115=\"\"),0,IF($B115=AQ115,20,0))","v":0},"Panama",{"$f":"IF(OR($B115=\"\"),0,IF($B115=AS115,20,0))","v":20},"Panama",{"$f":"IF(OR($B115=\"\"),0,IF($B115=AU115,20,0))","v":20},"Panama",{"$f":"IF(OR($B115=\"\"),0,IF($B115=AW115,20,0))","v":20},"Panama",{"$f":"IF(OR($B115=\"\"),0,IF($B115=AY115,20,0))","v":20},"Panama",{"$f":"IF(OR($B115=\"\"),0,IF($B115=BA115,20,0))","v":20},"Panama",{"$f":"IF(OR($B115=\"\"),0,IF($B115=BC115,20,0))","v":20},"Panama",{"$f":"IF(OR($B115=\"\"),0,IF($B115=BE115,20,0))","v":20},"Panama",{"$f":"IF(OR($B115=\"\"),0,IF($B115=BG115,20,0))","v":20},"Panama",{"$f":"IF(OR($B115=\"\"),0,IF($B115=BI115,20,0))","v":20},"Panama",{"$f":"IF(OR($B115=\"\"),0,IF($B115=BK115,20,0))","v":20},"Panama",{"$f":"IF(OR($B115=\"\"),0,IF($B115=BM115,20,0))","v":20},"Ghana",{"$f":"IF(OR($B115=\"\"),0,IF($B115=BO115,20,0))","v":0},"Panama",{"$f":"IF(OR($B115=\"\"),0,IF($B115=BQ115,20,0))","v":20},"Ghana",{"$f":"IF(OR($B115=\"\"),0,IF($B115=BS115,20,0))","v":0},null,{"$f":"IF(OR($B115=\"\"),0,IF($B115=BU115,20,0))","v":0},null,{"$f":"IF(OR($B115=\"\"),0,IF($B115=BW115,20,0))","v":0},null,{"$f":"IF(OR($B115=\"\"),0,IF($B115=BY115,20,0))","v":0},null,{"$f":"IF(OR($B115=\"\"),0,IF($B115=CA115,20,0))","v":0},null,{"$f":"IF(OR($B115=\"\"),0,IF($B115=CC115,20,0))","v":0},null,{"$f":"IF(OR($B115=\"\"),0,IF($B115=CE115,20,0))","v":0},null,{"$f":"IF(OR($B115=\"\"),0,IF($B115=CG115,20,0))","v":0},null,{"$f":"IF(OR($B115=\"\"),0,IF($B115=CI115,20,0))","v":0},null,{"$f":"IF(OR($B115=\"\"),0,IF($B115=CK115,20,0))","v":0},null,{"$f":"IF(OR($B115=\"\"),0,IF($B115=CM115,20,0))","v":0},null,{"$f":"IF(OR($B115=\"\"),0,IF($B115=CO115,20,0))","v":0},null,{"$f":"IF(OR($B115=\"\"),0,IF($B115=CQ115,20,0))","v":0},null,{"$f":"IF(OR($B115=\"\"),0,IF($B115=CS115,20,0))","v":0},null,{"$f":"IF(OR($B115=\"\"),0,IF($B115=CU115,20,0))","v":0},null,{"$f":"IF(OR($B115=\"\"),0,IF($B115=CW115,20,0))","v":0},null,{"$f":"IF(OR($B115=\"\"),0,IF($B115=CY115,20,0))","v":0}]
[null,null,"Gesamtpunktzahl:",null,{"$f":"Teilnehmerliste!$C56","v":"Mack"},{"$f":"SUM(F68:F115)","v":240},{"$f":"Teilnehmerliste!$C57","v":"Marini"},{"$f":"SUM(H68:H115)","v":300},{"$f":"Teilnehmerliste!$C58","v":"Marthaler"},{"$f":"SUM(J68:J115)","v":220},{"$f":"Teilnehmerliste!$C59","v":"Marthaler"},{"$f":"SUM(L68:L115)","v":140},{"$f":"Teilnehmerliste!$C60","v":"Marty"},{"$f":"SUM(N68:N115)","v":180},{"$f":"Teilnehmerliste!$C61","v":"Merkli"},{"$f":"SUM(P68:P115)","v":300},{"$f":"Teilnehmerliste!$C62","v":"Meyer"},{"$f":"SUM(R68:R115)","v":300},{"$f":"Teilnehmerliste!$C63","v":"Oliveira"},{"$f":"SUM(T68:T115)","v":280},{"$f":"Teilnehmerliste!$C64","v":"Oroshi"},{"$f":"SUM(V68:V115)","v":300},{"$f":"Teilnehmerliste!$C65","v":"Pek"},{"$f":"SUM(X68:X115)","v":280},{"$f":"Teilnehmerliste!$C66","v":"Principe"},{"$f":"SUM(Z68:Z115)","v":300},{"$f":"Teilnehmerliste!$C67","v":"Prucha"},{"$f":"SUM(AB68:AB115)","v":280},{"$f":"Teilnehmerliste!$C68","v":"Rauscher"},{"$f":"SUM(AD68:AD115)","v":200},{"$f":"Teilnehmerliste!$C69","v":"Rohner"},{"$f":"SUM(AF68:AF115)","v":240},{"$f":"Teilnehmerliste!$C70","v":"Rüdemann"},{"$f":"SUM(AH68:AH115)","v":240},{"$f":"Teilnehmerliste!$C71","v":"Rüegg"},{"$f":"SUM(AJ68:AJ115)","v":360},{"$f":"Teilnehmerliste!$C72","v":"Rüegg"},{"$f":"SUM(AL68:AL115)","v":260},{"$f":"Teilnehmerliste!$C73","v":"Rüegg"},{"$f":"SUM(AN68:AN115)","v":300},{"$f":"Teilnehmerliste!$C74","v":"Schawalder"},{"$f":"SUM(AP68:AP115)","v":220},{"$f":"Teilnehmerliste!$C75","v":"Schenk"},{"$f":"SUM(AR68:AR115)","v":260},{"$f":"Teilnehmerliste!$C76","v":"Schilliger"},{"$f":"SUM(AT68:AT115)","v":300},{"$f":"Teilnehmerliste!$C77","v":"Schommarz"},{"$f":"SUM(AV68:AV115)","v":340},{"$f":"Teilnehmerliste!$C78","v":"Schuster"},{"$f":"SUM(AX68:AX115)","v":240},{"$f":"Teilnehmerliste!$C79","v":"Silva"},{"$f":"SUM(AZ68:AZ115)","v":360},{"$f":"Teilnehmerliste!$C80","v":"Silvestri"},{"$f":"SUM(BB68:BB115)","v":380},{"$f":"Teilnehmerliste!$C81","v":"Thormann"},{"$f":"SUM(BD68:BD115)","v":380},{"$f":"Teilnehmerliste!$C82","v":"Treichler"},{"$f":"SUM(BF68:BF115)","v":300},{"$f":"Teilnehmerliste!$C83","v":"Treichler"},{"$f":"SUM(BH68:BH115)","v":320},{"$f":"Teilnehmerliste!$C84","v":"Wälti"},{"$f":"SUM(BJ68:BJ115)","v":320},{"$f":"Teilnehmerliste!$C85","v":"Wagner"},{"$f":"SUM(BL68:BL115)","v":320},{"$f":"Teilnehmerliste!$C86","v":"Walthard"},{"$f":"SUM(BN68:BN115)","v":200},{"$f":"Teilnehmerliste!$C87","v":"Wang"},{"$f":"SUM(BP68:BP115)","v":180},{"$f":"Teilnehmerliste!$C88","v":"Wullschleger"},{"$f":"SUM(BR68:BR115)","v":380},{"$f":"Teilnehmerliste!$C89","v":"Zachmann"},{"$f":"SUM(BT68:BT115)","v":240},{"$f":"Teilnehmerliste!$C90","v":0},{"$f":"SUM(BV68:BV115)","v":0},{"$f":"Teilnehmerliste!$C91","v":0},{"$f":"SUM(BX68:BX115)","v":0},{"$f":"Teilnehmerliste!$C92","v":0},{"$f":"SUM(BZ68:BZ115)","v":0},{"$f":"Teilnehmerliste!$C93","v":0},{"$f":"SUM(CB68:CB115)","v":0},{"$f":"Teilnehmerliste!$C94","v":0},{"$f":"SUM(CD68:CD115)","v":0},{"$f":"Teilnehmerliste!$C95","v":0},{"$f":"SUM(CF68:CF115)","v":0},{"$f":"Teilnehmerliste!$C96","v":0},{"$f":"SUM(CH68:CH115)","v":0},{"$f":"Teilnehmerliste!$C97","v":0},{"$f":"SUM(CJ68:CJ115)","v":0},{"$f":"Teilnehmerliste!$C98","v":0},{"$f":"SUM(CL68:CL115)","v":0},{"$f":"Teilnehmerliste!$C99","v":0},{"$f":"SUM(CN68:CN115)","v":0},{"$f":"Teilnehmerliste!$C100","v":0},{"$f":"SUM(CP68:CP115)","v":0},{"$f":"Teilnehmerliste!$C101","v":0},{"$f":"SUM(CR68:CR115)","v":0},{"$f":"Teilnehmerliste!$C102","v":0},{"$f":"SUM(CT68:CT115)","v":0},{"$f":"Teilnehmerliste!$C103","v":0},{"$f":"SUM(CV68:CV115)","v":0},{"$f":"Teilnehmerliste!$C104","v":0},{"$f":"SUM(CX68:CX115)","v":0},{"$f":"Teilnehmerliste!$C105","v":0},{"$f":"SUM(CZ68:CZ115)","v":0}]

{"sheet":"Finalrunde","index":4,"n_rows":250,"n_cols":153,"rows_kept":250,"cut":false,"hidden":false,"merged":[[198,0,198,2],[249,48,249,50],[249,55,249,57],[249,62,249,64],[249,69,249,71],[249,20,249,22],[249,27,249,29],[249,34,249,36],[249,132,249,134],[202,0,202,1],[208,34,208,35],[208,37,208,38],[249,41,249,43],[208,41,208,42],[208,20,208,21],[208,23,208,24],[208,27,208,28],[248,0,248,2],[249,13,249,15],[208,58,208,59],[208,100,208,101],[208,104,208,105],[208,107,208,108],[208,111,208,112],[249,139,249,141],[249,146,249,148],[249,104,249,106],[249,111,249,113],[249,118,249,120],[249,125,249,127],[249,76,249,78],[249,83,249,85],[249,90,249,92],[249,97,249,99],[208,86,208,87],[208,90,208,91],[208,93,208,94],[208,16,208,17],[208,5,208,6],[208,9,208,10],[208,13,208,14],[208,30,208,31],[208,142,208,143],[208,62,208,63],[208,65,208,66],[208,69,208,70],[208,44,208,45],[208,48,208,49],[208,51,208,52],[208,55,208,56],[208,97,208,98],[208,72,208,73],[208,76,208,77],[208,79,208,80],[208,146,208,147],[208,128,208,129],[208,132,208,133],[208,135,208,136],[208,139,208,140],[208,114,208,115],[208,118,208,119],[208,121,208,122],[208,125,208,126],[199,13,199,15],[199,20,199,22],[208,83,208,84],[2,0,2,1],[199,132,199,134],[199,69,199,71],[199,76,199,78],[199,83,199,85],[199,90,199,92],[8,5,8,6],[8,9,8,10],[8,13,8,14],[8,27,8,28],[52,0,52,1],[49,20,49,22],[49,27,49,29],[8,16,8,17],[8,20,8,21],[8,23,8,24],[49,13,49,15],[8,100,8,101],[8,104,8,105],[49,97,49,99],[8,76,8,77],[8,30,8,31],[8,34,8,35],[8,37,8,38],[8,41,8,42],[49,48,49,50],[8,51,8,52],[8,55,8,56],[49,55,49,57],[49,34,49,36],[8,44,8,45],[49,41,49,43],[8,48,8,49],[199,139,199,141],[199,146,199,148],[199,97,199,99],[199,104,199,106],[199,111,199,113],[199,118,199,120],[8,58,8,59],[49,111,49,113],[8,146,8,147],[49,146,49,148],[8,135,8,136],[8,128,8,129],[8,132,8,133],[8,139,8,140],[199,125,199,127],[49,83,49,85],[8,86,8,87],[8,93,8,94],[8,72,8,73],[49,76,49,78],[8,79,8,80],[8,83,8,84],[58,146,58,147],[58,93,58,94],[199,41,199,43],[199,48,199,50],[199,55,199,57],[199,62,199,64],[8,62,8,63],[49,62,49,64],[8,65,8,66],[8,69,8,70],[49,69,49,71],[158,58,158,59],[58,97,58,98],[58,76,58,77],[58,79,58,80],[58,83,58,84],[58,62,58,63],[58,65,58,66],[102,0,102,1],[98,0,98,2],[58,37,58,38],[58,69,58,70],[99,83,99,85],[99,90,99,92],[58,86,58,87],[58,90,58,91],[99,62,99,64],[99,69,99,71],[99,76,99,78],[58,72,58,73],[58,27,58,28],[58,30,58,31],[58,44,58,45],[99,118,99,120],[49,139,49,141],[58,128,58,129],[58,132,58,133],[58,135,58,136],[58,118,58,119],[58,121,58,122],[58,125,58,126],[58,111,58,112],[99,125,99,127],[99,132,99,134],[99,139,99,141],[8,142,8,143],[49,132,49,134],[58,139,58,140],[58,114,58,115],[8,114,8,115],[8,118,8,119],[49,118,49,120],[8,121,8,122],[8,125,8,126],[49,125,49,127],[58,142,58,143],[8,107,8,108],[8,111,8,112],[158,9,158,10],[158,13,158,14],[158,16,158,17],[158,20,158,21],[158,23,158,24],[58,58,58,59],[99,111,99,113],[58,100,58,101],[58,104,58,105],[58,107,58,108],[149,62,149,64],[149,69,149,71],[149,76,149,78],[158,93,158,94],[158,97,158,98],[158,86,158,87],[158,90,158,91],[58,41,58,42],[49,104,49,106],[8,90,8,91],[49,90,49,92],[8,97,8,98],[108,5,108,6],[108,9,108,10],[108,13,108,14],[108,16,108,17],[108,20,108,21],[58,34,58,35],[58,5,58,6],[148,0,148,2],[152,0,152,1],[108,30,108,31],[108,34,108,35],[149,13,149,15],[149,20,149,22],[149,27,149,29],[149,34,149,36],[58,13,58,14],[58,20,58,21],[99,13,99,15],[99,20,99,22],[58,16,58,17],[158,5,158,6],[58,48,58,49],[58,51,58,52],[58,55,58,56],[99,34,99,36],[99,41,99,43],[99,48,99,50],[58,23,58,24],[58,9,58,10],[99,55,99,57],[149,41,149,43],[149,48,149,50],[149,55,149,57],[158,27,158,28],[158,30,158,31],[158,34,158,35],[158,37,158,38],[158,41,158,42],[158,44,158,45],[158,48,158,49],[158,51,158,52],[158,55,158,56],[108,23,108,24],[108,27,108,28],[108,37,108,38],[108,41,108,42],[108,72,108,73],[99,27,99,29],[99,97,99,99],[99,104,99,106],[108,83,108,84],[108,86,108,87],[108,90,108,91],[108,93,108,94],[108,97,108,98],[108,100,108,101],[99,146,99,148],[108,44,108,45],[108,48,108,49],[108,51,108,52],[108,55,108,56],[108,58,108,59],[108,62,108,63],[108,65,108,66],[108,69,108,70],[108,76,108,77],[108,79,108,80],[108,104,108,105],[108,107,108,108],[108,111,108,112],[108,114,108,115],[108,118,108,119],[108,121,108,122],[108,125,108,126],[108,128,108,129],[108,132,108,133],[108,135,108,136],[108,139,108,140],[108,142,108,143],[108,146,108,147],[149,83,149,85],[149,90,149,92],[149,97,149,99],[149,104,149,106],[149,111,149,113],[149,118,149,120],[149,125,149,127],[149,132,149,134],[149,139,149,141],[149,146,149,148],[158,142,158,143],[158,146,158,147],[199,27,199,29],[199,34,199,36],[158,121,158,122],[158,125,158,126],[158,128,158,129],[158,132,158,133],[158,135,158,136],[158,139,158,140],[158,100,158,101],[158,104,158,105],[158,107,158,108],[158,111,158,112],[158,114,158,115],[158,62,158,63],[158,65,158,66],[158,69,158,70],[158,72,158,73],[158,76,158,77],[158,118,158,119],[158,79,158,80],[158,83,158,84]]}
[{"$f":"Teams!$B$54","v":"WM 2026 by Rogerinho (www.fcbouncer.ch)"}]
[]
["Finalrunde",null,null,"Spieler 1 - 20"]
["Pro richtige Mannschaft:",null,null,null,null,null,null,null,null,{"$f":"Teilnehmerliste!$B6","v":"Panos"},null,null,null,null,null,null,{"$f":"Teilnehmerliste!$B7","v":"Yiannis"},null,null,null,null,null,null,{"$f":"Teilnehmerliste!$B8","v":"Ambra"},null,null,null,null,null,null,{"$f":"Teilnehmerliste!$B9","v":"Marco"},null,null,null,null,null,null,{"$f":"Teilnehmerliste!$B10","v":"Ruben"},null,null,null,null,null,null,{"$f":"Teilnehmerliste!$B11","v":"Peter"},null,null,null,null,null,null,{"$f":"Teilnehmerliste!$B12","v":"André"},null,null,null,null,null,null,{"$f":"Teilnehmerliste!$B13","v":"Aya"},null,null,null,null,null,null,{"$f":"Teilnehmerliste!$B14","v":"Philippe"},null,null,null,null,null,null,{"$f":"Teilnehmerliste!$B15","v":"Roger"},null,null,null,null,null,null,{"$f":"Teilnehmerliste!$B16","v":"Mara"},null,null,null,null,null,null,{"$f":"Teilnehmerliste!$B17","v":"Pongsapat Nott"},null,null,null,null,null,null,{"$f":"Teilnehmerliste!$B18","v":"Michael"},null,null,null,null,null,null,{"$f":"Teilnehmerliste!$B19","v":"Manfred"},null,null,null,null,null,null,{"$f":"Teilnehmerliste!$B20","v":"Manuel"},null,null,null,null,null,null,{"$f":"Teilnehmerliste!$B21","v":"Nicolas"},null,null,null,null,null,null,{"$f":"Teilnehmerliste!$B22","v":"Philip"},null,null,null,null,null,null,{"$f":"Teilnehmerliste!$B23","v":"André"},null,null,null,null,null,null,{"$f":"Teilnehmerliste!$B24","v":"Oli"},null,null,null,null,null,null,{"$f":"Teilnehmerliste!$B25","v":"Javier"},null,null,null,null,null,null,null,"Extrapunkte",null,"Extrapunkte (alle)"]
["... am richtigen Ort: 1/16= 10, 1/8=20, 1/4=30, 1/2=40, 3Pl.=50, Finale=60",null,null,null,null,null,null,null,null,{"$f":"Teilnehmerliste!$C6","v":"Agorastos"},null,null,null,null,null,null,{"$f":"Teilnehmerliste!$C7","v":"Agorastos"},null,null,null,null,null,null,{"$f":"Teilnehmerliste!$C8","v":"Antonelli"},null,null,null,null,null,null,{"$f":"Teilnehmerliste!$C9","v":"Antonelli"},null,null,null,null,null,null,{"$f":"Teilnehmerliste!$C10","v":"Antonelli"},null,null,null,null,null,null,{"$f":"Teilnehmerliste!$C11","v":"Balazs"},null,null,null,null,null,null,{"$f":"Teilnehmerliste!$C12","v":"Bartholet"},null,null,null,null,null,null,{"$f":"Teilnehmerliste!$C13","v":"Bartholet"},null,null,null,null,null,null,{"$f":"Teilnehmerliste!$C14","v":"Bartholet"},null,null,null,null,null,null,{"$f":"Teilnehmerliste!$C15","v":"Bartholet"},null,null,null,null,null,null,{"$f":"Teilnehmerliste!$C16","v":"Beck"},null,null,null,null,null,null,{"$f":"Teilnehmerliste!$C17","v":"Boonaek"},null,null,null,null,null,null,{"$f":"Teilnehmerliste!$C18","v":"Bosshart"},null,null,null,null,null,null,{"$f":"Teilnehmerliste!$C19","v":"Brunner"},null,null,null,null,null,null,{"$f":"Teilnehmerliste!$C20","v":"Brunner"},null,null,null,null,null,null,{"$f":"Teilnehmerliste!$C21","v":"Brunner"},null,null,null,null,null,null,{"$f":"Teilnehmerliste!$C22","v":"Brunner"},null,null,null,null,null,null,{"$f":"Teilnehmerliste!$C23","v":"Burkart"},null,null,null,null,null,null,{"$f":"Teilnehmerliste!$C24","v":"Christiansen"},null,null,null,null,null,null,{"$f":"Teilnehmerliste!$C25","v":"Cruz"},null,null,null,null,null,null,null,"Finalrunde",null,"Finalrunde"]
["... im x-Finale: 1/16=20, 1/8=40, 1/4=80, 1/2=100, 3Pl.=100, Finale=120",null,null,null,null,null,null,null,null,null,null,null,null,null,null,{"$f":"Teilnehmerliste!$A6","v":1},null,null,null,null,null,null,{"$f":"Teilnehmerliste!$A7","v":2},null,null,null,null,null,null,{"$f":"Teilnehmerliste!$A8","v":3},null,null,null,null,null,null,{"$f":"Teilnehmerliste!$A9","v":4},null,null,null,null,null,null,{"$f":"Teilnehmerliste!$A10","v":5},null,null,null,null,null,null,{"$f":"Teilnehmerliste!$A11","v":6},null,null,null,null,null,null,{"$f":"Teilnehmerliste!$A12","v":7},null,null,null,null,null,null,{"$f":"Teilnehmerliste!$A13","v":8},null,null,null,null,null,null,{"$f":"Teilnehmerliste!$A14","v":9},null,null,null,null,null,null,{"$f":"Teilnehmerliste!$A15","v":10},null,null,null,null,null,null,{"$f":"Teilnehmerliste!$A16","v":11},null,null,null,null,null,null,{"$f":"Teilnehmerliste!$A17","v":12},null,null,null,null,null,null,{"$f":"Teilnehmerliste!$A18","v":13},null,null,null,null,null,null,{"$f":"Teilnehmerliste!$A19","v":14},null,null,null,null,null,null,{"$f":"Teilnehmerliste!$A20","v":15},null,null,null,null,null,null,{"$f":"Teilnehmerliste!$A21","v":16},null,null,null,null,null,null,{"$f":"Teilnehmerliste!$A22","v":17},null,null,null,null,null,null,{"$f":"Teilnehmerliste!$A23","v":18},null,null,null,null,null,null,{"$f":"Teilnehmerliste!$A24","v":19},null,null,null,null,null,null,{"$f":"Teilnehmerliste!$A25","v":20}]
["Richtiges Resultat: 1/16=30, 1/8=50, 1/4=70, 1/2=100, 3Pl.=150, Finale=200"]
["Richtiger Weltmeister = 350"]
["Datum","Zeit","Nr.","Spiel",null,"Resultat"]
["Sechzehntelfinale",null,null,null,null,null,null,null,null,"Tipp",null,null,null,"Pkt",null,null,"Tipp",null,null,null,"Pkt",null,null,"Tipp",null,null,null,"Pkt",null,null,"Tipp",null,null,null,"Pkt",null,null,"Tipp",null,null,null,"Pkt",null,null,"Tipp",null,null,null,"Pkt",null,null,"Tipp",null,null,null,"Pkt",null,null,"Tipp",null,null,null,"Pkt",null,null,"Tipp",null,null,null,"Pkt",null,null,"Tipp",null,null,null,"Pkt",null,null,"Tipp",null,null,null,"Pkt",null,null,"Tipp",null,null,null,"Pkt",null,null,"Tipp",null,null,null,"Pkt",null,null,"Tipp",null,null,null,"Pkt",null,null,"Tipp",null,null,null,"Pkt",null,null,"Tipp",null,null,null,"Pkt",null,null,"Tipp",null,null,null,"Pkt",null,null,"Tipp",null,null,null,"Pkt",null,null,"Tipp",null,null,null,"Pkt",null,null,"Tipp",null,null,null,"Pkt"]
["So. 28. Jun","21:00:00",73,"Südafrika","Kanada",0,1,null,null,"Südkorea",1,2,"Bosnien-Herz.",{"$f":"IF(OR(J11=\"\",M11=\"\"),0,IF(AND(J11=$D11,M11=$E11),20,IF(J11=$D11,10,IF(M11=$E11,10,IF(AND(J11<>$D11,M11<>$E11),0)))))","v":0},{"$f":"IF(COUNTIF($D$11:$E$26,M11),20,0)+IF(COUNTIF($D$11:$E$26,J11),20,0)","v":20},{"$f":"IF(OR(J11=\"\",M11=\"\"),0,IF(AND(J11=$D11,M11=$E11,K11=$F11,L11=$G11),30,0))","v":0},"Südkorea",1,2,"Bosnien-Herz.",{"$f":"IF(OR(Q11=\"\",T11=\"\"),0,IF(AND(Q11=$D11,T11=$E11),20,IF(Q11=$D11,10,IF(T11=$E11,10,IF(AND(Q11<>$D11,T11<>$E11),0)))))","v":0},{"$f":"IF(COUNTIF($D$11:$E$26,T11),20,0)+IF(COUNTIF($D$11:$E$26,Q11),20,0)","v":20},{"$f":"IF(OR(Q11=\"\",T11=\"\"),0,IF(AND(Q11=$D11,T11=$E11,R11=$F11,S11=$G11),30,0))","v":0},"Südafrika",4,2,"Bosnien-Herz.",{"$f":"IF(OR(X11=\"\",AA11=\"\"),0,IF(AND(X11=$D11,AA11=$E11),20,IF(X11=$D11,10,IF(AA11=$E11,10,IF(AND(X11<>$D11,AA11<>$E11),0)))))","v":10},{"$f":"IF(COUNTIF($D$11:$E$26,AA11),20,0)+IF(COUNTIF($D$11:$E$26,X11),20,0)","v":40},{"$f":"IF(OR(X11=\"\",AA11=\"\"),0,IF(AND(X11=$D11,AA11=$E11,Y11=$F11,Z11=$G11),30,0))","v":0},"Mexiko",2,1,"Bosnien-Herz.",{"$f":"IF(OR(AE11=\"\",AH11=\"\"),0,IF(AND(AE11=$D11,AH11=$E11),20,IF(AE11=$D11,10,IF(AH11=$E11,10,IF(AND(AE11<>$D11,AH11<>$E11),0)))))","v":0},{"$f":"IF(COUNTIF($D$11:$E$26,AH11),20,0)+IF(COUNTIF($D$11:$E$26,AE11),20,0)","v":40},{"$f":"IF(OR(AE11=\"\",AH11=\"\"),0,IF(AND(AE11=$D11,AH11=$E11,AF11=$F11,AG11=$G11),30,0))","v":0},"Tschechien",1,2,"Kanada",{"$f":"IF(OR(AL11=\"\",AO11=\"\"),0,IF(AND(AL11=$D11,AO11=$E11),20,IF(AL11=$D11,10,IF(AO11=$E11,10,IF(AND(AL11<>$D11,AO11<>$E11),0)))))","v":10},{"$f":"IF(COUNTIF($D$11:$E$26,AO11),20,0)+IF(COUNTIF($D$11:$E$26,AL11),20,0)","v":20},{"$f":"IF(OR(AL11=\"\",AO11=\"\"),0,IF(AND(AL11=$D11,AO11=$E11,AM11=$F11,AN11=$G11),30,0))","v":0},"Südkorea",2,1,"Kanada",{"$f":"IF(OR(AS11=\"\",AV11=\"\"),0,IF(AND(AS11=$D11,AV11=$E11),20,IF(AS11=$D11,10,IF(AV11=$E11,10,IF(AND(AS11<>$D11,AV11<>$E11),0)))))","v":10},{"$f":"IF(COUNTIF($D$11:$E$26,AV11),20,0)+IF(COUNTIF($D$11:$E$26,AS11),20,0)","v":20},{"$f":"IF(OR(AS11=\"\",AV11=\"\"),0,IF(AND(AS11=$D11,AV11=$E11,AT11=$F11,AU11=$G11),30,0))","v":0},"Tschechien",0,1,"Kanada",{"$f":"IF(OR(AZ11=\"\",BC11=\"\"),0,IF(AND(AZ11=$D11,BC11=$E11),20,IF(AZ11=$D11,10,IF(BC11=$E11,10,IF(AND(AZ11<>$D11,BC11<>$E11),0)))))","v":10},{"$f":"IF(COUNTIF($D$11:$E$26,BC11),20,0)+IF(COUNTIF($D$11:$E$26,AZ11),20,0)","v":20},{"$f":"IF(OR(AZ11=\"\",BC11=\"\"),0,IF(AND(AZ11=$D11,BC11=$E11,BA11=$F11,BB11=$G11),30,0))","v":0},"Südafrika",1,2,"Kanada",{"$f":"IF(OR(BG11=\"\",BJ11=\"\"),0,IF(AND(BG11=$D11,BJ11=$E11),20,IF(BG11=$D11,10,IF(BJ11=$E11,10,IF(AND(BG11<>$D11,BJ11<>$E11),0)))))","v":20},{"$f":"IF(COUNTIF($D$11:$E$26,BJ11),20,0)+IF(COUNTIF($D$11:$E$26,BG11),20,0)","v":40},{"$f":"IF(OR(BG11=\"\",BJ11=\"\"),0,IF(AND(BG11=$D11,BJ11=$E11,BH11=$F11,BI11=$G11),30,0))","v":0},"Mexiko",1,0,"Kanada",{"$f":"IF(OR(BN11=\"\",BQ11=\"\"),0,IF(AND(BN11=$D11,BQ11=$E11),20,IF(BN11=$D11,10,IF(BQ11=$E11,10,IF(AND(BN11<>$D11,BQ11<>$E11),0)))))","v":10},{"$f":"IF(COUNTIF($D$11:$E$26,BQ11),20,0)+IF(COUNTIF($D$11:$E$26,BN11),20,0)","v":40},{"$f":"IF(OR(BN11=\"\",BQ11=\"\"),0,IF(AND(BN11=$D11,BQ11=$E11,BO11=$F11,BP11=$G11),30,0))","v":0},"Südafrika",0,1,"Kanada",{"$f":"IF(OR(BU11=\"\",BX11=\"\"),0,IF(AND(BU11=$D11,BX11=$E11),20,IF(BU11=$D11,10,IF(BX11=$E11,10,IF(AND(BU11<>$D11,BX11<>$E11),0)))))","v":20},{"$f":"IF(COUNTIF($D$11:$E$26,BX11),20,0)+IF(COUNTIF($D$11:$E$26,BU11),20,0)","v":40},{"$f":"IF(OR(BU11=\"\",BX11=\"\"),0,IF(AND(BU11=$D11,BX11=$E11,BV11=$F11,BW11=$G11),30,0))","v":30},"Südkorea",1,2,"Kanada",{"$f":"IF(OR(CB11=\"\",CE11=\"\"),0,IF(AND(CB11=$D11,CE11=$E11),20,IF(CB11=$D11,10,IF(CE11=$E11,10,IF(AND(CB11<>$D11,CE11<>$E11),0)))))","v":10},{"$f":"IF(COUNTIF($D$11:$E$26,CE11),20,0)+IF(COUNTIF($D$11:$E$26,CB11),20,0)","v":20},{"$f":"IF(OR(CB11=\"\",CE11=\"\"),0,IF(AND(CB11=$D11,CE11=$E11,CC11=$F11,CD11=$G11),30,0))","v":0},"Mexiko",2,1,"Kanada",{"$f":"IF(OR(CI11=\"\",CL11=\"\"),0,IF(AND(CI11=$D11,CL11=$E11),20,IF(CI11=$D11,10,IF(CL11=$E11,10,IF(AND(CI11<>$D11,CL11<>$E11),0)))))","v":10},{"$f":"IF(COUNTIF($D$11:$E$26,CL11),20,0)+IF(COUNTIF($D$11:$E$26,CI11),20,0)","v":40},{"$f":"IF(OR(CI11=\"\",CL11=\"\"),0,IF(AND(CI11=$D11,CL11=$E11,CJ11=$F11,CK11=$G11),30,0))","v":0},"Südkorea",1,2,"Kanada",{"$f":"IF(OR(CP11=\"\",CS11=\"\"),0,IF(AND(CP11=$D11,CS11=$E11),20,IF(CP11=$D11,10,IF(CS11=$E11,10,IF(AND(CP11<>$D11,CS11<>$E11),0)))))","v":10},{"$f":"IF(COUNTIF($D$11:$E$26,CS11),20,0)+IF(COUNTIF($D$11:$E$26,CP11),20,0)","v":20},{"$f":"IF(OR(CP11=\"\",CS11=\"\"),0,IF(AND(CP11=$D11,CS11=$E11,CQ11=$F11,CR11=$G11),30,0))","v":0},"Südkorea",2,1,"Bosnien-Herz.",{"$f":"IF(OR(CW11=\"\",CZ11=\"\"),0,IF(AND(CW11=$D11,CZ11=$E11),20,IF(CW11=$D11,10,IF(CZ11=$E11,10,IF(AND(CW11<>$D11,CZ11<>$E11),0)))))","v":0},{"$f":"IF(COUNTIF($D$11:$E$26,CZ11),20,0)+IF(COUNTIF($D$11:$E$26,CW11),20,0)","v":20},{"$f":"IF(OR(CW11=\"\",CZ11=\"\"),0,IF(AND(CW11=$D11,CZ11=$E11,CX11=$F11,CY11=$G11),30,0))","v":0},"Südkorea",1,2,"Bosnien-Herz.",{"$f":"IF(OR(DD11=\"\",DG11=\"\"),0,IF(AND(DD11=$D11,DG11=$E11),20,IF(DD11=$D11,10,IF(DG11=$E11,10,IF(AND(DD11<>$D11,DG11<>$E11),0)))))","v":0},{"$f":"IF(COUNTIF($D$11:$E$26,DG11),20,0)+IF(COUNTIF($D$11:$E$26,DD11),20,0)","v":20},{"$f":"IF(OR(DD11=\"\",DG11=\"\"),0,IF(AND(DD11=$D11,DG11=$E11,DE11=$F11,DF11=$G11),30,0))","v":0},"Südkorea",2,1,"Bosnien-Herz.",{"$f":"IF(OR(DK11=\"\",DN11=\"\"),0,IF(AND(DK11=$D11,DN11=$E11),20,IF(DK11=$D11,10,IF(DN11=$E11,10,IF(AND(DK11<>$D11,DN11<>$E11),0)))))","v":0},{"$f":"IF(COUNTIF($D$11:$E$26,DN11),20,0)+IF(COUNTIF($D$11:$E$26,DK11),20,0)","v":20},{"$f":"IF(OR(DK11=\"\",DN11=\"\"),0,IF(AND(DK11=$D11,DN11=$E11,DL11=$F11,DM11=$G11),30,0))","v":0},"Tschechien",1,2,"Bosnien-Herz.",{"$f":"IF(OR(DR11=\"\",DU11=\"\"),0,IF(AND(DR11=$D11,DU11=$E11),20,IF(DR11=$D11,10,IF(DU11=$E11,10,IF(AND(DR11<>$D11,DU11<>$E11),0)))))","v":0},{"$f":"IF(COUNTIF($D$11:$E$26,DU11),20,0)+IF(COUNTIF($D$11:$E$26,DR11),20,0)","v":20},{"$f":"IF(OR(DR11=\"\",DU11=\"\"),0,IF(AND(DR11=$D11,DU11=$E11,DS11=$F11,DT11=$G11),30,0))","v":0},"Mexiko",1,0,"Bosnien-Herz.",{"$f":"IF(OR(DY11=\"\",EB11=\"\"),0,IF(AND(DY11=$D11,EB11=$E11),20,IF(DY11=$D11,10,IF(EB11=$E11,10,IF(AND(DY11<>$D11,EB11<>$E11),0)))))","v":0},{"$f":"IF(COUNTIF($D$11:$E$26,EB11),20,0)+IF(COUNTIF($D$11:$E$26,DY11),20,0)","v":40},{"$f":"IF(OR(DY11=\"\",EB11=\"\"),0,IF(AND(DY11=$D11,EB11=$E11,DZ11=$F11,EA11=$G11),30,0))","v":0},"Mexiko",2,1,"Kanada",{"$f":"IF(OR(EF11=\"\",EI11=\"\"),0,IF(AND(EF11=$D11,EI11=$E11),20,IF(EF11=$D11,10,IF(EI11=$E11,10,IF(AND(EF11<>$D11,EI11<>$E11),0)))))","v":10},{"$f":"IF(COUNTIF($D$11:$E$26,EI11),20,0)+IF(COUNTIF($D$11:$E$26,EF11),20,0)","v":40},{"$f":"IF(OR(EF11=\"\",EI11=\"\"),0,IF(AND(EF11=$D11,EI11=$E11,EG11=$F11,EH11=$G11),30,0))","v":0},"Tschechien",1,0,"Bosnien-Herz.",{"$f":"IF(OR(EM11=\"\",EP11=\"\"),0,IF(AND(EM11=$D11,EP11=$E11),20,IF(EM11=$D11,10,IF(EP11=$E11,10,IF(AND(EM11<>$D11,EP11<>$E11),0)))))","v":0},{"$f":"IF(COUNTIF($D$11:$E$26,EP11),20,0)+IF(COUNTIF($D$11:$E$26,EM11),20,0)","v":20},{"$f":"IF(OR(EM11=\"\",EP11=\"\"),0,IF(AND(EM11=$D11,EP11=$E11,EN11=$F11,EO11=$G11),30,0))","v":0},null,{"$f":"_xlfn.TEXTJOIN(\", \",TRUE,_xlfn._xlws.FILTER(INDEX($J$4:$EM$4,1,_xlfn.SEQUENCE(1,(COLUMNS($J$4:$EM$4)-1)/7+1,1,7))&\" \"&INDEX($J$5:$EM$5,1,_xlfn.SEQUENCE(1,(COLUMNS($J$5:$EM$5)-1)/7+1,1,7)),INDEX($P11:$ES11,1,_xlfn.SEQUENCE(1,(COLUMNS($P11:$ES11)-1)/7+1,1,7))>0,\"\"))","v":"Roger Bartholet"},null,{"$f":"_xlfn.TEXTJOIN(\", \",,EU11,EU61,EU111,EU161,EU211)","v":"Roger Bartholet"}]
["Mo. 29. Jun","22:30:00",74,"Deutschland","Paraguay",3,4,null,null,"Deutschland",2,1,"Schottland",{"$f":"IF(OR(J12=\"\",M12=\"\"),0,IF(AND(J12=$D12,M12=$E12),20,IF(J12=$D12,10,IF(M12=$E12,10,IF(AND(J12<>$D12,M12<>$E12),0)))))","v":10},{"$f":"IF(COUNTIF($D$11:$E$26,M12),20,0)+IF(COUNTIF($D$11:$E$26,J12),20,0)","v":20},{"$f":"IF(OR(J12=\"\",M12=\"\"),0,IF(AND(J12=$D12,M12=$E12,K12=$F12,L12=$G12),30,0))","v":0},"Deutschland",2,1,"Schottland",{"$f":"IF(OR(Q12=\"\",T12=\"\"),0,IF(AND(Q12=$D12,T12=$E12),20,IF(Q12=$D12,10,IF(T12=$E12,10,IF(AND(Q12<>$D12,T12<>$E12),0)))))","v":10},{"$f":"IF(COUNTIF($D$11:$E$26,T12),20,0)+IF(COUNTIF($D$11:$E$26,Q12),20,0)","v":20},{"$f":"IF(OR(Q12=\"\",T12=\"\"),0,IF(AND(Q12=$D12,T12=$E12,R12=$F12,S12=$G12),30,0))","v":0},"Deutschland",3,1,"Schottland",{"$f":"IF(OR(X12=\"\",AA12=\"\"),0,IF(AND(X12=$D12,AA12=$E12),20,IF(X12=$D12,10,IF(AA12=$E12,10,IF(AND(X12<>$D12,AA12<>$E12),0)))))","v":10},{"$f":"IF(COUNTIF($D$11:$E$26,AA12),20,0)+IF(COUNTIF($D$11:$E$26,X12),20,0)","v":20},{"$f":"IF(OR(X12=\"\",AA12=\"\"),0,IF(AND(X12=$D12,AA12=$E12,Y12=$F12,Z12=$G12),30,0))","v":0},"Deutschland",3,1,"Schottland",{"$f":"IF(OR(AE12=\"\",AH12=\"\"),0,IF(AND(AE12=$D12,AH12=$E12),20,IF(AE12=$D12,10,IF(AH12=$E12,10,IF(AND(AE12<>$D12,AH12<>$E12),0)))))","v":10},{"$f":"IF(COUNTIF($D$11:$E$26,AH12),20,0)+IF(COUNTIF($D$11:$E$26,AE12),20,0)","v":20},{"$f":"IF(OR(AE12=\"\",AH12=\"\"),0,IF(AND(AE12=$D12,AH12=$E12,AF12=$F12,AG12=$G12),30,0))","v":0},"Deutschland",4,1,"Schottland",{"$f":"IF(OR(AL12=\"\",AO12=\"\"),0,IF(AND(AL12=$D12,AO12=$E12),20,IF(AL12=$D12,10,IF(AO12=$E12,10,IF(AND(AL12<>$D12,AO12<>$E12),0)))))","v":10},{"$f":"IF(COUNTIF($D$11:$E$26,AO12),20,0)+IF(COUNTIF($D$11:$E$26,AL12),20,0)","v":20},{"$f":"IF(OR(AL12=\"\",AO12=\"\"),0,IF(AND(AL12=$D12,AO12=$E12,AM12=$F12,AN12=$G12),30,0))","v":0},"Deutschland",1,0,"Schottland",{"$f":"IF(OR(AS12=\"\",AV12=\"\"),0,IF(AND(AS12=$D12,AV12=$E12),20,IF(AS12=$D12,10,IF(AV12=$E12,10,IF(AND(AS12<>$D12,AV12<>$E12),0)))))","v":10},{"$f":"IF(COUNTIF($D$11:$E$26,AV12),20,0)+IF(COUNTIF($D$11:$E$26,AS12),20,0)","v":20},{"$f":"IF(OR(AS12=\"\",AV12=\"\"),0,IF(AND(AS12=$D12,AV12=$E12,AT12=$F12,AU12=$G12),30,0))","v":0},"Deutschland",3,0,"Schottland",{"$f":"IF(OR(AZ12=\"\",BC12=\"\"),0,IF(AND(AZ12=$D12,BC12=$E12),20,IF(AZ12=$D12,10,IF(BC12=$E12,10,IF(AND(AZ12<>$D12,BC12<>$E12),0)))))","v":10},{"$f":"IF(COUNTIF($D$11:$E$26,BC12),20,0)+IF(COUNTIF($D$11:$E$26,AZ12),20,0)","v":20},{"$f":"IF(OR(AZ12=\"\",BC12=\"\"),0,IF(AND(AZ12=$D12,BC12=$E12,BA12=$F12,BB12=$G12),30,0))","v":0},"Deutschland",2,0,"Haiti",{"$f":"IF(OR(BG12=\"\",BJ12=\"\"),0,IF(AND(BG12=$D12,BJ12=$E12),20,IF(BG12=$D12,10,IF(BJ12=$E12,10,IF(AND(BG12<>$D12,BJ12<>$E12),0)))))","v":10},{"$f":"IF(COUNTIF($D$11:$E$26,BJ12),20,0)+IF(COUNTIF($D$11:$E$26,BG12),20,0)","v":20},{"$f":"IF(OR(BG12=\"\",BJ12=\"\"),0,IF(AND(BG12=$D12,BJ12=$E12,BH12=$F12,BI12=$G12),30,0))","v":0},"Deutschland",2,1,"Paraguay",{"$f":"IF(OR(BN12=\"\",BQ12=\"\"),0,IF(AND(BN12=$D12,BQ12=$E12),20,IF(BN12=$D12,10,IF(BQ12=$E12,10,IF(AND(BN12<>$D12,BQ12<>$E12),0)))))","v":20},{"$f":"IF(COUNTIF($D$11:$E$26,BQ12),20,0)+IF(COUNTIF($D$11:$E$26,BN12),20,0)","v":40},{"$f":"IF(OR(BN12=\"\",BQ12=\"\"),0,IF(AND(BN12=$D12,BQ12=$E12,BO12=$F12,BP12=$G12),30,0))","v":0},"Ecuador",2,1,"Paraguay",{"$f":"IF(OR(BU12=\"\",BX12=\"\"),0,IF(AND(BU12=$D12,BX12=$E12),20,IF(BU12=$D12,10,IF(BX12=$E12,10,IF(AND(BU12<>$D12,BX12<>$E12),0)))))","v":10},{"$f":"IF(COUNTIF($D$11:$E$26,BX12),20,0)+IF(COUNTIF($D$11:$E$26,BU12),20,0)","v":40},{"$f":"IF(OR(BU12=\"\",BX12=\"\"),0,IF(AND(BU12=$D12,BX12=$E12,BV12=$F12,BW12=$G12),30,0))","v":0},"Deutschland",3,0,"Schottland",{"$f":"IF(OR(CB12=\"\",CE12=\"\"),0,IF(AND(CB12=$D12,CE12=$E12),20,IF(CB12=$D12,10,IF(CE12=$E12,10,IF(AND(CB12<>$D12,CE12<>$E12),0)))))","v":10},{"$f":"IF(COUNTIF($D$11:$E$26,CE12),20,0)+IF(COUNTIF($D$11:$E$26,CB12),20,0)","v":20},{"$f":"IF(OR(CB12=\"\",CE12=\"\"),0,IF(AND(CB12=$D12,CE12=$E12,CC12=$F12,CD12=$G12),30,0))","v":0},"Deutschland",3,1,"Australien",{"$f":"IF(OR(CI12=\"\",CL12=\"\"),0,IF(AND(CI12=$D12,CL12=$E12),20,IF(CI12=$D12,10,IF(CL12=$E12,10,IF(AND(CI12<>$D12,CL12<>$E12),0)))))","v":10},{"$f":"IF(COUNTIF($D$11:$E$26,CL12),20,0)+IF(COUNTIF($D$11:$E$26,CI12),20,0)","v":40},{"$f":"IF(OR(CI12=\"\",CL12=\"\"),0,IF(AND(CI12=$D12,CL12=$E12,CJ12=$F12,CK12=$G12),30,0))","v":0},"Deutschland",2,0,"Australien",{"$f":"IF(OR(CP12=\"\",CS12=\"\"),0,IF(AND(CP12=$D12,CS12=$E12),20,IF(CP12=$D12,10,IF(CS12=$E12,10,IF(AND(CP12<>$D12,CS12<>$E12),0)))))","v":10},{"$f":"IF(COUNTIF($D$11:$E$26,CS12),20,0)+IF(COUNTIF($D$11:$E$26,CP12),20,0)","v":40},{"$f":"IF(OR(CP12=\"\",CS12=\"\"),0,IF(AND(CP12=$D12,CS12=$E12,CQ12=$F12,CR12=$G12),30,0))","v":0},"Deutschland",3,1,"Schottland",{"$f":"IF(OR(CW12=\"\",CZ12=\"\"),0,IF(AND(CW12=$D12,CZ12=$E12),20,IF(CW12=$D12,10,IF(CZ12=$E12,10,IF(AND(CW12<>$D12,CZ12<>$E12),0)))))","v":10},{"$f":"IF(COUNTIF($D$11:$E$26,CZ12),20,0)+IF(COUNTIF($D$11:$E$26,CW12),20,0)","v":20},{"$f":"IF(OR(CW12=\"\",CZ12=\"\"),0,IF(AND(CW12=$D12,CZ12=$E12,CX12=$F12,CY12=$G12),30,0))","v":0},"Deutschland",3,1,"Schottland",{"$f":"IF(OR(DD12=\"\",DG12=\"\"),0,IF(AND(DD12=$D12,DG12=$E12),20,IF(DD12=$D12,10,IF(DG12=$E12,10,IF(AND(DD12<>$D12,DG12<>$E12),0)))))","v":10},{"$f":"IF(COUNTIF($D$11:$E$26,DG12),20,0)+IF(COUNTIF($D$11:$E$26,DD12),20,0)","v":20},{"$f":"IF(OR(DD12=\"\",DG12=\"\"),0,IF(AND(DD12=$D12,DG12=$E12,DE12=$F12,DF12=$G12),30,0))","v":0},"Deutschland",4,1,"Schottland",{"$f":"IF(OR(DK12=\"\",DN12=\"\"),0,IF(AND(DK12=$D12,DN12=$E12),20,IF(DK12=$D12,10,IF(DN12=$E12,10,IF(AND(DK12<>$D12,DN12<>$E12),0)))))","v":10},{"$f":"IF(COUNTIF($D$11:$E$26,DN12),20,0)+IF(COUNTIF($D$11:$E$26,DK12),20,0)","v":20},{"$f":"IF(OR(DK12=\"\",DN12=\"\"),0,IF(AND(DK12=$D12,DN12=$E12,DL12=$F12,DM12=$G12),30,0))","v":0},"Deutschland",3,1,"Paraguay",{"$f":"IF(OR(DR12=\"\",DU12=\"\"),0,IF(AND(DR12=$D12,DU12=$E12),20,IF(DR12=$D12,10,IF(DU12=$E12,10,IF(AND(DR12<>$D12,DU12<>$E12),0)))))","v":20},{"$f":"IF(COUNTIF($D$11:$E$26,DU12),20,0)+IF(COUNTIF($D$11:$E$26,DR12),20,0)","v":40},{"$f":"IF(OR(DR12=\"\",DU12=\"\"),0,IF(AND(DR12=$D12,DU12=$E12,DS12=$F12,DT12=$G12),30,0))","v":0},"Deutschland",1,0,"Australien",{"$f":"IF(OR(DY12=\"\",EB12=\"\"),0,IF(AND(DY12=$D12,EB12=$E12),20,IF(DY12=$D12,10,IF(EB12=$E12,10,IF(AND(DY12<>$D12,EB12<>$E12),0)))))","v":10},{"$f":"IF(COUNTIF($D$11:$E$26,EB12),20,0)+IF(COUNTIF($D$11:$E$26,DY12),20,0)","v":40},{"$f":"IF(OR(DY12=\"\",EB12=\"\"),0,IF(AND(DY12=$D12,EB12=$E12,DZ12=$F12,EA12=$G12),30,0))","v":0},"Deutschland",3,1,"Schottland",{"$f":"IF(OR(EF12=\"\",EI12=\"\"),0,IF(AND(EF12=$D12,EI12=$E12),20,IF(EF12=$D12,10,IF(EI12=$E12,10,IF(AND(EF12<>$D12,EI12<>$E12),0)))))","v":10},{"$f":"IF(COUNTIF($D$11:$E$26,EI12),20,0)+IF(COUNTIF($D$11:$E$26,EF12),20,0)","v":20},{"$f":"IF(OR(EF12=\"\",EI12=\"\"),0,IF(AND(EF12=$D12,EI12=$E12,EG12=$F12,EH12=$G12),30,0))","v":0},"Deutschland",2,0,"Schottland",{"$f":"IF(OR(EM12=\"\",EP12=\"\"),0,IF(AND(EM12=$D12,EP12=$E12),20,IF(EM12=$D12,10,IF(EP12=$E12,10,IF(AND(EM12<>$D12,EP12<>$E12),0)))))","v":10},{"$f":"IF(COUNTIF($D$11:$E$26,EP12),20,0)+IF(COUNTIF($D$11:$E$26,EM12),20,0)","v":20},{"$f":"IF(OR(EM12=\"\",EP12=\"\"),0,IF(AND(EM12=$D12,EP12=$E12,EN12=$F12,EO12=$G12),30,0))","v":0},null,{"$f":"_xlfn.TEXTJOIN(\", \",TRUE,_xlfn._xlws.FILTER(INDEX($J$4:$EM$4,1,_xlfn.SEQUENCE(1,(COLUMNS($J$4:$EM$4)-1)/7+1,1,7))&\" \"&INDEX($J$5:$EM$5,1,_xlfn.SEQUENCE(1,(COLUMNS($J$5:$EM$5)-1)/7+1,1,7)),INDEX($P12:$ES12,1,_xlfn.SEQUENCE(1,(COLUMNS($P12:$ES12)-1)/7+1,1,7))>0,\"\"))","v":""},null,{"$f":"_xlfn.TEXTJOIN(\", \",,EU12,EU62,EU112,EU162,EU212)","v":""}]
["Di. 30. Jun","03:00:00",75,"Holland","Marokko",2,3,null,null,"Holland",2,1,"Marokko",20,40,0,"Holland",2,1,"Marokko",20,40,0,"Tunesien",1,2,"Marokko",10,20,0,"Holland",4,5,"Marokko",20,40,0,"Holland",3,5,"Marokko",20,40,0,"Holland",2,1,"Marokko",20,40,0,"Holland",1,0,"Marokko",20,40,0,"Holland",2,0,"Schottland",10,20,0,"Holland",2,0,"Marokko",20,40,0,"Holland",2,0,"Schottland",10,20,0,"Holland",2,1,"Marokko",20,40,0,"Holland",1,0,"Marokko",20,40,0,"Holland",1,0,"Marokko",20,40,0,"Holland",1,2,"Marokko",20,40,0,"Schweden",2,3,"Marokko",10,40,0,"Schweden",2,4,"Marokko",10,40,0,"Japan",1,2,"Marokko",10,40,0,"Holland",1,0,"Marokko",20,40,0,"Holland",2,1,"Marokko",20,40,0,"Holland",2,3,"Brasilien",10,40,0,null,{"$f":"_xlfn.TEXTJOIN(\", \",TRUE,_xlfn._xlws.FILTER(INDEX($J$4:$EM$4,1,_xlfn.SEQUENCE(1,(COLUMNS($J$4:$EM$4)-1)/7+1,1,7))&\" \"&INDEX($J$5:$EM$5,1,_xlfn.SEQUENCE(1,(COLUMNS($J$5:$EM$5)-1)/7+1,1,7)),INDEX($P13:$ES13,1,_xlfn.SEQUENCE(1,(COLUMNS($P13:$ES13)-1)/7+1,1,7))>0,\"\"))","v":""},null,"André Lanz, Yannick Schilliger"]
["Mo. 29. Jun","19:00:00",76,"Brasilien","Japan",2,1,null,null,"Brasilien",2,1,"Japan",20,40,30,"Brasilien",2,1,"Schweden",10,40,0,"Brasilien",3,2,"Japan",20,40,0,"Brasilien",2,0,"Tunesien",10,20,0,"Brasilien",3,0,"Japan",20,40,0,"Brasilien",2,1,"Japan",20,40,30,"Brasilien",2,1,"Japan",20,40,30,"Brasilien",3,1,"Schweden",10,40,0,"Brasilien",2,1,"Schweden",10,40,0,"Brasilien",4,1,"Schweden",10,40,0,"Brasilien",3,1,"Schweden",10,40,0,"Brasilien",1,2,"Japan",20,40,0,"Brasilien",2,1,"Japan",20,40,30,"Brasilien",3,5,"Japan",20,40,0,"Brasilien",3,0,"Holland",10,40,0,"Brasilien",3,1,"Holland",10,40,0,"Brasilien",2,0,"Schweden",10,40,0,"Brasilien",1,0,"Schweden",10,40,0,"Brasilien",1,0,"Japan",20,40,0,"Marokko",1,0,"Japan",10,40,0,null,{"$f":"_xlfn.TEXTJOIN(\", \",TRUE,_xlfn._xlws.FILTER(INDEX($J$4:$EM$4,1,_xlfn.SEQUENCE(1,(COLUMNS($J$4:$EM$4)-1)/7+1,1,7))&\" \"&INDEX($J$5:$EM$5,1,_xlfn.SEQUENCE(1,(COLUMNS($J$5:$EM$5)-1)/7+1,1,7)),INDEX($P14:$ES14,1,_xlfn.SEQUENCE(1,(COLUMNS($P14:$ES14)-1)/7+1,1,7))>0,\"\"))","v":"Panos Agorastos, Peter Balazs, André Bartholet, Michael Bosshart"},null,"Panos Agorastos, Peter Balazs, André Bartholet, Michael Bosshart, Rafael Derungs, Armin Duvnjak, Dino Duvnjak, Andreas Isenschmid, Michael Isenschmid, Tanja Kistler, Michael Prucha, Martin Schawalder, Markus Wagner, Stefan Wullschleger"]
["Di. 30. Jun","23:00:00",77,"Frankreich","Schweden",3,0,null,null,"Frankreich",2,1,"Schweden",20,40,0,"Frankreich",2,1,"USA",10,40,0,"Frankreich",3,1,"Schweden",20,40,0,"Frankreich",3,1,"Schweden",20,40,0,"Frankreich",3,1,"Schweden",20,40,0,"Frankreich",2,0,"Iran",10,20,0,"Norwegen",1,0,"Tunesien",0,20,0,"Frankreich",3,1,"Türkei",10,20,0,"Frankreich",2,0,"Japan",10,40,0,"Frankreich",3,0,"Tunesien",10,20,0,"Frankreich",3,0,"Japan",10,40,0,"Frankreich",2,0,"Schweden",20,40,0,"Frankreich",2,0,"Schweden",20,40,0,"Frankreich",3,1,"Schweden",20,40,0,"Frankreich",4,0,"Japan",10,40,0,"Frankreich",4,0,"Japan",10,40,0,"Frankreich",2,1,"Holland",10,40,0,"Frankreich",2,0,"Japan",10,40,0,"Frankreich",1,0,"Tunesien",10,20,0,"Frankreich",2,0,"Tunesien",10,20,0,null,{"$f":"_xlfn.TEXTJOIN(\", \",TRUE,_xlfn._xlws.FILTER(INDEX($J$4:$EM$4,1,_xlfn.SEQUENCE(1,(COLUMNS($J$4:$EM$4)-1)/7+1,1,7))&\" \"&INDEX($J$5:$EM$5,1,_xlfn.SEQUENCE(1,(COLUMNS($J$5:$EM$5)-1)/7+1,1,7)),INDEX($P15:$ES15,1,_xlfn.SEQUENCE(1,(COLUMNS($P15:$ES15)-1)/7+1,1,7))>0,\"\"))","v":""},null,"Leo Rodrigues da Costa, Florian González, Aleandro Silvestri"]
["Di. 30. Jun","19:00:00",78,"Elfenbeinküste","Norwegen",1,2,null,null,"Ecuador",1,2,"Senegal",0,40,0,"Elfenbeinküste",1,2,"Senegal",10,40,0,"Ecuador",2,1,"Norwegen",10,40,0,"Elfenbeinküste",4,5,"Norwegen",20,40,0,"Ecuador",4,2,"Norwegen",10,40,0,"Elfenbeinküste",1,0,"Norwegen",20,40,0,"Ecuador",1,2,"Frankreich",0,40,0,"Ecuador",1,2,"Senegal",0,40,0,"Ecuador",1,0,"Norwegen",10,40,0,"Deutschland",3,2,"Norwegen",10,40,0,"Ecuador",1,2,"Senegal",0,40,0,"Elfenbeinküste",1,3,"Norwegen",20,40,0,"Ecuador",2,0,"Norwegen",10,40,0,"Elfenbeinküste",2,4,"Norwegen",20,40,0,"Ecuador",1,2,"Senegal",0,40,0,"Ecuador",0,2,"Norwegen",10,40,0,"Ecuador",1,2,"Norwegen",10,40,0,"Elfenbeinküste",0,1,"Senegal",10,40,0,"Elfenbeinküste",1,2,"Norwegen",20,40,30,"Elfenbeinküste",1,2,"Norwegen",20,40,30,null,{"$f":"_xlfn.TEXTJOIN(\", \",TRUE,_xlfn._xlws.FILTER(INDEX($J$4:$EM$4,1,_xlfn.SEQUENCE(1,(COLUMNS($J$4:$EM$4)-1)/7+1,1,7))&\" \"&INDEX($J$5:$EM$5,1,_xlfn.SEQUENCE(1,(COLUMNS($J$5:$EM$5)-1)/7+1,1,7)),INDEX($P16:$ES16,1,_xlfn.SEQUENCE(1,(COLUMNS($P16:$ES16)-1)/7+1,1,7))>0,\"\"))","v":"Oli Christiansen, Javier Cruz"},null,"Oli Christiansen, Javier Cruz, Rui Gomes, André Lanz, Lynn Rüegg, Evelyne Schenk, Yannick Schilliger, Armando Thormann"]
["Mi. 01. Jul","03:00:00",79,"Mexiko","Ecuador",2,0,null,null,"Mexiko",2,1,"Elfenbeinküste",10,40,0,"Tschechien",1,2,"Ecuador",10,20,0,"Mexiko",3,0,"Saudi-Arabien",10,20,0,"Tschechien",1,0,"Ecuador",10,20,0,"Mexiko",1,2,"Elfenbeinküste",10,40,0,"Mexiko",1,0,"Ecuador",20,40,0,"Mexiko",2,0,"Saudi-Arabien",10,20,0,"Mexiko",2,1,"Saudi-Arabien",10,20,0,"Tschechien",1,0,"Schottland",0,0,0,"Mexiko",2,1,"Marokko",10,40,0,"Mexiko",2,1,"Uruguay",10,20,0,"Tschechien",2,1,"Schottland",0,0,0,"Mexiko",1,0,"Schottland",10,20,0,"Mexiko",3,1,"Ecuador",20,40,0,"Mexiko",0,2,"Elfenbeinküste",10,40,0,"Mexiko",3,1,"Elfenbeinküste",10,40,0,"Mexiko",2,1,"Schottland",10,20,0,"Südkorea",1,0,"Schottland",0,0,0,"Südkorea",1,0,"Saudi-Arabien",0,0,0,"Mexiko",1,0,"Saudi-Arabien",10,20,0,null,{"$f":"_xlfn.TEXTJOIN(\", \",TRUE,_xlfn._xlws.FILTER(INDEX($J$4:$EM$4,1,_xlfn.SEQUENCE(1,(COLUMNS($J$4:$EM$4)-1)/7+1,1,7))&\" \"&INDEX($J$5:$EM$5,1,_xlfn.SEQUENCE(1,(COLUMNS($J$5:$EM$5)-1)/7+1,1,7)),INDEX($P17:$ES17,1,_xlfn.SEQUENCE(1,(COLUMNS($P17:$ES17)-1)/7+1,1,7))>0,\"\"))","v":""},null,""]
["Mi. 01. Jul","18:00:00",80,"England","DR Kongo",2,1,null,null,"England",2,1,"Algerien",10,40,0,"England",2,1,"Norwegen",10,40,0,"England",2,0,"DR Kongo",20,40,0,"England",6,5,"Senegal",10,40,0,"England",3,2,"Senegal",10,40,0,"Kroatien",1,0,"Senegal",0,40,0,"England",2,0,"Elfenbeinküste",10,40,0,"England",2,0,"Norwegen",10,40,0,"England",2,0,"Elfenbeinküste",10,40,0,"England",3,2,"Senegal",10,40,0,"England",2,1,"Norwegen",10,40,0,"England",2,0,"Senegal",10,40,0,"England",2,0,"Senegal",10,40,0,"Kroatien",2,0,"Irak",0,20,0,"England",3,1,"Usbekistan",10,20,0,"England",4,1,"Senegal",10,40,0,"England",3,0,"DR Kongo",20,40,0,"England",2,1,"Norwegen",10,40,0,"Kroatien",2,0,"Ecuador",0,40,0,"England",2,1,"DR Kongo",20,40,30,null,{"$f":"_xlfn.TEXTJOIN(\", \",TRUE,_xlfn._xlws.FILTER(INDEX($J$4:$EM$4,1,_xlfn.SEQUENCE(1,(COLUMNS($J$4:$EM$4)-1)/7+1,1,7))&\" \"&INDEX($J$5:$EM$5,1,_xlfn.SEQUENCE(1,(COLUMNS($J$5:$EM$5)-1)/7+1,1,7)),INDEX($P18:$ES18,1,_xlfn.SEQUENCE(1,(COLUMNS($P18:$ES18)-1)/7+1,1,7))>0,\"\"))","v":"Javier Cruz"},null,"Javier Cruz"]
["Do. 02. Jul","02:00:00",81,"USA","Bosnien-Herz.",2,0,null,null,"USA",2,1,"Kanada",10,40,0,"Türkei",2,1,"Kanada",0,20,0,"Türkei",4,3,"Kanada",0,20,0,"Türkei",2,1,"Kanada",0,20,0,"Türkei",2,0,"Bosnien-Herz.",10,20,0,"Türkei",1,0,"Bosnien-Herz.",10,20,0,"Türkei",2,0,"Algerien",0,20,0,"Australien",2,0,"Katar",0,20,0,"USA",1,0,"Bosnien-Herz.",20,40,0,"Türkei",1,0,"Bosnien-Herz.",10,20,0,"USA",2,1,"Elfenbeinküste",10,40,0,"Türkei",2,1,"Bosnien-Herz.",10,20,0,"USA",0,1,"Bosnien-Herz.",20,40,0,"Paraguay",1,0,"Kanada",0,40,0,"Türkei",4,1,"Kanada",0,20,0,"Türkei",3,0,"Kanada",0,20,0,"USA",1,2,"Kanada",10,40,0,"USA",1,0,"Ecuador",10,40,0,"Türkei",1,0,"Bosnien-Herz.",10,20,0,"Türkei",0,1,"Senegal",0,20,0,null,{"$f":"_xlfn.TEXTJOIN(\", \",TRUE,_xlfn._xlws.FILTER(INDEX($J$4:$EM$4,1,_xlfn.SEQUENCE(1,(COLUMNS($J$4:$EM$4)-1)/7+1,1,7))&\" \"&INDEX($J$5:$EM$5,1,_xlfn.SEQUENCE(1,(COLUMNS($J$5:$EM$5)-1)/7+1,1,7)),INDEX($P19:$ES19,1,_xlfn.SEQUENCE(1,(COLUMNS($P19:$ES19)-1)/7+1,1,7))>0,\"\"))","v":""},null,"Rafael Derungs, Reto Gygli, Reto Treichler"]
["Mi. 01. Jul","22:00:00",82,"Belgien","Senegal",3,2,null,null,"Belgien",2,1,"Tschechien",10,20,0,"Belgien",2,1,"Mexiko",10,40,0,"Belgien",1,2,"Senegal",20,40,0,"Belgien",3,1,"Saudi-Arabien",10,20,0,"Belgien",2,0,"Saudi-Arabien",10,20,0,"Belgien",2,0,"Tschechien",10,20,0,"Belgien",1,0,"Südkorea",10,20,0,"Belgien",1,0,"Tschechien",10,20,0,"Belgien",2,0,"Südafrika",10,40,0,"Belgien",1,0,"Tschechien",10,20,0,"Belgien",2,1,"Tschechien",10,20,0,"Belgien",2,0,"Südkorea",10,20,0,"Belgien",1,0,"Tschechien",10,20,0,"Iran",0,2,"Algerien",0,20,0,"Belgien",2,1,"Irak",10,20,0,"Belgien",2,0,"Algerien",10,40,0,"Belgien",2,1,"Südkorea",10,20,0,"Belgien",2,0,"Tschechien",10,20,0,"Belgien",2,1,"Tschechien",10,20,0,"Belgien",2,0,"Südkorea",10,20,0,null,{"$f":"_xlfn.TEXTJOIN(\", \",TRUE,_xlfn._xlws.FILTER(INDEX($J$4:$EM$4,1,_xlfn.SEQUENCE(1,(COLUMNS($J$4:$EM$4)-1)/7+1,1,7))&\" \"&INDEX($J$5:$EM$5,1,_xlfn.SEQUENCE(1,(COLUMNS($J$5:$EM$5)-1)/7+1,1,7)),INDEX($P20:$ES20,1,_xlfn.SEQUENCE(1,(COLUMNS($P20:$ES20)-1)/7+1,1,7))>0,\"\"))","v":""},null,""]
["Fr. 03. Jul","01:00:00",83,"Portugal","Kroatien",2,1,null,null,"Kolumbien",1,2,"Kroatien",10,40,0,"Portugal",2,1,"Kroatien",20,40,30,"Kolumbien",5,4,"Panama",0,20,0,"Kolumbien",0,2,"Kroatien",10,40,0,"Kolumbien",1,2,"Kroatien",10,40,0,"Kolumbien",0,1,"England",0,40,0,"Kolumbien",0,1,"Kroatien",10,40,0,"Kolumbien",1,2,"Kroatien",10,40,0,"Kolumbien",0,1,"Kroatien",10,40,0,"Kolumbien",3,1,"Kroatien",10,40,0,"Kolumbien",1,2,"Kroatien",10,40,0,"Kolumbien",1,3,"Kroatien",10,40,0,"Kolumbien",2,0,"Kroatien",10,40,0,"Kolumbien",3,4,"England",0,40,0,"Kolumbien",0,2,"Kroatien",10,40,0,"Kolumbien",0,1,"Kroatien",10,40,0,"Kolumbien",2,1,"Kroatien",10,40,0,"Kolumbien",1,0,"Ghana",0,40,0,"Kolumbien",0,2,"England",0,40,0,"Kolumbien",2,1,"Ghana",0,40,0,null,{"$f":"_xlfn.TEXTJOIN(\", \",TRUE,_xlfn._xlws.FILTER(INDEX($J$4:$EM$4,1,_xlfn.SEQUENCE(1,(COLUMNS($J$4:$EM$4)-1)/7+1,1,7))&\" \"&INDEX($J$5:$EM$5,1,_xlfn.SEQUENCE(1,(COLUMNS($J$5:$EM$5)-1)/7+1,1,7)),INDEX($P21:$ES21,1,_xlfn.SEQUENCE(1,(COLUMNS($P21:$ES21)-1)/7+1,1,7))>0,\"\"))","v":"Yiannis Agorastos"},null,"Yiannis Agorastos, Stefan Gygli, Sabine Rüegg"]
["Do. 02. Jul","21:00:00",84,"Spanien","Österreich",3,0,null,null,"Spanien",2,1,"Österreich",20,40,0,"Spanien",2,1,"Österreich",20,40,0,"Spanien",3,1,"Algerien",10,40,0,"Spanien",3,1,"Algerien",10,40,0,"Spanien",5,4,"Argentinien",10,40,0,"Spanien",2,0,"Österreich",20,40,0,"Spanien",3,1,"Österreich",20,40,0,"Spanien",3,1,"Österreich",20,40,0,"Spanien",2,0,"Österreich",20,40,0,"Spanien",5,2,"Österreich",20,40,0,"Spanien",3,0,"Österreich",20,40,30,"Spanien",3,0,"Österreich",20,40,30,"Spanien",3,1,"Österreich",20,40,0,"Spanien",1,0,"Österreich",20,40,0,"Spanien",3,1,"Österreich",20,40,0,"Spanien",4,1,"Österreich",20,40,0,"Spanien",2,0,"Österreich",20,40,0,"Spanien",2,0,"Österreich",20,40,0,"Spanien",2,1,"Österreich",20,40,0,"Spanien",2,0,"Österreich",20,40,0,null,{"$f":"_xlfn.TEXTJOIN(\", \",TRUE,_xlfn._xlws.FILTER(INDEX($J$4:$EM$4,1,_xlfn.SEQUENCE(1,(COLUMNS($J$4:$EM$4)-1)/7+1,1,7))&\" \"&INDEX($J$5:$EM$5,1,_xlfn.SEQUENCE(1,(COLUMNS($J$5:$EM$5)-1)/7+1,1,7)),INDEX($P22:$ES22,1,_xlfn.SEQUENCE(1,(COLUMNS($P22:$ES22)-1)/7+1,1,7))>0,\"\"))","v":"Mara Beck, Pongsapat Nott Boonaek"},null,"Mara Beck, Pongsapat Nott Boonaek, Leo Rodrigues da Costa, Vinci D'Acunto, Laurent Grosse, Florian Haab, Agnes Isenschmid, Franz Lischer, Telmo Oliveira, Stefan Principe, Michael Rüegg, Sabine Rüegg, Armando Thormann, Jingwen Wang"]
["Fr. 03. Jul","05:00:00",85,"Schweiz","Algerien",2,0,null,null,"Schweiz",2,1,"Iran",10,20,0,"Schweiz",2,1,"Iran",10,20,0,"Schweiz",3,2,"Österreich",10,40,0,"Schweiz",2,0,"Österreich",10,40,0,"Schweiz",4,0,"Algerien",20,40,0,"Schweiz",1,0,"Algerien",20,40,0,"Schweiz",2,0,"Iran",10,20,0,"Schweiz",2,0,"Tunesien",10,20,0,"Schweiz",2,0,"Ägypten",10,40,0,"Schweiz",2,0,"Algerien",20,40,30,"Schweiz",2,0,"Ägypten",10,40,0,"Schweiz",3,1,"Iran",10,20,0,"Schweiz",1,0,"Elfenbeinküste",10,40,0,"Schweiz",2,0,"Belgien",10,40,0,"Schweiz",4,1,"Neuseeland",10,20,0,"Schweiz",3,1,"Neuseeland",10,20,0,"Schweiz",1,2,"Elfenbeinküste",10,40,0,"Schweiz",1,0,"Algerien",20,40,0,"Schweiz",2,0,"Neuseeland",10,20,0,"Schweiz",3,1,"Ecuador",10,40,0,null,{"$f":"_xlfn.TEXTJOIN(\", \",TRUE,_xlfn._xlws.FILTER(INDEX($J$4:$EM$4,1,_xlfn.SEQUENCE(1,(COLUMNS($J$4:$EM$4)-1)/7+1,1,7))&\" \"&INDEX($J$5:$EM$5,1,_xlfn.SEQUENCE(1,(COLUMNS($J$5:$EM$5)-1)/7+1,1,7)),INDEX($P23:$ES23,1,_xlfn.SEQUENCE(1,(COLUMNS($P23:$ES23)-1)/7+1,1,7))>0,\"\"))","v":"Roger Bartholet"},null,"Roger Bartholet, Vinci D'Acunto, Dino Duvnjak, Djuma Duvnjak, Reto Gygli, Robin Gygli, Stefan Gygli, Philipp Meyer, Stefan Principe, Armando Thormann"]
["Sa. 04. Jul","00:00:00",86,"Argentinien","Kap Verde",3,2,null,null,"Argentinien",2,1,"Uruguay",10,20,0,"Argentinien",2,1,"Uruguay",10,20,0,"Argentinien",3,2,"Uruguay",10,20,0,"Argentinien",2,1,"Uruguay",10,20,0,"Österreich",5,3,"Uruguay",0,20,0,"Argentinien",2,1,"Uruguay",10,20,0,"Argentinien",1,0,"Uruguay",10,20,0,"Argentinien",3,0,"Uruguay",10,20,0,"Argentinien",2,0,"Uruguay",10,20,0,"Argentinien",2,1,"Uruguay",10,20,0,"Argentinien",2,1,"Saudi-Arabien",10,20,0,"Argentinien",2,0,"Uruguay",10,20,0,"Argentinien",2,0,"Uruguay",10,20,0,"Argentinien",2,4,"Uruguay",10,20,0,"Argentinien",2,1,"Uruguay",10,20,0,"Argentinien",4,2,"Uruguay",10,20,0,"Argentinien",1,0,"Uruguay",10,20,0,"Argentinien",2,1,"Uruguay",10,20,0,"Argentinien",2,0,"Uruguay",10,20,0,"Argentinien",2,1,"Uruguay",10,20,0,null,{"$f":"_xlfn.TEXTJOIN(\", \",TRUE,_xlfn._xlws.FILTER(INDEX($J$4:$EM$4,1,_xlfn.SEQUENCE(1,(COLUMNS($J$4:$EM$4)-1)/7+1,1,7))&\" \"&INDEX($J$5:$EM$5,1,_xlfn.SEQUENCE(1,(COLUMNS($J$5:$EM$5)-1)/7+1,1,7)),INDEX($P24:$ES24,1,_xlfn.SEQUENCE(1,(COLUMNS($P24:$ES24)-1)/7+1,1,7))>0,\"\"))","v":""},null,""]
["Sa. 04. Jul","03:30:00",87,"Kolumbien","Ghana",1,0,null,null,"Portugal",2,1,"Norwegen",0,40,0,"Kolumbien",2,1,"Ghana",20,40,0,"Portugal",3,1,"Ghana",10,40,0,"Portugal",2,1,"Ghana",10,40,0,"Portugal",3,1,"Ghana",10,40,0,"Portugal",1,0,"Ghana",10,40,0,"Portugal",1,0,"Paraguay",0,40,0,"Portugal",3,1,"Ghana",10,40,0,"Portugal",1,0,"Ghana",10,40,0,"Portugal",3,0,"Elfenbeinküste",0,40,0,"Portugal",2,0,"Australien",0,40,0,"Portugal",3,1,"Ghana",10,40,0,"Portugal",2,0,"Ghana",10,40,0,"Portugal",2,1,"Panama",0,20,0,"Portugal",5,1,"Ghana",10,40,0,"Portugal",5,1,"Ghana",10,40,0,"Portugal",2,1,"Senegal",0,40,0,"Portugal",2,0,"Kroatien",0,40,0,"Portugal",1,0,"Paraguay",0,40,0,"Portugal",3,2,"Kroatien",0,40,0,null,{"$f":"_xlfn.TEXTJOIN(\", \",TRUE,_xlfn._xlws.FILTER(INDEX($J$4:$EM$4,1,_xlfn.SEQUENCE(1,(COLUMNS($J$4:$EM$4)-1)/7+1,1,7))&\" \"&INDEX($J$5:$EM$5,1,_xlfn.SEQUENCE(1,(COLUMNS($J$5:$EM$5)-1)/7+1,1,7)),INDEX($P25:$ES25,1,_xlfn.SEQUENCE(1,(COLUMNS($P25:$ES25)-1)/7+1,1,7))>0,\"\"))","v":""},null,"Vinci D'Acunto"]
["Fr. 03. Jul","20:00:00",88,"Australien","Ägypten",2,4,null,null,"Türkei",2,1,"Ägypten",10,20,0,"Paraguay",1,2,"Ägypten",10,40,0,"Paraguay",5,3,"Neuseeland",0,20,0,"USA",5,3,"Ägypten",10,40,0,"USA",1,0,"Ägypten",10,40,0,"USA",1,0,"Ägypten",10,40,0,"USA",1,2,"Ägypten",10,40,0,"USA",2,1,"Iran",0,20,0,"Türkei",1,0,"Neuseeland",0,0,0,"USA",1,0,"Ägypten",10,40,0,"Paraguay",2,1,"Iran",0,20,0,"USA",2,0,"Ägypten",10,40,0,"Türkei",2,1,"Ägypten",10,20,0,"Türkei",2,1,"Ägypten",10,20,0,"USA",1,3,"Ägypten",10,40,0,"USA",2,3,"Ägypten",10,40,0,"Türkei",2,1,"Iran",0,0,0,"Paraguay",0,1,"Ägypten",10,40,0,"USA",2,1,"Ägypten",10,40,0,"USA",1,0,"Ägypten",10,40,0,null,{"$f":"_xlfn.TEXTJOIN(\", \",TRUE,_xlfn._xlws.FILTER(INDEX($J$4:$EM$4,1,_xlfn.SEQUENCE(1,(COLUMNS($J$4:$EM$4)-1)/7+1,1,7))&\" \"&INDEX($J$5:$EM$5,1,_xlfn.SEQUENCE(1,(COLUMNS($J$5:$EM$5)-1)/7+1,1,7)),INDEX($P26:$ES26,1,_xlfn.SEQUENCE(1,(COLUMNS($P26:$ES26)-1)/7+1,1,7))>0,\"\"))","v":""},null,""]
["Achtelfinale",null,null,null,null,null,null,null,null,null,null,null,null,null,null,null,null,null,null,null,null,null,null,null,null,null,null,null,null,null,null,null,null,null,null,null,null,null,null,null,null,null,null,null,null,null,null,null,null,null,null,null,null,null,null,null,null,null,null,null,null,null,null,null,null,null,null,null,null,null,null,null,null,null,null,null,null,null,null,null,null,null,null,null,null,null,null,null,null,null,null,null,null,null,null,null,null,null,null,null,null,null,null,null,null,null,null,null,null,null,null,null,null,null,null,null,null,null,null,null,null,null,null,null,null,null,null,null,null,null,null,null,null,null,null,null,null,null,null,null,null,null,null,null,null,null,null,null,null,null,{"$f":"_xlfn.TEXTJOIN(\", \",TRUE,_xlfn._xlws.FILTER(INDEX($J$4:$EM$4,1,_xlfn.SEQUENCE(1,(COLUMNS($J$4:$EM$4)-1)/7+1,1,7))&\" \"&INDEX($J$5:$EM$5,1,_xlfn.SEQUENCE(1,(COLUMNS($J$5:$EM$5)-1)/7+1,1,7)),INDEX($P27:$ES27,1,_xlfn.SEQUENCE(1,(COLUMNS($P27:$ES27)-1)/7+1,1,7))>0,\"\"))","v":""},null,""]
["Sa. 04. Jul","23:00:00",89,"Paraguay","Frankreich",0,1,null,null,"Deutschland",1,2,"Frankreich",{"$f":"IF(OR(J28=\"\",M28=\"\"),0,IF(AND(J28=$D28,M28=$E28),40,IF(J28=$D28,20,IF(M28=$E28,20,IF(AND(J28<>$D28,M28<>$E28),0)))))","v":20},{"$f":"IF(COUNTIF($D$28:$E$35,M28),40,0)+IF(COUNTIF($D$28:$E$35,J28),40,0)","v":40},{"$f":"IF(OR(J28=\"\",M28=\"\"),0,IF(AND(J28=$D28,M28=$E28,K28=$F28,L28=$G28),50,0))","v":0},"Deutschland",1,2,"Frankreich",{"$f":"IF(OR(Q28=\"\",T28=\"\"),0,IF(AND(Q28=$D28,T28=$E28),40,IF(Q28=$D28,20,IF(T28=$E28,20,IF(AND(Q28<>$D28,T28<>$E28),0)))))","v":20},{"$f":"IF(COUNTIF($D$28:$E$35,T28),40,0)+IF(COUNTIF($D$28:$E$35,Q28),40,0)","v":40},{"$f":"IF(OR(Q28=\"\",T28=\"\"),0,IF(AND(Q28=$D28,T28=$E28,R28=$F28,S28=$G28),50,0))","v":0},"Deutschland",4,5,"Frankreich",{"$f":"IF(OR(X28=\"\",AA28=\"\"),0,IF(AND(X28=$D28,AA28=$E28),40,IF(X28=$D28,20,IF(AA28=$E28,20,IF(AND(X28<>$D28,AA28<>$E28),0)))))","v":20},{"$f":"IF(COUNTIF($D$28:$E$35,AA28),40,0)+IF(COUNTIF($D$28:$E$35,X28),40,0)","v":40},{"$f":"IF(OR(X28=\"\",AA28=\"\"),0,IF(AND(X28=$D28,AA28=$E28,Y28=$F28,Z28=$G28),50,0))","v":0},"Deutschland",4,5,"Frankreich",{"$f":"IF(OR(AE28=\"\",AH28=\"\"),0,IF(AND(AE28=$D28,AH28=$E28),40,IF(AE28=$D28,20,IF(AH28=$E28,20,IF(AND(AE28<>$D28,AH28<>$E28),0)))))","v":20},{"$f":"IF(COUNTIF($D$28:$E$35,AH28),40,0)+IF(COUNTIF($D$28:$E$35,AE28),40,0)","v":40},{"$f":"IF(OR(AE28=\"\",AH28=\"\"),0,IF(AND(AE28=$D28,AH28=$E28,AF28=$F28,AG28=$G28),50,0))","v":0},"Deutschland",4,5,"Frankreich",{"$f":"IF(OR(AL28=\"\",AO28=\"\"),0,IF(AND(AL28=$D28,AO28=$E28),40,IF(AL28=$D28,20,IF(AO28=$E28,20,IF(AND(AL28<>$D28,AO28<>$E28),0)))))","v":20},{"$f":"IF(COUNTIF($D$28:$E$35,AO28),40,0)+IF(COUNTIF($D$28:$E$35,AL28),40,0)","v":40},{"$f":"IF(OR(AL28=\"\",AO28=\"\"),0,IF(AND(AL28=$D28,AO28=$E28,AM28=$F28,AN28=$G28),50,0))","v":0},"Deutschland",0,1,"Frankreich",{"$f":"IF(OR(AS28=\"\",AV28=\"\"),0,IF(AND(AS28=$D28,AV28=$E28),40,IF(AS28=$D28,20,IF(AV28=$E28,20,IF(AND(AS28<>$D28,AV28<>$E28),0)))))","v":20},{"$f":"IF(COUNTIF($D$28:$E$35,AV28),40,0)+IF(COUNTIF($D$28:$E$35,AS28),40,0)","v":40},{"$f":"IF(OR(AS28=\"\",AV28=\"\"),0,IF(AND(AS28=$D28,AV28=$E28,AT28=$F28,AU28=$G28),50,0))","v":0},"Deutschland",1,0,"Norwegen",{"$f":"IF(OR(AZ28=\"\",BC28=\"\"),0,IF(AND(AZ28=$D28,BC28=$E28),40,IF(AZ28=$D28,20,IF(BC28=$E28,20,IF(AND(AZ28<>$D28,BC28<>$E28),0)))))","v":0},{"$f":"IF(COUNTIF($D$28:$E$35,BC28),40,0)+IF(COUNTIF($D$28:$E$35,AZ28),40,0)","v":40},{"$f":"IF(OR(AZ28=\"\",BC28=\"\"),0,IF(AND(AZ28=$D28,BC28=$E28,BA28=$F28,BB28=$G28),50,0))","v":0},"Deutschland",2,3,"Frankreich",{"$f":"IF(OR(BG28=\"\",BJ28=\"\"),0,IF(AND(BG28=$D28,BJ28=$E28),40,IF(BG28=$D28,20,IF(BJ28=$E28,20,IF(AND(BG28<>$D28,BJ28<>$E28),0)))))","v":20},{"$f":"IF(COUNTIF($D$28:$E$35,BJ28),40,0)+IF(COUNTIF($D$28:$E$35,BG28),40,0)","v":40},{"$f":"IF(OR(BG28=\"\",BJ28=\"\"),0,IF(AND(BG28=$D28,BJ28=$E28,BH28=$F28,BI28=$G28),50,0))","v":0},"Deutschland",2,3,"Frankreich",{"$f":"IF(OR(BN28=\"\",BQ28=\"\"),0,IF(AND(BN28=$D28,BQ28=$E28),40,IF(BN28=$D28,20,IF(BQ28=$E28,20,IF(AND(BN28<>$D28,BQ28<>$E28),0)))))","v":20},{"$f":"IF(COUNTIF($D$28:$E$35,BQ28),40,0)+IF(COUNTIF($D$28:$E$35,BN28),40,0)","v":40},{"$f":"IF(OR(BN28=\"\",BQ28=\"\"),0,IF(AND(BN28=$D28,BQ28=$E28,BO28=$F28,BP28=$G28),50,0))","v":0},"Ecuador",2,3,"Frankreich",{"$f":"IF(OR(BU28=\"\",BX28=\"\"),0,IF(AND(BU28=$D28,BX28=$E28),40,IF(BU28=$D28,20,IF(BX28=$E28,20,IF(AND(BU28<>$D28,BX28<>$E28),0)))))","v":20},{"$f":"IF(COUNTIF($D$28:$E$35,BX28),40,0)+IF(COUNTIF($D$28:$E$35,BU28),40,0)","v":40},{"$f":"IF(OR(BU28=\"\",BX28=\"\"),0,IF(AND(BU28=$D28,BX28=$E28,BV28=$F28,BW28=$G28),50,0))","v":0},"Deutschland",1,2,"Frankreich",{"$f":"IF(OR(CB28=\"\",CE28=\"\"),0,IF(AND(CB28=$D28,CE28=$E28),40,IF(CB28=$D28,20,IF(CE28=$E28,20,IF(AND(CB28<>$D28,CE28<>$E28),0)))))","v":20},{"$f":"IF(COUNTIF($D$28:$E$35,CE28),40,0)+IF(COUNTIF($D$28:$E$35,CB28),40,0)","v":40},{"$f":"IF(OR(CB28=\"\",CE28=\"\"),0,IF(AND(CB28=$D28,CE28=$E28,CC28=$F28,CD28=$G28),50,0))","v":0},"Deutschland",1,2,"Frankreich",{"$f":"IF(OR(CI28=\"\",CL28=\"\"),0,IF(AND(CI28=$D28,CL28=$E28),40,IF(CI28=$D28,20,IF(CL28=$E28,20,IF(AND(CI28<>$D28,CL28<>$E28),0)))))","v":20},{"$f":"IF(COUNTIF($D$28:$E$35,CL28),40,0)+IF(COUNTIF($D$28:$E$35,CI28),40,0)","v":40},{"$f":"IF(OR(CI28=\"\",CL28=\"\"),0,IF(AND(CI28=$D28,CL28=$E28,CJ28=$F28,CK28=$G28),50,0))","v":0},"Deutschland",1,2,"Frankreich",{"$f":"IF(OR(CP28=\"\",CS28=\"\"),0,IF(AND(CP28=$D28,CS28=$E28),40,IF(CP28=$D28,20,IF(CS28=$E28,20,IF(AND(CP28<>$D28,CS28<>$E28),0)))))","v":20},{"$f":"IF(COUNTIF($D$28:$E$35,CS28),40,0)+IF(COUNTIF($D$28:$E$35,CP28),40,0)","v":40},{"$f":"IF(OR(CP28=\"\",CS28=\"\"),0,IF(AND(CP28=$D28,CS28=$E28,CQ28=$F28,CR28=$G28),50,0))","v":0},"Deutschland",2,0,"Frankreich",{"$f":"IF(OR(CW28=\"\",CZ28=\"\"),0,IF(AND(CW28=$D28,CZ28=$E28),40,IF(CW28=$D28,20,IF(CZ28=$E28,20,IF(AND(CW28<>$D28,CZ28<>$E28),0)))))","v":20},{"$f":"IF(COUNTIF($D$28:$E$35,CZ28),40,0)+IF(COUNTIF($D$28:$E$35,CW28),40,0)","v":40},{"$f":"IF(OR(CW28=\"\",CZ28=\"\"),0,IF(AND(CW28=$D28,CZ28=$E28,CX28=$F28,CY28=$G28),50,0))","v":0},"Deutschland",2,5,"Frankreich",{"$f":"IF(OR(DD28=\"\",DG28=\"\"),0,IF(AND(DD28=$D28,DG28=$E28),40,IF(DD28=$D28,20,IF(DG28=$E28,20,IF(AND(DD28<>$D28,DG28<>$E28),0)))))","v":20},{"$f":"IF(COUNTIF($D$28:$E$35,DG28),40,0)+IF(COUNTIF($D$28:$E$35,DD28),40,0)","v":40},{"$f":"IF(OR(DD28=\"\",DG28=\"\"),0,IF(AND(DD28=$D28,DG28=$E28,DE28=$F28,DF28=$G28),50,0))","v":0},"Deutschland",2,3,"Frankreich",{"$f":"IF(OR(DK28=\"\",DN28=\"\"),0,IF(AND(DK28=$D28,DN28=$E28),40,IF(DK28=$D28,20,IF(DN28=$E28,20,IF(AND(DK28<>$D28,DN28<>$E28),0)))))","v":20},{"$f":"IF(COUNTIF($D$28:$E$35,DN28),40,0)+IF(COUNTIF($D$28:$E$35,DK28),40,0)","v":40},{"$f":"IF(OR(DK28=\"\",DN28=\"\"),0,IF(AND(DK28=$D28,DN28=$E28,DL28=$F28,DM28=$G28),50,0))","v":0},"Deutschland",1,2,"Frankreich",{"$f":"IF(OR(DR28=\"\",DU28=\"\"),0,IF(AND(DR28=$D28,DU28=$E28),40,IF(DR28=$D28,20,IF(DU28=$E28,20,IF(AND(DR28<>$D28,DU28<>$E28),0)))))","v":20},{"$f":"IF(COUNTIF($D$28:$E$35,DU28),40,0)+IF(COUNTIF($D$28:$E$35,DR28),40,0)","v":40},{"$f":"IF(OR(DR28=\"\",DU28=\"\"),0,IF(AND(DR28=$D28,DU28=$E28,DS28=$F28,DT28=$G28),50,0))","v":0},"Deutschland",0,1,"Frankreich",{"$f":"IF(OR(DY28=\"\",EB28=\"\"),0,IF(AND(DY28=$D28,EB28=$E28),40,IF(DY28=$D28,20,IF(EB28=$E28,20,IF(AND(DY28<>$D28,EB28<>$E28),0)))))","v":20},{"$f":"IF(COUNTIF($D$28:$E$35,EB28),40,0)+IF(COUNTIF($D$28:$E$35,DY28),40,0)","v":40},{"$f":"IF(OR(DY28=\"\",EB28=\"\"),0,IF(AND(DY28=$D28,EB28=$E28,DZ28=$F28,EA28=$G28),50,0))","v":0},"Deutschland",0,1,"Frankreich",{"$f":"IF(OR(EF28=\"\",EI28=\"\"),0,IF(AND(EF28=$D28,EI28=$E28),40,IF(EF28=$D28,20,IF(EI28=$E28,20,IF(AND(EF28<>$D28,EI28<>$E28),0)))))","v":20},{"$f":"IF(COUNTIF($D$28:$E$35,EI28),40,0)+IF(COUNTIF($D$28:$E$35,EF28),40,0)","v":40},{"$f":"IF(OR(EF28=\"\",EI28=\"\"),0,IF(AND(EF28=$D28,EI28=$E28,EG28=$F28,EH28=$G28),50,0))","v":0},"Deutschland",2,3,"Frankreich",{"$f":"IF(OR(EM28=\"\",EP28=\"\"),0,IF(AND(EM28=$D28,EP28=$E28),40,IF(EM28=$D28,20,IF(EP28=$E28,20,IF(AND(EM28<>$D28,EP28<>$E28),0)))))","v":20},{"$f":"IF(COUNTIF($D$28:$E$35,EP28),40,0)+IF(COUNTIF($D$28:$E$35,EM28),40,0)","v":40},{"$f":"IF(OR(EM28=\"\",EP28=\"\"),0,IF(AND(EM28=$D28,EP28=$E28,EN28=$F28,EO28=$G28),50,0))","v":0},null,{"$f":"_xlfn.TEXTJOIN(\", \",TRUE,_xlfn._xlws.FILTER(INDEX($J$4:$EM$4,1,_xlfn.SEQUENCE(1,(COLUMNS($J$4:$EM$4)-1)/7+1,1,7))&\" \"&INDEX($J$5:$EM$5,1,_xlfn.SEQUENCE(1,(COLUMNS($J$5:$EM$5)-1)/7+1,1,7)),INDEX($P28:$ES28,1,_xlfn.SEQUENCE(1,(COLUMNS($P28:$ES28)-1)/7+1,1,7))>0,\"\"))","v":""},null,""]
["Sa. 04. Jul","19:00:00",90,"Kanada","Marokko",0,3,null,null,"Bosnien-Herz.",1,2,"Holland",{"$f":"IF(OR(J29=\"\",M29=\"\"),0,IF(AND(J29=$D29,M29=$E29),40,IF(J29=$D29,20,IF(M29=$E29,20,IF(AND(J29<>$D29,M29<>$E29),0)))))","v":0},{"$f":"IF(COUNTIF($D$28:$E$35,M29),40,0)+IF(COUNTIF($D$28:$E$35,J29),40,0)","v":0},{"$f":"IF(OR(J29=\"\",M29=\"\"),0,IF(AND(J29=$D29,M29=$E29,K29=$F29,L29=$G29),50,0))","v":0},"Bosnien-Herz.",1,2,"Holland",{"$f":"IF(OR(Q29=\"\",T29=\"\"),0,IF(AND(Q29=$D29,T29=$E29),40,IF(Q29=$D29,20,IF(T29=$E29,20,IF(AND(Q29<>$D29,T29<>$E29),0)))))","v":0},{"$f":"IF(COUNTIF($D$28:$E$35,T29),40,0)+IF(COUNTIF($D$28:$E$35,Q29),40,0)","v":0},{"$f":"IF(OR(Q29=\"\",T29=\"\"),0,IF(AND(Q29=$D29,T29=$E29,R29=$F29,S29=$G29),50,0))","v":0},"Südafrika",2,3,"Marokko",{"$f":"IF(OR(X29=\"\",AA29=\"\"),0,IF(AND(X29=$D29,AA29=$E29),40,IF(X29=$D29,20,IF(AA29=$E29,20,IF(AND(X29<>$D29,AA29<>$E29),0)))))","v":20},{"$f":"IF(COUNTIF($D$28:$E$35,AA29),40,0)+IF(COUNTIF($D$28:$E$35,X29),40,0)","v":40},{"$f":"IF(OR(X29=\"\",AA29=\"\"),0,IF(AND(X29=$D29,AA29=$E29,Y29=$F29,Z29=$G29),50,0))","v":0},"Mexiko",1,2,"Marokko",{"$f":"IF(OR(AE29=\"\",AH29=\"\"),0,IF(AND(AE29=$D29,AH29=$E29),40,IF(AE29=$D29,20,IF(AH29=$E29,20,IF(AND(AE29<>$D29,AH29<>$E29),0)))))","v":20},{"$f":"IF(COUNTIF($D$28:$E$35,AH29),40,0)+IF(COUNTIF($D$28:$E$35,AE29),40,0)","v":80},{"$f":"IF(OR(AE29=\"\",AH29=\"\"),0,IF(AND(AE29=$D29,AH29=$E29,AF29=$F29,AG29=$G29),50,0))","v":0},"Kanada",0,3,"Marokko",{"$f":"IF(OR(AL29=\"\",AO29=\"\"),0,IF(AND(AL29=$D29,AO29=$E29),40,IF(AL29=$D29,20,IF(AO29=$E29,20,IF(AND(AL29<>$D29,AO29<>$E29),0)))))","v":40},{"$f":"IF(COUNTIF($D$28:$E$35,AO29),40,0)+IF(COUNTIF($D$28:$E$35,AL29),40,0)","v":80},{"$f":"IF(OR(AL29=\"\",AO29=\"\"),0,IF(AND(AL29=$D29,AO29=$E29,AM29=$F29,AN29=$G29),50,0))","v":50},"Südkorea",0,1,"Holland",{"$f":"IF(OR(AS29=\"\",AV29=\"\"),0,IF(AND(AS29=$D29,AV29=$E29),40,IF(AS29=$D29,20,IF(AV29=$E29,20,IF(AND(AS29<>$D29,AV29<>$E29),0)))))","v":0},{"$f":"IF(COUNTIF($D$28:$E$35,AV29),40,0)+IF(COUNTIF($D$28:$E$35,AS29),40,0)","v":0},{"$f":"IF(OR(AS29=\"\",AV29=\"\"),0,IF(AND(AS29=$D29,AV29=$E29,AT29=$F29,AU29=$G29),50,0))","v":0},"Kanada",0,2,"Holland",{"$f":"IF(OR(AZ29=\"\",BC29=\"\"),0,IF(AND(AZ29=$D29,BC29=$E29),40,IF(AZ29=$D29,20,IF(BC29=$E29,20,IF(AND(AZ29<>$D29,BC29<>$E29),0)))))","v":20},{"$f":"IF(COUNTIF($D$28:$E$35,BC29),40,0)+IF(COUNTIF($D$28:$E$35,AZ29),40,0)","v":40},{"$f":"IF(OR(AZ29=\"\",BC29=\"\"),0,IF(AND(AZ29=$D29,BC29=$E29,BA29=$F29,BB29=$G29),50,0))","v":0},"Kanada",3,1,"Holland",{"$f":"IF(OR(BG29=\"\",BJ29=\"\"),0,IF(AND(BG29=$D29,BJ29=$E29),40,IF(BG29=$D29,20,IF(BJ29=$E29,20,IF(AND(BG29<>$D29,BJ29<>$E29),0)))))","v":20},{"$f":"IF(COUNTIF($D$28:$E$35,BJ29),40,0)+IF(COUNTIF($D$28:$E$35,BG29),40,0)","v":40},{"$f":"IF(OR(BG29=\"\",BJ29=\"\"),0,IF(AND(BG29=$D29,BJ29=$E29,BH29=$F29,BI29=$G29),50,0))","v":0},"Mexiko",1,2,"Holland",{"$f":"IF(OR(BN29=\"\",BQ29=\"\"),0,IF(AND(BN29=$D29,BQ29=$E29),40,IF(BN29=$D29,20,IF(BQ29=$E29,20,IF(AND(BN29<>$D29,BQ29<>$E29),0)))))","v":0},{"$f":"IF(COUNTIF($D$28:$E$35,BQ29),40,0)+IF(COUNTIF($D$28:$E$35,BN29),40,0)","v":40},{"$f":"IF(OR(BN29=\"\",BQ29=\"\"),0,IF(AND(BN29=$D29,BQ29=$E29,BO29=$F29,BP29=$G29),50,0))","v":0},"Kanada",1,2,"Holland",{"$f":"IF(OR(BU29=\"\",BX29=\"\"),0,IF(AND(BU29=$D29,BX29=$E29),40,IF(BU29=$D29,20,IF(BX29=$E29,20,IF(AND(BU29<>$D29,BX29<>$E29),0)))))","v":20},{"$f":"IF(COUNTIF($D$28:$E$35,BX29),40,0)+IF(COUNTIF($D$28:$E$35,BU29),40,0)","v":40},{"$f":"IF(OR(BU29=\"\",BX29=\"\"),0,IF(AND(BU29=$D29,BX29=$E29,BV29=$F29,BW29=$G29),50,0))","v":0},"Kanada",1,2,"Holland",{"$f":"IF(OR(CB29=\"\",CE29=\"\"),0,IF(AND(CB29=$D29,CE29=$E29),40,IF(CB29=$D29,20,IF(CE29=$E29,20,IF(AND(CB29<>$D29,CE29<>$E29),0)))))","v":20},{"$f":"IF(COUNTIF($D$28:$E$35,CE29),40,0)+IF(COUNTIF($D$28:$E$35,CB29),40,0)","v":40},{"$f":"IF(OR(CB29=\"\",CE29=\"\"),0,IF(AND(CB29=$D29,CE29=$E29,CC29=$F29,CD29=$G29),50,0))","v":0},"Mexiko",0,2,"Holland",{"$f":"IF(OR(CI29=\"\",CL29=\"\"),0,IF(AND(CI29=$D29,CL29=$E29),40,IF(CI29=$D29,20,IF(CL29=$E29,20,IF(AND(CI29<>$D29,CL29<>$E29),0)))))","v":0},{"$f":"IF(COUNTIF($D$28:$E$35,CL29),40,0)+IF(COUNTIF($D$28:$E$35,CI29),40,0)","v":40},{"$f":"IF(OR(CI29=\"\",CL29=\"\"),0,IF(AND(CI29=$D29,CL29=$E29,CJ29=$F29,CK29=$G29),50,0))","v":0},"Kanada",1,0,"Holland",{"$f":"IF(OR(CP29=\"\",CS29=\"\"),0,IF(AND(CP29=$D29,CS29=$E29),40,IF(CP29=$D29,20,IF(CS29=$E29,20,IF(AND(CP29<>$D29,CS29<>$E29),0)))))","v":20},{"$f":"IF(COUNTIF($D$28:$E$35,CS29),40,0)+IF(COUNTIF($D$28:$E$35,CP29),40,0)","v":40},{"$f":"IF(OR(CP29=\"\",CS29=\"\"),0,IF(AND(CP29=$D29,CS29=$E29,CQ29=$F29,CR29=$G29),50,0))","v":0},"Südkorea",2,3,"Marokko",{"$f":"IF(OR(CW29=\"\",CZ29=\"\"),0,IF(AND(CW29=$D29,CZ29=$E29),40,IF(CW29=$D29,20,IF(CZ29=$E29,20,IF(AND(CW29<>$D29,CZ29<>$E29),0)))))","v":20},{"$f":"IF(COUNTIF($D$28:$E$35,CZ29),40,0)+IF(COUNTIF($D$28:$E$35,CW29),40,0)","v":40},{"$f":"IF(OR(CW29=\"\",CZ29=\"\"),0,IF(AND(CW29=$D29,CZ29=$E29,CX29=$F29,CY29=$G29),50,0))","v":0},"Bosnien-Herz.",2,3,"Marokko",{"$f":"IF(OR(DD29=\"\",DG29=\"\"),0,IF(AND(DD29=$D29,DG29=$E29),40,IF(DD29=$D29,20,IF(DG29=$E29,20,IF(AND(DD29<>$D29,DG29<>$E29),0)))))","v":20},{"$f":"IF(COUNTIF($D$28:$E$35,DG29),40,0)+IF(COUNTIF($D$28:$E$35,DD29),40,0)","v":40},{"$f":"IF(OR(DD29=\"\",DG29=\"\"),0,IF(AND(DD29=$D29,DG29=$E29,DE29=$F29,DF29=$G29),50,0))","v":0},"Südkorea",0,1,"Marokko",{"$f":"IF(OR(DK29=\"\",DN29=\"\"),0,IF(AND(DK29=$D29,DN29=$E29),40,IF(DK29=$D29,20,IF(DN29=$E29,20,IF(AND(DK29<>$D29,DN29<>$E29),0)))))","v":20},{"$f":"IF(COUNTIF($D$28:$E$35,DN29),40,0)+IF(COUNTIF($D$28:$E$35,DK29),40,0)","v":40},{"$f":"IF(OR(DK29=\"\",DN29=\"\"),0,IF(AND(DK29=$D29,DN29=$E29,DL29=$F29,DM29=$G29),50,0))","v":0},"Bosnien-Herz.",0,2,"Marokko",{"$f":"IF(OR(DR29=\"\",DU29=\"\"),0,IF(AND(DR29=$D29,DU29=$E29),40,IF(DR29=$D29,20,IF(DU29=$E29,20,IF(AND(DR29<>$D29,DU29<>$E29),0)))))","v":20},{"$f":"IF(COUNTIF($D$28:$E$35,DU29),40,0)+IF(COUNTIF($D$28:$E$35,DR29),40,0)","v":40},{"$f":"IF(OR(DR29=\"\",DU29=\"\"),0,IF(AND(DR29=$D29,DU29=$E29,DS29=$F29,DT29=$G29),50,0))","v":0},"Mexiko",0,1,"Holland",{"$f":"IF(OR(DY29=\"\",EB29=\"\"),0,IF(AND(DY29=$D29,EB29=$E29),40,IF(DY29=$D29,20,IF(EB29=$E29,20,IF(AND(DY29<>$D29,EB29<>$E29),0)))))","v":0},{"$f":"IF(COUNTIF($D$28:$E$35,EB29),40,0)+IF(COUNTIF($D$28:$E$35,DY29),40,0)","v":40},{"$f":"IF(OR(DY29=\"\",EB29=\"\"),0,IF(AND(DY29=$D29,EB29=$E29,DZ29=$F29,EA29=$G29),50,0))","v":0},"Mexiko",0,1,"Holland",{"$f":"IF(OR(EF29=\"\",EI29=\"\"),0,IF(AND(EF29=$D29,EI29=$E29),40,IF(EF29=$D29,20,IF(EI29=$E29,20,IF(AND(EF29<>$D29,EI29<>$E29),0)))))","v":0},{"$f":"IF(COUNTIF($D$28:$E$35,EI29),40,0)+IF(COUNTIF($D$28:$E$35,EF29),40,0)","v":40},{"$f":"IF(OR(EF29=\"\",EI29=\"\"),0,IF(AND(EF29=$D29,EI29=$E29,EG29=$F29,EH29=$G29),50,0))","v":0},"Tschechien",1,2,"Brasilien",{"$f":"IF(OR(EM29=\"\",EP29=\"\"),0,IF(AND(EM29=$D29,EP29=$E29),40,IF(EM29=$D29,20,IF(EP29=$E29,20,IF(AND(EM29<>$D29,EP29<>$E29),0)))))","v":0},{"$f":"IF(COUNTIF($D$28:$E$35,EP29),40,0)+IF(COUNTIF($D$28:$E$35,EM29),40,0)","v":40},{"$f":"IF(OR(EM29=\"\",EP29=\"\"),0,IF(AND(EM29=$D29,EP29=$E29,EN29=$F29,EO29=$G29),50,0))","v":0},null,{"$f":"_xlfn.TEXTJOIN(\", \",TRUE,_xlfn._xlws.FILTER(INDEX($J$4:$EM$4,1,_xlfn.SEQUENCE(1,(COLUMNS($J$4:$EM$4)-1)/7+1,1,7))&\" \"&INDEX($J$5:$EM$5,1,_xlfn.SEQUENCE(1,(COLUMNS($J$5:$EM$5)-1)/7+1,1,7)),INDEX($P29:$ES29,1,_xlfn.SEQUENCE(1,(COLUMNS($P29:$ES29)-1)/7+1,1,7))>0,\"\"))","v":"Ruben Antonelli"},null,"Ruben Antonelli"]
["So. 05. Jul","22:00:00",91,"Brasilien","Norwegen",1,2,null,null,"Brasilien",2,1,"Senegal",20,40,0,"Brasilien",2,1,"Senegal",20,40,0,"Brasilien",3,1,"Ecuador",20,40,0,"Brasilien",2,1,"Norwegen",40,80,0,"Brasilien",3,0,"Ecuador",20,40,0,"Brasilien",2,1,"Elfenbeinküste",20,40,0,"Brasilien",1,2,"Frankreich",20,80,0,"Brasilien",3,1,"Senegal",20,40,0,"Brasilien",2,0,"Ecuador",20,40,0,"Brasilien",3,0,"Deutschland",20,40,0,"Brasilien",3,1,"Senegal",20,40,0,"Japan",1,2,"Norwegen",20,40,0,"Brasilien",3,1,"Ecuador",20,40,0,"Japan",2,0,"Norwegen",20,40,0,"Brasilien",3,1,"Senegal",20,40,0,"Brasilien",2,1,"Norwegen",40,80,0,"Brasilien",2,1,"Norwegen",40,80,0,"Brasilien",2,1,"Senegal",20,40,0,"Brasilien",2,0,"Norwegen",40,80,0,"Marokko",1,0,"Norwegen",20,80,0,null,{"$f":"_xlfn.TEXTJOIN(\", \",TRUE,_xlfn._xlws.FILTER(INDEX($J$4:$EM$4,1,_xlfn.SEQUENCE(1,(COLUMNS($J$4:$EM$4)-1)/7+1,1,7))&\" \"&INDEX($J$5:$EM$5,1,_xlfn.SEQUENCE(1,(COLUMNS($J$5:$EM$5)-1)/7+1,1,7)),INDEX($P30:$ES30,1,_xlfn.SEQUENCE(1,(COLUMNS($P30:$ES30)-1)/7+1,1,7))>0,\"\"))","v":""},null,"Agnes Isenschmid, Marc Lütolf, Sabine Rüegg"]
["Mo. 06. Jul","02:00:00",92,"Mexiko","England",2,3,null,null,"Mexiko",1,2,"England",40,80,0,"Ecuador",1,2,"England",20,40,0,"Mexiko",2,1,"England",40,80,0,"Tschechien",0,2,"England",20,40,0,"Elfenbeinküste",2,3,"England",20,40,0,"Mexiko",1,2,"Kroatien",20,40,0,"Mexiko",0,1,"England",40,80,0,"Mexiko",1,3,"England",40,80,0,"Tschechien",1,2,"England",20,40,0,"Mexiko",1,2,"England",40,80,0,"Mexiko",1,3,"England",40,80,0,"Tschechien",1,3,"England",20,40,0,"Mexiko",1,3,"England",40,80,0,"Mexiko",1,0,"Kroatien",20,40,0,"Elfenbeinküste",1,3,"England",20,40,0,"Mexiko",0,3,"England",40,80,0,"Mexiko",1,2,"England",40,80,0,"Südkorea",0,2,"England",20,40,0,"Südkorea",0,1,"Kroatien",0,0,0,"Mexiko",0,2,"England",40,80,0,null,{"$f":"_xlfn.TEXTJOIN(\", \",TRUE,_xlfn._xlws.FILTER(INDEX($J$4:$EM$4,1,_xlfn.SEQUENCE(1,(COLUMNS($J$4:$EM$4)-1)/7+1,1,7))&\" \"&INDEX($J$5:$EM$5,1,_xlfn.SEQUENCE(1,(COLUMNS($J$5:$EM$5)-1)/7+1,1,7)),INDEX($P31:$ES31,1,_xlfn.SEQUENCE(1,(COLUMNS($P31:$ES31)-1)/7+1,1,7))>0,\"\"))","v":""},null,""]
["Mo. 06. Jul","21:00:00",93,"Portugal","Spanien",0,1,null,null,"Kroatien",1,2,"Spanien",20,40,0,"Portugal",2,1,"Spanien",40,80,0,"Kolumbien",5,4,"Spanien",20,80,0,"Kroatien",1,2,"Spanien",20,40,0,"Kroatien",3,5,"Spanien",20,40,0,"England",1,2,"Spanien",20,80,0,"Kroatien",0,1,"Spanien",20,40,0,"Kroatien",2,4,"Spanien",20,40,0,"Kroatien",1,2,"Spanien",20,40,0,"Kolumbien",3,2,"Spanien",20,80,0,"Kroatien",0,3,"Spanien",20,40,0,"Kroatien",1,3,"Spanien",20,40,0,"Kolumbien",0,2,"Spanien",20,80,0,"England",0,2,"Spanien",20,80,0,"Kroatien",2,1,"Spanien",20,40,0,"Kroatien",1,3,"Spanien",20,40,0,"Kolumbien",2,1,"Spanien",20,80,0,"Kolumbien",0,2,"Spanien",20,80,0,"England",2,0,"Spanien",20,80,0,"Kolumbien",1,3,"Spanien",20,80,0,null,{"$f":"_xlfn.TEXTJOIN(\", \",TRUE,_xlfn._xlws.FILTER(INDEX($J$4:$EM$4,1,_xlfn.SEQUENCE(1,(COLUMNS($J$4:$EM$4)-1)/7+1,1,7))&\" \"&INDEX($J$5:$EM$5,1,_xlfn.SEQUENCE(1,(COLUMNS($J$5:$EM$5)-1)/7+1,1,7)),INDEX($P32:$ES32,1,_xlfn.SEQUENCE(1,(COLUMNS($P32:$ES32)-1)/7+1,1,7))>0,\"\"))","v":""},null,""]
["Di. 07. Jul","02:00:00",94,"USA","Belgien",1,4,null,null,"USA",1,2,"Belgien",40,80,0,"Türkei",1,2,"Belgien",20,40,0,"Türkei",3,1,"Senegal",0,0,0,"Türkei",5,4,"Belgien",20,40,0,"Türkei",2,1,"Belgien",20,40,0,"Türkei",0,1,"Belgien",20,40,0,"Türkei",0,2,"Belgien",20,40,0,"Australien",3,1,"Belgien",20,40,0,"USA",0,1,"Belgien",40,80,0,"Türkei",1,0,"Belgien",20,40,0,"USA",1,2,"Belgien",40,80,0,"Türkei",1,2,"Belgien",20,40,0,"Bosnien-Herz.",0,1,"Belgien",20,40,0,"Paraguay",3,1,"Algerien",0,40,0,"Türkei",3,2,"Belgien",20,40,0,"Türkei",2,1,"Belgien",20,40,0,"Kanada",1,2,"Belgien",20,80,0,"USA",0,1,"Belgien",40,80,0,"Türkei",0,1,"Belgien",20,40,0,"Senegal",1,2,"Belgien",20,40,0,null,{"$f":"_xlfn.TEXTJOIN(\", \",TRUE,_xlfn._xlws.FILTER(INDEX($J$4:$EM$4,1,_xlfn.SEQUENCE(1,(COLUMNS($J$4:$EM$4)-1)/7+1,1,7))&\" \"&INDEX($J$5:$EM$5,1,_xlfn.SEQUENCE(1,(COLUMNS($J$5:$EM$5)-1)/7+1,1,7)),INDEX($P33:$ES33,1,_xlfn.SEQUENCE(1,(COLUMNS($P33:$ES33)-1)/7+1,1,7))>0,\"\"))","v":""},null,""]
["Di. 07. Jul","18:00:00",95,"Argentinien","Ägypten",3,2,null,null,"Argentinien",2,1,"Türkei",20,40,0,"Argentinien",2,1,"Ägypten",40,80,0,"Argentinien",2,0,"Paraguay",20,80,0,"Argentinien",2,0,"USA",20,80,0,"Österreich",4,2,"USA",0,40,0,"Argentinien",2,0,"USA",20,80,0,"Argentinien",2,0,"Ägypten",40,80,0,"Argentinien",3,1,"USA",20,80,0,"Argentinien",1,0,"Türkei",20,40,0,"Argentinien",3,1,"USA",20,80,0,"Argentinien",2,0,"Paraguay",20,80,0,"Argentinien",2,0,"USA",20,80,0,"Argentinien",1,0,"Türkei",20,40,0,"Uruguay",3,1,"Türkei",0,0,0,"Argentinien",3,2,"Ägypten",40,80,50,"Argentinien",3,1,"Ägypten",40,80,0,"Argentinien",2,0,"Türkei",20,40,0,"Argentinien",2,0,"Ägypten",40,80,0,"Argentinien",2,1,"USA",20,80,0,"Argentinien",3,0,"USA",20,80,0,null,{"$f":"_xlfn.TEXTJOIN(\", \",TRUE,_xlfn._xlws.FILTER(INDEX($J$4:$EM$4,1,_xlfn.SEQUENCE(1,(COLUMNS($J$4:$EM$4)-1)/7+1,1,7))&\" \"&INDEX($J$5:$EM$5,1,_xlfn.SEQUENCE(1,(COLUMNS($J$5:$EM$5)-1)/7+1,1,7)),INDEX($P34:$ES34,1,_xlfn.SEQUENCE(1,(COLUMNS($P34:$ES34)-1)/7+1,1,7))>0,\"\"))","v":"Manuel Brunner"},null,"Manuel Brunner"]
["Di. 07. Jul","22:00:00",96,"Schweiz","Kolumbien",4,3,null,null,"Schweiz",1,2,"Portugal",20,80,0,"Schweiz",2,1,"Kolumbien",40,80,0,"Schweiz",1,3,"Portugal",20,80,0,"Schweiz",2,1,"Portugal",20,80,0,"Schweiz",1,2,"Portugal",20,80,0,"Schweiz",1,0,"Portugal",20,80,0,"Schweiz",1,2,"Portugal",20,80,0,"Schweiz",2,3,"Portugal",20,80,0,"Schweiz",1,0,"Portugal",20,80,0,"Schweiz",1,0,"Portugal",20,80,0,"Schweiz",1,2,"Portugal",20,80,0,"Schweiz",2,1,"Portugal",20,80,0,"Schweiz",1,2,"Portugal",20,80,0,"Schweiz",2,1,"Portugal",20,80,0,"Schweiz",6,5,"Portugal",20,80,0,"Schweiz",2,4,"Portugal",20,80,0,"Elfenbeinküste",1,2,"Portugal",0,40,0,"Schweiz",0,2,"Portugal",20,80,0,"Schweiz",0,1,"Portugal",20,80,0,"Schweiz",1,3,"Portugal",20,80,0,null,{"$f":"_xlfn.TEXTJOIN(\", \",TRUE,_xlfn._xlws.FILTER(INDEX($J$4:$EM$4,1,_xlfn.SEQUENCE(1,(COLUMNS($J$4:$EM$4)-1)/7+1,1,7))&\" \"&INDEX($J$5:$EM$5,1,_xlfn.SEQUENCE(1,(COLUMNS($J$5:$EM$5)-1)/7+1,1,7)),INDEX($P35:$ES35,1,_xlfn.SEQUENCE(1,(COLUMNS($P35:$ES35)-1)/7+1,1,7))>0,\"\"))","v":""},null,""]
["Viertelfinale",null,null,null,null,null,null,null,null,null,null,null,null,null,null,null,null,null,null,null,null,null,null,null,null,null,null,null,null,null,null,null,null,null,null,null,null,null,null,null,null,null,null,null,null,null,null,null,null,null,null,null,null,null,null,null,null,null,null,null,null,null,null,null,null,null,null,null,null,null,null,null,null,null,null,null,null,null,null,null,null,null,null,null,null,null,null,null,null,null,null,null,null,null,null,null,null,null,null,null,null,null,null,null,null,null,null,null,null,null,null,null,null,null,null,null,null,null,null,null,null,null,null,null,null,null,null,null,null,null,null,null,null,null,null,null,null,null,null,null,null,null,null,null,null,null,null,null,null,null,{"$f":"_xlfn.TEXTJOIN(\", \",TRUE,_xlfn._xlws.FILTER(INDEX($J$4:$EM$4,1,_xlfn.SEQUENCE(1,(COLUMNS($J$4:$EM$4)-1)/7+1,1,7))&\" \"&INDEX($J$5:$EM$5,1,_xlfn.SEQUENCE(1,(COLUMNS($J$5:$EM$5)-1)/7+1,1,7)),INDEX($P36:$ES36,1,_xlfn.SEQUENCE(1,(COLUMNS($P36:$ES36)-1)/7+1,1,7))>0,\"\"))","v":""},null,""]
["Do. 09. Jul","22:00:00",97,"Frankreich","Marokko",2,0,null,null,"Frankreich",2,1,"Holland",{"$f":"IF(OR(J37=\"\",M37=\"\"),0,IF(AND(J37=$D37,M37=$E37),60,IF(J37=$D37,30,IF(M37=$E37,30,IF(AND(J37<>$D37,M37<>$E37),0)))))","v":30},{"$f":"IF(COUNTIF($D$37:$E$40,M37),80,0)+IF(COUNTIF($D$37:$E$40,J37),80,0)","v":80},{"$f":"IF(OR(J37=\"\",M37=\"\"),0,IF(AND(J37=$D37,M37=$E37,K37=$F37,L37=$G37),70,0))","v":0},"Frankreich",2,1,"Holland",{"$f":"IF(OR(Q37=\"\",T37=\"\"),0,IF(AND(Q37=$D37,T37=$E37),60,IF(Q37=$D37,30,IF(T37=$E37,30,IF(AND(Q37<>$D37,T37<>$E37),0)))))","v":30},{"$f":"IF(COUNTIF($D$37:$E$40,T37),80,0)+IF(COUNTIF($D$37:$E$40,Q37),80,0)","v":80},{"$f":"IF(OR(Q37=\"\",T37=\"\"),0,IF(AND(Q37=$D37,T37=$E37,R37=$F37,S37=$G37),70,0))","v":0},"Frankreich",4,5,"Marokko",{"$f":"IF(OR(X37=\"\",AA37=\"\"),0,IF(AND(X37=$D37,AA37=$E37),60,IF(X37=$D37,30,IF(AA37=$E37,30,IF(AND(X37<>$D37,AA37<>$E37),0)))))","v":60},{"$f":"IF(COUNTIF($D$37:$E$40,AA37),80,0)+IF(COUNTIF($D$37:$E$40,X37),80,0)","v":160},{"$f":"IF(OR(X37=\"\",AA37=\"\"),0,IF(AND(X37=$D37,AA37=$E37,Y37=$F37,Z37=$G37),70,0))","v":0},"Frankreich",5,3,"Marokko",{"$f":"IF(OR(AE37=\"\",AH37=\"\"),0,IF(AND(AE37=$D37,AH37=$E37),60,IF(AE37=$D37,30,IF(AH37=$E37,30,IF(AND(AE37<>$D37,AH37<>$E37),0)))))","v":60},{"$f":"IF(COUNTIF($D$37:$E$40,AH37),80,0)+IF(COUNTIF($D$37:$E$40,AE37),80,0)","v":160},{"$f":"IF(OR(AE37=\"\",AH37=\"\"),0,IF(AND(AE37=$D37,AH37=$E37,AF37=$F37,AG37=$G37),70,0))","v":0},"Frankreich",3,2,"Marokko",{"$f":"IF(OR(AL37=\"\",AO37=\"\"),0,IF(AND(AL37=$D37,AO37=$E37),60,IF(AL37=$D37,30,IF(AO37=$E37,30,IF(AND(AL37<>$D37,AO37<>$E37),0)))))","v":60},{"$f":"IF(COUNTIF($D$37:$E$40,AO37),80,0)+IF(COUNTIF($D$37:$E$40,AL37),80,0)","v":160},{"$f":"IF(OR(AL37=\"\",AO37=\"\"),0,IF(AND(AL37=$D37,AO37=$E37,AM37=$F37,AN37=$G37),70,0))","v":0},"Frankreich",1,0,"Holland",{"$f":"IF(OR(AS37=\"\",AV37=\"\"),0,IF(AND(AS37=$D37,AV37=$E37),60,IF(AS37=$D37,30,IF(AV37=$E37,30,IF(AND(AS37<>$D37,AV37<>$E37),0)))))","v":30},{"$f":"IF(COUNTIF($D$37:$E$40,AV37),80,0)+IF(COUNTIF($D$37:$E$40,AS37),80,0)","v":80},{"$f":"IF(OR(AS37=\"\",AV37=\"\"),0,IF(AND(AS37=$D37,AV37=$E37,AT37=$F37,AU37=$G37),70,0))","v":0},"Deutschland",1,0,"Holland",{"$f":"IF(OR(AZ37=\"\",BC37=\"\"),0,IF(AND(AZ37=$D37,BC37=$E37),60,IF(AZ37=$D37,30,IF(BC37=$E37,30,IF(AND(AZ37<>$D37,BC37<>$E37),0)))))","v":0},{"$f":"IF(COUNTIF($D$37:$E$40,BC37),80,0)+IF(COUNTIF($D$37:$E$40,AZ37),80,0)","v":0},{"$f":"IF(OR(AZ37=\"\",BC37=\"\"),0,IF(AND(AZ37=$D37,BC37=$E37,BA37=$F37,BB37=$G37),70,0))","v":0},"Frankreich",4,3,"Kanada",{"$f":"IF(OR(BG37=\"\",BJ37=\"\"),0,IF(AND(BG37=$D37,BJ37=$E37),60,IF(BG37=$D37,30,IF(BJ37=$E37,30,IF(AND(BG37<>$D37,BJ37<>$E37),0)))))","v":30},{"$f":"IF(COUNTIF($D$37:$E$40,BJ37),80,0)+IF(COUNTIF($D$37:$E$40,BG37),80,0)","v":80},{"$f":"IF(OR(BG37=\"\",BJ37=\"\"),0,IF(AND(BG37=$D37,BJ37=$E37,BH37=$F37,BI37=$G37),70,0))","v":0},"Frankreich",2,3,"Holland",{"$f":"IF(OR(BN37=\"\",BQ37=\"\"),0,IF(AND(BN37=$D37,BQ37=$E37),60,IF(BN37=$D37,30,IF(BQ37=$E37,30,IF(AND(BN37<>$D37,BQ37<>$E37),0)))))","v":30},{"$f":"IF(COUNTIF($D$37:$E$40,BQ37),80,0)+IF(COUNTIF($D$37:$E$40,BN37),80,0)","v":80},{"$f":"IF(OR(BN37=\"\",BQ37=\"\"),0,IF(AND(BN37=$D37,BQ37=$E37,BO37=$F37,BP37=$G37),70,0))","v":0},"Frankreich",2,3,"Holland",{"$f":"IF(OR(BU37=\"\",BX37=\"\"),0,IF(AND(BU37=$D37,BX37=$E37),60,IF(BU37=$D37,30,IF(BX37=$E37,30,IF(AND(BU37<>$D37,BX37<>$E37),0)))))","v":30},{"$f":"IF(COUNTIF($D$37:$E$40,BX37),80,0)+IF(COUNTIF($D$37:$E$40,BU37),80,0)","v":80},{"$f":"IF(OR(BU37=\"\",BX37=\"\"),0,IF(AND(BU37=$D37,BX37=$E37,BV37=$F37,BW37=$G37),70,0))","v":0},"Frankreich",2,1,"Holland",{"$f":"IF(OR(CB37=\"\",CE37=\"\"),0,IF(AND(CB37=$D37,CE37=$E37),60,IF(CB37=$D37,30,IF(CE37=$E37,30,IF(AND(CB37<>$D37,CE37<>$E37),0)))))","v":30},{"$f":"IF(COUNTIF($D$37:$E$40,CE37),80,0)+IF(COUNTIF($D$37:$E$40,CB37),80,0)","v":80},{"$f":"IF(OR(CB37=\"\",CE37=\"\"),0,IF(AND(CB37=$D37,CE37=$E37,CC37=$F37,CD37=$G37),70,0))","v":0},"Frankreich",2,0,"Holland",{"$f":"IF(OR(CI37=\"\",CL37=\"\"),0,IF(AND(CI37=$D37,CL37=$E37),60,IF(CI37=$D37,30,IF(CL37=$E37,30,IF(AND(CI37<>$D37,CL37<>$E37),0)))))","v":30},{"$f":"IF(COUNTIF($D$37:$E$40,CL37),80,0)+IF(COUNTIF($D$37:$E$40,CI37),80,0)","v":80},{"$f":"IF(OR(CI37=\"\",CL37=\"\"),0,IF(AND(CI37=$D37,CL37=$E37,CJ37=$F37,CK37=$G37),70,0))","v":0},"Frankreich",2,1,"Kanada",{"$f":"IF(OR(CP37=\"\",CS37=\"\"),0,IF(AND(CP37=$D37,CS37=$E37),60,IF(CP37=$D37,30,IF(CS37=$E37,30,IF(AND(CP37<>$D37,CS37<>$E37),0)))))","v":30},{"$f":"IF(COUNTIF($D$37:$E$40,CS37),80,0)+IF(COUNTIF($D$37:$E$40,CP37),80,0)","v":80},{"$f":"IF(OR(CP37=\"\",CS37=\"\"),0,IF(AND(CP37=$D37,CS37=$E37,CQ37=$F37,CR37=$G37),70,0))","v":0},"Deutschland",3,0,"Marokko",{"$f":"IF(OR(CW37=\"\",CZ37=\"\"),0,IF(AND(CW37=$D37,CZ37=$E37),60,IF(CW37=$D37,30,IF(CZ37=$E37,30,IF(AND(CW37<>$D37,CZ37<>$E37),0)))))","v":30},{"$f":"IF(COUNTIF($D$37:$E$40,CZ37),80,0)+IF(COUNTIF($D$37:$E$40,CW37),80,0)","v":80},{"$f":"IF(OR(CW37=\"\",CZ37=\"\"),0,IF(AND(CW37=$D37,CZ37=$E37,CX37=$F37,CY37=$G37),70,0))","v":0},"Frankreich",5,3,"Marokko",{"$f":"IF(OR(DD37=\"\",DG37=\"\"),0,IF(AND(DD37=$D37,DG37=$E37),60,IF(DD37=$D37,30,IF(DG37=$E37,30,IF(AND(DD37<>$D37,DG37<>$E37),0)))))","v":60},{"$f":"IF(COUNTIF($D$37:$E$40,DG37),80,0)+IF(COUNTIF($D$37:$E$40,DD37),80,0)","v":160},{"$f":"IF(OR(DD37=\"\",DG37=\"\"),0,IF(AND(DD37=$D37,DG37=$E37,DE37=$F37,DF37=$G37),70,0))","v":0},"Frankreich",2,0,"Marokko",{"$f":"IF(OR(DK37=\"\",DN37=\"\"),0,IF(AND(DK37=$D37,DN37=$E37),60,IF(DK37=$D37,30,IF(DN37=$E37,30,IF(AND(DK37<>$D37,DN37<>$E37),0)))))","v":60},{"$f":"IF(COUNTIF($D$37:$E$40,DN37),80,0)+IF(COUNTIF($D$37:$E$40,DK37),80,0)","v":160},{"$f":"IF(OR(DK37=\"\",DN37=\"\"),0,IF(AND(DK37=$D37,DN37=$E37,DL37=$F37,DM37=$G37),70,0))","v":70},"Frankreich",2,1,"Marokko",{"$f":"IF(OR(DR37=\"\",DU37=\"\"),0,IF(AND(DR37=$D37,DU37=$E37),60,IF(DR37=$D37,30,IF(DU37=$E37,30,IF(AND(DR37<>$D37,DU37<>$E37),0)))))","v":60},{"$f":"IF(COUNTIF($D$37:$E$40,DU37),80,0)+IF(COUNTIF($D$37:$E$40,DR37),80,0)","v":160},{"$f":"IF(OR(DR37=\"\",DU37=\"\"),0,IF(AND(DR37=$D37,DU37=$E37,DS37=$F37,DT37=$G37),70,0))","v":0},"Frankreich",2,1,"Holland",{"$f":"IF(OR(DY37=\"\",EB37=\"\"),0,IF(AND(DY37=$D37,EB37=$E37),60,IF(DY37=$D37,30,IF(EB37=$E37,30,IF(AND(DY37<>$D37,EB37<>$E37),0)))))","v":30},{"$f":"IF(COUNTIF($D$37:$E$40,EB37),80,0)+IF(COUNTIF($D$37:$E$40,DY37),80,0)","v":80},{"$f":"IF(OR(DY37=\"\",EB37=\"\"),0,IF(AND(DY37=$D37,EB37=$E37,DZ37=$F37,EA37=$G37),70,0))","v":0},"Frankreich",2,1,"Holland",{"$f":"IF(OR(EF37=\"\",EI37=\"\"),0,IF(AND(EF37=$D37,EI37=$E37),60,IF(EF37=$D37,30,IF(EI37=$E37,30,IF(AND(EF37<>$D37,EI37<>$E37),0)))))","v":30},{"$f":"IF(COUNTIF($D$37:$E$40,EI37),80,0)+IF(COUNTIF($D$37:$E$40,EF37),80,0)","v":80},{"$f":"IF(OR(EF37=\"\",EI37=\"\"),0,IF(AND(EF37=$D37,EI37=$E37,EG37=$F37,EH37=$G37),70,0))","v":0},"Frankreich",1,0,"Brasilien",{"$f":"IF(OR(EM37=\"\",EP37=\"\"),0,IF(AND(EM37=$D37,EP37=$E37),60,IF(EM37=$D37,30,IF(EP37=$E37,30,IF(AND(EM37<>$D37,EP37<>$E37),0)))))","v":30},{"$f":"IF(COUNTIF($D$37:$E$40,EP37),80,0)+IF(COUNTIF($D$37:$E$40,EM37),80,0)","v":80},{"$f":"IF(OR(EM37=\"\",EP37=\"\"),0,IF(AND(EM37=$D37,EP37=$E37,EN37=$F37,EO37=$G37),70,0))","v":0},null,{"$f":"_xlfn.TEXTJOIN(\", \",TRUE,_xlfn._xlws.FILTER(INDEX($J$4:$EM$4,1,_xlfn.SEQUENCE(1,(COLUMNS($J$4:$EM$4)-1)/7+1,1,7))&\" \"&INDEX($J$5:$EM$5,1,_xlfn.SEQUENCE(1,(COLUMNS($J$5:$EM$5)-1)/7+1,1,7)),INDEX($P37:$ES37,1,_xlfn.SEQUENCE(1,(COLUMNS($P37:$ES37)-1)/7+1,1,7))>0,\"\"))","v":"Nicolas Brunner"},null,"Nicolas Brunner, Leo Rodrigues da Costa, Rafael Derungs, Armin Duvnjak, Julian Merkli"]
["Fr. 10. Jul","21:00:00",98,"Spanien","Belgien",2,1,null,null,"Spanien",2,1,"Belgien",{"$f":"IF(OR(J38=\"\",M38=\"\"),0,IF(AND(J38=$D38,M38=$E38),60,IF(J38=$D38,30,IF(M38=$E38,30,IF(AND(J38<>$D38,M38<>$E38),0)))))","v":60},{"$f":"IF(COUNTIF($D$37:$E$40,M38),80,0)+IF(COUNTIF($D$37:$E$40,J38),80,0)","v":160},{"$f":"IF(OR(J38=\"\",M38=\"\"),0,IF(AND(J38=$D38,M38=$E38,K38=$F38,L38=$G38),70,0))","v":70},"Portugal",2,1,"Belgien",{"$f":"IF(OR(Q38=\"\",T38=\"\"),0,IF(AND(Q38=$D38,T38=$E38),60,IF(Q38=$D38,30,IF(T38=$E38,30,IF(AND(Q38<>$D38,T38<>$E38),0)))))","v":30},{"$f":"IF(COUNTIF($D$37:$E$40,T38),80,0)+IF(COUNTIF($D$37:$E$40,Q38),80,0)","v":80},{"$f":"IF(OR(Q38=\"\",T38=\"\"),0,IF(AND(Q38=$D38,T38=$E38,R38=$F38,S38=$G38),70,0))","v":0},"Kolumbien",3,1,"Türkei",{"$f":"IF(OR(X38=\"\",AA38=\"\"),0,IF(AND(X38=$D38,AA38=$E38),60,IF(X38=$D38,30,IF(AA38=$E38,30,IF(AND(X38<>$D38,AA38<>$E38),0)))))","v":0},{"$f":"IF(COUNTIF($D$37:$E$40,AA38),80,0)+IF(COUNTIF($D$37:$E$40,X38),80,0)","v":0},{"$f":"IF(OR(X38=\"\",AA38=\"\"),0,IF(AND(X38=$D38,AA38=$E38,Y38=$F38,Z38=$G38),70,0))","v":0},"Spanien",2,1,"Türkei",{"$f":"IF(OR(AE38=\"\",AH38=\"\"),0,IF(AND(AE38=$D38,AH38=$E38),60,IF(AE38=$D38,30,IF(AH38=$E38,30,IF(AND(AE38<>$D38,AH38<>$E38),0)))))","v":30},{"$f":"IF(COUNTIF($D$37:$E$40,AH38),80,0)+IF(COUNTIF($D$37:$E$40,AE38),80,0)","v":80},{"$f":"IF(OR(AE38=\"\",AH38=\"\"),0,IF(AND(AE38=$D38,AH38=$E38,AF38=$F38,AG38=$G38),70,0))","v":0},"Spanien",2,1,"Türkei",{"$f":"IF(OR(AL38=\"\",AO38=\"\"),0,IF(AND(AL38=$D38,AO38=$E38),60,IF(AL38=$D38,30,IF(AO38=$E38,30,IF(AND(AL38<>$D38,AO38<>$E38),0)))))","v":30},{"$f":"IF(COUNTIF($D$37:$E$40,AO38),80,0)+IF(COUNTIF($D$37:$E$40,AL38),80,0)","v":80},{"$f":"IF(OR(AL38=\"\",AO38=\"\"),0,IF(AND(AL38=$D38,AO38=$E38,AM38=$F38,AN38=$G38),70,0))","v":0},"Spanien",2,1,"Belgien",{"$f":"IF(OR(AS38=\"\",AV38=\"\"),0,IF(AND(AS38=$D38,AV38=$E38),60,IF(AS38=$D38,30,IF(AV38=$E38,30,IF(AND(AS38<>$D38,AV38<>$E38),0)))))","v":60},{"$f":"IF(COUNTIF($D$37:$E$40,AV38),80,0)+IF(COUNTIF($D$37:$E$40,AS38),80,0)","v":160},{"$f":"IF(OR(AS38=\"\",AV38=\"\"),0,IF(AND(AS38=$D38,AV38=$E38,AT38=$F38,AU38=$G38),70,0))","v":70},"Spanien",1,0,"Belgien",{"$f":"IF(OR(AZ38=\"\",BC38=\"\"),0,IF(AND(AZ38=$D38,BC38=$E38),60,IF(AZ38=$D38,30,IF(BC38=$E38,30,IF(AND(AZ38<>$D38,BC38<>$E38),0)))))","v":60},{"$f":"IF(COUNTIF($D$37:$E$40,BC38),80,0)+IF(COUNTIF($D$37:$E$40,AZ38),80,0)","v":160},{"$f":"IF(OR(AZ38=\"\",BC38=\"\"),0,IF(AND(AZ38=$D38,BC38=$E38,BA38=$F38,BB38=$G38),70,0))","v":0},"Spanien",3,2,"Australien",{"$f":"IF(OR(BG38=\"\",BJ38=\"\"),0,IF(AND(BG38=$D38,BJ38=$E38),60,IF(BG38=$D38,30,IF(BJ38=$E38,30,IF(AND(BG38<>$D38,BJ38<>$E38),0)))))","v":30},{"$f":"IF(COUNTIF($D$37:$E$40,BJ38),80,0)+IF(COUNTIF($D$37:$E$40,BG38),80,0)","v":80},{"$f":"IF(OR(BG38=\"\",BJ38=\"\"),0,IF(AND(BG38=$D38,BJ38=$E38,BH38=$F38,BI38=$G38),70,0))","v":0},"Spanien",2,1,"Belgien",{"$f":"IF(OR(BN38=\"\",BQ38=\"\"),0,IF(AND(BN38=$D38,BQ38=$E38),60,IF(BN38=$D38,30,IF(BQ38=$E38,30,IF(AND(BN38<>$D38,BQ38<>$E38),0)))))","v":60},{"$f":"IF(COUNTIF($D$37:$E$40,BQ38),80,0)+IF(COUNTIF($D$37:$E$40,BN38),80,0)","v":160},{"$f":"IF(OR(BN38=\"\",BQ38=\"\"),0,IF(AND(BN38=$D38,BQ38=$E38,BO38=$F38,BP38=$G38),70,0))","v":70},"Kolumbien",2,3,"Türkei",{"$f":"IF(OR(BU38=\"\",BX38=\"\"),0,IF(AND(BU38=$D38,BX38=$E38),60,IF(BU38=$D38,30,IF(BX38=$E38,30,IF(AND(BU38<>$D38,BX38<>$E38),0)))))","v":0},{"$f":"IF(COUNTIF($D$37:$E$40,BX38),80,0)+IF(COUNTIF($D$37:$E$40,BU38),80,0)","v":0},{"$f":"IF(OR(BU38=\"\",BX38=\"\"),0,IF(AND(BU38=$D38,BX38=$E38,BV38=$F38,BW38=$G38),70,0))","v":0},"Spanien",2,1,"Belgien",{"$f":"IF(OR(CB38=\"\",CE38=\"\"),0,IF(AND(CB38=$D38,CE38=$E38),60,IF(CB38=$D38,30,IF(CE38=$E38,30,IF(AND(CB38<>$D38,CE38<>$E38),0)))))","v":60},{"$f":"IF(COUNTIF($D$37:$E$40,CE38),80,0)+IF(COUNTIF($D$37:$E$40,CB38),80,0)","v":160},{"$f":"IF(OR(CB38=\"\",CE38=\"\"),0,IF(AND(CB38=$D38,CE38=$E38,CC38=$F38,CD38=$G38),70,0))","v":70},"Spanien",2,1,"Belgien",{"$f":"IF(OR(CI38=\"\",CL38=\"\"),0,IF(AND(CI38=$D38,CL38=$E38),60,IF(CI38=$D38,30,IF(CL38=$E38,30,IF(AND(CI38<>$D38,CL38<>$E38),0)))))","v":60},{"$f":"IF(COUNTIF($D$37:$E$40,CL38),80,0)+IF(COUNTIF($D$37:$E$40,CI38),80,0)","v":160},{"$f":"IF(OR(CI38=\"\",CL38=\"\"),0,IF(AND(CI38=$D38,CL38=$E38,CJ38=$F38,CK38=$G38),70,0))","v":70},"Spanien",3,2,"Belgien",{"$f":"IF(OR(CP38=\"\",CS38=\"\"),0,IF(AND(CP38=$D38,CS38=$E38),60,IF(CP38=$D38,30,IF(CS38=$E38,30,IF(AND(CP38<>$D38,CS38<>$E38),0)))))","v":60},{"$f":"IF(COUNTIF($D$37:$E$40,CS38),80,0)+IF(COUNTIF($D$37:$E$40,CP38),80,0)","v":160},{"$f":"IF(OR(CP38=\"\",CS38=\"\"),0,IF(AND(CP38=$D38,CS38=$E38,CQ38=$F38,CR38=$G38),70,0))","v":0},"Spanien",0,2,"Paraguay",{"$f":"IF(OR(CW38=\"\",CZ38=\"\"),0,IF(AND(CW38=$D38,CZ38=$E38),60,IF(CW38=$D38,30,IF(CZ38=$E38,30,IF(AND(CW38<>$D38,CZ38<>$E38),0)))))","v":30},{"$f":"IF(COUNTIF($D$37:$E$40,CZ38),80,0)+IF(COUNTIF($D$37:$E$40,CW38),80,0)","v":80},{"$f":"IF(OR(CW38=\"\",CZ38=\"\"),0,IF(AND(CW38=$D38,CZ38=$E38,CX38=$F38,CY38=$G38),70,0))","v":0},"Kroatien",2,4,"Türkei",{"$f":"IF(OR(DD38=\"\",DG38=\"\"),0,IF(AND(DD38=$D38,DG38=$E38),60,IF(DD38=$D38,30,IF(DG38=$E38,30,IF(AND(DD38<>$D38,DG38<>$E38),0)))))","v":0},{"$f":"IF(COUNTIF($D$37:$E$40,DG38),80,0)+IF(COUNTIF($D$37:$E$40,DD38),80,0)","v":0},{"$f":"IF(OR(DD38=\"\",DG38=\"\"),0,IF(AND(DD38=$D38,DG38=$E38,DE38=$F38,DF38=$G38),70,0))","v":0},"Spanien",4,1,"Türkei",{"$f":"IF(OR(DK38=\"\",DN38=\"\"),0,IF(AND(DK38=$D38,DN38=$E38),60,IF(DK38=$D38,30,IF(DN38=$E38,30,IF(AND(DK38<>$D38,DN38<>$E38),0)))))","v":30},{"$f":"IF(COUNTIF($D$37:$E$40,DN38),80,0)+IF(COUNTIF($D$37:$E$40,DK38),80,0)","v":80},{"$f":"IF(OR(DK38=\"\",DN38=\"\"),0,IF(AND(DK38=$D38,DN38=$E38,DL38=$F38,DM38=$G38),70,0))","v":0},"Kolumbien",2,1,"Belgien",{"$f":"IF(OR(DR38=\"\",DU38=\"\"),0,IF(AND(DR38=$D38,DU38=$E38),60,IF(DR38=$D38,30,IF(DU38=$E38,30,IF(AND(DR38<>$D38,DU38<>$E38),0)))))","v":30},{"$f":"IF(COUNTIF($D$37:$E$40,DU38),80,0)+IF(COUNTIF($D$37:$E$40,DR38),80,0)","v":80},{"$f":"IF(OR(DR38=\"\",DU38=\"\"),0,IF(AND(DR38=$D38,DU38=$E38,DS38=$F38,DT38=$G38),70,0))","v":0},"Spanien",2,0,"Belgien",{"$f":"IF(OR(DY38=\"\",EB38=\"\"),0,IF(AND(DY38=$D38,EB38=$E38),60,IF(DY38=$D38,30,IF(EB38=$E38,30,IF(AND(DY38<>$D38,EB38<>$E38),0)))))","v":60},{"$f":"IF(COUNTIF($D$37:$E$40,EB38),80,0)+IF(COUNTIF($D$37:$E$40,DY38),80,0)","v":160},{"$f":"IF(OR(DY38=\"\",EB38=\"\"),0,IF(AND(DY38=$D38,EB38=$E38,DZ38=$F38,EA38=$G38),70,0))","v":0},"England",2,0,"Belgien",{"$f":"IF(OR(EF38=\"\",EI38=\"\"),0,IF(AND(EF38=$D38,EI38=$E38),60,IF(EF38=$D38,30,IF(EI38=$E38,30,IF(AND(EF38<>$D38,EI38<>$E38),0)))))","v":30},{"$f":"IF(COUNTIF($D$37:$E$40,EI38),80,0)+IF(COUNTIF($D$37:$E$40,EF38),80,0)","v":160},{"$f":"IF(OR(EF38=\"\",EI38=\"\"),0,IF(AND(EF38=$D38,EI38=$E38,EG38=$F38,EH38=$G38),70,0))","v":0},"Spanien",2,0,"Belgien",{"$f":"IF(OR(EM38=\"\",EP38=\"\"),0,IF(AND(EM38=$D38,EP38=$E38),60,IF(EM38=$D38,30,IF(EP38=$E38,30,IF(AND(EM38<>$D38,EP38<>$E38),0)))))","v":60},{"$f":"IF(COUNTIF($D$37:$E$40,EP38),80,0)+IF(COUNTIF($D$37:$E$40,EM38),80,0)","v":160},{"$f":"IF(OR(EM38=\"\",EP38=\"\"),0,IF(AND(EM38=$D38,EP38=$E38,EN38=$F38,EO38=$G38),70,0))","v":0},null,{"$f":"_xlfn.TEXTJOIN(\", \",TRUE,_xlfn._xlws.FILTER(INDEX($J$4:$EM$4,1,_xlfn.SEQUENCE(1,(COLUMNS($J$4:$EM$4)-1)/7+1,1,7))&\" \"&INDEX($J$5:$EM$5,1,_xlfn.SEQUENCE(1,(COLUMNS($J$5:$EM$5)-1)/7+1,1,7)),INDEX($P38:$ES38,1,_xlfn.SEQUENCE(1,(COLUMNS($P38:$ES38)-1)/7+1,1,7))>0,\"\"))","v":"Panos Agorastos, Peter Balazs, Philippe Bartholet, Mara Beck, Pongsapat Nott Boonaek"},null,"Panos Agorastos, Peter Balazs, Philippe Bartholet, Mara Beck, Pongsapat Nott Boonaek, Dino Duvnjak, Djuma Duvnjak, Deliz González, Florian González, Andreas Isenschmid, Michael Isenschmid, Tanja Kistler, Marc Lütolf, Nicolas Mack, Julian Merkli, Martin Oroshi, Aleandro Silvestri, Stefan Wullschleger"]
["Sa. 11. Jul","23:00:00",99,"Norwegen","England",1,2,null,null,"Brasilien",2,1,"England",30,80,0,"Brasilien",2,1,"England",30,80,0,"Brasilien",2,1,"Mexiko",0,0,0,"Brasilien",5,4,"England",30,80,0,"Brasilien",5,4,"England",30,80,0,"Brasilien",1,0,"Kroatien",0,0,0,"Frankreich",1,0,"England",30,160,0,"Brasilien",2,3,"England",30,80,0,"Brasilien",2,0,"England",30,80,0,"Brasilien",3,1,"England",30,80,0,"Brasilien",1,2,"England",30,80,0,"Norwegen",1,0,"England",60,160,0,"Brasilien",0,2,"England",30,80,0,"Japan",2,1,"Mexiko",0,0,0,"Brasilien",3,2,"England",30,80,0,"Brasilien",6,5,"England",30,80,0,"Brasilien",1,2,"England",30,80,0,"Brasilien",1,0,"England",30,80,0,"Brasilien",1,0,"Kroatien",0,0,0,"Marokko",1,3,"England",30,160,0,null,{"$f":"_xlfn.TEXTJOIN(\", \",TRUE,_xlfn._xlws.FILTER(INDEX($J$4:$EM$4,1,_xlfn.SEQUENCE(1,(COLUMNS($J$4:$EM$4)-1)/7+1,1,7))&\" \"&INDEX($J$5:$EM$5,1,_xlfn.SEQUENCE(1,(COLUMNS($J$5:$EM$5)-1)/7+1,1,7)),INDEX($P39:$ES39,1,_xlfn.SEQUENCE(1,(COLUMNS($P39:$ES39)-1)/7+1,1,7))>0,\"\"))","v":""},null,"Agnes Isenschmid, Marc Lütolf"]
["So. 12. Jul","03:00:00",100,"Argentinien","Schweiz",3,1,null,null,"Argentinien",1,2,"Portugal",30,80,0,"Argentinien",1,2,"Schweiz",60,160,0,"Argentinien",2,0,"Portugal",30,80,0,"Argentinien",2,0,"Schweiz",60,160,0,"Österreich",1,3,"Portugal",0,0,0,"Argentinien",1,0,"Schweiz",60,160,0,"Argentinien",1,0,"Portugal",30,80,0,"Argentinien",4,3,"Portugal",30,80,0,"Argentinien",3,2,"Schweiz",60,160,0,"Argentinien",3,4,"Schweiz",60,160,0,"Argentinien",2,1,"Portugal",30,80,0,"Argentinien",2,1,"Schweiz",60,160,0,"Argentinien",2,1,"Portugal",30,80,0,"Uruguay",0,1,"Schweiz",30,80,0,"Argentinien",2,1,"Schweiz",60,160,0,"Argentinien",6,5,"Portugal",30,80,0,"Argentinien",1,2,"Portugal",30,80,0,"Argentinien",1,0,"Portugal",30,80,0,"Argentinien",2,0,"Portugal",30,80,0,"Argentinien",1,2,"Portugal",30,80,0,null,{"$f":"_xlfn.TEXTJOIN(\", \",TRUE,_xlfn._xlws.FILTER(INDEX($J$4:$EM$4,1,_xlfn.SEQUENCE(1,(COLUMNS($J$4:$EM$4)-1)/7+1,1,7))&\" \"&INDEX($J$5:$EM$5,1,_xlfn.SEQUENCE(1,(COLUMNS($J$5:$EM$5)-1)/7+1,1,7)),INDEX($P40:$ES40,1,_xlfn.SEQUENCE(1,(COLUMNS($P40:$ES40)-1)/7+1,1,7))>0,\"\"))","v":""},null,"Mauro Marini, Sabine Rüegg"]
["Halbfinale",null,null,null,null,null,null,null,null,null,null,null,null,null,null,null,null,null,null,null,null,null,null,null,null,null,null,null,null,null,null,null,null,null,null,null,null,null,null,null,null,null,null,null,null,null,null,null,null,null,null,null,null,null,null,null,null,null,null,null,null,null,null,null,null,null,null,null,null,null,null,null,null,null,null,null,null,null,null,null,null,null,null,null,null,null,null,null,null,null,null,null,null,null,null,null,null,null,null,null,null,null,null,null,null,null,null,null,null,null,null,null,null,null,null,null,null,null,null,null,null,null,null,null,null,null,null,null,null,null,null,null,null,null,null,null,null,null,null,null,null,null,null,null,null,null,null,null,null,null,{"$f":"_xlfn.TEXTJOIN(\", \",TRUE,_xlfn._xlws.FILTER(INDEX($J$4:$EM$4,1,_xlfn.SEQUENCE(1,(COLUMNS($J$4:$EM$4)-1)/7+1,1,7))&\" \"&INDEX($J$5:$EM$5,1,_xlfn.SEQUENCE(1,(COLUMNS($J$5:$EM$5)-1)/7+1,1,7)),INDEX($P41:$ES41,1,_xlfn.SEQUENCE(1,(COLUMNS($P41:$ES41)-1)/7+1,1,7))>0,\"\"))","v":""},null,""]
["Di. 14. Jul","21:00:00",101,"Frankreich","Spanien",0,2,null,null,"Frankreich",2,1,"Spanien",{"$f":"IF(OR(J42=\"\",M42=\"\"),0,IF(AND(J42=$D42,M42=$E42),80,IF(J42=$D42,40,IF(M42=$E42,40,IF(AND(J42<>$D42,M42<>$E42),0)))))","v":80},{"$f":"IF(COUNTIF($D$42:$E$43,M42),100,0)+IF(COUNTIF($D$42:$E$43,J42),100,0)","v":200},{"$f":"IF(OR(J42=\"\",M42=\"\"),0,IF(AND(J42=$D42,M42=$E42,K42=$F42,L42=$G42),100,0))","v":0},"Frankreich",1,2,"Portugal",{"$f":"IF(OR(Q42=\"\",T42=\"\"),0,IF(AND(Q42=$D42,T42=$E42),80,IF(Q42=$D42,40,IF(T42=$E42,40,IF(AND(Q42<>$D42,T42<>$E42),0)))))","v":40},{"$f":"IF(COUNTIF($D$42:$E$43,T42),100,0)+IF(COUNTIF($D$42:$E$43,Q42),100,0)","v":100},{"$f":"IF(OR(Q42=\"\",T42=\"\"),0,IF(AND(Q42=$D42,T42=$E42,R42=$F42,S42=$G42),100,0))","v":0},"Marokko",4,3,"Kolumbien",{"$f":"IF(OR(X42=\"\",AA42=\"\"),0,IF(AND(X42=$D42,AA42=$E42),80,IF(X42=$D42,40,IF(AA42=$E42,40,IF(AND(X42<>$D42,AA42<>$E42),0)))))","v":0},{"$f":"IF(COUNTIF($D$42:$E$43,AA42),100,0)+IF(COUNTIF($D$42:$E$43,X42),100,0)","v":0},{"$f":"IF(OR(X42=\"\",AA42=\"\"),0,IF(AND(X42=$D42,AA42=$E42,Y42=$F42,Z42=$G42),100,0))","v":0},"Frankreich",1,2,"Spanien",{"$f":"IF(OR(AE42=\"\",AH42=\"\"),0,IF(AND(AE42=$D42,AH42=$E42),80,IF(AE42=$D42,40,IF(AH42=$E42,40,IF(AND(AE42<>$D42,AH42<>$E42),0)))))","v":80},{"$f":"IF(COUNTIF($D$42:$E$43,AH42),100,0)+IF(COUNTIF($D$42:$E$43,AE42),100,0)","v":200},{"$f":"IF(OR(AE42=\"\",AH42=\"\"),0,IF(AND(AE42=$D42,AH42=$E42,AF42=$F42,AG42=$G42),100,0))","v":0},"Frankreich",5,3,"Spanien",{"$f":"IF(OR(AL42=\"\",AO42=\"\"),0,IF(AND(AL42=$D42,AO42=$E42),80,IF(AL42=$D42,40,IF(AO42=$E42,40,IF(AND(AL42<>$D42,AO42<>$E42),0)))))","v":80},{"$f":"IF(COUNTIF($D$42:$E$43,AO42),100,0)+IF(COUNTIF($D$42:$E$43,AL42),100,0)","v":200},{"$f":"IF(OR(AL42=\"\",AO42=\"\"),0,IF(AND(AL42=$D42,AO42=$E42,AM42=$F42,AN42=$G42),100,0))","v":0},"Frankreich",2,1,"Spanien",{"$f":"IF(OR(AS42=\"\",AV42=\"\"),0,IF(AND(AS42=$D42,AV42=$E42),80,IF(AS42=$D42,40,IF(AV42=$E42,40,IF(AND(AS42<>$D42,AV42<>$E42),0)))))","v":80},{"$f":"IF(COUNTIF($D$42:$E$43,AV42),100,0)+IF(COUNTIF($D$42:$E$43,AS42),100,0)","v":200},{"$f":"IF(OR(AS42=\"\",AV42=\"\"),0,IF(AND(AS42=$D42,AV42=$E42,AT42=$F42,AU42=$G42),100,0))","v":0},"Deutschland",0,1,"Spanien",{"$f":"IF(OR(AZ42=\"\",BC42=\"\"),0,IF(AND(AZ42=$D42,BC42=$E42),80,IF(AZ42=$D42,40,IF(BC42=$E42,40,IF(AND(AZ42<>$D42,BC42<>$E42),0)))))","v":40},{"$f":"IF(COUNTIF($D$42:$E$43,BC42),100,0)+IF(COUNTIF($D$42:$E$43,AZ42),100,0)","v":100},{"$f":"IF(OR(AZ42=\"\",BC42=\"\"),0,IF(AND(AZ42=$D42,BC42=$E42,BA42=$F42,BB42=$G42),100,0))","v":0},"Frankreich",3,4,"Spanien",{"$f":"IF(OR(BG42=\"\",BJ42=\"\"),0,IF(AND(BG42=$D42,BJ42=$E42),80,IF(BG42=$D42,40,IF(BJ42=$E42,40,IF(AND(BG42<>$D42,BJ42<>$E42),0)))))","v":80},{"$f":"IF(COUNTIF($D$42:$E$43,BJ42),100,0)+IF(COUNTIF($D$42:$E$43,BG42),100,0)","v":200},{"$f":"IF(OR(BG42=\"\",BJ42=\"\"),0,IF(AND(BG42=$D42,BJ42=$E42,BH42=$F42,BI42=$G42),100,0))","v":0},"Holland",1,0,"Spanien",{"$f":"IF(OR(BN42=\"\",BQ42=\"\"),0,IF(AND(BN42=$D42,BQ42=$E42),80,IF(BN42=$D42,40,IF(BQ42=$E42,40,IF(AND(BN42<>$D42,BQ42<>$E42),0)))))","v":40},{"$f":"IF(COUNTIF($D$42:$E$43,BQ42),100,0)+IF(COUNTIF($D$42:$E$43,BN42),100,0)","v":100},{"$f":"IF(OR(BN42=\"\",BQ42=\"\"),0,IF(AND(BN42=$D42,BQ42=$E42,BO42=$F42,BP42=$G42),100,0))","v":0},"Holland",0,2,"Türkei",{"$f":"IF(OR(BU42=\"\",BX42=\"\"),0,IF(AND(BU42=$D42,BX42=$E42),80,IF(BU42=$D42,40,IF(BX42=$E42,40,IF(AND(BU42<>$D42,BX42<>$E42),0)))))","v":0},{"$f":"IF(COUNTIF($D$42:$E$43,BX42),100,0)+IF(COUNTIF($D$42:$E$43,BU42),100,0)","v":0},{"$f":"IF(OR(BU42=\"\",BX42=\"\"),0,IF(AND(BU42=$D42,BX42=$E42,BV42=$F42,BW42=$G42),100,0))","v":0},"Frankreich",1,2,"Spanien",{"$f":"IF(OR(CB42=\"\",CE42=\"\"),0,IF(AND(CB42=$D42,CE42=$E42),80,IF(CB42=$D42,40,IF(CE42=$E42,40,IF(AND(CB42<>$D42,CE42<>$E42),0)))))","v":80},{"$f":"IF(COUNTIF($D$42:$E$43,CE42),100,0)+IF(COUNTIF($D$42:$E$43,CB42),100,0)","v":200},{"$f":"IF(OR(CB42=\"\",CE42=\"\"),0,IF(AND(CB42=$D42,CE42=$E42,CC42=$F42,CD42=$G42),100,0))","v":0},"Frankreich",1,0,"Spanien",{"$f":"IF(OR(CI42=\"\",CL42=\"\"),0,IF(AND(CI42=$D42,CL42=$E42),80,IF(CI42=$D42,40,IF(CL42=$E42,40,IF(AND(CI42<>$D42,CL42<>$E42),0)))))","v":80},{"$f":"IF(COUNTIF($D$42:$E$43,CL42),100,0)+IF(COUNTIF($D$42:$E$43,CI42),100,0)","v":200},{"$f":"IF(OR(CI42=\"\",CL42=\"\"),0,IF(AND(CI42=$D42,CL42=$E42,CJ42=$F42,CK42=$G42),100,0))","v":0},"Frankreich",1,2,"Spanien",{"$f":"IF(OR(CP42=\"\",CS42=\"\"),0,IF(AND(CP42=$D42,CS42=$E42),80,IF(CP42=$D42,40,IF(CS42=$E42,40,IF(AND(CP42<>$D42,CS42<>$E42),0)))))","v":80},{"$f":"IF(COUNTIF($D$42:$E$43,CS42),100,0)+IF(COUNTIF($D$42:$E$43,CP42),100,0)","v":200},{"$f":"IF(OR(CP42=\"\",CS42=\"\"),0,IF(AND(CP42=$D42,CS42=$E42,CQ42=$F42,CR42=$G42),100,0))","v":0},"Deutschland",2,1,"Paraguay",{"$f":"IF(OR(CW42=\"\",CZ42=\"\"),0,IF(AND(CW42=$D42,CZ42=$E42),80,IF(CW42=$D42,40,IF(CZ42=$E42,40,IF(AND(CW42<>$D42,CZ42<>$E42),0)))))","v":0},{"$f":"IF(COUNTIF($D$42:$E$43,CZ42),100,0)+IF(COUNTIF($D$42:$E$43,CW42),100,0)","v":0},{"$f":"IF(OR(CW42=\"\",CZ42=\"\"),0,IF(AND(CW42=$D42,CZ42=$E42,CX42=$F42,CY42=$G42),100,0))","v":0},"Frankreich",2,1,"Türkei",{"$f":"IF(OR(DD42=\"\",DG42=\"\"),0,IF(AND(DD42=$D42,DG42=$E42),80,IF(DD42=$D42,40,IF(DG42=$E42,40,IF(AND(DD42<>$D42,DG42<>$E42),0)))))","v":40},{"$f":"IF(COUNTIF($D$42:$E$43,DG42),100,0)+IF(COUNTIF($D$42:$E$43,DD42),100,0)","v":100},{"$f":"IF(OR(DD42=\"\",DG42=\"\"),0,IF(AND(DD42=$D42,DG42=$E42,DE42=$F42,DF42=$G42),100,0))","v":0},"Frankreich",5,4,"Spanien",{"$f":"IF(OR(DK42=\"\",DN42=\"\"),0,IF(AND(DK42=$D42,DN42=$E42),80,IF(DK42=$D42,40,IF(DN42=$E42,40,IF(AND(DK42<>$D42,DN42<>$E42),0)))))","v":80},{"$f":"IF(COUNTIF($D$42:$E$43,DN42),100,0)+IF(COUNTIF($D$42:$E$43,DK42),100,0)","v":200},{"$f":"IF(OR(DK42=\"\",DN42=\"\"),0,IF(AND(DK42=$D42,DN42=$E42,DL42=$F42,DM42=$G42),100,0))","v":0},"Frankreich",0,1,"Kolumbien",{"$f":"IF(OR(DR42=\"\",DU42=\"\"),0,IF(AND(DR42=$D42,DU42=$E42),80,IF(DR42=$D42,40,IF(DU42=$E42,40,IF(AND(DR42<>$D42,DU42<>$E42),0)))))","v":40},{"$f":"IF(COUNTIF($D$42:$E$43,DU42),100,0)+IF(COUNTIF($D$42:$E$43,DR42),100,0)","v":100},{"$f":"IF(OR(DR42=\"\",DU42=\"\"),0,IF(AND(DR42=$D42,DU42=$E42,DS42=$F42,DT42=$G42),100,0))","v":0},"Frankreich",1,0,"Spanien",{"$f":"IF(OR(DY42=\"\",EB42=\"\"),0,IF(AND(DY42=$D42,EB42=$E42),80,IF(DY42=$D42,40,IF(EB42=$E42,40,IF(AND(DY42<>$D42,EB42<>$E42),0)))))","v":80},{"$f":"IF(COUNTIF($D$42:$E$43,EB42),100,0)+IF(COUNTIF($D$42:$E$43,DY42),100,0)","v":200},{"$f":"IF(OR(DY42=\"\",EB42=\"\"),0,IF(AND(DY42=$D42,EB42=$E42,DZ42=$F42,EA42=$G42),100,0))","v":0},"Frankreich",0,1,"England",{"$f":"IF(OR(EF42=\"\",EI42=\"\"),0,IF(AND(EF42=$D42,EI42=$E42),80,IF(EF42=$D42,40,IF(EI42=$E42,40,IF(AND(EF42<>$D42,EI42<>$E42),0)))))","v":40},{"$f":"IF(COUNTIF($D$42:$E$43,EI42),100,0)+IF(COUNTIF($D$42:$E$43,EF42),100,0)","v":200},{"$f":"IF(OR(EF42=\"\",EI42=\"\"),0,IF(AND(EF42=$D42,EI42=$E42,EG42=$F42,EH42=$G42),100,0))","v":0},"Frankreich",0,1,"Spanien",{"$f":"IF(OR(EM42=\"\",EP42=\"\"),0,IF(AND(EM42=$D42,EP42=$E42),80,IF(EM42=$D42,40,IF(EP42=$E42,40,IF(AND(EM42<>$D42,EP42<>$E42),0)))))","v":80},{"$f":"IF(COUNTIF($D$42:$E$43,EP42),100,0)+IF(COUNTIF($D$42:$E$43,EM42),100,0)","v":200},{"$f":"IF(OR(EM42=\"\",EP42=\"\"),0,IF(AND(EM42=$D42,EP42=$E42,EN42=$F42,EO42=$G42),100,0))","v":0},null,{"$f":"_xlfn.TEXTJOIN(\", \",TRUE,_xlfn._xlws.FILTER(INDEX($J$4:$EM$4,1,_xlfn.SEQUENCE(1,(COLUMNS($J$4:$EM$4)-1)/7+1,1,7))&\" \"&INDEX($J$5:$EM$5,1,_xlfn.SEQUENCE(1,(COLUMNS($J$5:$EM$5)-1)/7+1,1,7)),INDEX($P42:$ES42,1,_xlfn.SEQUENCE(1,(COLUMNS($P42:$ES42)-1)/7+1,1,7))>0,\"\"))","v":""},null,""]
["Mi. 15. Jul","21:00:00",102,"England","Argentinien",1,2,null,null,"Brasilien",1,2,"Portugal",{"$f":"IF(OR(J43=\"\",M43=\"\"),0,IF(AND(J43=$D43,M43=$E43),80,IF(J43=$D43,40,IF(M43=$E43,40,IF(AND(J43<>$D43,M43<>$E43),0)))))","v":0},{"$f":"IF(COUNTIF($D$42:$E$43,M43),100,0)+IF(COUNTIF($D$42:$E$43,J43),100,0)","v":0},{"$f":"IF(OR(J43=\"\",M43=\"\"),0,IF(AND(J43=$D43,M43=$E43,K43=$F43,L43=$G43),100,0))","v":0},"Brasilien",2,1,"Schweiz",{"$f":"IF(OR(Q43=\"\",T43=\"\"),0,IF(AND(Q43=$D43,T43=$E43),80,IF(Q43=$D43,40,IF(T43=$E43,40,IF(AND(Q43<>$D43,T43<>$E43),0)))))","v":0},{"$f":"IF(COUNTIF($D$42:$E$43,T43),100,0)+IF(COUNTIF($D$42:$E$43,Q43),100,0)","v":0},{"$f":"IF(OR(Q43=\"\",T43=\"\"),0,IF(AND(Q43=$D43,T43=$E43,R43=$F43,S43=$G43),100,0))","v":0},"Brasilien",3,2,"Argentinien",{"$f":"IF(OR(X43=\"\",AA43=\"\"),0,IF(AND(X43=$D43,AA43=$E43),80,IF(X43=$D43,40,IF(AA43=$E43,40,IF(AND(X43<>$D43,AA43<>$E43),0)))))","v":40},{"$f":"IF(COUNTIF($D$42:$E$43,AA43),100,0)+IF(COUNTIF($D$42:$E$43,X43),100,0)","v":100},{"$f":"IF(OR(X43=\"\",AA43=\"\"),0,IF(AND(X43=$D43,AA43=$E43,Y43=$F43,Z43=$G43),100,0))","v":0},"Brasilien",3,1,"Argentinien",{"$f":"IF(OR(AE43=\"\",AH43=\"\"),0,IF(AND(AE43=$D43,AH43=$E43),80,IF(AE43=$D43,40,IF(AH43=$E43,40,IF(AND(AE43<>$D43,AH43<>$E43),0)))))","v":40},{"$f":"IF(COUNTIF($D$42:$E$43,AH43),100,0)+IF(COUNTIF($D$42:$E$43,AE43),100,0)","v":100},{"$f":"IF(OR(AE43=\"\",AH43=\"\"),0,IF(AND(AE43=$D43,AH43=$E43,AF43=$F43,AG43=$G43),100,0))","v":0},"Brasilien",3,4,"Portugal",{"$f":"IF(OR(AL43=\"\",AO43=\"\"),0,IF(AND(AL43=$D43,AO43=$E43),80,IF(AL43=$D43,40,IF(AO43=$E43,40,IF(AND(AL43<>$D43,AO43<>$E43),0)))))","v":0},{"$f":"IF(COUNTIF($D$42:$E$43,AO43),100,0)+IF(COUNTIF($D$42:$E$43,AL43),100,0)","v":0},{"$f":"IF(OR(AL43=\"\",AO43=\"\"),0,IF(AND(AL43=$D43,AO43=$E43,AM43=$F43,AN43=$G43),100,0))","v":0},"Brasilien",0,1,"Argentinien",{"$f":"IF(OR(AS43=\"\",AV43=\"\"),0,IF(AND(AS43=$D43,AV43=$E43),80,IF(AS43=$D43,40,IF(AV43=$E43,40,IF(AND(AS43<>$D43,AV43<>$E43),0)))))","v":40},{"$f":"IF(COUNTIF($D$42:$E$43,AV43),100,0)+IF(COUNTIF($D$42:$E$43,AS43),100,0)","v":100},{"$f":"IF(OR(AS43=\"\",AV43=\"\"),0,IF(AND(AS43=$D43,AV43=$E43,AT43=$F43,AU43=$G43),100,0))","v":0},"Frankreich",1,0,"Argentinien",{"$f":"IF(OR(AZ43=\"\",BC43=\"\"),0,IF(AND(AZ43=$D43,BC43=$E43),80,IF(AZ43=$D43,40,IF(BC43=$E43,40,IF(AND(AZ43<>$D43,BC43<>$E43),0)))))","v":40},{"$f":"IF(COUNTIF($D$42:$E$43,BC43),100,0)+IF(COUNTIF($D$42:$E$43,AZ43),100,0)","v":200},{"$f":"IF(OR(AZ43=\"\",BC43=\"\"),0,IF(AND(AZ43=$D43,BC43=$E43,BA43=$F43,BB43=$G43),100,0))","v":0},"England",2,3,"Argentinien",{"$f":"IF(OR(BG43=\"\",BJ43=\"\"),0,IF(AND(BG43=$D43,BJ43=$E43),80,IF(BG43=$D43,40,IF(BJ43=$E43,40,IF(AND(BG43<>$D43,BJ43<>$E43),0)))))","v":80},{"$f":"IF(COUNTIF($D$42:$E$43,BJ43),100,0)+IF(COUNTIF($D$42:$E$43,BG43),100,0)","v":200},{"$f":"IF(OR(BG43=\"\",BJ43=\"\"),0,IF(AND(BG43=$D43,BJ43=$E43,BH43=$F43,BI43=$G43),100,0))","v":0},"Brasilien",3,2,"Argentinien",{"$f":"IF(OR(BN43=\"\",BQ43=\"\"),0,IF(AND(BN43=$D43,BQ43=$E43),80,IF(BN43=$D43,40,IF(BQ43=$E43,40,IF(AND(BN43<>$D43,BQ43<>$E43),0)))))","v":40},{"$f":"IF(COUNTIF($D$42:$E$43,BQ43),100,0)+IF(COUNTIF($D$42:$E$43,BN43),100,0)","v":100},{"$f":"IF(OR(BN43=\"\",BQ43=\"\"),0,IF(AND(BN43=$D43,BQ43=$E43,BO43=$F43,BP43=$G43),100,0))","v":0},"Brasilien",5,6,"Schweiz",{"$f":"IF(OR(BU43=\"\",BX43=\"\"),0,IF(AND(BU43=$D43,BX43=$E43),80,IF(BU43=$D43,40,IF(BX43=$E43,40,IF(AND(BU43<>$D43,BX43<>$E43),0)))))","v":0},{"$f":"IF(COUNTIF($D$42:$E$43,BX43),100,0)+IF(COUNTIF($D$42:$E$43,BU43),100,0)","v":0},{"$f":"IF(OR(BU43=\"\",BX43=\"\"),0,IF(AND(BU43=$D43,BX43=$E43,BV43=$F43,BW43=$G43),100,0))","v":0},"England",2,1,"Argentinien",{"$f":"IF(OR(CB43=\"\",CE43=\"\"),0,IF(AND(CB43=$D43,CE43=$E43),80,IF(CB43=$D43,40,IF(CE43=$E43,40,IF(AND(CB43<>$D43,CE43<>$E43),0)))))","v":80},{"$f":"IF(COUNTIF($D$42:$E$43,CE43),100,0)+IF(COUNTIF($D$42:$E$43,CB43),100,0)","v":200},{"$f":"IF(OR(CB43=\"\",CE43=\"\"),0,IF(AND(CB43=$D43,CE43=$E43,CC43=$F43,CD43=$G43),100,0))","v":0},"Norwegen",0,2,"Argentinien",{"$f":"IF(OR(CI43=\"\",CL43=\"\"),0,IF(AND(CI43=$D43,CL43=$E43),80,IF(CI43=$D43,40,IF(CL43=$E43,40,IF(AND(CI43<>$D43,CL43<>$E43),0)))))","v":40},{"$f":"IF(COUNTIF($D$42:$E$43,CL43),100,0)+IF(COUNTIF($D$42:$E$43,CI43),100,0)","v":100},{"$f":"IF(OR(CI43=\"\",CL43=\"\"),0,IF(AND(CI43=$D43,CL43=$E43,CJ43=$F43,CK43=$G43),100,0))","v":0},"England",2,0,"Argentinien",{"$f":"IF(OR(CP43=\"\",CS43=\"\"),0,IF(AND(CP43=$D43,CS43=$E43),80,IF(CP43=$D43,40,IF(CS43=$E43,40,IF(AND(CP43<>$D43,CS43<>$E43),0)))))","v":80},{"$f":"IF(COUNTIF($D$42:$E$43,CS43),100,0)+IF(COUNTIF($D$42:$E$43,CP43),100,0)","v":200},{"$f":"IF(OR(CP43=\"\",CS43=\"\"),0,IF(AND(CP43=$D43,CS43=$E43,CQ43=$F43,CR43=$G43),100,0))","v":0},"Japan",2,1,"Schweiz",{"$f":"IF(OR(CW43=\"\",CZ43=\"\"),0,IF(AND(CW43=$D43,CZ43=$E43),80,IF(CW43=$D43,40,IF(CZ43=$E43,40,IF(AND(CW43<>$D43,CZ43<>$E43),0)))))","v":0},{"$f":"IF(COUNTIF($D$42:$E$43,CZ43),100,0)+IF(COUNTIF($D$42:$E$43,CW43),100,0)","v":0},{"$f":"IF(OR(CW43=\"\",CZ43=\"\"),0,IF(AND(CW43=$D43,CZ43=$E43,CX43=$F43,CY43=$G43),100,0))","v":0},"Brasilien",5,4,"Argentinien",{"$f":"IF(OR(DD43=\"\",DG43=\"\"),0,IF(AND(DD43=$D43,DG43=$E43),80,IF(DD43=$D43,40,IF(DG43=$E43,40,IF(AND(DD43<>$D43,DG43<>$E43),0)))))","v":40},{"$f":"IF(COUNTIF($D$42:$E$43,DG43),100,0)+IF(COUNTIF($D$42:$E$43,DD43),100,0)","v":100},{"$f":"IF(OR(DD43=\"\",DG43=\"\"),0,IF(AND(DD43=$D43,DG43=$E43,DE43=$F43,DF43=$G43),100,0))","v":0},"Brasilien",4,5,"Argentinien",{"$f":"IF(OR(DK43=\"\",DN43=\"\"),0,IF(AND(DK43=$D43,DN43=$E43),80,IF(DK43=$D43,40,IF(DN43=$E43,40,IF(AND(DK43<>$D43,DN43<>$E43),0)))))","v":40},{"$f":"IF(COUNTIF($D$42:$E$43,DN43),100,0)+IF(COUNTIF($D$42:$E$43,DK43),100,0)","v":100},{"$f":"IF(OR(DK43=\"\",DN43=\"\"),0,IF(AND(DK43=$D43,DN43=$E43,DL43=$F43,DM43=$G43),100,0))","v":0},"England",1,0,"Portugal",{"$f":"IF(OR(DR43=\"\",DU43=\"\"),0,IF(AND(DR43=$D43,DU43=$E43),80,IF(DR43=$D43,40,IF(DU43=$E43,40,IF(AND(DR43<>$D43,DU43<>$E43),0)))))","v":40},{"$f":"IF(COUNTIF($D$42:$E$43,DU43),100,0)+IF(COUNTIF($D$42:$E$43,DR43),100,0)","v":100},{"$f":"IF(OR(DR43=\"\",DU43=\"\"),0,IF(AND(DR43=$D43,DU43=$E43,DS43=$F43,DT43=$G43),100,0))","v":0},"Brasilien",1,0,"Argentinien",{"$f":"IF(OR(DY43=\"\",EB43=\"\"),0,IF(AND(DY43=$D43,EB43=$E43),80,IF(DY43=$D43,40,IF(EB43=$E43,40,IF(AND(DY43<>$D43,EB43<>$E43),0)))))","v":40},{"$f":"IF(COUNTIF($D$42:$E$43,EB43),100,0)+IF(COUNTIF($D$42:$E$43,DY43),100,0)","v":100},{"$f":"IF(OR(DY43=\"\",EB43=\"\"),0,IF(AND(DY43=$D43,EB43=$E43,DZ43=$F43,EA43=$G43),100,0))","v":0},"Brasilien",0,1,"Argentinien",{"$f":"IF(OR(EF43=\"\",EI43=\"\"),0,IF(AND(EF43=$D43,EI43=$E43),80,IF(EF43=$D43,40,IF(EI43=$E43,40,IF(AND(EF43<>$D43,EI43<>$E43),0)))))","v":40},{"$f":"IF(COUNTIF($D$42:$E$43,EI43),100,0)+IF(COUNTIF($D$42:$E$43,EF43),100,0)","v":100},{"$f":"IF(OR(EF43=\"\",EI43=\"\"),0,IF(AND(EF43=$D43,EI43=$E43,EG43=$F43,EH43=$G43),100,0))","v":0},"England",0,2,"Portugal",{"$f":"IF(OR(EM43=\"\",EP43=\"\"),0,IF(AND(EM43=$D43,EP43=$E43),80,IF(EM43=$D43,40,IF(EP43=$E43,40,IF(AND(EM43<>$D43,EP43<>$E43),0)))))","v":40},{"$f":"IF(COUNTIF($D$42:$E$43,EP43),100,0)+IF(COUNTIF($D$42:$E$43,EM43),100,0)","v":100},{"$f":"IF(OR(EM43=\"\",EP43=\"\"),0,IF(AND(EM43=$D43,EP43=$E43,EN43=$F43,EO43=$G43),100,0))","v":0},null,{"$f":"_xlfn.TEXTJOIN(\", \",TRUE,_xlfn._xlws.FILTER(INDEX($J$4:$EM$4,1,_xlfn.SEQUENCE(1,(COLUMNS($J$4:$EM$4)-1)/7+1,1,7))&\" \"&INDEX($J$5:$EM$5,1,_xlfn.SEQUENCE(1,(COLUMNS($J$5:$EM$5)-1)/7+1,1,7)),INDEX($P43:$ES43,1,_xlfn.SEQUENCE(1,(COLUMNS($P43:$ES43)-1)/7+1,1,7))>0,\"\"))","v":""},null,"Martin Marthaler, Martin Rohner, Stefan Wullschleger"]
["Spiel um den 3. Platz",null,null,null,null,null,null,null,null,null,null,null,null,null,null,null,null,null,null,null,null,null,null,null,null,null,null,null,null,null,null,null,null,null,null,null,null,null,null,null,null,null,null,null,null,null,null,null,null,null,null,null,null,null,null,null,null,null,null,null,null,null,null,null,null,null,null,null,null,null,null,null,null,null,null,null,null,null,null,null,null,null,null,null,null,null,null,null,null,null,null,null,null,null,null,null,null,null,null,null,null,null,null,null,null,null,null,null,null,null,null,null,null,null,null,null,null,null,null,null,null,null,null,null,null,null,null,null,null,null,null,null,null,null,null,null,null,null,null,null,null,null,null,null,null,null,null,null,null,null,{"$f":"_xlfn.TEXTJOIN(\", \",TRUE,_xlfn._xlws.FILTER(INDEX($J$4:$EM$4,1,_xlfn.SEQUENCE(1,(COLUMNS($J$4:$EM$4)-1)/7+1,1,7))&\" \"&INDEX($J$5:$EM$5,1,_xlfn.SEQUENCE(1,(COLUMNS($J$5:$EM$5)-1)/7+1,1,7)),INDEX($P44:$ES44,1,_xlfn.SEQUENCE(1,(COLUMNS($P44:$ES44)-1)/7+1,1,7))>0,\"\"))","v":""},null,""]
["Sa. 18. Jul","23:00:00",103,"Frankreich","England",null,null,null,null,"Spanien",2,1,"Brasilien",{"$f":"IF(OR(J45=\"\",M45=\"\"),0,IF(AND(J45=$D45,M45=$E45),100,IF(J45=$D45,50,IF(M45=$E45,50,IF(AND(J45<>$D45,M45<>$E45),0)))))","v":0},{"$f":"IF(COUNTIF($D$45:$E$45,M45),100,0)+IF(COUNTIF($D$45:$E$45,J45),100,0)","v":0},{"$f":"IF(OR(J45=\"\",M45=\"\"),0,IF(AND(J45=$D45,M45=$E45,K45=$F45,L45=$G45),150,0))","v":0},"Frankreich",2,1,"Schweiz",{"$f":"IF(OR(Q45=\"\",T45=\"\"),0,IF(AND(Q45=$D45,T45=$E45),100,IF(Q45=$D45,50,IF(T45=$E45,50,IF(AND(Q45<>$D45,T45<>$E45),0)))))","v":50},{"$f":"IF(COUNTIF($D$45:$E$45,T45),100,0)+IF(COUNTIF($D$45:$E$45,Q45),100,0)","v":100},{"$f":"IF(OR(Q45=\"\",T45=\"\"),0,IF(AND(Q45=$D45,T45=$E45,R45=$F45,S45=$G45),150,0))","v":0},"Kolumbien",1,2,"Argentinien",{"$f":"IF(OR(X45=\"\",AA45=\"\"),0,IF(AND(X45=$D45,AA45=$E45),100,IF(X45=$D45,50,IF(AA45=$E45,50,IF(AND(X45<>$D45,AA45<>$E45),0)))))","v":0},{"$f":"IF(COUNTIF($D$45:$E$45,AA45),100,0)+IF(COUNTIF($D$45:$E$45,X45),100,0)","v":0},{"$f":"IF(OR(X45=\"\",AA45=\"\"),0,IF(AND(X45=$D45,AA45=$E45,Y45=$F45,Z45=$G45),150,0))","v":0},"Frankreich",3,2,"Argentinien",{"$f":"IF(OR(AE45=\"\",AH45=\"\"),0,IF(AND(AE45=$D45,AH45=$E45),100,IF(AE45=$D45,50,IF(AH45=$E45,50,IF(AND(AE45<>$D45,AH45<>$E45),0)))))","v":50},{"$f":"IF(COUNTIF($D$45:$E$45,AH45),100,0)+IF(COUNTIF($D$45:$E$45,AE45),100,0)","v":100},{"$f":"IF(OR(AE45=\"\",AH45=\"\"),0,IF(AND(AE45=$D45,AH45=$E45,AF45=$F45,AG45=$G45),150,0))","v":0},"Spanien",1,2,"Brasilien",{"$f":"IF(OR(AL45=\"\",AO45=\"\"),0,IF(AND(AL45=$D45,AO45=$E45),100,IF(AL45=$D45,50,IF(AO45=$E45,50,IF(AND(AL45<>$D45,AO45<>$E45),0)))))","v":0},{"$f":"IF(COUNTIF($D$45:$E$45,AO45),100,0)+IF(COUNTIF($D$45:$E$45,AL45),100,0)","v":0},{"$f":"IF(OR(AL45=\"\",AO45=\"\"),0,IF(AND(AL45=$D45,AO45=$E45,AM45=$F45,AN45=$G45),150,0))","v":0},"Spanien",1,0,"Brasilien",{"$f":"IF(OR(AS45=\"\",AV45=\"\"),0,IF(AND(AS45=$D45,AV45=$E45),100,IF(AS45=$D45,50,IF(AV45=$E45,50,IF(AND(AS45<>$D45,AV45<>$E45),0)))))","v":0},{"$f":"IF(COUNTIF($D$45:$E$45,AV45),100,0)+IF(COUNTIF($D$45:$E$45,AS45),100,0)","v":0},{"$f":"IF(OR(AS45=\"\",AV45=\"\"),0,IF(AND(AS45=$D45,AV45=$E45,AT45=$F45,AU45=$G45),150,0))","v":0},"Deutschland",0,1,"Argentinien",{"$f":"IF(OR(AZ45=\"\",BC45=\"\"),0,IF(AND(AZ45=$D45,BC45=$E45),100,IF(AZ45=$D45,50,IF(BC45=$E45,50,IF(AND(AZ45<>$D45,BC45<>$E45),0)))))","v":0},{"$f":"IF(COUNTIF($D$45:$E$45,BC45),100,0)+IF(COUNTIF($D$45:$E$45,AZ45),100,0)","v":0},{"$f":"IF(OR(AZ45=\"\",BC45=\"\"),0,IF(AND(AZ45=$D45,BC45=$E45,BA45=$F45,BB45=$G45),150,0))","v":0},"Frankreich",4,3,"England",{"$f":"IF(OR(BG45=\"\",BJ45=\"\"),0,IF(AND(BG45=$D45,BJ45=$E45),100,IF(BG45=$D45,50,IF(BJ45=$E45,50,IF(AND(BG45<>$D45,BJ45<>$E45),0)))))","v":100},{"$f":"IF(COUNTIF($D$45:$E$45,BJ45),100,0)+IF(COUNTIF($D$45:$E$45,BG45),100,0)","v":200},{"$f":"IF(OR(BG45=\"\",BJ45=\"\"),0,IF(AND(BG45=$D45,BJ45=$E45,BH45=$F45,BI45=$G45),150,0))","v":0},"Spanien",1,0,"Argentinien",{"$f":"IF(OR(BN45=\"\",BQ45=\"\"),0,IF(AND(BN45=$D45,BQ45=$E45),100,IF(BN45=$D45,50,IF(BQ45=$E45,50,IF(AND(BN45<>$D45,BQ45<>$E45),0)))))","v":0},{"$f":"IF(COUNTIF($D$45:$E$45,BQ45),100,0)+IF(COUNTIF($D$45:$E$45,BN45),100,0)","v":0},{"$f":"IF(OR(BN45=\"\",BQ45=\"\"),0,IF(AND(BN45=$D45,BQ45=$E45,BO45=$F45,BP45=$G45),150,0))","v":0},"Holland",1,2,"Brasilien",{"$f":"IF(OR(BU45=\"\",BX45=\"\"),0,IF(AND(BU45=$D45,BX45=$E45),100,IF(BU45=$D45,50,IF(BX45=$E45,50,IF(AND(BU45<>$D45,BX45<>$E45),0)))))","v":0},{"$f":"IF(COUNTIF($D$45:$E$45,BX45),100,0)+IF(COUNTIF($D$45:$E$45,BU45),100,0)","v":0},{"$f":"IF(OR(BU45=\"\",BX45=\"\"),0,IF(AND(BU45=$D45,BX45=$E45,BV45=$F45,BW45=$G45),150,0))","v":0},"Frankreich",2,1,"Argentinien",{"$f":"IF(OR(CB45=\"\",CE45=\"\"),0,IF(AND(CB45=$D45,CE45=$E45),100,IF(CB45=$D45,50,IF(CE45=$E45,50,IF(AND(CB45<>$D45,CE45<>$E45),0)))))","v":50},{"$f":"IF(COUNTIF($D$45:$E$45,CE45),100,0)+IF(COUNTIF($D$45:$E$45,CB45),100,0)","v":100},{"$f":"IF(OR(CB45=\"\",CE45=\"\"),0,IF(AND(CB45=$D45,CE45=$E45,CC45=$F45,CD45=$G45),150,0))","v":0},"Spanien",2,0,"Norwegen",{"$f":"IF(OR(CI45=\"\",CL45=\"\"),0,IF(AND(CI45=$D45,CL45=$E45),100,IF(CI45=$D45,50,IF(CL45=$E45,50,IF(AND(CI45<>$D45,CL45<>$E45),0)))))","v":0},{"$f":"IF(COUNTIF($D$45:$E$45,CL45),100,0)+IF(COUNTIF($D$45:$E$45,CI45),100,0)","v":0},{"$f":"IF(OR(CI45=\"\",CL45=\"\"),0,IF(AND(CI45=$D45,CL45=$E45,CJ45=$F45,CK45=$G45),150,0))","v":0},"Frankreich",2,1,"Argentinien",{"$f":"IF(OR(CP45=\"\",CS45=\"\"),0,IF(AND(CP45=$D45,CS45=$E45),100,IF(CP45=$D45,50,IF(CS45=$E45,50,IF(AND(CP45<>$D45,CS45<>$E45),0)))))","v":50},{"$f":"IF(COUNTIF($D$45:$E$45,CS45),100,0)+IF(COUNTIF($D$45:$E$45,CP45),100,0)","v":100},{"$f":"IF(OR(CP45=\"\",CS45=\"\"),0,IF(AND(CP45=$D45,CS45=$E45,CQ45=$F45,CR45=$G45),150,0))","v":0},"Paraguay",2,3,"Schweiz",{"$f":"IF(OR(CW45=\"\",CZ45=\"\"),0,IF(AND(CW45=$D45,CZ45=$E45),100,IF(CW45=$D45,50,IF(CZ45=$E45,50,IF(AND(CW45<>$D45,CZ45<>$E45),0)))))","v":0},{"$f":"IF(COUNTIF($D$45:$E$45,CZ45),100,0)+IF(COUNTIF($D$45:$E$45,CW45),100,0)","v":0},{"$f":"IF(OR(CW45=\"\",CZ45=\"\"),0,IF(AND(CW45=$D45,CZ45=$E45,CX45=$F45,CY45=$G45),150,0))","v":0},"Türkei",2,4,"Argentinien",{"$f":"IF(OR(DD45=\"\",DG45=\"\"),0,IF(AND(DD45=$D45,DG45=$E45),100,IF(DD45=$D45,50,IF(DG45=$E45,50,IF(AND(DD45<>$D45,DG45<>$E45),0)))))","v":0},{"$f":"IF(COUNTIF($D$45:$E$45,DG45),100,0)+IF(COUNTIF($D$45:$E$45,DD45),100,0)","v":0},{"$f":"IF(OR(DD45=\"\",DG45=\"\"),0,IF(AND(DD45=$D45,DG45=$E45,DE45=$F45,DF45=$G45),150,0))","v":0},"Spanien",4,3,"Brasilien",{"$f":"IF(OR(DK45=\"\",DN45=\"\"),0,IF(AND(DK45=$D45,DN45=$E45),100,IF(DK45=$D45,50,IF(DN45=$E45,50,IF(AND(DK45<>$D45,DN45<>$E45),0)))))","v":0},{"$f":"IF(COUNTIF($D$45:$E$45,DN45),100,0)+IF(COUNTIF($D$45:$E$45,DK45),100,0)","v":0},{"$f":"IF(OR(DK45=\"\",DN45=\"\"),0,IF(AND(DK45=$D45,DN45=$E45,DL45=$F45,DM45=$G45),150,0))","v":0},"Frankreich",0,1,"Portugal",{"$f":"IF(OR(DR45=\"\",DU45=\"\"),0,IF(AND(DR45=$D45,DU45=$E45),100,IF(DR45=$D45,50,IF(DU45=$E45,50,IF(AND(DR45<>$D45,DU45<>$E45),0)))))","v":50},{"$f":"IF(COUNTIF($D$45:$E$45,DU45),100,0)+IF(COUNTIF($D$45:$E$45,DR45),100,0)","v":100},{"$f":"IF(OR(DR45=\"\",DU45=\"\"),0,IF(AND(DR45=$D45,DU45=$E45,DS45=$F45,DT45=$G45),150,0))","v":0},"Spanien",2,1,"Argentinien",{"$f":"IF(OR(DY45=\"\",EB45=\"\"),0,IF(AND(DY45=$D45,EB45=$E45),100,IF(DY45=$D45,50,IF(EB45=$E45,50,IF(AND(DY45<>$D45,EB45<>$E45),0)))))","v":0},{"$f":"IF(COUNTIF($D$45:$E$45,EB45),100,0)+IF(COUNTIF($D$45:$E$45,DY45),100,0)","v":0},{"$f":"IF(OR(DY45=\"\",EB45=\"\"),0,IF(AND(DY45=$D45,EB45=$E45,DZ45=$F45,EA45=$G45),150,0))","v":0},"Frankreich",2,1,"Brasilien",{"$f":"IF(OR(EF45=\"\",EI45=\"\"),0,IF(AND(EF45=$D45,EI45=$E45),100,IF(EF45=$D45,50,IF(EI45=$E45,50,IF(AND(EF45<>$D45,EI45<>$E45),0)))))","v":50},{"$f":"IF(COUNTIF($D$45:$E$45,EI45),100,0)+IF(COUNTIF($D$45:$E$45,EF45),100,0)","v":100},{"$f":"IF(OR(EF45=\"\",EI45=\"\"),0,IF(AND(EF45=$D45,EI45=$E45,EG45=$F45,EH45=$G45),150,0))","v":0},"Frankreich",0,1,"England",{"$f":"IF(OR(EM45=\"\",EP45=\"\"),0,IF(AND(EM45=$D45,EP45=$E45),100,IF(EM45=$D45,50,IF(EP45=$E45,50,IF(AND(EM45<>$D45,EP45<>$E45),0)))))","v":100},{"$f":"IF(COUNTIF($D$45:$E$45,EP45),100,0)+IF(COUNTIF($D$45:$E$45,EM45),100,0)","v":200},{"$f":"IF(OR(EM45=\"\",EP45=\"\"),0,IF(AND(EM45=$D45,EP45=$E45,EN45=$F45,EO45=$G45),150,0))","v":0},null,{"$f":"_xlfn.TEXTJOIN(\", \",TRUE,_xlfn._xlws.FILTER(INDEX($J$4:$EM$4,1,_xlfn.SEQUENCE(1,(COLUMNS($J$4:$EM$4)-1)/7+1,1,7))&\" \"&INDEX($J$5:$EM$5,1,_xlfn.SEQUENCE(1,(COLUMNS($J$5:$EM$5)-1)/7+1,1,7)),INDEX($P45:$ES45,1,_xlfn.SEQUENCE(1,(COLUMNS($P45:$ES45)-1)/7+1,1,7))>0,\"\"))","v":""},null,""]
["Endspiel",null,null,null,null,null,null,null,null,null,null,null,null,null,null,null,null,null,null,null,null,null,null,null,null,null,null,null,null,null,null,null,null,null,null,null,null,null,null,null,null,null,null,null,null,null,null,null,null,null,null,null,null,null,null,null,null,null,null,null,null,null,null,null,null,null,null,null,null,null,null,null,null,null,null,null,null,null,null,null,null,null,null,null,null,null,null,null,null,null,null,null,null,null,null,null,null,null,null,null,null,null,null,null,null,null,null,null,null,null,null,null,null,null,null,null,null,null,null,null,null,null,null,null,null,null,null,null,null,null,null,null,null,null,null,null,null,null,null,null,null,null,null,null,null,null,null,null,null,null,{"$f":"_xlfn.TEXTJOIN(\", \",TRUE,_xlfn._xlws.FILTER(INDEX($J$4:$EM$4,1,_xlfn.SEQUENCE(1,(COLUMNS($J$4:$EM$4)-1)/7+1,1,7))&\" \"&INDEX($J$5:$EM$5,1,_xlfn.SEQUENCE(1,(COLUMNS($J$5:$EM$5)-1)/7+1,1,7)),INDEX($P46:$ES46,1,_xlfn.SEQUENCE(1,(COLUMNS($P46:$ES46)-1)/7+1,1,7))>0,\"\"))","v":""},null,""]
["So. 19. Jul","21:00:00",104,"Spanien","Argentinien",null,null,null,null,"Frankreich",1,2,"Portugal",{"$f":"IF(OR(J47=\"\",M47=\"\"),0,IF(AND(J47=$D47,M47=$E47),120,IF(J47=$D47,60,IF(M47=$E47,60,IF(AND(J47<>$D47,M47<>$E47),0)))))","v":0},{"$f":"IF(COUNTIF($D$47:$E$47,M47),120,0)+IF(COUNTIF($D$47:$E$47,J47),120,0)","v":0},{"$f":"IF(OR(J47=\"\",M47=\"\"),0,IF(AND(J47=$D47,M47=$E47,K47=$F47,L47=$G47),200,0))","v":0},"Portugal",1,2,"Brasilien",{"$f":"IF(OR(Q47=\"\",T47=\"\"),0,IF(AND(Q47=$D47,T47=$E47),120,IF(Q47=$D47,60,IF(T47=$E47,60,IF(AND(Q47<>$D47,T47<>$E47),0)))))","v":0},{"$f":"IF(COUNTIF($D$47:$E$47,T47),120,0)+IF(COUNTIF($D$47:$E$47,Q47),120,0)","v":0},{"$f":"IF(OR(Q47=\"\",T47=\"\"),0,IF(AND(Q47=$D47,T47=$E47,R47=$F47,S47=$G47),200,0))","v":0},"Marokko",5,4,"Brasilien",{"$f":"IF(OR(X47=\"\",AA47=\"\"),0,IF(AND(X47=$D47,AA47=$E47),120,IF(X47=$D47,60,IF(AA47=$E47,60,IF(AND(X47<>$D47,AA47<>$E47),0)))))","v":0},{"$f":"IF(COUNTIF($D$47:$E$47,AA47),120,0)+IF(COUNTIF($D$47:$E$47,X47),120,0)","v":0},{"$f":"IF(OR(X47=\"\",AA47=\"\"),0,IF(AND(X47=$D47,AA47=$E47,Y47=$F47,Z47=$G47),200,0))","v":0},"Spanien",2,1,"Brasilien",{"$f":"IF(OR(AE47=\"\",AH47=\"\"),0,IF(AND(AE47=$D47,AH47=$E47),120,IF(AE47=$D47,60,IF(AH47=$E47,60,IF(AND(AE47<>$D47,AH47<>$E47),0)))))","v":60},{"$f":"IF(COUNTIF($D$47:$E$47,AH47),120,0)+IF(COUNTIF($D$47:$E$47,AE47),120,0)","v":120},{"$f":"IF(OR(AE47=\"\",AH47=\"\"),0,IF(AND(AE47=$D47,AH47=$E47,AF47=$F47,AG47=$G47),200,0))","v":0},"Frankreich",2,3,"Portugal",{"$f":"IF(OR(AL47=\"\",AO47=\"\"),0,IF(AND(AL47=$D47,AO47=$E47),120,IF(AL47=$D47,60,IF(AO47=$E47,60,IF(AND(AL47<>$D47,AO47<>$E47),0)))))","v":0},{"$f":"IF(COUNTIF($D$47:$E$47,AO47),120,0)+IF(COUNTIF($D$47:$E$47,AL47),120,0)","v":0},{"$f":"IF(OR(AL47=\"\",AO47=\"\"),0,IF(AND(AL47=$D47,AO47=$E47,AM47=$F47,AN47=$G47),200,0))","v":0},"Frankreich",1,0,"Argentinien",{"$f":"IF(OR(AS47=\"\",AV47=\"\"),0,IF(AND(AS47=$D47,AV47=$E47),120,IF(AS47=$D47,60,IF(AV47=$E47,60,IF(AND(AS47<>$D47,AV47<>$E47),0)))))","v":60},{"$f":"IF(COUNTIF($D$47:$E$47,AV47),120,0)+IF(COUNTIF($D$47:$E$47,AS47),120,0)","v":120},{"$f":"IF(OR(AS47=\"\",AV47=\"\"),0,IF(AND(AS47=$D47,AV47=$E47,AT47=$F47,AU47=$G47),200,0))","v":0},"Spanien",0,1,"Frankreich",{"$f":"IF(OR(AZ47=\"\",BC47=\"\"),0,IF(AND(AZ47=$D47,BC47=$E47),120,IF(AZ47=$D47,60,IF(BC47=$E47,60,IF(AND(AZ47<>$D47,BC47<>$E47),0)))))","v":60},{"$f":"IF(COUNTIF($D$47:$E$47,BC47),120,0)+IF(COUNTIF($D$47:$E$47,AZ47),120,0)","v":120},{"$f":"IF(OR(AZ47=\"\",BC47=\"\"),0,IF(AND(AZ47=$D47,BC47=$E47,BA47=$F47,BB47=$G47),200,0))","v":0},"Spanien",4,3,"Argentinien",{"$f":"IF(OR(BG47=\"\",BJ47=\"\"),0,IF(AND(BG47=$D47,BJ47=$E47),120,IF(BG47=$D47,60,IF(BJ47=$E47,60,IF(AND(BG47<>$D47,BJ47<>$E47),0)))))","v":120},{"$f":"IF(COUNTIF($D$47:$E$47,BJ47),120,0)+IF(COUNTIF($D$47:$E$47,BG47),120,0)","v":240},{"$f":"IF(OR(BG47=\"\",BJ47=\"\"),0,IF(AND(BG47=$D47,BJ47=$E47,BH47=$F47,BI47=$G47),200,0))","v":0},"Holland",2,4,"Brasilien",{"$f":"IF(OR(BN47=\"\",BQ47=\"\"),0,IF(AND(BN47=$D47,BQ47=$E47),120,IF(BN47=$D47,60,IF(BQ47=$E47,60,IF(AND(BN47<>$D47,BQ47<>$E47),0)))))","v":0},{"$f":"IF(COUNTIF($D$47:$E$47,BQ47),120,0)+IF(COUNTIF($D$47:$E$47,BN47),120,0)","v":0},{"$f":"IF(OR(BN47=\"\",BQ47=\"\"),0,IF(AND(BN47=$D47,BQ47=$E47,BO47=$F47,BP47=$G47),200,0))","v":0},"Türkei",1,2,"Schweiz",{"$f":"IF(OR(BU47=\"\",BX47=\"\"),0,IF(AND(BU47=$D47,BX47=$E47),120,IF(BU47=$D47,60,IF(BX47=$E47,60,IF(AND(BU47<>$D47,BX47<>$E47),0)))))","v":0},{"$f":"IF(COUNTIF($D$47:$E$47,BX47),120,0)+IF(COUNTIF($D$47:$E$47,BU47),120,0)","v":0},{"$f":"IF(OR(BU47=\"\",BX47=\"\"),0,IF(AND(BU47=$D47,BX47=$E47,BV47=$F47,BW47=$G47),200,0))","v":0},"Spanien",2,1,"England",{"$f":"IF(OR(CB47=\"\",CE47=\"\"),0,IF(AND(CB47=$D47,CE47=$E47),120,IF(CB47=$D47,60,IF(CE47=$E47,60,IF(AND(CB47<>$D47,CE47<>$E47),0)))))","v":60},{"$f":"IF(COUNTIF($D$47:$E$47,CE47),120,0)+IF(COUNTIF($D$47:$E$47,CB47),120,0)","v":120},{"$f":"IF(OR(CB47=\"\",CE47=\"\"),0,IF(AND(CB47=$D47,CE47=$E47,CC47=$F47,CD47=$G47),200,0))","v":0},"Frankreich",3,2,"Argentinien",{"$f":"IF(OR(CI47=\"\",CL47=\"\"),0,IF(AND(CI47=$D47,CL47=$E47),120,IF(CI47=$D47,60,IF(CL47=$E47,60,IF(AND(CI47<>$D47,CL47<>$E47),0)))))","v":60},{"$f":"IF(COUNTIF($D$47:$E$47,CL47),120,0)+IF(COUNTIF($D$47:$E$47,CI47),120,0)","v":120},{"$f":"IF(OR(CI47=\"\",CL47=\"\"),0,IF(AND(CI47=$D47,CL47=$E47,CJ47=$F47,CK47=$G47),200,0))","v":0},"Spanien",3,1,"England",{"$f":"IF(OR(CP47=\"\",CS47=\"\"),0,IF(AND(CP47=$D47,CS47=$E47),120,IF(CP47=$D47,60,IF(CS47=$E47,60,IF(AND(CP47<>$D47,CS47<>$E47),0)))))","v":60},{"$f":"IF(COUNTIF($D$47:$E$47,CS47),120,0)+IF(COUNTIF($D$47:$E$47,CP47),120,0)","v":120},{"$f":"IF(OR(CP47=\"\",CS47=\"\"),0,IF(AND(CP47=$D47,CS47=$E47,CQ47=$F47,CR47=$G47),200,0))","v":0},"Deutschland",3,1,"Japan",{"$f":"IF(OR(CW47=\"\",CZ47=\"\"),0,IF(AND(CW47=$D47,CZ47=$E47),120,IF(CW47=$D47,60,IF(CZ47=$E47,60,IF(AND(CW47<>$D47,CZ47<>$E47),0)))))","v":0},{"$f":"IF(COUNTIF($D$47:$E$47,CZ47),120,0)+IF(COUNTIF($D$47:$E$47,CW47),120,0)","v":0},{"$f":"IF(OR(CW47=\"\",CZ47=\"\"),0,IF(AND(CW47=$D47,CZ47=$E47,CX47=$F47,CY47=$G47),200,0))","v":0},"Frankreich",5,4,"Brasilien",{"$f":"IF(OR(DD47=\"\",DG47=\"\"),0,IF(AND(DD47=$D47,DG47=$E47),120,IF(DD47=$D47,60,IF(DG47=$E47,60,IF(AND(DD47<>$D47,DG47<>$E47),0)))))","v":0},{"$f":"IF(COUNTIF($D$47:$E$47,DG47),120,0)+IF(COUNTIF($D$47:$E$47,DD47),120,0)","v":0},{"$f":"IF(OR(DD47=\"\",DG47=\"\"),0,IF(AND(DD47=$D47,DG47=$E47,DE47=$F47,DF47=$G47),200,0))","v":0},"Frankreich",5,4,"Argentinien",{"$f":"IF(OR(DK47=\"\",DN47=\"\"),0,IF(AND(DK47=$D47,DN47=$E47),120,IF(DK47=$D47,60,IF(DN47=$E47,60,IF(AND(DK47<>$D47,DN47<>$E47),0)))))","v":60},{"$f":"IF(COUNTIF($D$47:$E$47,DN47),120,0)+IF(COUNTIF($D$47:$E$47,DK47),120,0)","v":120},{"$f":"IF(OR(DK47=\"\",DN47=\"\"),0,IF(AND(DK47=$D47,DN47=$E47,DL47=$F47,DM47=$G47),200,0))","v":0},"Kolumbien",1,0,"England",{"$f":"IF(OR(DR47=\"\",DU47=\"\"),0,IF(AND(DR47=$D47,DU47=$E47),120,IF(DR47=$D47,60,IF(DU47=$E47,60,IF(AND(DR47<>$D47,DU47<>$E47),0)))))","v":0},{"$f":"IF(COUNTIF($D$47:$E$47,DU47),120,0)+IF(COUNTIF($D$47:$E$47,DR47),120,0)","v":0},{"$f":"IF(OR(DR47=\"\",DU47=\"\"),0,IF(AND(DR47=$D47,DU47=$E47,DS47=$F47,DT47=$G47),200,0))","v":0},"Frankreich",2,0,"Brasilien",{"$f":"IF(OR(DY47=\"\",EB47=\"\"),0,IF(AND(DY47=$D47,EB47=$E47),120,IF(DY47=$D47,60,IF(EB47=$E47,60,IF(AND(DY47<>$D47,EB47<>$E47),0)))))","v":0},{"$f":"IF(COUNTIF($D$47:$E$47,EB47),120,0)+IF(COUNTIF($D$47:$E$47,DY47),120,0)","v":0},{"$f":"IF(OR(DY47=\"\",EB47=\"\"),0,IF(AND(DY47=$D47,EB47=$E47,DZ47=$F47,EA47=$G47),200,0))","v":0},"England",2,0,"Argentinien",{"$f":"IF(OR(EF47=\"\",EI47=\"\"),0,IF(AND(EF47=$D47,EI47=$E47),120,IF(EF47=$D47,60,IF(EI47=$E47,60,IF(AND(EF47<>$D47,EI47<>$E47),0)))))","v":60},{"$f":"IF(COUNTIF($D$47:$E$47,EI47),120,0)+IF(COUNTIF($D$47:$E$47,EF47),120,0)","v":120},{"$f":"IF(OR(EF47=\"\",EI47=\"\"),0,IF(AND(EF47=$D47,EI47=$E47,EG47=$F47,EH47=$G47),200,0))","v":0},"Spanien",2,1,"Portugal",{"$f":"IF(OR(EM47=\"\",EP47=\"\"),0,IF(AND(EM47=$D47,EP47=$E47),120,IF(EM47=$D47,60,IF(EP47=$E47,60,IF(AND(EM47<>$D47,EP47<>$E47),0)))))","v":60},{"$f":"IF(COUNTIF($D$47:$E$47,EP47),120,0)+IF(COUNTIF($D$47:$E$47,EM47),120,0)","v":120},{"$f":"IF(OR(EM47=\"\",EP47=\"\"),0,IF(AND(EM47=$D47,EP47=$E47,EN47=$F47,EO47=$G47),200,0))","v":0},null,{"$f":"_xlfn.TEXTJOIN(\", \",TRUE,_xlfn._xlws.FILTER(INDEX($J$4:$EM$4,1,_xlfn.SEQUENCE(1,(COLUMNS($J$4:$EM$4)-1)/7+1,1,7))&\" \"&INDEX($J$5:$EM$5,1,_xlfn.SEQUENCE(1,(COLUMNS($J$5:$EM$5)-1)/7+1,1,7)),INDEX($P47:$ES47,1,_xlfn.SEQUENCE(1,(COLUMNS($P47:$ES47)-1)/7+1,1,7))>0,\"\"))","v":""},null,""]
["Weltmeister"]
[null,null,null,{"$f":"IF(F47=G47,\"???\",IF(F47>G47,D47,E47))","v":"???"},null,null,null,null,null,"Weltmeister:",null,null,{"$f":"IF(K47=L47,\"\",IF(K47>L47,J47,M47))","v":"Portugal"},null,null,{"$f":"IF(OR(M49=\"\"),0,IF(M49=$D49,350,0))","v":0},"Weltmeister:",null,null,{"$f":"IF(R47=S47,\"\",IF(R47>S47,Q47,T47))","v":"Brasilien"},null,null,{"$f":"IF(OR(T49=\"\"),0,IF(T49=$D49,350,0))","v":0},"Weltmeister:",null,null,{"$f":"IF(Y47=Z47,\"\",IF(Y47>Z47,X47,AA47))","v":"Marokko"},null,null,{"$f":"IF(OR(AA49=\"\"),0,IF(AA49=$D49,350,0))","v":0},"Weltmeister:",null,null,{"$f":"IF(AF47=AG47,\"\",IF(AF47>AG47,AE47,AH47))","v":"Spanien"},null,null,{"$f":"IF(OR(AH49=\"\"),0,IF(AH49=$D49,350,0))","v":0},"Weltmeister:",null,null,{"$f":"IF(AM47=AN47,\"\",IF(AM47>AN47,AL47,AO47))","v":"Portugal"},null,null,{"$f":"IF(OR(AO49=\"\"),0,IF(AO49=$D49,350,0))","v":0},"Weltmeister:",null,null,{"$f":"IF(AT47=AU47,\"\",IF(AT47>AU47,AS47,AV47))","v":"Frankreich"},null,null,{"$f":"IF(OR(AV49=\"\"),0,IF(AV49=$D49,350,0))","v":0},"Weltmeister:",null,null,{"$f":"IF(BA47=BB47,\"\",IF(BA47>BB47,AZ47,BC47))","v":"Frankreich"},null,null,{"$f":"IF(OR(BC49=\"\"),0,IF(BC49=$D49,350,0))","v":0},"Weltmeister:",null,null,{"$f":"IF(BH47=BI47,\"\",IF(BH47>BI47,BG47,BJ47))","v":"Spanien"},null,null,{"$f":"IF(OR(BJ49=\"\"),0,IF(BJ49=$D49,350,0))","v":0},"Weltmeister:",null,null,{"$f":"IF(BO47=BP47,\"\",IF(BO47>BP47,BN47,BQ47))","v":"Brasilien"},null,null,{"$f":"IF(OR(BQ49=\"\"),0,IF(BQ49=$D49,350,0))","v":0},"Weltmeister:",null,null,{"$f":"IF(BV47=BW47,\"\",IF(BV47>BW47,BU47,BX47))","v":"Schweiz"},null,null,{"$f":"IF(OR(BX49=\"\"),0,IF(BX49=$D49,350,0))","v":0},"Weltmeister:",null,null,{"$f":"IF(CC47=CD47,\"\",IF(CC47>CD47,CB47,CE47))","v":"Spanien"},null,null,{"$f":"IF(OR(CE49=\"\"),0,IF(CE49=$D49,350,0))","v":0},"Weltmeister:",null,null,{"$f":"IF(CJ47=CK47,\"\",IF(CJ47>CK47,CI47,CL47))","v":"Frankreich"},null,null,{"$f":"IF(OR(CL49=\"\"),0,IF(CL49=$D49,350,0))","v":0},"Weltmeister:",null,null,{"$f":"IF(CQ47=CR47,\"\",IF(CQ47>CR47,CP47,CS47))","v":"Spanien"},null,null,{"$f":"IF(OR(CS49=\"\"),0,IF(CS49=$D49,350,0))","v":0},"Weltmeister:",null,null,{"$f":"IF(CX47=CY47,\"\",IF(CX47>CY47,CW47,CZ47))","v":"Deutschland"},null,null,{"$f":"IF(OR(CZ49=\"\"),0,IF(CZ49=$D49,350,0))","v":0},"Weltmeister:",null,null,{"$f":"IF(DE47=DF47,\"\",IF(DE47>DF47,DD47,DG47))","v":"Frankreich"},null,null,{"$f":"IF(OR(DG49=\"\"),0,IF(DG49=$D49,350,0))","v":0},"Weltmeister:",null,null,{"$f":"IF(DL47=DM47,\"\",IF(DL47>DM47,DK47,DN47))","v":"Frankreich"},null,null,{"$f":"IF(OR(DN49=\"\"),0,IF(DN49=$D49,350,0))","v":0},"Weltmeister:",null,null,{"$f":"IF(DS47=DT47,\"\",IF(DS47>DT47,DR47,DU47))","v":"Kolumbien"},null,null,{"$f":"IF(OR(DU49=\"\"),0,IF(DU49=$D49,350,0))","v":0},"Weltmeister:",null,null,{"$f":"IF(DZ47=EA47,\"\",IF(DZ47>EA47,DY47,EB47))","v":"Frankreich"},null,null,{"$f":"IF(OR(EB49=\"\"),0,IF(EB49=$D49,350,0))","v":0},"Weltmeister:",null,null,{"$f":"IF(EG47=EH47,\"\",IF(EG47>EH47,EF47,EI47))","v":"England"},null,null,{"$f":"IF(OR(EI49=\"\"),0,IF(EI49=$D49,350,0))","v":0},"Weltmeister:",null,null,{"$f":"IF(EN47=EO47,\"\",IF(EN47>EO47,EM47,EP47))","v":"Spanien"},null,null,{"$f":"IF(OR(EP49=\"\"),0,IF(EP49=$D49,350,0))","v":0}]
[null,null,null,null,null,null,null,null,null,{"$f":"Teilnehmerliste!$C6","v":"Agorastos"},null,null,{"$f":"IF(K47>L47,J47,M47)","v":"Portugal"},{"$f":"SUM(N11:P49)","v":2200},null,null,{"$f":"Teilnehmerliste!$C7","v":"Agorastos"},null,null,null,{"$f":"SUM(U11:W49)","v":2170},null,null,{"$f":"Teilnehmerliste!$C8","v":"Antonelli"},null,null,null,{"$f":"SUM(AB11:AD49)","v":1740},null,null,{"$f":"Teilnehmerliste!$C9","v":"Antonelli"},null,null,null,{"$f":"SUM(AI11:AK49)","v":2760},null,null,{"$f":"Teilnehmerliste!$C10","v":"Antonelli"},null,null,null,{"$f":"SUM(AP11:AR49)","v":2060},null,null,{"$f":"Teilnehmerliste!$C11","v":"Balazs"},null,null,null,{"$f":"SUM(AW11:AY49)","v":2510},null,null,{"$f":"Teilnehmerliste!$C12","v":"Bartholet"},null,null,null,{"$f":"SUM(BD11:BF49)","v":2400},null,null,{"$f":"Teilnehmerliste!$C13","v":"Bartholet"},null,null,null,{"$f":"SUM(BK11:BM49)","v":2890},null,null,{"$f":"Teilnehmerliste!$C14","v":"Bartholet"},null,null,null,{"$f":"SUM(BR11:BT49)","v":2290},null,null,{"$f":"Teilnehmerliste!$C15","v":"Bartholet"},null,null,null,{"$f":"SUM(BY11:CA49)","v":1880},null,null,{"$f":"Teilnehmerliste!$C16","v":"Beck"},null,null,null,{"$f":"SUM(CF11:CH49)","v":2890},null,null,{"$f":"Teilnehmerliste!$C17","v":"Boonaek"},null,null,null,{"$f":"SUM(CM11:CO49)","v":2730},null,null,{"$f":"Teilnehmerliste!$C18","v":"Bosshart"},null,null,null,{"$f":"SUM(CT11:CV49)","v":2840},null,null,{"$f":"Teilnehmerliste!$C19","v":"Brunner"},null,null,null,{"$f":"SUM(DA11:DC49)","v":1470},null,null,{"$f":"Teilnehmerliste!$C20","v":"Brunner"},null,null,null,{"$f":"SUM(DH11:DJ49)","v":2100},null,null,{"$f":"Teilnehmerliste!$C21","v":"Brunner"},null,null,null,{"$f":"SUM(DO11:DQ49)","v":2610},null,null,{"$f":"Teilnehmerliste!$C22","v":"Brunner"},null,null,null,{"$f":"SUM(DV11:DX49)","v":2320},null,null,{"$f":"Teilnehmerliste!$C23","v":"Burkart"},null,null,null,{"$f":"SUM(EC11:EE49)","v":2340},null,null,{"$f":"Teilnehmerliste!$C24","v":"Christiansen"},null,null,null,{"$f":"SUM(EJ11:EL49)","v":2370},null,null,{"$f":"Teilnehmerliste!$C25","v":"Cruz"},null,null,null,{"$f":"SUM(EQ11:ES49)","v":2920}]
[]
[null,null,null,null,"ff"]
["Finalrunde",null,null,"Spieler 21 - 40"]
[{"$f":"A4","v":"Pro richtige Mannschaft:"},null,null,null,null,null,null,null,null,{"$f":"Teilnehmerliste!$B26","v":"Leo"},null,null,null,null,null,null,{"$f":"Teilnehmerliste!$B27","v":"Lisa"},null,null,null,null,null,null,{"$f":"Teilnehmerliste!$B28","v":"Niva"},null,null,null,null,null,null,{"$f":"Teilnehmerliste!$B29","v":"Vinci"},null,null,null,null,null,null,{"$f":"Teilnehmerliste!$B30","v":"Rafael"},null,null,null,null,null,null,{"$f":"Teilnehmerliste!$B31","v":"Goran"},null,null,null,null,null,null,{"$f":"Teilnehmerliste!$B32","v":"Armin"},null,null,null,null,null,null,{"$f":"Teilnehmerliste!$B33","v":"Dino"},null,null,null,null,null,null,{"$f":"Teilnehmerliste!$B34","v":"Djuma"},null,null,null,null,null,null,{"$f":"Teilnehmerliste!$B35","v":"Andreia"},null,null,null,null,null,null,{"$f":"Teilnehmerliste!$B36","v":"Rui"},null,null,null,null,null,null,{"$f":"Teilnehmerliste!$B37","v":"Deliz"},null,null,null,null,null,null,{"$f":"Teilnehmerliste!$B38","v":"Florian"},null,null,null,null,null,null,{"$f":"Teilnehmerliste!$B39","v":"Laurent"},null,null,null,null,null,null,{"$f":"Teilnehmerliste!$B40","v":"Reto"},null,null,null,null,null,null,{"$f":"Teilnehmerliste!$B41","v":"Robin"},null,null,null,null,null,null,{"$f":"Teilnehmerliste!$B42","v":"Sarina"},null,null,null,null,null,null,{"$f":"Teilnehmerliste!$B43","v":"Selina"},null,null,null,null,null,null,{"$f":"Teilnehmerliste!$B44","v":"Stefan"},null,null,null,null,null,null,{"$f":"Teilnehmerliste!$B45","v":"Timothy"}]
[{"$f":"A5","v":"... am richtigen Ort: 1/16= 10, 1/8=20, 1/4=30, 1/2=40, 3Pl.=50, Finale=60"},null,null,null,null,null,null,null,null,{"$f":"Teilnehmerliste!$C26","v":"Rodrigues da Costa"},null,null,null,null,null,null,{"$f":"Teilnehmerliste!$C27","v":"D'Acunto"},null,null,null,null,null,null,{"$f":"Teilnehmerliste!$C28","v":"D'Acunto"},null,null,null,null,null,null,{"$f":"Teilnehmerliste!$C29","v":"D'Acunto"},null,null,null,null,null,null,{"$f":"Teilnehmerliste!$C30","v":"Derungs"},null,null,null,null,null,null,{"$f":"Teilnehmerliste!$C31","v":"Djukic"},null,null,null,null,null,null,{"$f":"Teilnehmerliste!$C32","v":"Duvnjak"},null,null,null,null,null,null,{"$f":"Teilnehmerliste!$C33","v":"Duvnjak"},null,null,null,null,null,null,{"$f":"Teilnehmerliste!$C34","v":"Duvnjak"},null,null,null,null,null,null,{"$f":"Teilnehmerliste!$C35","v":"Gomes"},null,null,null,null,null,null,{"$f":"Teilnehmerliste!$C36","v":"Gomes"},null,null,null,null,null,null,{"$f":"Teilnehmerliste!$C37","v":"González"},null,null,null,null,null,null,{"$f":"Teilnehmerliste!$C38","v":"González"},null,null,null,null,null,null,{"$f":"Teilnehmerliste!$C39","v":"Grosse"},null,null,null,null,null,null,{"$f":"Teilnehmerliste!$C40","v":"Gygli"},null,null,null,null,null,null,{"$f":"Teilnehmerliste!$C41","v":"Gygli"},null,null,null,null,null,null,{"$f":"Teilnehmerliste!$C42","v":"Gygli"},null,null,null,null,null,null,{"$f":"Teilnehmerliste!$C43","v":"Gygli"},null,null,null,null,null,null,{"$f":"Teilnehmerliste!$C44","v":"Gygli"},null,null,null,null,null,null,{"$f":"Teilnehmerliste!$C45","v":"Gygli"}]
["... im x-Finale: 1/16=20, 1/8=40, 1/4=80, 1/2=100, 3Pl.=100, Finale=120",null,null,null,null,null,null,null,null,null,null,null,null,null,null,{"$f":"Teilnehmerliste!A26","v":21},null,null,null,null,null,null,{"$f":"Teilnehmerliste!$A27","v":22},null,null,null,null,null,null,{"$f":"Teilnehmerliste!$A28","v":23},null,null,null,null,null,null,{"$f":"Teilnehmerliste!$A29","v":24},null,null,null,null,null,null,{"$f":"Teilnehmerliste!$A30","v":25},null,null,null,null,null,null,{"$f":"Teilnehmerliste!$A31","v":26},null,null,null,null,null,null,{"$f":"Teilnehmerliste!$A32","v":27},null,null,null,null,null,null,{"$f":"Teilnehmerliste!$A33","v":28},null,null,null,null,null,null,{"$f":"Teilnehmerliste!$A34","v":29},null,null,null,null,null,null,{"$f":"Teilnehmerliste!$A35","v":30},null,null,null,null,null,null,{"$f":"Teilnehmerliste!$A36","v":31},null,null,null,null,null,null,{"$f":"Teilnehmerliste!$A37","v":32},null,null,null,null,null,null,{"$f":"Teilnehmerliste!$A38","v":33},null,null,null,null,null,null,{"$f":"Teilnehmerliste!$A39","v":34},null,null,null,null,null,null,{"$f":"Teilnehmerliste!$A40","v":35},null,null,null,null,null,null,{"$f":"Teilnehmerliste!$A41","v":36},null,null,null,null,null,null,{"$f":"Teilnehmerliste!$A42","v":37},null,null,null,null,null,null,{"$f":"Teilnehmerliste!$A43","v":38},null,null,null,null,null,null,{"$f":"Teilnehmerliste!$A44","v":39},null,null,null,null,null,null,{"$f":"Teilnehmerliste!$A45","v":40}]
["Richtiges Resultat: 1/16=30, 1/8=50, 1/4=70, 1/2=100, 3Pl.=150, Finale=200"]
["Richtiger Weltmeister = 350"]
["Datum","Zeit","Nr.","Spiel",null,"Resultat"]
["Sechzehntelfinale",null,null,null,null,null,null,null,null,"Tipp",null,null,null,"Pkt",null,null,"Tipp",null,null,null,"Pkt",null,null,"Tipp",null,null,null,"Pkt",null,null,"Tipp",null,null,null,"Pkt",null,null,"Tipp",null,null,null,"Pkt",null,null,"Tipp",null,null,null,"Pkt",null,null,"Tipp",null,null,null,"Pkt",null,null,"Tipp",null,null,null,"Pkt",null,null,"Tipp",null,null,null,"Pkt",null,null,"Tipp",null,null,null,"Pkt",null,null,"Tipp",null,null,null,"Pkt",null,null,"Tipp",null,null,null,"Pkt",null,null,"Tipp",null,null,null,"Pkt",null,null,"Tipp",null,null,null,"Pkt",null,null,"Tipp",null,null,null,"Pkt",null,null,"Tipp",null,null,null,"Pkt",null,null,"Tipp",null,null,null,"Pkt",null,null,"Tipp",null,null,null,"Pkt",null,null,"Tipp",null,null,null,"Pkt",null,null,"Tipp",null,null,null,"Pkt"]
[{"$f":"A11","v":"So. 28. Jun"},{"$f":"B11","v":"21:00:00"},{"$f":"C11","v":73},{"$f":"D11","v":"Südafrika"},{"$f":"E11","v":"Kanada"},{"$f":"IF(F11=\"\",\"\",F11)","v":0},1,null,null,"Tschechien",2,1,"Kanada",{"$f":"IF(OR(J61=\"\",M61=\"\"),0,IF(AND(J61=$D61,M61=$E61),20,IF(J61=$D61,10,IF(M61=$E61,10,IF(AND(J61<>$D61,M61<>$E61),0)))))","v":10},{"$f":"IF(COUNTIF($D$11:$E$26,M61),20,0)+IF(COUNTIF($D$11:$E$26,J61),20,0)","v":20},{"$f":"IF(OR(J61=\"\",M61=\"\"),0,IF(AND(J61=$D61,M61=$E61,K61=$F61,L61=$G61),30,0))","v":0},"Tschechien",1,2,"Kanada",{"$f":"IF(OR(Q61=\"\",T61=\"\"),0,IF(AND(Q61=$D61,T61=$E61),20,IF(Q61=$D61,10,IF(T61=$E61,10,IF(AND(Q61<>$D61,T61<>$E61),0)))))","v":10},{"$f":"IF(COUNTIF($D$11:$E$26,T61),20,0)+IF(COUNTIF($D$11:$E$26,Q61),20,0)","v":20},{"$f":"IF(OR(Q61=\"\",T61=\"\"),0,IF(AND(Q61=$D61,T61=$E61,R61=$F61,S61=$G61),30,0))","v":0},"Tschechien",1,2,"Kanada",{"$f":"IF(OR(X61=\"\",AA61=\"\"),0,IF(AND(X61=$D61,AA61=$E61),20,IF(X61=$D61,10,IF(AA61=$E61,10,IF(AND(X61<>$D61,AA61<>$E61),0)))))","v":10},{"$f":"IF(COUNTIF($D$11:$E$26,AA61),20,0)+IF(COUNTIF($D$11:$E$26,X61),20,0)","v":20},{"$f":"IF(OR(X61=\"\",AA61=\"\"),0,IF(AND(X61=$D61,AA61=$E61,Y61=$F61,Z61=$G61),30,0))","v":0},"Tschechien",1,2,"Bosnien-Herz.",{"$f":"IF(OR(AE61=\"\",AH61=\"\"),0,IF(AND(AE61=$D61,AH61=$E61),20,IF(AE61=$D61,10,IF(AH61=$E61,10,IF(AND(AE61<>$D61,AH61<>$E61),0)))))","v":0},{"$f":"IF(COUNTIF($D$11:$E$26,AH61),20,0)+IF(COUNTIF($D$11:$E$26,AE61),20,0)","v":20},{"$f":"IF(OR(AE61=\"\",AH61=\"\"),0,IF(AND(AE61=$D61,AH61=$E61,AF61=$F61,AG61=$G61),30,0))","v":0},"Südkorea",1,2,"Schweiz",{"$f":"IF(OR(AL61=\"\",AO61=\"\"),0,IF(AND(AL61=$D61,AO61=$E61),20,IF(AL61=$D61,10,IF(AO61=$E61,10,IF(AND(AL61<>$D61,AO61<>$E61),0)))))","v":0},{"$f":"IF(COUNTIF($D$11:$E$26,AO61),20,0)+IF(COUNTIF($D$11:$E$26,AL61),20,0)","v":20},{"$f":"IF(OR(AL61=\"\",AO61=\"\"),0,IF(AND(AL61=$D61,AO61=$E61,AM61=$F61,AN61=$G61),30,0))","v":0},"Tschechien",1,1,"Kanada",{"$f":"IF(OR(AS61=\"\",AV61=\"\"),0,IF(AND(AS61=$D61,AV61=$E61),20,IF(AS61=$D61,10,IF(AV61=$E61,10,IF(AND(AS61<>$D61,AV61<>$E61),0)))))","v":10},{"$f":"IF(COUNTIF($D$11:$E$26,AV61),20,0)+IF(COUNTIF($D$11:$E$26,AS61),20,0)","v":20},{"$f":"IF(OR(AS61=\"\",AV61=\"\"),0,IF(AND(AS61=$D61,AV61=$E61,AT61=$F61,AU61=$G61),30,0))","v":0},"Tschechien",1,2,"Bosnien-Herz.",{"$f":"IF(OR(AZ61=\"\",BC61=\"\"),0,IF(AND(AZ61=$D61,BC61=$E61),20,IF(AZ61=$D61,10,IF(BC61=$E61,10,IF(AND(AZ61<>$D61,BC61<>$E61),0)))))","v":0},{"$f":"IF(COUNTIF($D$11:$E$26,BC61),20,0)+IF(COUNTIF($D$11:$E$26,AZ61),20,0)","v":20},{"$f":"IF(OR(AZ61=\"\",BC61=\"\"),0,IF(AND(AZ61=$D61,BC61=$E61,BA61=$F61,BB61=$G61),30,0))","v":0},"Tschechien",0,1,"Bosnien-Herz.",{"$f":"IF(OR(BG61=\"\",BJ61=\"\"),0,IF(AND(BG61=$D61,BJ61=$E61),20,IF(BG61=$D61,10,IF(BJ61=$E61,10,IF(AND(BG61<>$D61,BJ61<>$E61),0)))))","v":0},{"$f":"IF(COUNTIF($D$11:$E$26,BJ61),20,0)+IF(COUNTIF($D$11:$E$26,BG61),20,0)","v":20},{"$f":"IF(OR(BG61=\"\",BJ61=\"\"),0,IF(AND(BG61=$D61,BJ61=$E61,BH61=$F61,BI61=$G61),30,0))","v":0},"Tschechien",0,1,"Bosnien-Herz.",{"$f":"IF(OR(BN61=\"\",BQ61=\"\"),0,IF(AND(BN61=$D61,BQ61=$E61),20,IF(BN61=$D61,10,IF(BQ61=$E61,10,IF(AND(BN61<>$D61,BQ61<>$E61),0)))))","v":0},{"$f":"IF(COUNTIF($D$11:$E$26,BQ61),20,0)+IF(COUNTIF($D$11:$E$26,BN61),20,0)","v":20},{"$f":"IF(OR(BN61=\"\",BQ61=\"\"),0,IF(AND(BN61=$D61,BQ61=$E61,BO61=$F61,BP61=$G61),30,0))","v":0},"Mexiko",1,0,"Kanada",{"$f":"IF(OR(BU61=\"\",BX61=\"\"),0,IF(AND(BU61=$D61,BX61=$E61),20,IF(BU61=$D61,10,IF(BX61=$E61,10,IF(AND(BU61<>$D61,BX61<>$E61),0)))))","v":10},{"$f":"IF(COUNTIF($D$11:$E$26,BX61),20,0)+IF(COUNTIF($D$11:$E$26,BU61),20,0)","v":40},{"$f":"IF(OR(BU61=\"\",BX61=\"\"),0,IF(AND(BU61=$D61,BX61=$E61,BV61=$F61,BW61=$G61),30,0))","v":0},"Südkorea",1,2,"Bosnien-Herz.",{"$f":"IF(OR(CB61=\"\",CE61=\"\"),0,IF(AND(CB61=$D61,CE61=$E61),20,IF(CB61=$D61,10,IF(CE61=$E61,10,IF(AND(CB61<>$D61,CE61<>$E61),0)))))","v":0},{"$f":"IF(COUNTIF($D$11:$E$26,CE61),20,0)+IF(COUNTIF($D$11:$E$26,CB61),20,0)","v":20},{"$f":"IF(OR(CB61=\"\",CE61=\"\"),0,IF(AND(CB61=$D61,CE61=$E61,CC61=$F61,CD61=$G61),30,0))","v":0},"Südkorea",4,5,"Bosnien-Herz.",{"$f":"IF(OR(CI61=\"\",CL61=\"\"),0,IF(AND(CI61=$D61,CL61=$E61),20,IF(CI61=$D61,10,IF(CL61=$E61,10,IF(AND(CI61<>$D61,CL61<>$E61),0)))))","v":0},{"$f":"IF(COUNTIF($D$11:$E$26,CL61),20,0)+IF(COUNTIF($D$11:$E$26,CI61),20,0)","v":20},{"$f":"IF(OR(CI61=\"\",CL61=\"\"),0,IF(AND(CI61=$D61,CL61=$E61,CJ61=$F61,CK61=$G61),30,0))","v":0},"Tschechien",1,0,"Bosnien-Herz.",{"$f":"IF(OR(CP61=\"\",CS61=\"\"),0,IF(AND(CP61=$D61,CS61=$E61),20,IF(CP61=$D61,10,IF(CS61=$E61,10,IF(AND(CP61<>$D61,CS61<>$E61),0)))))","v":0},{"$f":"IF(COUNTIF($D$11:$E$26,CS61),20,0)+IF(COUNTIF($D$11:$E$26,CP61),20,0)","v":20},{"$f":"IF(OR(CP61=\"\",CS61=\"\"),0,IF(AND(CP61=$D61,CS61=$E61,CQ61=$F61,CR61=$G61),30,0))","v":0},"Mexiko",1,0,"Kanada",{"$f":"IF(OR(CW61=\"\",CZ61=\"\"),0,IF(AND(CW61=$D61,CZ61=$E61),20,IF(CW61=$D61,10,IF(CZ61=$E61,10,IF(AND(CW61<>$D61,CZ61<>$E61),0)))))","v":10},{"$f":"IF(COUNTIF($D$11:$E$26,CZ61),20,0)+IF(COUNTIF($D$11:$E$26,CW61),20,0)","v":40},{"$f":"IF(OR(CW61=\"\",CZ61=\"\"),0,IF(AND(CW61=$D61,CZ61=$E61,CX61=$F61,CY61=$G61),30,0))","v":0},"Südkorea",1,2,"Kanada",{"$f":"IF(OR(DD61=\"\",DG61=\"\"),0,IF(AND(DD61=$D61,DG61=$E61),20,IF(DD61=$D61,10,IF(DG61=$E61,10,IF(AND(DD61<>$D61,DG61<>$E61),0)))))","v":10},{"$f":"IF(COUNTIF($D$11:$E$26,DG61),20,0)+IF(COUNTIF($D$11:$E$26,DD61),20,0)","v":20},{"$f":"IF(OR(DD61=\"\",DG61=\"\"),0,IF(AND(DD61=$D61,DG61=$E61,DE61=$F61,DF61=$G61),30,0))","v":0},"Südkorea",1,2,"Kanada",{"$f":"IF(OR(DK61=\"\",DN61=\"\"),0,IF(AND(DK61=$D61,DN61=$E61),20,IF(DK61=$D61,10,IF(DN61=$E61,10,IF(AND(DK61<>$D61,DN61<>$E61),0)))))","v":10},{"$f":"IF(COUNTIF($D$11:$E$26,DN61),20,0)+IF(COUNTIF($D$11:$E$26,DK61),20,0)","v":20},{"$f":"IF(OR(DK61=\"\",DN61=\"\"),0,IF(AND(DK61=$D61,DN61=$E61,DL61=$F61,DM61=$G61),30,0))","v":0},"Südkorea",0,2,"Kanada",{"$f":"IF(OR(DR61=\"\",DU61=\"\"),0,IF(AND(DR61=$D61,DU61=$E61),20,IF(DR61=$D61,10,IF(DU61=$E61,10,IF(AND(DR61<>$D61,DU61<>$E61),0)))))","v":10},{"$f":"IF(COUNTIF($D$11:$E$26,DU61),20,0)+IF(COUNTIF($D$11:$E$26,DR61),20,0)","v":20},{"$f":"IF(OR(DR61=\"\",DU61=\"\"),0,IF(AND(DR61=$D61,DU61=$E61,DS61=$F61,DT61=$G61),30,0))","v":0},"Tschechien",2,1,"Bosnien-Herz.",{"$f":"IF(OR(DY61=\"\",EB61=\"\"),0,IF(AND(DY61=$D61,EB61=$E61),20,IF(DY61=$D61,10,IF(EB61=$E61,10,IF(AND(DY61<>$D61,EB61<>$E61),0)))))","v":0},{"$f":"IF(COUNTIF($D$11:$E$26,EB61),20,0)+IF(COUNTIF($D$11:$E$26,DY61),20,0)","v":20},{"$f":"IF(OR(DY61=\"\",EB61=\"\"),0,IF(AND(DY61=$D61,EB61=$E61,DZ61=$F61,EA61=$G61),30,0))","v":0},"Mexiko",2,0,"Kanada",{"$f":"IF(OR(EF61=\"\",EI61=\"\"),0,IF(AND(EF61=$D61,EI61=$E61),20,IF(EF61=$D61,10,IF(EI61=$E61,10,IF(AND(EF61<>$D61,EI61<>$E61),0)))))","v":10},{"$f":"IF(COUNTIF($D$11:$E$26,EI61),20,0)+IF(COUNTIF($D$11:$E$26,EF61),20,0)","v":40},{"$f":"IF(OR(EF61=\"\",EI61=\"\"),0,IF(AND(EF61=$D61,EI61=$E61,EG61=$F61,EH61=$G61),30,0))","v":0},"Südafrika",3,2,"Kanada",{"$f":"IF(OR(EM61=\"\",EP61=\"\"),0,IF(AND(EM61=$D61,EP61=$E61),20,IF(EM61=$D61,10,IF(EP61=$E61,10,IF(AND(EM61<>$D61,EP61<>$E61),0)))))","v":20},{"$f":"IF(COUNTIF($D$11:$E$26,EP61),20,0)+IF(COUNTIF($D$11:$E$26,EM61),20,0)","v":40},{"$f":"IF(OR(EM61=\"\",EP61=\"\"),0,IF(AND(EM61=$D61,EP61=$E61,EN61=$F61,EO61=$G61),30,0))","v":0},null,{"$f":"_xlfn.TEXTJOIN(\", \",TRUE,_xlfn._xlws.FILTER(INDEX($J$54:$EM$54,1,_xlfn.SEQUENCE(1,(COLUMNS($J$54:$EM$54)-1)/7+1,1,7))&\" \"&INDEX($J$55:$EM$55,1,_xlfn.SEQUENCE(1,(COLUMNS($J$55:$EM$55)-1)/7+1,1,7)),INDEX($P61:$ES61,1,_xlfn.SEQUENCE(1,(COLUMNS($P61:$ES61)-1)/7+1,1,7))>0,\"\"))","v":""}]
[{"$f":"A12","v":"Mo. 29. Jun"},"22:30:00",74,{"$f":"D12","v":"Deutschland"},"Paraguay",{"$f":"IF(F12=\"\",\"\",F12)","v":3},4,null,null,"Deutschland",3,0,"Paraguay",{"$f":"IF(OR(J62=\"\",M62=\"\"),0,IF(AND(J62=$D62,M62=$E62),20,IF(J62=$D62,10,IF(M62=$E62,10,IF(AND(J62<>$D62,M62<>$E62),0)))))","v":20},{"$f":"IF(COUNTIF($D$11:$E$26,M62),20,0)+IF(COUNTIF($D$11:$E$26,J62),20,0)","v":40},{"$f":"IF(OR(J62=\"\",M62=\"\"),0,IF(AND(J62=$D62,M62=$E62,K62=$F62,L62=$G62),30,0))","v":0},"Deutschland",3,1,"Australien",{"$f":"IF(OR(Q62=\"\",T62=\"\"),0,IF(AND(Q62=$D62,T62=$E62),20,IF(Q62=$D62,10,IF(T62=$E62,10,IF(AND(Q62<>$D62,T62<>$E62),0)))))","v":10},{"$f":"IF(COUNTIF($D$11:$E$26,T62),20,0)+IF(COUNTIF($D$11:$E$26,Q62),20,0)","v":40},{"$f":"IF(OR(Q62=\"\",T62=\"\"),0,IF(AND(Q62=$D62,T62=$E62,R62=$F62,S62=$G62),30,0))","v":0},"Deutschland",3,0,"Australien",{"$f":"IF(OR(X62=\"\",AA62=\"\"),0,IF(AND(X62=$D62,AA62=$E62),20,IF(X62=$D62,10,IF(AA62=$E62,10,IF(AND(X62<>$D62,AA62<>$E62),0)))))","v":10},{"$f":"IF(COUNTIF($D$11:$E$26,AA62),20,0)+IF(COUNTIF($D$11:$E$26,X62),20,0)","v":40},{"$f":"IF(OR(X62=\"\",AA62=\"\"),0,IF(AND(X62=$D62,AA62=$E62,Y62=$F62,Z62=$G62),30,0))","v":0},"Deutschland",2,0,"Schottland",{"$f":"IF(OR(AE62=\"\",AH62=\"\"),0,IF(AND(AE62=$D62,AH62=$E62),20,IF(AE62=$D62,10,IF(AH62=$E62,10,IF(AND(AE62<>$D62,AH62<>$E62),0)))))","v":10},{"$f":"IF(COUNTIF($D$11:$E$26,AH62),20,0)+IF(COUNTIF($D$11:$E$26,AE62),20,0)","v":20},{"$f":"IF(OR(AE62=\"\",AH62=\"\"),0,IF(AND(AE62=$D62,AH62=$E62,AF62=$F62,AG62=$G62),30,0))","v":0},"Deutschland",1,0,"Paraguay",{"$f":"IF(OR(AL62=\"\",AO62=\"\"),0,IF(AND(AL62=$D62,AO62=$E62),20,IF(AL62=$D62,10,IF(AO62=$E62,10,IF(AND(AL62<>$D62,AO62<>$E62),0)))))","v":20},{"$f":"IF(COUNTIF($D$11:$E$26,AO62),20,0)+IF(COUNTIF($D$11:$E$26,AL62),20,0)","v":40},{"$f":"IF(OR(AL62=\"\",AO62=\"\"),0,IF(AND(AL62=$D62,AO62=$E62,AM62=$F62,AN62=$G62),30,0))","v":0},"Deutschland",2,0,"Tunesien",{"$f":"IF(OR(AS62=\"\",AV62=\"\"),0,IF(AND(AS62=$D62,AV62=$E62),20,IF(AS62=$D62,10,IF(AV62=$E62,10,IF(AND(AS62<>$D62,AV62<>$E62),0)))))","v":10},{"$f":"IF(COUNTIF($D$11:$E$26,AV62),20,0)+IF(COUNTIF($D$11:$E$26,AS62),20,0)","v":20},{"$f":"IF(OR(AS62=\"\",AV62=\"\"),0,IF(AND(AS62=$D62,AV62=$E62,AT62=$F62,AU62=$G62),30,0))","v":0},"Deutschland",3,1,"Schottland",{"$f":"IF(OR(AZ62=\"\",BC62=\"\"),0,IF(AND(AZ62=$D62,BC62=$E62),20,IF(AZ62=$D62,10,IF(BC62=$E62,10,IF(AND(AZ62<>$D62,BC62<>$E62),0)))))","v":10},{"$f":"IF(COUNTIF($D$11:$E$26,BC62),20,0)+IF(COUNTIF($D$11:$E$26,AZ62),20,0)","v":20},{"$f":"IF(OR(AZ62=\"\",BC62=\"\"),0,IF(AND(AZ62=$D62,BC62=$E62,BA62=$F62,BB62=$G62),30,0))","v":0},"Deutschland",2,0,"Schottland",{"$f":"IF(OR(BG62=\"\",BJ62=\"\"),0,IF(AND(BG62=$D62,BJ62=$E62),20,IF(BG62=$D62,10,IF(BJ62=$E62,10,IF(AND(BG62<>$D62,BJ62<>$E62),0)))))","v":10},{"$f":"IF(COUNTIF($D$11:$E$26,BJ62),20,0)+IF(COUNTIF($D$11:$E$26,BG62),20,0)","v":20},{"$f":"IF(OR(BG62=\"\",BJ62=\"\"),0,IF(AND(BG62=$D62,BJ62=$E62,BH62=$F62,BI62=$G62),30,0))","v":0},"Deutschland",2,0,"Australien",{"$f":"IF(OR(BN62=\"\",BQ62=\"\"),0,IF(AND(BN62=$D62,BQ62=$E62),20,IF(BN62=$D62,10,IF(BQ62=$E62,10,IF(AND(BN62<>$D62,BQ62<>$E62),0)))))","v":10},{"$f":"IF(COUNTIF($D$11:$E$26,BQ62),20,0)+IF(COUNTIF($D$11:$E$26,BN62),20,0)","v":40},{"$f":"IF(OR(BN62=\"\",BQ62=\"\"),0,IF(AND(BN62=$D62,BQ62=$E62,BO62=$F62,BP62=$G62),30,0))","v":0},"Deutschland",2,0,"Marokko",{"$f":"IF(OR(BU62=\"\",BX62=\"\"),0,IF(AND(BU62=$D62,BX62=$E62),20,IF(BU62=$D62,10,IF(BX62=$E62,10,IF(AND(BU62<>$D62,BX62<>$E62),0)))))","v":10},{"$f":"IF(COUNTIF($D$11:$E$26,BX62),20,0)+IF(COUNTIF($D$11:$E$26,BU62),20,0)","v":40},{"$f":"IF(OR(BU62=\"\",BX62=\"\"),0,IF(AND(BU62=$D62,BX62=$E62,BV62=$F62,BW62=$G62),30,0))","v":0},"Deutschland",3,0,"Schottland",{"$f":"IF(OR(CB62=\"\",CE62=\"\"),0,IF(AND(CB62=$D62,CE62=$E62),20,IF(CB62=$D62,10,IF(CE62=$E62,10,IF(AND(CB62<>$D62,CE62<>$E62),0)))))","v":10},{"$f":"IF(COUNTIF($D$11:$E$26,CE62),20,0)+IF(COUNTIF($D$11:$E$26,CB62),20,0)","v":20},{"$f":"IF(OR(CB62=\"\",CE62=\"\"),0,IF(AND(CB62=$D62,CE62=$E62,CC62=$F62,CD62=$G62),30,0))","v":0},"Deutschland",1,0,"Schottland",{"$f":"IF(OR(CI62=\"\",CL62=\"\"),0,IF(AND(CI62=$D62,CL62=$E62),20,IF(CI62=$D62,10,IF(CL62=$E62,10,IF(AND(CI62<>$D62,CL62<>$E62),0)))))","v":10},{"$f":"IF(COUNTIF($D$11:$E$26,CL62),20,0)+IF(COUNTIF($D$11:$E$26,CI62),20,0)","v":20},{"$f":"IF(OR(CI62=\"\",CL62=\"\"),0,IF(AND(CI62=$D62,CL62=$E62,CJ62=$F62,CK62=$G62),30,0))","v":0},"Deutschland",2,0,"USA",{"$f":"IF(OR(CP62=\"\",CS62=\"\"),0,IF(AND(CP62=$D62,CS62=$E62),20,IF(CP62=$D62,10,IF(CS62=$E62,10,IF(AND(CP62<>$D62,CS62<>$E62),0)))))","v":10},{"$f":"IF(COUNTIF($D$11:$E$26,CS62),20,0)+IF(COUNTIF($D$11:$E$26,CP62),20,0)","v":40},{"$f":"IF(OR(CP62=\"\",CS62=\"\"),0,IF(AND(CP62=$D62,CS62=$E62,CQ62=$F62,CR62=$G62),30,0))","v":0},"Deutschland",2,1,"Paraguay",{"$f":"IF(OR(CW62=\"\",CZ62=\"\"),0,IF(AND(CW62=$D62,CZ62=$E62),20,IF(CW62=$D62,10,IF(CZ62=$E62,10,IF(AND(CW62<>$D62,CZ62<>$E62),0)))))","v":20},{"$f":"IF(COUNTIF($D$11:$E$26,CZ62),20,0)+IF(COUNTIF($D$11:$E$26,CW62),20,0)","v":40},{"$f":"IF(OR(CW62=\"\",CZ62=\"\"),0,IF(AND(CW62=$D62,CZ62=$E62,CX62=$F62,CY62=$G62),30,0))","v":0},"Deutschland",3,1,"Marokko",{"$f":"IF(OR(DD62=\"\",DG62=\"\"),0,IF(AND(DD62=$D62,DG62=$E62),20,IF(DD62=$D62,10,IF(DG62=$E62,10,IF(AND(DD62<>$D62,DG62<>$E62),0)))))","v":10},{"$f":"IF(COUNTIF($D$11:$E$26,DG62),20,0)+IF(COUNTIF($D$11:$E$26,DD62),20,0)","v":40},{"$f":"IF(OR(DD62=\"\",DG62=\"\"),0,IF(AND(DD62=$D62,DG62=$E62,DE62=$F62,DF62=$G62),30,0))","v":0},"Deutschland",2,0,"Marokko",{"$f":"IF(OR(DK62=\"\",DN62=\"\"),0,IF(AND(DK62=$D62,DN62=$E62),20,IF(DK62=$D62,10,IF(DN62=$E62,10,IF(AND(DK62<>$D62,DN62<>$E62),0)))))","v":10},{"$f":"IF(COUNTIF($D$11:$E$26,DN62),20,0)+IF(COUNTIF($D$11:$E$26,DK62),20,0)","v":40},{"$f":"IF(OR(DK62=\"\",DN62=\"\"),0,IF(AND(DK62=$D62,DN62=$E62,DL62=$F62,DM62=$G62),30,0))","v":0},"Deutschland",2,1,"Marokko",{"$f":"IF(OR(DR62=\"\",DU62=\"\"),0,IF(AND(DR62=$D62,DU62=$E62),20,IF(DR62=$D62,10,IF(DU62=$E62,10,IF(AND(DR62<>$D62,DU62<>$E62),0)))))","v":10},{"$f":"IF(COUNTIF($D$11:$E$26,DU62),20,0)+IF(COUNTIF($D$11:$E$26,DR62),20,0)","v":40},{"$f":"IF(OR(DR62=\"\",DU62=\"\"),0,IF(AND(DR62=$D62,DU62=$E62,DS62=$F62,DT62=$G62),30,0))","v":0},"Deutschland",1,0,"Türkei",{"$f":"IF(OR(DY62=\"\",EB62=\"\"),0,IF(AND(DY62=$D62,EB62=$E62),20,IF(DY62=$D62,10,IF(EB62=$E62,10,IF(AND(DY62<>$D62,EB62<>$E62),0)))))","v":10},{"$f":"IF(COUNTIF($D$11:$E$26,EB62),20,0)+IF(COUNTIF($D$11:$E$26,DY62),20,0)","v":20},{"$f":"IF(OR(DY62=\"\",EB62=\"\"),0,IF(AND(DY62=$D62,EB62=$E62,DZ62=$F62,EA62=$G62),30,0))","v":0},"Deutschland",3,1,"Schottland",{"$f":"IF(OR(EF62=\"\",EI62=\"\"),0,IF(AND(EF62=$D62,EI62=$E62),20,IF(EF62=$D62,10,IF(EI62=$E62,10,IF(AND(EF62<>$D62,EI62<>$E62),0)))))","v":10},{"$f":"IF(COUNTIF($D$11:$E$26,EI62),20,0)+IF(COUNTIF($D$11:$E$26,EF62),20,0)","v":20},{"$f":"IF(OR(EF62=\"\",EI62=\"\"),0,IF(AND(EF62=$D62,EI62=$E62,EG62=$F62,EH62=$G62),30,0))","v":0},"Deutschland",3,1,"Australien",{"$f":"IF(OR(EM62=\"\",EP62=\"\"),0,IF(AND(EM62=$D62,EP62=$E62),20,IF(EM62=$D62,10,IF(EP62=$E62,10,IF(AND(EM62<>$D62,EP62<>$E62),0)))))","v":10},{"$f":"IF(COUNTIF($D$11:$E$26,EP62),20,0)+IF(COUNTIF($D$11:$E$26,EM62),20,0)","v":40},{"$f":"IF(OR(EM62=\"\",EP62=\"\"),0,IF(AND(EM62=$D62,EP62=$E62,EN62=$F62,EO62=$G62),30,0))","v":0},null,{"$f":"_xlfn.TEXTJOIN(\", \",TRUE,_xlfn._xlws.FILTER(INDEX($J$54:$EM$54,1,_xlfn.SEQUENCE(1,(COLUMNS($J$54:$EM$54)-1)/7+1,1,7))&\" \"&INDEX($J$55:$EM$55,1,_xlfn.SEQUENCE(1,(COLUMNS($J$55:$EM$55)-1)/7+1,1,7)),INDEX($P62:$ES62,1,_xlfn.SEQUENCE(1,(COLUMNS($P62:$ES62)-1)/7+1,1,7))>0,\"\"))","v":""}]
[{"$f":"A13","v":"Di. 30. Jun"},"03:00:00",75,{"$f":"D13","v":"Holland"},"Marokko",{"$f":"IF(F13=\"\",\"\",F13)","v":2},3,null,null,"Holland",1,2,"Marokko",20,40,0,"Japan",7,6,"Marokko",10,40,0,"Holland",2,1,"Marokko",20,40,0,"Holland",2,1,"Marokko",20,40,0,"Holland",0,1,"Marokko",20,40,0,"Holland",2,1,"Marokko",20,40,0,"Holland",4,5,"Marokko",20,40,0,"Holland",1,0,"Marokko",20,40,0,"Holland",1,0,"Marokko",20,40,0,"Holland",2,1,"Schottland",10,20,0,"Schweden",1,3,"Brasilien",0,40,0,"Holland",5,4,"Marokko",20,40,0,"Holland",4,5,"Marokko",20,40,0,"Schweden",2,1,"Schottland",0,20,0,"Holland",2,0,"Schottland",10,20,0,"Holland",2,1,"Schottland",10,20,0,"Holland",1,0,"Schottland",10,20,0,"Tunesien",0,2,"Marokko",10,20,0,"Holland",2,1,"Marokko",20,40,0,"Holland",1,0,"Brasilien",10,40,0,null,{"$f":"_xlfn.TEXTJOIN(\", \",TRUE,_xlfn._xlws.FILTER(INDEX($J$54:$EM$54,1,_xlfn.SEQUENCE(1,(COLUMNS($J$54:$EM$54)-1)/7+1,1,7))&\" \"&INDEX($J$55:$EM$55,1,_xlfn.SEQUENCE(1,(COLUMNS($J$55:$EM$55)-1)/7+1,1,7)),INDEX($P63:$ES63,1,_xlfn.SEQUENCE(1,(COLUMNS($P63:$ES63)-1)/7+1,1,7))>0,\"\"))","v":""}]
[{"$f":"A14","v":"Mo. 29. Jun"},"19:00:00",76,{"$f":"D14","v":"Brasilien"},"Japan",{"$f":"IF(F14=\"\",\"\",F14)","v":2},1,null,null,"Brasilien",3,1,"Japan",20,40,0,"Brasilien",2,1,"Schweden",10,40,0,"Brasilien",4,1,"Tunesien",10,20,0,"Brasilien",4,1,"Japan",20,40,0,"Brasilien",2,1,"Japan",20,40,30,"Brasilien",3,2,"Japan",20,40,0,"Brasilien",2,1,"Japan",20,40,30,"Brasilien",2,1,"Japan",20,40,30,"Brasilien",2,0,"Japan",20,40,0,"Brasilien",3,2,"Schweden",10,40,0,"Marokko",2,1,"Holland",0,40,0,"Brasilien",1,0,"Tunesien",10,20,0,"Brasilien",3,0,"Japan",20,40,0,"Brasilien",2,1,"Holland",10,40,0,"Brasilien",2,0,"Japan",20,40,0,"Brasilien",2,0,"Japan",20,40,0,"Brasilien",2,1,"Schweden",10,40,0,"Brasilien",3,1,"Japan",20,40,0,"Brasilien",3,1,"Japan",20,40,0,"Marokko",2,0,"Japan",10,40,0,null,{"$f":"_xlfn.TEXTJOIN(\", \",TRUE,_xlfn._xlws.FILTER(INDEX($J$54:$EM$54,1,_xlfn.SEQUENCE(1,(COLUMNS($J$54:$EM$54)-1)/7+1,1,7))&\" \"&INDEX($J$55:$EM$55,1,_xlfn.SEQUENCE(1,(COLUMNS($J$55:$EM$55)-1)/7+1,1,7)),INDEX($P64:$ES64,1,_xlfn.SEQUENCE(1,(COLUMNS($P64:$ES64)-1)/7+1,1,7))>0,\"\"))","v":"Rafael Derungs, Armin Duvnjak, Dino Duvnjak"}]
[{"$f":"A15","v":"Di. 30. Jun"},"23:00:00",77,{"$f":"D15","v":"Frankreich"},"Schweden",{"$f":"IF(F15=\"\",\"\",F15)","v":3},0,null,null,"Frankreich",3,0,"Schweden",20,40,30,"Frankreich",2,0,"Holland",10,40,0,"Norwegen",3,1,"Japan",0,40,0,"Norwegen",2,0,"Saudi-Arabien",0,20,0,"Frankreich",2,0,"Ägypten",10,40,0,"Frankreich",3,0,"Ägypten",10,40,0,"Frankreich",3,0,"Australien",10,40,0,"Frankreich",2,0,"Schweden",20,40,0,"Frankreich",2,0,"Schweden",20,40,0,"Frankreich",3,1,"Tunesien",10,20,0,"Frankreich",3,0,"USA",10,40,0,"Frankreich",1,0,"Japan",10,40,0,"Frankreich",3,0,"Schweden",20,40,30,"Frankreich",2,0,"Japan",10,40,0,"Frankreich",2,1,"Türkei",10,20,0,"Frankreich",2,1,"Türkei",10,20,0,"Frankreich",2,1,"Paraguay",10,40,0,"Frankreich",3,2,"Holland",10,40,0,"Senegal",2,0,"Neuseeland",0,20,0,"Frankreich",4,1,"Schweden",20,40,0,null,{"$f":"_xlfn.TEXTJOIN(\", \",TRUE,_xlfn._xlws.FILTER(INDEX($J$54:$EM$54,1,_xlfn.SEQUENCE(1,(COLUMNS($J$54:$EM$54)-1)/7+1,1,7))&\" \"&INDEX($J$55:$EM$55,1,_xlfn.SEQUENCE(1,(COLUMNS($J$55:$EM$55)-1)/7+1,1,7)),INDEX($P65:$ES65,1,_xlfn.SEQUENCE(1,(COLUMNS($P65:$ES65)-1)/7+1,1,7))>0,\"\"))","v":"Leo Rodrigues da Costa, Florian González"}]
[{"$f":"A16","v":"Di. 30. Jun"},"19:00:00",78,{"$f":"D16","v":"Elfenbeinküste"},"Norwegen",{"$f":"IF(F16=\"\",\"\",F16)","v":1},2,null,null,"Ecuador",1,2,"Norwegen",10,40,0,"Ecuador",0,3,"Norwegen",10,40,0,"Ecuador",1,4,"Frankreich",0,40,0,"Elfenbeinküste",1,4,"Frankreich",10,40,0,"Ecuador",1,2,"Senegal",0,40,0,"Ecuador",0,2,"Norwegen",10,40,0,"Ecuador",4,5,"Norwegen",10,40,0,"Ecuador",1,0,"Norwegen",10,40,0,"Ecuador",1,0,"Norwegen",10,40,0,"Ecuador",0,2,"Norwegen",10,40,0,"Elfenbeinküste",1,2,"Norwegen",20,40,30,"Ecuador",0,1,"Norwegen",10,40,0,"Ecuador",0,2,"Norwegen",10,40,0,"Ecuador",0,2,"Norwegen",10,40,0,"Ecuador",2,1,"Senegal",0,40,0,"Ecuador",1,2,"Senegal",0,40,0,"Ecuador",2,0,"Norwegen",10,40,0,"Ecuador",1,2,"Senegal",0,40,0,"Ecuador",1,2,"Frankreich",0,40,0,"Ecuador",1,2,"Senegal",0,40,0,null,{"$f":"_xlfn.TEXTJOIN(\", \",TRUE,_xlfn._xlws.FILTER(INDEX($J$54:$EM$54,1,_xlfn.SEQUENCE(1,(COLUMNS($J$54:$EM$54)-1)/7+1,1,7))&\" \"&INDEX($J$55:$EM$55,1,_xlfn.SEQUENCE(1,(COLUMNS($J$55:$EM$55)-1)/7+1,1,7)),INDEX($P66:$ES66,1,_xlfn.SEQUENCE(1,(COLUMNS($P66:$ES66)-1)/7+1,1,7))>0,\"\"))","v":"Rui Gomes"}]
[{"$f":"A17","v":"Mi. 01. Jul"},"03:00:00",79,{"$f":"D17","v":"Mexiko"},"Ecuador",{"$f":"IF(F17=\"\",\"\",F17)","v":2},0,null,null,"Mexiko",2,0,"Schottland",10,20,0,"Mexiko",1,0,"Schottland",10,20,0,"Mexiko",1,2,"Schottland",10,20,0,"Mexiko",1,2,"Ecuador",20,40,0,"Mexiko",1,2,"Elfenbeinküste",10,40,0,"Mexiko",2,0,"Schottland",10,20,0,"Mexiko",1,2,"Elfenbeinküste",10,40,0,"Mexiko",1,0,"Elfenbeinküste",10,40,0,"Mexiko",1,0,"Schottland",10,20,0,"Tschechien",2,1,"Kap Verde",0,20,0,"Mexiko",1,2,"Uruguay",10,20,0,"Mexiko",1,3,"Uruguay",10,20,0,"Mexiko",1,0,"Schottland",10,20,0,"Südkorea",1,2,"Elfenbeinküste",0,20,0,"Mexiko",2,1,"Elfenbeinküste",10,40,0,"Mexiko",2,1,"Elfenbeinküste",10,40,0,"Mexiko",2,0,"Saudi-Arabien",10,20,0,"Mexiko",2,0,"Saudi-Arabien",10,20,0,"Südkorea",2,1,"Elfenbeinküste",0,20,0,"Mexiko",1,0,"Schottland",10,20,0,null,{"$f":"_xlfn.TEXTJOIN(\", \",TRUE,_xlfn._xlws.FILTER(INDEX($J$54:$EM$54,1,_xlfn.SEQUENCE(1,(COLUMNS($J$54:$EM$54)-1)/7+1,1,7))&\" \"&INDEX($J$55:$EM$55,1,_xlfn.SEQUENCE(1,(COLUMNS($J$55:$EM$55)-1)/7+1,1,7)),INDEX($P67:$ES67,1,_xlfn.SEQUENCE(1,(COLUMNS($P67:$ES67)-1)/7+1,1,7))>0,\"\"))","v":""}]
[{"$f":"A18","v":"Mi. 01. Jul"},"18:00:00",80,{"$f":"D18","v":"England"},"DR Kongo",{"$f":"IF(F18=\"\",\"\",F18)","v":2},1,null,null,"England",3,1,"DR Kongo",20,40,0,"England",2,0,"Senegal",10,40,0,"England",5,0,"Senegal",10,40,0,"England",5,0,"DR Kongo",20,40,0,"Kroatien",1,2,"Norwegen",0,40,0,"England",3,0,"Usbekistan",10,20,0,"England",2,0,"Senegal",10,40,0,"England",2,0,"Senegal",10,40,0,"England",2,0,"Senegal",10,40,0,"England",2,0,"Senegal",10,40,0,"England",3,2,"Senegal",10,40,0,"Kroatien",1,0,"Senegal",0,40,0,"England",1,0,"Elfenbeinküste",10,40,0,"England",2,0,"Kolumbien",10,40,0,"England",2,0,"Norwegen",10,40,0,"England",3,0,"DR Kongo",20,40,0,"England",1,0,"Irak",10,20,0,"England",3,0,"Algerien",10,40,0,"England",2,0,"Norwegen",10,40,0,"England",3,0,"DR Kongo",20,40,0,null,{"$f":"_xlfn.TEXTJOIN(\", \",TRUE,_xlfn._xlws.FILTER(INDEX($J$54:$EM$54,1,_xlfn.SEQUENCE(1,(COLUMNS($J$54:$EM$54)-1)/7+1,1,7))&\" \"&INDEX($J$55:$EM$55,1,_xlfn.SEQUENCE(1,(COLUMNS($J$55:$EM$55)-1)/7+1,1,7)),INDEX($P68:$ES68,1,_xlfn.SEQUENCE(1,(COLUMNS($P68:$ES68)-1)/7+1,1,7))>0,\"\"))","v":""}]
[{"$f":"A19","v":"Do. 02. Jul"},"02:00:00",81,{"$f":"D19","v":"USA"},"Bosnien-Herz.",{"$f":"IF(F19=\"\",\"\",F19)","v":2},0,null,null,"Türkei",1,0,"Elfenbeinküste",0,20,0,"Türkei",2,0,"Elfenbeinküste",0,20,0,"Türkei",1,0,"Katar",0,0,0,"Türkei",3,1,"Kanada",0,20,0,"USA",2,0,"Bosnien-Herz.",20,40,30,"Türkei",2,1,"Bosnien-Herz.",10,20,0,"Türkei",4,5,"Algerien",0,20,0,"Türkei",1,0,"Kanada",0,20,0,"Türkei",1,0,"Kanada",0,20,0,"Türkei",0,1,"Schweiz",0,20,0,"Türkei",1,0,"Kanada",0,20,0,"USA",2,1,"Katar",10,20,0,"Türkei",2,0,"Katar",0,0,0,"Türkei",1,0,"Senegal",0,20,0,"USA",2,0,"Bosnien-Herz.",20,40,30,"USA",2,1,"Bosnien-Herz.",20,40,0,"USA",2,1,"Bosnien-Herz.",20,40,0,"USA",0,2,"Kanada",10,40,0,"Paraguay",2,1,"Bosnien-Herz.",10,40,0,"Türkei",1,2,"Norwegen",0,20,0,null,{"$f":"_xlfn.TEXTJOIN(\", \",TRUE,_xlfn._xlws.FILTER(INDEX($J$54:$EM$54,1,_xlfn.SEQUENCE(1,(COLUMNS($J$54:$EM$54)-1)/7+1,1,7))&\" \"&INDEX($J$55:$EM$55,1,_xlfn.SEQUENCE(1,(COLUMNS($J$55:$EM$55)-1)/7+1,1,7)),INDEX($P69:$ES69,1,_xlfn.SEQUENCE(1,(COLUMNS($P69:$ES69)-1)/7+1,1,7))>0,\"\"))","v":"Rafael Derungs, Reto Gygli"}]
[{"$f":"A20","v":"Mi. 01. Jul"},"22:00:00",82,{"$f":"D20","v":"Belgien"},"Senegal",{"$f":"IF(F20=\"\",\"\",F20)","v":3},2,null,null,"Belgien",2,1,"Südkorea",10,20,0,"Belgien",4,1,"Uruguay",10,20,0,"Belgien",2,1,"Südkorea",10,20,0,"Belgien",2,1,"Senegal",20,40,0,"Belgien",1,0,"Tschechien",10,20,0,"Belgien",2,1,"Südkorea",10,20,0,"Belgien",3,0,"Südkorea",10,20,0,"Belgien",1,0,"Südkorea",10,20,0,"Belgien",1,0,"Elfenbeinküste",10,40,0,"Belgien",1,0,"Südafrika",10,40,0,"Belgien",2,1,"Tschechien",10,20,0,"Belgien",2,1,"Tschechien",10,20,0,"Belgien",2,0,"Südafrika",10,40,0,"Belgien",2,1,"Tschechien",10,20,0,"Belgien",2,0,"Tschechien",10,20,0,"Belgien",2,0,"Norwegen",10,40,0,"Belgien",1,0,"Tschechien",10,20,0,"Belgien",1,0,"Südafrika",10,40,0,"Belgien",1,0,"Tschechien",10,20,0,"Belgien",1,0,"Südkorea",10,20,0,null,{"$f":"_xlfn.TEXTJOIN(\", \",TRUE,_xlfn._xlws.FILTER(INDEX($J$54:$EM$54,1,_xlfn.SEQUENCE(1,(COLUMNS($J$54:$EM$54)-1)/7+1,1,7))&\" \"&INDEX($J$55:$EM$55,1,_xlfn.SEQUENCE(1,(COLUMNS($J$55:$EM$55)-1)/7+1,1,7)),INDEX($P70:$ES70,1,_xlfn.SEQUENCE(1,(COLUMNS($P70:$ES70)-1)/7+1,1,7))>0,\"\"))","v":""}]
[{"$f":"A21","v":"Fr. 03. Jul"},"01:00:00",83,{"$f":"D21","v":"Portugal"},"Kroatien",{"$f":"IF(F21=\"\",\"\",F21)","v":2},1,null,null,"Kolumbien",1,2,"Kroatien",10,40,0,"Kolumbien",1,2,"Kroatien",10,40,0,"Kolumbien",2,3,"Kroatien",10,40,0,"Portugal",1,0,"Kroatien",20,40,0,"Kolumbien",2,3,"England",0,40,0,"Kolumbien",1,2,"Kroatien",10,40,0,"Kolumbien",4,5,"Kroatien",10,40,0,"Kolumbien",1,0,"Kroatien",10,40,0,"Kolumbien",0,1,"Kroatien",10,40,0,"Kolumbien",1,2,"Kroatien",10,40,0,"Kolumbien",3,1,"Kroatien",10,40,0,"Portugal",2,1,"Ghana",10,40,0,"Kolumbien",2,1,"Kroatien",10,40,0,"DR Kongo",0,2,"Kroatien",10,40,0,"Kolumbien",2,1,"Kroatien",10,40,0,"Kolumbien",2,1,"Kroatien",10,40,0,"Kolumbien",1,0,"Ghana",0,40,0,"DR Kongo",1,3,"Ghana",0,40,0,"Portugal",2,1,"Kroatien",20,40,30,"Kolumbien",1,2,"Kroatien",10,40,0,null,{"$f":"_xlfn.TEXTJOIN(\", \",TRUE,_xlfn._xlws.FILTER(INDEX($J$54:$EM$54,1,_xlfn.SEQUENCE(1,(COLUMNS($J$54:$EM$54)-1)/7+1,1,7))&\" \"&INDEX($J$55:$EM$55,1,_xlfn.SEQUENCE(1,(COLUMNS($J$55:$EM$55)-1)/7+1,1,7)),INDEX($P71:$ES71,1,_xlfn.SEQUENCE(1,(COLUMNS($P71:$ES71)-1)/7+1,1,7))>0,\"\"))","v":"Stefan Gygli"}]
[{"$f":"A22","v":"Do. 02. Jul"},"21:00:00",84,{"$f":"D22","v":"Spanien"},"Österreich",{"$f":"IF(F22=\"\",\"\",F22)","v":3},0,null,null,"Spanien",3,0,"Österreich",20,40,30,"Spanien",4,1,"Österreich",20,40,0,"Spanien",4,2,"Österreich",20,40,0,"Spanien",3,0,"Österreich",20,40,30,"Spanien",2,1,"Österreich",20,40,0,"Spanien",3,1,"Österreich",20,40,0,"Spanien",3,1,"Österreich",20,40,0,"Spanien",2,0,"Österreich",20,40,0,"Spanien",2,1,"Österreich",20,40,0,"Spanien",2,1,"Österreich",20,40,0,"Spanien",2,0,"Österreich",20,40,0,"Spanien",3,0,"Jordanien",10,20,0,"Spanien",3,1,"Österreich",20,40,0,"Spanien",3,0,"Österreich",20,40,30,"Spanien",2,0,"Österreich",20,40,0,"Spanien",2,0,"Österreich",20,40,0,"Spanien",2,0,"Österreich",20,40,0,"Spanien",2,1,"Österreich",20,40,0,"Spanien",3,1,"Österreich",20,40,0,"Spanien",2,0,"Österreich",20,40,0,null,{"$f":"_xlfn.TEXTJOIN(\", \",TRUE,_xlfn._xlws.FILTER(INDEX($J$54:$EM$54,1,_xlfn.SEQUENCE(1,(COLUMNS($J$54:$EM$54)-1)/7+1,1,7))&\" \"&INDEX($J$55:$EM$55,1,_xlfn.SEQUENCE(1,(COLUMNS($J$55:$EM$55)-1)/7+1,1,7)),INDEX($P72:$ES72,1,_xlfn.SEQUENCE(1,(COLUMNS($P72:$ES72)-1)/7+1,1,7))>0,\"\"))","v":"Leo Rodrigues da Costa, Vinci D'Acunto, Laurent Grosse"}]
[{"$f":"A23","v":"Fr. 03. Jul"},"05:00:00",85,{"$f":"D23","v":"Schweiz"},"Algerien",{"$f":"IF(F23=\"\",\"\",F23)","v":2},0,null,null,"Schweiz",2,0,"Iran",10,20,0,"Schweiz",3,1,"Iran",10,20,0,"Schweiz",3,0,"Algerien",20,40,0,"Schweiz",2,0,"Algerien",20,40,30,"Kanada",1,2,"Algerien",10,40,0,"Schweiz",2,2,"Algerien",20,40,0,"Schweiz",3,0,"Iran",10,20,0,"Schweiz",2,0,"Algerien",20,40,30,"Schweiz",2,0,"Algerien",20,40,30,"Bosnien-Herz.",1,0,"Ägypten",0,40,0,"Schweiz",2,0,"Japan",10,40,0,"Schweiz",3,2,"Österreich",10,40,0,"Schweiz",1,0,"Ägypten",10,40,0,"Schweiz",2,1,"Neuseeland",10,20,0,"Schweiz",2,0,"Algerien",20,40,30,"Schweiz",2,0,"Algerien",20,40,30,"Schweiz",1,0,"Iran",10,20,0,"Schweiz",1,0,"Ägypten",10,40,0,"Schweiz",2,0,"Algerien",20,40,30,"Schweiz",3,1,"Elfenbeinküste",10,40,0,null,{"$f":"_xlfn.TEXTJOIN(\", \",TRUE,_xlfn._xlws.FILTER(INDEX($J$54:$EM$54,1,_xlfn.SEQUENCE(1,(COLUMNS($J$54:$EM$54)-1)/7+1,1,7))&\" \"&INDEX($J$55:$EM$55,1,_xlfn.SEQUENCE(1,(COLUMNS($J$55:$EM$55)-1)/7+1,1,7)),INDEX($P73:$ES73,1,_xlfn.SEQUENCE(1,(COLUMNS($P73:$ES73)-1)/7+1,1,7))>0,\"\"))","v":"Vinci D'Acunto, Dino Duvnjak, Djuma Duvnjak, Reto Gygli, Robin Gygli, Stefan Gygli"}]
[{"$f":"A24","v":"Sa. 04. Jul"},"00:00:00",86,{"$f":"D24","v":"Argentinien"},"Kap Verde",{"$f":"IF(F24=\"\",\"\",F24)","v":3},2,null,null,"Argentinien",3,1,"Uruguay",10,20,0,"Argentinien",2,1,"Saudi-Arabien",10,20,0,"Argentinien",3,1,"Uruguay",10,20,0,"Argentinien",1,0,"Uruguay",10,20,0,"Argentinien",5,4,"Uruguay",10,20,0,"Argentinien",2,1,"Uruguay",10,20,0,"Argentinien",2,0,"Uruguay",10,20,0,"Argentinien",2,1,"Uruguay",10,20,0,"Argentinien",1,0,"Uruguay",10,20,0,"Argentinien",3,0,"Saudi-Arabien",10,20,0,"Argentinien",3,1,"Kap Verde",20,40,0,"Argentinien",2,0,"Saudi-Arabien",10,20,0,"Argentinien",2,1,"Uruguay",10,20,0,"Argentinien",2,1,"Uruguay",10,20,0,"Argentinien",2,1,"Uruguay",10,20,0,"Argentinien",2,1,"Uruguay",10,20,0,"Argentinien",1,0,"Uruguay",10,20,0,"Argentinien",3,2,"Uruguay",10,20,0,"Argentinien",2,1,"Uruguay",10,20,0,"Argentinien",2,1,"Uruguay",10,20,0,null,{"$f":"_xlfn.TEXTJOIN(\", \",TRUE,_xlfn._xlws.FILTER(INDEX($J$54:$EM$54,1,_xlfn.SEQUENCE(1,(COLUMNS($J$54:$EM$54)-1)/7+1,1,7))&\" \"&INDEX($J$55:$EM$55,1,_xlfn.SEQUENCE(1,(COLUMNS($J$55:$EM$55)-1)/7+1,1,7)),INDEX($P74:$ES74,1,_xlfn.SEQUENCE(1,(COLUMNS($P74:$ES74)-1)/7+1,1,7))>0,\"\"))","v":""}]
[{"$f":"A25","v":"Sa. 04. Jul"},"03:30:00",87,{"$f":"D25","v":"Kolumbien"},"Ghana",{"$f":"IF(F25=\"\",\"\",F25)","v":1},0,null,null,"Portugal",3,1,"Senegal",0,40,0,"Portugal",4,1,"Ghana",10,40,0,"Portugal",2,0,"Elfenbeinküste",0,40,0,"Kolumbien",1,0,"Ghana",20,40,30,"Portugal",2,1,"Ghana",10,40,0,"Portugal",3,0,"Senegal",0,40,0,"Portugal",2,0,"Ghana",10,40,0,"Portugal",2,0,"Ghana",10,40,0,"Portugal",2,0,"Ghana",10,40,0,"Portugal",2,0,"Australien",0,40,0,"Portugal",3,1,"Ghana",10,40,0,"Kolumbien",2,1,"England",10,40,0,"Portugal",2,0,"Ghana",10,40,0,"Portugal",3,0,"Ghana",10,40,0,"Portugal",2,0,"Ghana",10,40,0,"Portugal",2,0,"Ghana",10,40,0,"Portugal",1,0,"Kroatien",0,40,0,"Portugal",2,0,"Kroatien",0,40,0,"Kolumbien",2,0,"Ghana",20,40,0,"Portugal",3,1,"Ghana",10,40,0,null,{"$f":"_xlfn.TEXTJOIN(\", \",TRUE,_xlfn._xlws.FILTER(INDEX($J$54:$EM$54,1,_xlfn.SEQUENCE(1,(COLUMNS($J$54:$EM$54)-1)/7+1,1,7))&\" \"&INDEX($J$55:$EM$55,1,_xlfn.SEQUENCE(1,(COLUMNS($J$55:$EM$55)-1)/7+1,1,7)),INDEX($P75:$ES75,1,_xlfn.SEQUENCE(1,(COLUMNS($P75:$ES75)-1)/7+1,1,7))>0,\"\"))","v":"Vinci D'Acunto"}]
[{"$f":"A26","v":"Fr. 03. Jul"},"20:00:00",88,{"$f":"D26","v":"Australien"},"Ägypten",{"$f":"IF(F26=\"\",\"\",F26)","v":2},4,null,null,"USA",2,1,"Ägypten",10,40,0,"USA",3,2,"Ägypten",10,40,0,"Paraguay",1,2,"Ägypten",10,40,0,"Paraguay",1,0,"Ägypten",10,40,0,"Türkei",1,0,"Iran",0,0,0,"USA",2,0,"Iran",0,20,0,"USA",1,2,"Ägypten",10,40,0,"USA",1,0,"Ägypten",10,40,0,"USA",1,0,"Ägypten",10,40,0,"USA",1,0,"Iran",0,20,0,"Paraguay",1,2,"Ägypten",10,40,0,"Paraguay",1,0,"Neuseeland",0,20,0,"Paraguay",1,0,"Iran",0,20,0,"USA",1,0,"Ägypten",10,40,0,"Paraguay",2,0,"Ägypten",10,40,0,"Paraguay",2,0,"Ägypten",10,40,0,"Türkei",1,0,"Neuseeland",0,0,0,"Australien",0,1,"Neuseeland",10,20,0,"USA",1,0,"Ägypten",10,40,0,"USA",0,2,"Ägypten",10,40,0,null,{"$f":"_xlfn.TEXTJOIN(\", \",TRUE,_xlfn._xlws.FILTER(INDEX($J$54:$EM$54,1,_xlfn.SEQUENCE(1,(COLUMNS($J$54:$EM$54)-1)/7+1,1,7))&\" \"&INDEX($J$55:$EM$55,1,_xlfn.SEQUENCE(1,(COLUMNS($J$55:$EM$55)-1)/7+1,1,7)),INDEX($P76:$ES76,1,_xlfn.SEQUENCE(1,(COLUMNS($P76:$ES76)-1)/7+1,1,7))>0,\"\"))","v":""}]
["Achtelfinale",null,null,null,null,null,null,null,null,null,null,null,null,null,null,null,null,null,null,null,null,null,null,null,null,null,null,null,null,null,null,null,null,null,null,null,null,null,null,null,null,null,null,null,null,null,null,null,null,null,null,null,null,null,null,null,null,null,null,null,null,null,null,null,null,null,null,null,null,null,null,null,null,null,null,null,null,null,null,null,null,null,null,null,null,null,null,null,null,null,null,null,null,null,null,null,null,null,null,null,null,null,null,null,null,null,null,null,null,null,null,null,null,null,null,null,null,null,null,null,null,null,null,null,null,null,null,null,null,null,null,null,null,null,null,null,null,null,null,null,null,null,null,null,null,null,null,null,null,null,{"$f":"_xlfn.TEXTJOIN(\", \",TRUE,_xlfn._xlws.FILTER(INDEX($J$54:$EM$54,1,_xlfn.SEQUENCE(1,(COLUMNS($J$54:$EM$54)-1)/7+1,1,7))&\" \"&INDEX($J$55:$EM$55,1,_xlfn.SEQUENCE(1,(COLUMNS($J$55:$EM$55)-1)/7+1,1,7)),INDEX($P77:$ES77,1,_xlfn.SEQUENCE(1,(COLUMNS($P77:$ES77)-1)/7+1,1,7))>0,\"\"))","v":""}]
[{"$f":"A28","v":"Sa. 04. Jul"},"23:00:00",89,"Paraguay","Frankreich",{"$f":"IF(F28=\"\",\"\",F28)","v":0},1,null,null,"Deutschland",1,2,"Frankreich",{"$f":"IF(OR(J78=\"\",M78=\"\"),0,IF(AND(J78=$D78,M78=$E78),40,IF(J78=$D78,20,IF(M78=$E78,20,IF(AND(J78<>$D78,M78<>$E78),0)))))","v":20},{"$f":"IF(COUNTIF($D$28:$E$35,M78),40,0)+IF(COUNTIF($D$28:$E$35,J78),40,0)","v":40},{"$f":"IF(OR(J78=\"\",M78=\"\"),0,IF(AND(J78=$D78,M78=$E78,K78=$F78,L78=$G78),50,0))","v":0},"Deutschland",0,1,"Frankreich",{"$f":"IF(OR(Q78=\"\",T78=\"\"),0,IF(AND(Q78=$D78,T78=$E78),40,IF(Q78=$D78,20,IF(T78=$E78,20,IF(AND(Q78<>$D78,T78<>$E78),0)))))","v":20},{"$f":"IF(COUNTIF($D$28:$E$35,T78),40,0)+IF(COUNTIF($D$28:$E$35,Q78),40,0)","v":40},{"$f":"IF(OR(Q78=\"\",T78=\"\"),0,IF(AND(Q78=$D78,T78=$E78,R78=$F78,S78=$G78),50,0))","v":0},"Deutschland",3,1,"Norwegen",{"$f":"IF(OR(X78=\"\",AA78=\"\"),0,IF(AND(X78=$D78,AA78=$E78),40,IF(X78=$D78,20,IF(AA78=$E78,20,IF(AND(X78<>$D78,AA78<>$E78),0)))))","v":0},{"$f":"IF(COUNTIF($D$28:$E$35,AA78),40,0)+IF(COUNTIF($D$28:$E$35,X78),40,0)","v":40},{"$f":"IF(OR(X78=\"\",AA78=\"\"),0,IF(AND(X78=$D78,AA78=$E78,Y78=$F78,Z78=$G78),50,0))","v":0},"Deutschland",3,1,"Norwegen",{"$f":"IF(OR(AE78=\"\",AH78=\"\"),0,IF(AND(AE78=$D78,AH78=$E78),40,IF(AE78=$D78,20,IF(AH78=$E78,20,IF(AND(AE78<>$D78,AH78<>$E78),0)))))","v":0},{"$f":"IF(COUNTIF($D$28:$E$35,AH78),40,0)+IF(COUNTIF($D$28:$E$35,AE78),40,0)","v":40},{"$f":"IF(OR(AE78=\"\",AH78=\"\"),0,IF(AND(AE78=$D78,AH78=$E78,AF78=$F78,AG78=$G78),50,0))","v":0},"Deutschland",1,2,"Frankreich",{"$f":"IF(OR(AL78=\"\",AO78=\"\"),0,IF(AND(AL78=$D78,AO78=$E78),40,IF(AL78=$D78,20,IF(AO78=$E78,20,IF(AND(AL78<>$D78,AO78<>$E78),0)))))","v":20},{"$f":"IF(COUNTIF($D$28:$E$35,AO78),40,0)+IF(COUNTIF($D$28:$E$35,AL78),40,0)","v":40},{"$f":"IF(OR(AL78=\"\",AO78=\"\"),0,IF(AND(AL78=$D78,AO78=$E78,AM78=$F78,AN78=$G78),50,0))","v":0},"Deutschland",1,2,"Frankreich",{"$f":"IF(OR(AS78=\"\",AV78=\"\"),0,IF(AND(AS78=$D78,AV78=$E78),40,IF(AS78=$D78,20,IF(AV78=$E78,20,IF(AND(AS78<>$D78,AV78<>$E78),0)))))","v":20},{"$f":"IF(COUNTIF($D$28:$E$35,AV78),40,0)+IF(COUNTIF($D$28:$E$35,AS78),40,0)","v":40},{"$f":"IF(OR(AS78=\"\",AV78=\"\"),0,IF(AND(AS78=$D78,AV78=$E78,AT78=$F78,AU78=$G78),50,0))","v":0},"Deutschland",1,2,"Frankreich",{"$f":"IF(OR(AZ78=\"\",BC78=\"\"),0,IF(AND(AZ78=$D78,BC78=$E78),40,IF(AZ78=$D78,20,IF(BC78=$E78,20,IF(AND(AZ78<>$D78,BC78<>$E78),0)))))","v":20},{"$f":"IF(COUNTIF($D$28:$E$35,BC78),40,0)+IF(COUNTIF($D$28:$E$35,AZ78),40,0)","v":40},{"$f":"IF(OR(AZ78=\"\",BC78=\"\"),0,IF(AND(AZ78=$D78,BC78=$E78,BA78=$F78,BB78=$G78),50,0))","v":0},"Deutschland",1,2,"Frankreich",{"$f":"IF(OR(BG78=\"\",BJ78=\"\"),0,IF(AND(BG78=$D78,BJ78=$E78),40,IF(BG78=$D78,20,IF(BJ78=$E78,20,IF(AND(BG78<>$D78,BJ78<>$E78),0)))))","v":20},{"$f":"IF(COUNTIF($D$28:$E$35,BJ78),40,0)+IF(COUNTIF($D$28:$E$35,BG78),40,0)","v":40},{"$f":"IF(OR(BG78=\"\",BJ78=\"\"),0,IF(AND(BG78=$D78,BJ78=$E78,BH78=$F78,BI78=$G78),50,0))","v":0},"Deutschland",0,2,"Frankreich",{"$f":"IF(OR(BN78=\"\",BQ78=\"\"),0,IF(AND(BN78=$D78,BQ78=$E78),40,IF(BN78=$D78,20,IF(BQ78=$E78,20,IF(AND(BN78<>$D78,BQ78<>$E78),0)))))","v":20},{"$f":"IF(COUNTIF($D$28:$E$35,BQ78),40,0)+IF(COUNTIF($D$28:$E$35,BN78),40,0)","v":40},{"$f":"IF(OR(BN78=\"\",BQ78=\"\"),0,IF(AND(BN78=$D78,BQ78=$E78,BO78=$F78,BP78=$G78),50,0))","v":0},"Deutschland",3,2,"Frankreich",{"$f":"IF(OR(BU78=\"\",BX78=\"\"),0,IF(AND(BU78=$D78,BX78=$E78),40,IF(BU78=$D78,20,IF(BX78=$E78,20,IF(AND(BU78<>$D78,BX78<>$E78),0)))))","v":20},{"$f":"IF(COUNTIF($D$28:$E$35,BX78),40,0)+IF(COUNTIF($D$28:$E$35,BU78),40,0)","v":40},{"$f":"IF(OR(BU78=\"\",BX78=\"\"),0,IF(AND(BU78=$D78,BX78=$E78,BV78=$F78,BW78=$G78),50,0))","v":0},"Deutschland",2,3,"Frankreich",{"$f":"IF(OR(CB78=\"\",CE78=\"\"),0,IF(AND(CB78=$D78,CE78=$E78),40,IF(CB78=$D78,20,IF(CE78=$E78,20,IF(AND(CB78<>$D78,CE78<>$E78),0)))))","v":20},{"$f":"IF(COUNTIF($D$28:$E$35,CE78),40,0)+IF(COUNTIF($D$28:$E$35,CB78),40,0)","v":40},{"$f":"IF(OR(CB78=\"\",CE78=\"\"),0,IF(AND(CB78=$D78,CE78=$E78,CC78=$F78,CD78=$G78),50,0))","v":0},"Deutschland",1,2,"Frankreich",{"$f":"IF(OR(CI78=\"\",CL78=\"\"),0,IF(AND(CI78=$D78,CL78=$E78),40,IF(CI78=$D78,20,IF(CL78=$E78,20,IF(AND(CI78<>$D78,CL78<>$E78),0)))))","v":20},{"$f":"IF(COUNTIF($D$28:$E$35,CL78),40,0)+IF(COUNTIF($D$28:$E$35,CI78),40,0)","v":40},{"$f":"IF(OR(CI78=\"\",CL78=\"\"),0,IF(AND(CI78=$D78,CL78=$E78,CJ78=$F78,CK78=$G78),50,0))","v":0},"Deutschland",2,4,"Frankreich",{"$f":"IF(OR(CP78=\"\",CS78=\"\"),0,IF(AND(CP78=$D78,CS78=$E78),40,IF(CP78=$D78,20,IF(CS78=$E78,20,IF(AND(CP78<>$D78,CS78<>$E78),0)))))","v":20},{"$f":"IF(COUNTIF($D$28:$E$35,CS78),40,0)+IF(COUNTIF($D$28:$E$35,CP78),40,0)","v":40},{"$f":"IF(OR(CP78=\"\",CS78=\"\"),0,IF(AND(CP78=$D78,CS78=$E78,CQ78=$F78,CR78=$G78),50,0))","v":0},"Deutschland",1,2,"Frankreich",{"$f":"IF(OR(CW78=\"\",CZ78=\"\"),0,IF(AND(CW78=$D78,CZ78=$E78),40,IF(CW78=$D78,20,IF(CZ78=$E78,20,IF(AND(CW78<>$D78,CZ78<>$E78),0)))))","v":20},{"$f":"IF(COUNTIF($D$28:$E$35,CZ78),40,0)+IF(COUNTIF($D$28:$E$35,CW78),40,0)","v":40},{"$f":"IF(OR(CW78=\"\",CZ78=\"\"),0,IF(AND(CW78=$D78,CZ78=$E78,CX78=$F78,CY78=$G78),50,0))","v":0},"Deutschland",1,2,"Frankreich",{"$f":"IF(OR(DD78=\"\",DG78=\"\"),0,IF(AND(DD78=$D78,DG78=$E78),40,IF(DD78=$D78,20,IF(DG78=$E78,20,IF(AND(DD78<>$D78,DG78<>$E78),0)))))","v":20},{"$f":"IF(COUNTIF($D$28:$E$35,DG78),40,0)+IF(COUNTIF($D$28:$E$35,DD78),40,0)","v":40},{"$f":"IF(OR(DD78=\"\",DG78=\"\"),0,IF(AND(DD78=$D78,DG78=$E78,DE78=$F78,DF78=$G78),50,0))","v":0},"Deutschland",1,2,"Frankreich",{"$f":"IF(OR(DK78=\"\",DN78=\"\"),0,IF(AND(DK78=$D78,DN78=$E78),40,IF(DK78=$D78,20,IF(DN78=$E78,20,IF(AND(DK78<>$D78,DN78<>$E78),0)))))","v":20},{"$f":"IF(COUNTIF($D$28:$E$35,DN78),40,0)+IF(COUNTIF($D$28:$E$35,DK78),40,0)","v":40},{"$f":"IF(OR(DK78=\"\",DN78=\"\"),0,IF(AND(DK78=$D78,DN78=$E78,DL78=$F78,DM78=$G78),50,0))","v":0},"Deutschland",2,1,"Frankreich",{"$f":"IF(OR(DR78=\"\",DU78=\"\"),0,IF(AND(DR78=$D78,DU78=$E78),40,IF(DR78=$D78,20,IF(DU78=$E78,20,IF(AND(DR78<>$D78,DU78<>$E78),0)))))","v":20},{"$f":"IF(COUNTIF($D$28:$E$35,DU78),40,0)+IF(COUNTIF($D$28:$E$35,DR78),40,0)","v":40},{"$f":"IF(OR(DR78=\"\",DU78=\"\"),0,IF(AND(DR78=$D78,DU78=$E78,DS78=$F78,DT78=$G78),50,0))","v":0},"Deutschland",1,2,"Frankreich",{"$f":"IF(OR(DY78=\"\",EB78=\"\"),0,IF(AND(DY78=$D78,EB78=$E78),40,IF(DY78=$D78,20,IF(EB78=$E78,20,IF(AND(DY78<>$D78,EB78<>$E78),0)))))","v":20},{"$f":"IF(COUNTIF($D$28:$E$35,EB78),40,0)+IF(COUNTIF($D$28:$E$35,DY78),40,0)","v":40},{"$f":"IF(OR(DY78=\"\",EB78=\"\"),0,IF(AND(DY78=$D78,EB78=$E78,DZ78=$F78,EA78=$G78),50,0))","v":0},"Deutschland",3,1,"Senegal",{"$f":"IF(OR(EF78=\"\",EI78=\"\"),0,IF(AND(EF78=$D78,EI78=$E78),40,IF(EF78=$D78,20,IF(EI78=$E78,20,IF(AND(EF78<>$D78,EI78<>$E78),0)))))","v":0},{"$f":"IF(COUNTIF($D$28:$E$35,EI78),40,0)+IF(COUNTIF($D$28:$E$35,EF78),40,0)","v":0},{"$f":"IF(OR(EF78=\"\",EI78=\"\"),0,IF(AND(EF78=$D78,EI78=$E78,EG78=$F78,EH78=$G78),50,0))","v":0},"Deutschland",1,2,"Frankreich",{"$f":"IF(OR(EM78=\"\",EP78=\"\"),0,IF(AND(EM78=$D78,EP78=$E78),40,IF(EM78=$D78,20,IF(EP78=$E78,20,IF(AND(EM78<>$D78,EP78<>$E78),0)))))","v":20},{"$f":"IF(COUNTIF($D$28:$E$35,EP78),40,0)+IF(COUNTIF($D$28:$E$35,EM78),40,0)","v":40},{"$f":"IF(OR(EM78=\"\",EP78=\"\"),0,IF(AND(EM78=$D78,EP78=$E78,EN78=$F78,EO78=$G78),50,0))","v":0},null,{"$f":"_xlfn.TEXTJOIN(\", \",TRUE,_xlfn._xlws.FILTER(INDEX($J$54:$EM$54,1,_xlfn.SEQUENCE(1,(COLUMNS($J$54:$EM$54)-1)/7+1,1,7))&\" \"&INDEX($J$55:$EM$55,1,_xlfn.SEQUENCE(1,(COLUMNS($J$55:$EM$55)-1)/7+1,1,7)),INDEX($P78:$ES78,1,_xlfn.SEQUENCE(1,(COLUMNS($P78:$ES78)-1)/7+1,1,7))>0,\"\"))","v":""}]
["Sa. 04. Jul","19:00:00",90,"Kanada","Marokko",0,3,null,null,"Tschechien",1,3,"Marokko",{"$f":"IF(OR(J79=\"\",M79=\"\"),0,IF(AND(J79=$D79,M79=$E79),40,IF(J79=$D79,20,IF(M79=$E79,20,IF(AND(J79<>$D79,M79<>$E79),0)))))","v":20},{"$f":"IF(COUNTIF($D$28:$E$35,M79),40,0)+IF(COUNTIF($D$28:$E$35,J79),40,0)","v":40},{"$f":"IF(OR(J79=\"\",M79=\"\"),0,IF(AND(J79=$D79,M79=$E79,K79=$F79,L79=$G79),50,0))","v":0},"Kanada",2,1,"Japan",{"$f":"IF(OR(Q79=\"\",T79=\"\"),0,IF(AND(Q79=$D79,T79=$E79),40,IF(Q79=$D79,20,IF(T79=$E79,20,IF(AND(Q79<>$D79,T79<>$E79),0)))))","v":20},{"$f":"IF(COUNTIF($D$28:$E$35,T79),40,0)+IF(COUNTIF($D$28:$E$35,Q79),40,0)","v":40},{"$f":"IF(OR(Q79=\"\",T79=\"\"),0,IF(AND(Q79=$D79,T79=$E79,R79=$F79,S79=$G79),50,0))","v":0},"Kanada",1,2,"Holland",{"$f":"IF(OR(X79=\"\",AA79=\"\"),0,IF(AND(X79=$D79,AA79=$E79),40,IF(X79=$D79,20,IF(AA79=$E79,20,IF(AND(X79<>$D79,AA79<>$E79),0)))))","v":20},{"$f":"IF(COUNTIF($D$28:$E$35,AA79),40,0)+IF(COUNTIF($D$28:$E$35,X79),40,0)","v":40},{"$f":"IF(OR(X79=\"\",AA79=\"\"),0,IF(AND(X79=$D79,AA79=$E79,Y79=$F79,Z79=$G79),50,0))","v":0},"Bosnien-Herz.",1,2,"Holland",{"$f":"IF(OR(AE79=\"\",AH79=\"\"),0,IF(AND(AE79=$D79,AH79=$E79),40,IF(AE79=$D79,20,IF(AH79=$E79,20,IF(AND(AE79<>$D79,AH79<>$E79),0)))))","v":0},{"$f":"IF(COUNTIF($D$28:$E$35,AH79),40,0)+IF(COUNTIF($D$28:$E$35,AE79),40,0)","v":0},{"$f":"IF(OR(AE79=\"\",AH79=\"\"),0,IF(AND(AE79=$D79,AH79=$E79,AF79=$F79,AG79=$G79),50,0))","v":0},"Schweiz",0,1,"Marokko",{"$f":"IF(OR(AL79=\"\",AO79=\"\"),0,IF(AND(AL79=$D79,AO79=$E79),40,IF(AL79=$D79,20,IF(AO79=$E79,20,IF(AND(AL79<>$D79,AO79<>$E79),0)))))","v":20},{"$f":"IF(COUNTIF($D$28:$E$35,AO79),40,0)+IF(COUNTIF($D$28:$E$35,AL79),40,0)","v":80},{"$f":"IF(OR(AL79=\"\",AO79=\"\"),0,IF(AND(AL79=$D79,AO79=$E79,AM79=$F79,AN79=$G79),50,0))","v":0},"Draw",1,2,"Holland",{"$f":"IF(OR(AS79=\"\",AV79=\"\"),0,IF(AND(AS79=$D79,AV79=$E79),40,IF(AS79=$D79,20,IF(AV79=$E79,20,IF(AND(AS79<>$D79,AV79<>$E79),0)))))","v":0},{"$f":"IF(COUNTIF($D$28:$E$35,AV79),40,0)+IF(COUNTIF($D$28:$E$35,AS79),40,0)","v":0},{"$f":"IF(OR(AS79=\"\",AV79=\"\"),0,IF(AND(AS79=$D79,AV79=$E79,AT79=$F79,AU79=$G79),50,0))","v":0},"Bosnien-Herz.",0,2,"Marokko",{"$f":"IF(OR(AZ79=\"\",BC79=\"\"),0,IF(AND(AZ79=$D79,BC79=$E79),40,IF(AZ79=$D79,20,IF(BC79=$E79,20,IF(AND(AZ79<>$D79,BC79<>$E79),0)))))","v":20},{"$f":"IF(COUNTIF($D$28:$E$35,BC79),40,0)+IF(COUNTIF($D$28:$E$35,AZ79),40,0)","v":40},{"$f":"IF(OR(AZ79=\"\",BC79=\"\"),0,IF(AND(AZ79=$D79,BC79=$E79,BA79=$F79,BB79=$G79),50,0))","v":0},"Bosnien-Herz.",5,4,"Holland",{"$f":"IF(OR(BG79=\"\",BJ79=\"\"),0,IF(AND(BG79=$D79,BJ79=$E79),40,IF(BG79=$D79,20,IF(BJ79=$E79,20,IF(AND(BG79<>$D79,BJ79<>$E79),0)))))","v":0},{"$f":"IF(COUNTIF($D$28:$E$35,BJ79),40,0)+IF(COUNTIF($D$28:$E$35,BG79),40,0)","v":0},{"$f":"IF(OR(BG79=\"\",BJ79=\"\"),0,IF(AND(BG79=$D79,BJ79=$E79,BH79=$F79,BI79=$G79),50,0))","v":0},"Bosnien-Herz.",5,4,"Holland",{"$f":"IF(OR(BN79=\"\",BQ79=\"\"),0,IF(AND(BN79=$D79,BQ79=$E79),40,IF(BN79=$D79,20,IF(BQ79=$E79,20,IF(AND(BN79<>$D79,BQ79<>$E79),0)))))","v":0},{"$f":"IF(COUNTIF($D$28:$E$35,BQ79),40,0)+IF(COUNTIF($D$28:$E$35,BN79),40,0)","v":0},{"$f":"IF(OR(BN79=\"\",BQ79=\"\"),0,IF(AND(BN79=$D79,BQ79=$E79,BO79=$F79,BP79=$G79),50,0))","v":0},"Mexiko",2,1,"Holland",{"$f":"IF(OR(BU79=\"\",BX79=\"\"),0,IF(AND(BU79=$D79,BX79=$E79),40,IF(BU79=$D79,20,IF(BX79=$E79,20,IF(AND(BU79<>$D79,BX79<>$E79),0)))))","v":0},{"$f":"IF(COUNTIF($D$28:$E$35,BX79),40,0)+IF(COUNTIF($D$28:$E$35,BU79),40,0)","v":40},{"$f":"IF(OR(BU79=\"\",BX79=\"\"),0,IF(AND(BU79=$D79,BX79=$E79,BV79=$F79,BW79=$G79),50,0))","v":0},"Bosnien-Herz.",1,3,"Brasilien",{"$f":"IF(OR(CB79=\"\",CE79=\"\"),0,IF(AND(CB79=$D79,CE79=$E79),40,IF(CB79=$D79,20,IF(CE79=$E79,20,IF(AND(CB79<>$D79,CE79<>$E79),0)))))","v":0},{"$f":"IF(COUNTIF($D$28:$E$35,CE79),40,0)+IF(COUNTIF($D$28:$E$35,CB79),40,0)","v":40},{"$f":"IF(OR(CB79=\"\",CE79=\"\"),0,IF(AND(CB79=$D79,CE79=$E79,CC79=$F79,CD79=$G79),50,0))","v":0},"Bosnien-Herz.",0,1,"Holland",{"$f":"IF(OR(CI79=\"\",CL79=\"\"),0,IF(AND(CI79=$D79,CL79=$E79),40,IF(CI79=$D79,20,IF(CL79=$E79,20,IF(AND(CI79<>$D79,CL79<>$E79),0)))))","v":0},{"$f":"IF(COUNTIF($D$28:$E$35,CL79),40,0)+IF(COUNTIF($D$28:$E$35,CI79),40,0)","v":0},{"$f":"IF(OR(CI79=\"\",CL79=\"\"),0,IF(AND(CI79=$D79,CL79=$E79,CJ79=$F79,CK79=$G79),50,0))","v":0},"Tschechien",0,1,"Marokko",{"$f":"IF(OR(CP79=\"\",CS79=\"\"),0,IF(AND(CP79=$D79,CS79=$E79),40,IF(CP79=$D79,20,IF(CS79=$E79,20,IF(AND(CP79<>$D79,CS79<>$E79),0)))))","v":20},{"$f":"IF(COUNTIF($D$28:$E$35,CS79),40,0)+IF(COUNTIF($D$28:$E$35,CP79),40,0)","v":40},{"$f":"IF(OR(CP79=\"\",CS79=\"\"),0,IF(AND(CP79=$D79,CS79=$E79,CQ79=$F79,CR79=$G79),50,0))","v":0},"Mexiko",1,2,"Schweden",{"$f":"IF(OR(CW79=\"\",CZ79=\"\"),0,IF(AND(CW79=$D79,CZ79=$E79),40,IF(CW79=$D79,20,IF(CZ79=$E79,20,IF(AND(CW79<>$D79,CZ79<>$E79),0)))))","v":0},{"$f":"IF(COUNTIF($D$28:$E$35,CZ79),40,0)+IF(COUNTIF($D$28:$E$35,CW79),40,0)","v":40},{"$f":"IF(OR(CW79=\"\",CZ79=\"\"),0,IF(AND(CW79=$D79,CZ79=$E79,CX79=$F79,CY79=$G79),50,0))","v":0},"Kanada",1,2,"Holland",{"$f":"IF(OR(DD79=\"\",DG79=\"\"),0,IF(AND(DD79=$D79,DG79=$E79),40,IF(DD79=$D79,20,IF(DG79=$E79,20,IF(AND(DD79<>$D79,DG79<>$E79),0)))))","v":20},{"$f":"IF(COUNTIF($D$28:$E$35,DG79),40,0)+IF(COUNTIF($D$28:$E$35,DD79),40,0)","v":40},{"$f":"IF(OR(DD79=\"\",DG79=\"\"),0,IF(AND(DD79=$D79,DG79=$E79,DE79=$F79,DF79=$G79),50,0))","v":0},"Kanada",0,2,"Holland",{"$f":"IF(OR(DK79=\"\",DN79=\"\"),0,IF(AND(DK79=$D79,DN79=$E79),40,IF(DK79=$D79,20,IF(DN79=$E79,20,IF(AND(DK79<>$D79,DN79<>$E79),0)))))","v":20},{"$f":"IF(COUNTIF($D$28:$E$35,DN79),40,0)+IF(COUNTIF($D$28:$E$35,DK79),40,0)","v":40},{"$f":"IF(OR(DK79=\"\",DN79=\"\"),0,IF(AND(DK79=$D79,DN79=$E79,DL79=$F79,DM79=$G79),50,0))","v":0},"Kanada",1,0,"Holland",{"$f":"IF(OR(DR79=\"\",DU79=\"\"),0,IF(AND(DR79=$D79,DU79=$E79),40,IF(DR79=$D79,20,IF(DU79=$E79,20,IF(AND(DR79<>$D79,DU79<>$E79),0)))))","v":20},{"$f":"IF(COUNTIF($D$28:$E$35,DU79),40,0)+IF(COUNTIF($D$28:$E$35,DR79),40,0)","v":40},{"$f":"IF(OR(DR79=\"\",DU79=\"\"),0,IF(AND(DR79=$D79,DU79=$E79,DS79=$F79,DT79=$G79),50,0))","v":0},"Tschechien",1,0,"Marokko",{"$f":"IF(OR(DY79=\"\",EB79=\"\"),0,IF(AND(DY79=$D79,EB79=$E79),40,IF(DY79=$D79,20,IF(EB79=$E79,20,IF(AND(DY79<>$D79,EB79<>$E79),0)))))","v":20},{"$f":"IF(COUNTIF($D$28:$E$35,EB79),40,0)+IF(COUNTIF($D$28:$E$35,DY79),40,0)","v":40},{"$f":"IF(OR(DY79=\"\",EB79=\"\"),0,IF(AND(DY79=$D79,EB79=$E79,DZ79=$F79,EA79=$G79),50,0))","v":0},"Mexiko",2,0,"Holland",{"$f":"IF(OR(EF79=\"\",EI79=\"\"),0,IF(AND(EF79=$D79,EI79=$E79),40,IF(EF79=$D79,20,IF(EI79=$E79,20,IF(AND(EF79<>$D79,EI79<>$E79),0)))))","v":0},{"$f":"IF(COUNTIF($D$28:$E$35,EI79),40,0)+IF(COUNTIF($D$28:$E$35,EF79),40,0)","v":40},{"$f":"IF(OR(EF79=\"\",EI79=\"\"),0,IF(AND(EF79=$D79,EI79=$E79,EG79=$F79,EH79=$G79),50,0))","v":0},"Südafrika",0,1,"Holland",{"$f":"IF(OR(EM79=\"\",EP79=\"\"),0,IF(AND(EM79=$D79,EP79=$E79),40,IF(EM79=$D79,20,IF(EP79=$E79,20,IF(AND(EM79<>$D79,EP79<>$E79),0)))))","v":0},{"$f":"IF(COUNTIF($D$28:$E$35,EP79),40,0)+IF(COUNTIF($D$28:$E$35,EM79),40,0)","v":0},{"$f":"IF(OR(EM79=\"\",EP79=\"\"),0,IF(AND(EM79=$D79,EP79=$E79,EN79=$F79,EO79=$G79),50,0))","v":0},null,{"$f":"_xlfn.TEXTJOIN(\", \",TRUE,_xlfn._xlws.FILTER(INDEX($J$54:$EM$54,1,_xlfn.SEQUENCE(1,(COLUMNS($J$54:$EM$54)-1)/7+1,1,7))&\" \"&INDEX($J$55:$EM$55,1,_xlfn.SEQUENCE(1,(COLUMNS($J$55:$EM$55)-1)/7+1,1,7)),INDEX($P79:$ES79,1,_xlfn.SEQUENCE(1,(COLUMNS($P79:$ES79)-1)/7+1,1,7))>0,\"\"))","v":""}]
["So. 05. Jul","22:00:00",91,"Brasilien","Norwegen",1,2,null,null,"Brasilien",2,1,"Norwegen",40,80,0,"Brasilien",1,0,"Norwegen",40,80,0,"Brasilien",2,3,"Frankreich",20,80,0,"Brasilien",2,1,"Frankreich",20,80,0,"Brasilien",2,0,"Senegal",20,40,0,"Brasilien",2,1,"Norwegen",40,80,0,"Brasilien",3,1,"Norwegen",40,80,0,"Brasilien",1,0,"Ecuador",20,40,0,"Brasilien",1,0,"Ecuador",20,40,0,"Brasilien",2,1,"Norwegen",40,80,0,"Marokko",1,2,"Norwegen",20,80,0,"Brasilien",3,2,"Norwegen",40,80,0,"Brasilien",3,2,"Norwegen",40,80,0,"Brasilien",3,1,"Norwegen",40,80,0,"Brasilien",2,0,"Ecuador",20,40,0,"Brasilien",2,0,"Senegal",20,40,0,"Brasilien",2,1,"Ecuador",20,40,0,"Brasilien",2,0,"Senegal",20,40,0,"Brasilien",0,3,"Frankreich",20,80,0,"Marokko",2,1,"Senegal",0,40,0,null,{"$f":"_xlfn.TEXTJOIN(\", \",TRUE,_xlfn._xlws.FILTER(INDEX($J$54:$EM$54,1,_xlfn.SEQUENCE(1,(COLUMNS($J$54:$EM$54)-1)/7+1,1,7))&\" \"&INDEX($J$55:$EM$55,1,_xlfn.SEQUENCE(1,(COLUMNS($J$55:$EM$55)-1)/7+1,1,7)),INDEX($P80:$ES80,1,_xlfn.SEQUENCE(1,(COLUMNS($P80:$ES80)-1)/7+1,1,7))>0,\"\"))","v":""}]
["Mo. 06. Jul","02:00:00",92,"Mexiko","England",2,3,null,null,"Mexiko",1,3,"England",40,80,0,"Mexiko",1,2,"England",40,80,0,"Schottland",0,3,"England",20,40,0,"Ecuador",0,3,"England",20,40,0,"Elfenbeinküste",1,2,"Norwegen",0,40,0,"Mexiko",1,2,"England",40,80,0,"Elfenbeinküste",1,2,"England",20,40,0,"Mexiko",0,1,"England",40,80,0,"Mexiko",0,1,"England",40,80,0,"Tschechien",2,1,"England",20,40,0,"Uruguay",0,2,"England",20,40,0,"Uruguay",0,1,"Kroatien",0,0,0,"Mexiko",0,1,"England",40,80,0,"Elfenbeinküste",0,1,"England",20,40,0,"Mexiko",0,2,"England",40,80,0,"Mexiko",1,2,"England",40,80,0,"Mexiko",0,1,"England",40,80,0,"Mexiko",3,2,"England",40,80,0,"Südkorea",1,2,"England",20,40,0,"Mexiko",1,3,"England",40,80,0,null,{"$f":"_xlfn.TEXTJOIN(\", \",TRUE,_xlfn._xlws.FILTER(INDEX($J$54:$EM$54,1,_xlfn.SEQUENCE(1,(COLUMNS($J$54:$EM$54)-1)/7+1,1,7))&\" \"&INDEX($J$55:$EM$55,1,_xlfn.SEQUENCE(1,(COLUMNS($J$55:$EM$55)-1)/7+1,1,7)),INDEX($P81:$ES81,1,_xlfn.SEQUENCE(1,(COLUMNS($P81:$ES81)-1)/7+1,1,7))>0,\"\"))","v":""}]
["Mo. 06. Jul","21:00:00",93,"Portugal","Spanien",0,1,null,null,"Kroatien",0,2,"Spanien",20,40,0,"Kroatien",0,2,"Spanien",20,40,0,"Kroatien",1,4,"Spanien",20,40,0,"Portugal",1,2,"Spanien",40,80,0,"England",6,5,"Spanien",20,80,0,"Kroatien",2,3,"Spanien",20,40,0,"Kroatien",0,3,"Spanien",20,40,0,"Kolumbien",0,2,"Spanien",20,80,0,"Kroatien",0,1,"Spanien",20,40,0,"Kroatien",1,2,"Spanien",20,40,0,"Kolumbien",2,1,"Spanien",20,80,0,"Portugal",0,2,"Spanien",40,80,0,"Kolumbien",1,2,"Spanien",20,80,0,"Kroatien",1,2,"Spanien",20,40,0,"Kolumbien",0,2,"Spanien",20,80,0,"Kolumbien",0,2,"Spanien",20,80,0,"Kolumbien",0,1,"Spanien",20,80,0,"Ghana",0,2,"Spanien",20,40,0,"Portugal",1,4,"Spanien",40,80,0,"Kroatien",0,2,"Spanien",20,40,0,null,{"$f":"_xlfn.TEXTJOIN(\", \",TRUE,_xlfn._xlws.FILTER(INDEX($J$54:$EM$54,1,_xlfn.SEQUENCE(1,(COLUMNS($J$54:$EM$54)-1)/7+1,1,7))&\" \"&INDEX($J$55:$EM$55,1,_xlfn.SEQUENCE(1,(COLUMNS($J$55:$EM$55)-1)/7+1,1,7)),INDEX($P82:$ES82,1,_xlfn.SEQUENCE(1,(COLUMNS($P82:$ES82)-1)/7+1,1,7))>0,\"\"))","v":""}]
["Di. 07. Jul","02:00:00",94,"USA","Belgien",1,4,null,null,"Türkei",0,1,"Belgien",20,40,0,"Türkei",1,2,"Belgien",20,40,0,"Türkei",2,1,"Belgien",20,40,0,"Türkei",2,1,"Belgien",20,40,0,"USA",1,2,"Belgien",40,80,0,"Türkei",2,1,"Belgien",20,40,0,"Algerien",2,1,"Belgien",20,40,0,"Türkei",0,1,"Belgien",20,40,0,"Türkei",0,1,"Belgien",20,40,0,"Schweiz",0,1,"Belgien",20,80,0,"Türkei",1,2,"Belgien",20,40,0,"USA",0,2,"Belgien",40,80,0,"Türkei",1,2,"Belgien",20,40,0,"Türkei",1,0,"Belgien",20,40,0,"USA",2,1,"Belgien",40,80,0,"USA",2,1,"Belgien",40,80,0,"USA",1,0,"Belgien",40,80,0,"Kanada",0,1,"Belgien",20,80,0,"Paraguay",2,3,"Belgien",20,80,0,"Norwegen",2,1,"Belgien",20,80,0,null,{"$f":"_xlfn.TEXTJOIN(\", \",TRUE,_xlfn._xlws.FILTER(INDEX($J$54:$EM$54,1,_xlfn.SEQUENCE(1,(COLUMNS($J$54:$EM$54)-1)/7+1,1,7))&\" \"&INDEX($J$55:$EM$55,1,_xlfn.SEQUENCE(1,(COLUMNS($J$55:$EM$55)-1)/7+1,1,7)),INDEX($P83:$ES83,1,_xlfn.SEQUENCE(1,(COLUMNS($P83:$ES83)-1)/7+1,1,7))>0,\"\"))","v":""}]
["Di. 07. Jul","18:00:00",95,"Argentinien","Ägypten",3,2,null,null,"Argentinien",2,0,"USA",20,80,0,"Argentinien",1,0,"USA",20,80,0,"Argentinien",2,0,"Ägypten",40,80,0,"Argentinien",2,0,"Paraguay",20,80,0,"Argentinien",2,0,"Türkei",20,40,0,"Argentinien",1,0,"USA",20,80,0,"Argentinien",3,1,"Ägypten",40,80,0,"Argentinien",1,0,"USA",20,80,0,"Argentinien",1,0,"USA",20,80,0,"Argentinien",2,1,"USA",20,80,0,"Argentinien",2,0,"Ägypten",40,80,0,"Argentinien",1,0,"Paraguay",20,80,0,"Argentinien",2,0,"Paraguay",20,80,0,"Argentinien",3,0,"USA",20,80,0,"Argentinien",2,0,"Paraguay",20,80,0,"Argentinien",2,1,"Paraguay",20,80,0,"Argentinien",1,0,"Türkei",20,40,0,"Argentinien",2,0,"Neuseeland",20,40,0,"Argentinien",2,1,"USA",20,80,0,"Argentinien",1,0,"Ägypten",40,80,0,null,{"$f":"_xlfn.TEXTJOIN(\", \",TRUE,_xlfn._xlws.FILTER(INDEX($J$54:$EM$54,1,_xlfn.SEQUENCE(1,(COLUMNS($J$54:$EM$54)-1)/7+1,1,7))&\" \"&INDEX($J$55:$EM$55,1,_xlfn.SEQUENCE(1,(COLUMNS($J$55:$EM$55)-1)/7+1,1,7)),INDEX($P84:$ES84,1,_xlfn.SEQUENCE(1,(COLUMNS($P84:$ES84)-1)/7+1,1,7))>0,\"\"))","v":""}]
["Di. 07. Jul","22:00:00",96,"Schweiz","Kolumbien",4,3,null,null,"Schweiz",1,3,"Portugal",20,80,0,"Schweiz",1,0,"Portugal",20,80,0,"Schweiz",2,1,"Portugal",20,80,0,"Schweiz",1,2,"Kolumbien",40,80,0,"Algerien",1,2,"Portugal",0,40,0,"Draw",1,3,"Portugal",0,40,0,"Schweiz",0,2,"Portugal",20,80,0,"Schweiz",1,2,"Portugal",20,80,0,"Schweiz",0,1,"Portugal",20,80,0,"Bosnien-Herz.",1,2,"Portugal",0,40,0,"Schweiz",1,3,"Portugal",20,80,0,"Schweiz",1,3,"Kolumbien",40,80,0,"Schweiz",1,3,"Portugal",20,80,0,"Schweiz",1,3,"Portugal",20,80,0,"Schweiz",2,1,"Portugal",20,80,0,"Schweiz",2,1,"Portugal",20,80,0,"Schweiz",1,0,"Portugal",20,80,0,"Schweiz",1,2,"Portugal",20,80,0,"Schweiz",3,4,"Kolumbien",40,80,0,"Schweiz",2,1,"Portugal",20,80,0,null,{"$f":"_xlfn.TEXTJOIN(\", \",TRUE,_xlfn._xlws.FILTER(INDEX($J$54:$EM$54,1,_xlfn.SEQUENCE(1,(COLUMNS($J$54:$EM$54)-1)/7+1,1,7))&\" \"&INDEX($J$55:$EM$55,1,_xlfn.SEQUENCE(1,(COLUMNS($J$55:$EM$55)-1)/7+1,1,7)),INDEX($P85:$ES85,1,_xlfn.SEQUENCE(1,(COLUMNS($P85:$ES85)-1)/7+1,1,7))>0,\"\"))","v":""}]
["Viertelfinale",null,null,null,null,null,null,null,null,null,null,null,null,null,null,null,null,null,null,null,null,null,null,null,null,null,null,null,null,null,null,null,null,null,null,null,null,null,null,null,null,null,null,null,null,null,null,null,null,null,null,null,null,null,null,null,null,null,null,null,null,null,null,null,null,null,null,null,null,null,null,null,null,null,null,null,null,null,null,null,null,null,null,null,null,null,null,null,null,null,null,null,null,null,null,null,null,null,null,null,null,null,null,null,null,null,null,null,null,null,null,null,null,null,null,null,null,null,null,null,null,null,null,null,null,null,null,null,null,null,null,null,null,null,null,null,null,null,null,null,null,null,null,null,null,null,null,null,null,null,{"$f":"_xlfn.TEXTJOIN(\", \",TRUE,_xlfn._xlws.FILTER(INDEX($J$54:$EM$54,1,_xlfn.SEQUENCE(1,(COLUMNS($J$54:$EM$54)-1)/7+1,1,7))&\" \"&INDEX($J$55:$EM$55,1,_xlfn.SEQUENCE(1,(COLUMNS($J$55:$EM$55)-1)/7+1,1,7)),INDEX($P86:$ES86,1,_xlfn.SEQUENCE(1,(COLUMNS($P86:$ES86)-1)/7+1,1,7))>0,\"\"))","v":""}]
[{"$f":"A37","v":"Do. 09. Jul"},"22:00:00",97,"Frankreich","Marokko",{"$f":"IF(F37=\"\",\"\",F37)","v":2},0,null,null,"Frankreich",2,0,"Marokko",{"$f":"IF(OR(J87=\"\",M87=\"\"),0,IF(AND(J87=$D87,M87=$E87),60,IF(J87=$D87,30,IF(M87=$E87,30,IF(AND(J87<>$D87,M87<>$E87),0)))))","v":60},{"$f":"IF(COUNTIF($D$37:$E$40,M87),80,0)+IF(COUNTIF($D$37:$E$40,J87),80,0)","v":160},{"$f":"IF(OR(J87=\"\",M87=\"\"),0,IF(AND(J87=$D87,M87=$E87,K87=$F87,L87=$G87),70,0))","v":70},"Frankreich",2,0,"Kanada",{"$f":"IF(OR(Q87=\"\",T87=\"\"),0,IF(AND(Q87=$D87,T87=$E87),60,IF(Q87=$D87,30,IF(T87=$E87,30,IF(AND(Q87<>$D87,T87<>$E87),0)))))","v":30},{"$f":"IF(COUNTIF($D$37:$E$40,T87),80,0)+IF(COUNTIF($D$37:$E$40,Q87),80,0)","v":80},{"$f":"IF(OR(Q87=\"\",T87=\"\"),0,IF(AND(Q87=$D87,T87=$E87,R87=$F87,S87=$G87),70,0))","v":0},"Deutschland",2,1,"Holland",{"$f":"IF(OR(X87=\"\",AA87=\"\"),0,IF(AND(X87=$D87,AA87=$E87),60,IF(X87=$D87,30,IF(AA87=$E87,30,IF(AND(X87<>$D87,AA87<>$E87),0)))))","v":0},{"$f":"IF(COUNTIF($D$37:$E$40,AA87),80,0)+IF(COUNTIF($D$37:$E$40,X87),80,0)","v":0},{"$f":"IF(OR(X87=\"\",AA87=\"\"),0,IF(AND(X87=$D87,AA87=$E87,Y87=$F87,Z87=$G87),70,0))","v":0},"Deutschland",2,1,"Holland",{"$f":"IF(OR(AE87=\"\",AH87=\"\"),0,IF(AND(AE87=$D87,AH87=$E87),60,IF(AE87=$D87,30,IF(AH87=$E87,30,IF(AND(AE87<>$D87,AH87<>$E87),0)))))","v":0},{"$f":"IF(COUNTIF($D$37:$E$40,AH87),80,0)+IF(COUNTIF($D$37:$E$40,AE87),80,0)","v":0},{"$f":"IF(OR(AE87=\"\",AH87=\"\"),0,IF(AND(AE87=$D87,AH87=$E87,AF87=$F87,AG87=$G87),70,0))","v":0},"Frankreich",2,0,"Marokko",{"$f":"IF(OR(AL87=\"\",AO87=\"\"),0,IF(AND(AL87=$D87,AO87=$E87),60,IF(AL87=$D87,30,IF(AO87=$E87,30,IF(AND(AL87<>$D87,AO87<>$E87),0)))))","v":60},{"$f":"IF(COUNTIF($D$37:$E$40,AO87),80,0)+IF(COUNTIF($D$37:$E$40,AL87),80,0)","v":160},{"$f":"IF(OR(AL87=\"\",AO87=\"\"),0,IF(AND(AL87=$D87,AO87=$E87,AM87=$F87,AN87=$G87),70,0))","v":70},"Frankreich",2,1,"Holland",{"$f":"IF(OR(AS87=\"\",AV87=\"\"),0,IF(AND(AS87=$D87,AV87=$E87),60,IF(AS87=$D87,30,IF(AV87=$E87,30,IF(AND(AS87<>$D87,AV87<>$E87),0)))))","v":30},{"$f":"IF(COUNTIF($D$37:$E$40,AV87),80,0)+IF(COUNTIF($D$37:$E$40,AS87),80,0)","v":80},{"$f":"IF(OR(AS87=\"\",AV87=\"\"),0,IF(AND(AS87=$D87,AV87=$E87,AT87=$F87,AU87=$G87),70,0))","v":0},"Frankreich",2,0,"Marokko",{"$f":"IF(OR(AZ87=\"\",BC87=\"\"),0,IF(AND(AZ87=$D87,BC87=$E87),60,IF(AZ87=$D87,30,IF(BC87=$E87,30,IF(AND(AZ87<>$D87,BC87<>$E87),0)))))","v":60},{"$f":"IF(COUNTIF($D$37:$E$40,BC87),80,0)+IF(COUNTIF($D$37:$E$40,AZ87),80,0)","v":160},{"$f":"IF(OR(AZ87=\"\",BC87=\"\"),0,IF(AND(AZ87=$D87,BC87=$E87,BA87=$F87,BB87=$G87),70,0))","v":70},"Frankreich",2,0,"Bosnien-Herz.",{"$f":"IF(OR(BG87=\"\",BJ87=\"\"),0,IF(AND(BG87=$D87,BJ87=$E87),60,IF(BG87=$D87,30,IF(BJ87=$E87,30,IF(AND(BG87<>$D87,BJ87<>$E87),0)))))","v":30},{"$f":"IF(COUNTIF($D$37:$E$40,BJ87),80,0)+IF(COUNTIF($D$37:$E$40,BG87),80,0)","v":80},{"$f":"IF(OR(BG87=\"\",BJ87=\"\"),0,IF(AND(BG87=$D87,BJ87=$E87,BH87=$F87,BI87=$G87),70,0))","v":0},"Frankreich",2,0,"Bosnien-Herz.",{"$f":"IF(OR(BN87=\"\",BQ87=\"\"),0,IF(AND(BN87=$D87,BQ87=$E87),60,IF(BN87=$D87,30,IF(BQ87=$E87,30,IF(AND(BN87<>$D87,BQ87<>$E87),0)))))","v":30},{"$f":"IF(COUNTIF($D$37:$E$40,BQ87),80,0)+IF(COUNTIF($D$37:$E$40,BN87),80,0)","v":80},{"$f":"IF(OR(BN87=\"\",BQ87=\"\"),0,IF(AND(BN87=$D87,BQ87=$E87,BO87=$F87,BP87=$G87),70,0))","v":0},"Deutschland",0,1,"Mexiko",{"$f":"IF(OR(BU87=\"\",BX87=\"\"),0,IF(AND(BU87=$D87,BX87=$E87),60,IF(BU87=$D87,30,IF(BX87=$E87,30,IF(AND(BU87<>$D87,BX87<>$E87),0)))))","v":0},{"$f":"IF(COUNTIF($D$37:$E$40,BX87),80,0)+IF(COUNTIF($D$37:$E$40,BU87),80,0)","v":0},{"$f":"IF(OR(BU87=\"\",BX87=\"\"),0,IF(AND(BU87=$D87,BX87=$E87,BV87=$F87,BW87=$G87),70,0))","v":0},"Frankreich",2,1,"Brasilien",{"$f":"IF(OR(CB87=\"\",CE87=\"\"),0,IF(AND(CB87=$D87,CE87=$E87),60,IF(CB87=$D87,30,IF(CE87=$E87,30,IF(AND(CB87<>$D87,CE87<>$E87),0)))))","v":30},{"$f":"IF(COUNTIF($D$37:$E$40,CE87),80,0)+IF(COUNTIF($D$37:$E$40,CB87),80,0)","v":80},{"$f":"IF(OR(CB87=\"\",CE87=\"\"),0,IF(AND(CB87=$D87,CE87=$E87,CC87=$F87,CD87=$G87),70,0))","v":0},"Frankreich",2,1,"Holland",{"$f":"IF(OR(CI87=\"\",CL87=\"\"),0,IF(AND(CI87=$D87,CL87=$E87),60,IF(CI87=$D87,30,IF(CL87=$E87,30,IF(AND(CI87<>$D87,CL87<>$E87),0)))))","v":30},{"$f":"IF(COUNTIF($D$37:$E$40,CL87),80,0)+IF(COUNTIF($D$37:$E$40,CI87),80,0)","v":80},{"$f":"IF(OR(CI87=\"\",CL87=\"\"),0,IF(AND(CI87=$D87,CL87=$E87,CJ87=$F87,CK87=$G87),70,0))","v":0},"Frankreich",2,1,"Marokko",{"$f":"IF(OR(CP87=\"\",CS87=\"\"),0,IF(AND(CP87=$D87,CS87=$E87),60,IF(CP87=$D87,30,IF(CS87=$E87,30,IF(AND(CP87<>$D87,CS87<>$E87),0)))))","v":60},{"$f":"IF(COUNTIF($D$37:$E$40,CS87),80,0)+IF(COUNTIF($D$37:$E$40,CP87),80,0)","v":160},{"$f":"IF(OR(CP87=\"\",CS87=\"\"),0,IF(AND(CP87=$D87,CS87=$E87,CQ87=$F87,CR87=$G87),70,0))","v":0},"Frankreich",2,0,"Schweden",{"$f":"IF(OR(CW87=\"\",CZ87=\"\"),0,IF(AND(CW87=$D87,CZ87=$E87),60,IF(CW87=$D87,30,IF(CZ87=$E87,30,IF(AND(CW87<>$D87,CZ87<>$E87),0)))))","v":30},{"$f":"IF(COUNTIF($D$37:$E$40,CZ87),80,0)+IF(COUNTIF($D$37:$E$40,CW87),80,0)","v":80},{"$f":"IF(OR(CW87=\"\",CZ87=\"\"),0,IF(AND(CW87=$D87,CZ87=$E87,CX87=$F87,CY87=$G87),70,0))","v":0},"Frankreich",2,1,"Holland",{"$f":"IF(OR(DD87=\"\",DG87=\"\"),0,IF(AND(DD87=$D87,DG87=$E87),60,IF(DD87=$D87,30,IF(DG87=$E87,30,IF(AND(DD87<>$D87,DG87<>$E87),0)))))","v":30},{"$f":"IF(COUNTIF($D$37:$E$40,DG87),80,0)+IF(COUNTIF($D$37:$E$40,DD87),80,0)","v":80},{"$f":"IF(OR(DD87=\"\",DG87=\"\"),0,IF(AND(DD87=$D87,DG87=$E87,DE87=$F87,DF87=$G87),70,0))","v":0},"Frankreich",2,0,"Holland",{"$f":"IF(OR(DK87=\"\",DN87=\"\"),0,IF(AND(DK87=$D87,DN87=$E87),60,IF(DK87=$D87,30,IF(DN87=$E87,30,IF(AND(DK87<>$D87,DN87<>$E87),0)))))","v":30},{"$f":"IF(COUNTIF($D$37:$E$40,DN87),80,0)+IF(COUNTIF($D$37:$E$40,DK87),80,0)","v":80},{"$f":"IF(OR(DK87=\"\",DN87=\"\"),0,IF(AND(DK87=$D87,DN87=$E87,DL87=$F87,DM87=$G87),70,0))","v":0},"Deutschland",1,0,"Kanada",{"$f":"IF(OR(DR87=\"\",DU87=\"\"),0,IF(AND(DR87=$D87,DU87=$E87),60,IF(DR87=$D87,30,IF(DU87=$E87,30,IF(AND(DR87<>$D87,DU87<>$E87),0)))))","v":0},{"$f":"IF(COUNTIF($D$37:$E$40,DU87),80,0)+IF(COUNTIF($D$37:$E$40,DR87),80,0)","v":0},{"$f":"IF(OR(DR87=\"\",DU87=\"\"),0,IF(AND(DR87=$D87,DU87=$E87,DS87=$F87,DT87=$G87),70,0))","v":0},"Frankreich",2,0,"Tschechien",{"$f":"IF(OR(DY87=\"\",EB87=\"\"),0,IF(AND(DY87=$D87,EB87=$E87),60,IF(DY87=$D87,30,IF(EB87=$E87,30,IF(AND(DY87<>$D87,EB87<>$E87),0)))))","v":30},{"$f":"IF(COUNTIF($D$37:$E$40,EB87),80,0)+IF(COUNTIF($D$37:$E$40,DY87),80,0)","v":80},{"$f":"IF(OR(DY87=\"\",EB87=\"\"),0,IF(AND(DY87=$D87,EB87=$E87,DZ87=$F87,EA87=$G87),70,0))","v":0},"Deutschland",2,0,"Mexiko",{"$f":"IF(OR(EF87=\"\",EI87=\"\"),0,IF(AND(EF87=$D87,EI87=$E87),60,IF(EF87=$D87,30,IF(EI87=$E87,30,IF(AND(EF87<>$D87,EI87<>$E87),0)))))","v":0},{"$f":"IF(COUNTIF($D$37:$E$40,EI87),80,0)+IF(COUNTIF($D$37:$E$40,EF87),80,0)","v":0},{"$f":"IF(OR(EF87=\"\",EI87=\"\"),0,IF(AND(EF87=$D87,EI87=$E87,EG87=$F87,EH87=$G87),70,0))","v":0},"Frankreich",2,1,"Holland",{"$f":"IF(OR(EM87=\"\",EP87=\"\"),0,IF(AND(EM87=$D87,EP87=$E87),60,IF(EM87=$D87,30,IF(EP87=$E87,30,IF(AND(EM87<>$D87,EP87<>$E87),0)))))","v":30},{"$f":"IF(COUNTIF($D$37:$E$40,EP87),80,0)+IF(COUNTIF($D$37:$E$40,EM87),80,0)","v":80},{"$f":"IF(OR(EM87=\"\",EP87=\"\"),0,IF(AND(EM87=$D87,EP87=$E87,EN87=$F87,EO87=$G87),70,0))","v":0},null,{"$f":"_xlfn.TEXTJOIN(\", \",TRUE,_xlfn._xlws.FILTER(INDEX($J$54:$EM$54,1,_xlfn.SEQUENCE(1,(COLUMNS($J$54:$EM$54)-1)/7+1,1,7))&\" \"&INDEX($J$55:$EM$55,1,_xlfn.SEQUENCE(1,(COLUMNS($J$55:$EM$55)-1)/7+1,1,7)),INDEX($P87:$ES87,1,_xlfn.SEQUENCE(1,(COLUMNS($P87:$ES87)-1)/7+1,1,7))>0,\"\"))","v":"Leo Rodrigues da Costa, Rafael Derungs, Armin Duvnjak"}]
["Fr. 10. Jul","21:00:00",98,"Spanien","Belgien",2,1,null,null,"Spanien",2,0,"Belgien",{"$f":"IF(OR(J88=\"\",M88=\"\"),0,IF(AND(J88=$D88,M88=$E88),60,IF(J88=$D88,30,IF(M88=$E88,30,IF(AND(J88<>$D88,M88<>$E88),0)))))","v":60},{"$f":"IF(COUNTIF($D$37:$E$40,M88),80,0)+IF(COUNTIF($D$37:$E$40,J88),80,0)","v":160},{"$f":"IF(OR(J88=\"\",M88=\"\"),0,IF(AND(J88=$D88,M88=$E88,K88=$F88,L88=$G88),70,0))","v":0},"Spanien",7,6,"Belgien",{"$f":"IF(OR(Q88=\"\",T88=\"\"),0,IF(AND(Q88=$D88,T88=$E88),60,IF(Q88=$D88,30,IF(T88=$E88,30,IF(AND(Q88<>$D88,T88<>$E88),0)))))","v":60},{"$f":"IF(COUNTIF($D$37:$E$40,T88),80,0)+IF(COUNTIF($D$37:$E$40,Q88),80,0)","v":160},{"$f":"IF(OR(Q88=\"\",T88=\"\"),0,IF(AND(Q88=$D88,T88=$E88,R88=$F88,S88=$G88),70,0))","v":0},"Spanien",3,1,"Türkei",{"$f":"IF(OR(X88=\"\",AA88=\"\"),0,IF(AND(X88=$D88,AA88=$E88),60,IF(X88=$D88,30,IF(AA88=$E88,30,IF(AND(X88<>$D88,AA88<>$E88),0)))))","v":30},{"$f":"IF(COUNTIF($D$37:$E$40,AA88),80,0)+IF(COUNTIF($D$37:$E$40,X88),80,0)","v":80},{"$f":"IF(OR(X88=\"\",AA88=\"\"),0,IF(AND(X88=$D88,AA88=$E88,Y88=$F88,Z88=$G88),70,0))","v":0},"Spanien",2,3,"Türkei",{"$f":"IF(OR(AE88=\"\",AH88=\"\"),0,IF(AND(AE88=$D88,AH88=$E88),60,IF(AE88=$D88,30,IF(AH88=$E88,30,IF(AND(AE88<>$D88,AH88<>$E88),0)))))","v":30},{"$f":"IF(COUNTIF($D$37:$E$40,AH88),80,0)+IF(COUNTIF($D$37:$E$40,AE88),80,0)","v":80},{"$f":"IF(OR(AE88=\"\",AH88=\"\"),0,IF(AND(AE88=$D88,AH88=$E88,AF88=$F88,AG88=$G88),70,0))","v":0},"England",2,1,"Belgien",{"$f":"IF(OR(AL88=\"\",AO88=\"\"),0,IF(AND(AL88=$D88,AO88=$E88),60,IF(AL88=$D88,30,IF(AO88=$E88,30,IF(AND(AL88<>$D88,AO88<>$E88),0)))))","v":30},{"$f":"IF(COUNTIF($D$37:$E$40,AO88),80,0)+IF(COUNTIF($D$37:$E$40,AL88),80,0)","v":160},{"$f":"IF(OR(AL88=\"\",AO88=\"\"),0,IF(AND(AL88=$D88,AO88=$E88,AM88=$F88,AN88=$G88),70,0))","v":0},"Spanien",3,1,"Türkei",{"$f":"IF(OR(AS88=\"\",AV88=\"\"),0,IF(AND(AS88=$D88,AV88=$E88),60,IF(AS88=$D88,30,IF(AV88=$E88,30,IF(AND(AS88<>$D88,AV88<>$E88),0)))))","v":30},{"$f":"IF(COUNTIF($D$37:$E$40,AV88),80,0)+IF(COUNTIF($D$37:$E$40,AS88),80,0)","v":80},{"$f":"IF(OR(AS88=\"\",AV88=\"\"),0,IF(AND(AS88=$D88,AV88=$E88,AT88=$F88,AU88=$G88),70,0))","v":0},"Spanien",3,1,"Algerien",{"$f":"IF(OR(AZ88=\"\",BC88=\"\"),0,IF(AND(AZ88=$D88,BC88=$E88),60,IF(AZ88=$D88,30,IF(BC88=$E88,30,IF(AND(AZ88<>$D88,BC88<>$E88),0)))))","v":30},{"$f":"IF(COUNTIF($D$37:$E$40,BC88),80,0)+IF(COUNTIF($D$37:$E$40,AZ88),80,0)","v":80},{"$f":"IF(OR(AZ88=\"\",BC88=\"\"),0,IF(AND(AZ88=$D88,BC88=$E88,BA88=$F88,BB88=$G88),70,0))","v":0},"Spanien",2,1,"Belgien",{"$f":"IF(OR(BG88=\"\",BJ88=\"\"),0,IF(AND(BG88=$D88,BJ88=$E88),60,IF(BG88=$D88,30,IF(BJ88=$E88,30,IF(AND(BG88<>$D88,BJ88<>$E88),0)))))","v":60},{"$f":"IF(COUNTIF($D$37:$E$40,BJ88),80,0)+IF(COUNTIF($D$37:$E$40,BG88),80,0)","v":160},{"$f":"IF(OR(BG88=\"\",BJ88=\"\"),0,IF(AND(BG88=$D88,BJ88=$E88,BH88=$F88,BI88=$G88),70,0))","v":70},"Spanien",2,1,"Belgien",{"$f":"IF(OR(BN88=\"\",BQ88=\"\"),0,IF(AND(BN88=$D88,BQ88=$E88),60,IF(BN88=$D88,30,IF(BQ88=$E88,30,IF(AND(BN88<>$D88,BQ88<>$E88),0)))))","v":60},{"$f":"IF(COUNTIF($D$37:$E$40,BQ88),80,0)+IF(COUNTIF($D$37:$E$40,BN88),80,0)","v":160},{"$f":"IF(OR(BN88=\"\",BQ88=\"\"),0,IF(AND(BN88=$D88,BQ88=$E88,BO88=$F88,BP88=$G88),70,0))","v":70},"Spanien",1,0,"Belgien",{"$f":"IF(OR(BU88=\"\",BX88=\"\"),0,IF(AND(BU88=$D88,BX88=$E88),60,IF(BU88=$D88,30,IF(BX88=$E88,30,IF(AND(BU88<>$D88,BX88<>$E88),0)))))","v":60},{"$f":"IF(COUNTIF($D$37:$E$40,BX88),80,0)+IF(COUNTIF($D$37:$E$40,BU88),80,0)","v":160},{"$f":"IF(OR(BU88=\"\",BX88=\"\"),0,IF(AND(BU88=$D88,BX88=$E88,BV88=$F88,BW88=$G88),70,0))","v":0},"Kolumbien",2,1,"Belgien",{"$f":"IF(OR(CB88=\"\",CE88=\"\"),0,IF(AND(CB88=$D88,CE88=$E88),60,IF(CB88=$D88,30,IF(CE88=$E88,30,IF(AND(CB88<>$D88,CE88<>$E88),0)))))","v":30},{"$f":"IF(COUNTIF($D$37:$E$40,CE88),80,0)+IF(COUNTIF($D$37:$E$40,CB88),80,0)","v":80},{"$f":"IF(OR(CB88=\"\",CE88=\"\"),0,IF(AND(CB88=$D88,CE88=$E88,CC88=$F88,CD88=$G88),70,0))","v":0},"Spanien",2,1,"Belgien",{"$f":"IF(OR(CI88=\"\",CL88=\"\"),0,IF(AND(CI88=$D88,CL88=$E88),60,IF(CI88=$D88,30,IF(CL88=$E88,30,IF(AND(CI88<>$D88,CL88<>$E88),0)))))","v":60},{"$f":"IF(COUNTIF($D$37:$E$40,CL88),80,0)+IF(COUNTIF($D$37:$E$40,CI88),80,0)","v":160},{"$f":"IF(OR(CI88=\"\",CL88=\"\"),0,IF(AND(CI88=$D88,CL88=$E88,CJ88=$F88,CK88=$G88),70,0))","v":70},"Spanien",2,1,"Belgien",{"$f":"IF(OR(CP88=\"\",CS88=\"\"),0,IF(AND(CP88=$D88,CS88=$E88),60,IF(CP88=$D88,30,IF(CS88=$E88,30,IF(AND(CP88<>$D88,CS88<>$E88),0)))))","v":60},{"$f":"IF(COUNTIF($D$37:$E$40,CS88),80,0)+IF(COUNTIF($D$37:$E$40,CP88),80,0)","v":160},{"$f":"IF(OR(CP88=\"\",CS88=\"\"),0,IF(AND(CP88=$D88,CS88=$E88,CQ88=$F88,CR88=$G88),70,0))","v":70},"Spanien",2,1,"Türkei",{"$f":"IF(OR(CW88=\"\",CZ88=\"\"),0,IF(AND(CW88=$D88,CZ88=$E88),60,IF(CW88=$D88,30,IF(CZ88=$E88,30,IF(AND(CW88<>$D88,CZ88<>$E88),0)))))","v":30},{"$f":"IF(COUNTIF($D$37:$E$40,CZ88),80,0)+IF(COUNTIF($D$37:$E$40,CW88),80,0)","v":80},{"$f":"IF(OR(CW88=\"\",CZ88=\"\"),0,IF(AND(CW88=$D88,CZ88=$E88,CX88=$F88,CY88=$G88),70,0))","v":0},"Spanien",2,1,"USA",{"$f":"IF(OR(DD88=\"\",DG88=\"\"),0,IF(AND(DD88=$D88,DG88=$E88),60,IF(DD88=$D88,30,IF(DG88=$E88,30,IF(AND(DD88<>$D88,DG88<>$E88),0)))))","v":30},{"$f":"IF(COUNTIF($D$37:$E$40,DG88),80,0)+IF(COUNTIF($D$37:$E$40,DD88),80,0)","v":80},{"$f":"IF(OR(DD88=\"\",DG88=\"\"),0,IF(AND(DD88=$D88,DG88=$E88,DE88=$F88,DF88=$G88),70,0))","v":0},"Spanien",2,0,"USA",{"$f":"IF(OR(DK88=\"\",DN88=\"\"),0,IF(AND(DK88=$D88,DN88=$E88),60,IF(DK88=$D88,30,IF(DN88=$E88,30,IF(AND(DK88<>$D88,DN88<>$E88),0)))))","v":30},{"$f":"IF(COUNTIF($D$37:$E$40,DN88),80,0)+IF(COUNTIF($D$37:$E$40,DK88),80,0)","v":80},{"$f":"IF(OR(DK88=\"\",DN88=\"\"),0,IF(AND(DK88=$D88,DN88=$E88,DL88=$F88,DM88=$G88),70,0))","v":0},"Spanien",1,0,"USA",{"$f":"IF(OR(DR88=\"\",DU88=\"\"),0,IF(AND(DR88=$D88,DU88=$E88),60,IF(DR88=$D88,30,IF(DU88=$E88,30,IF(AND(DR88<>$D88,DU88<>$E88),0)))))","v":30},{"$f":"IF(COUNTIF($D$37:$E$40,DU88),80,0)+IF(COUNTIF($D$37:$E$40,DR88),80,0)","v":80},{"$f":"IF(OR(DR88=\"\",DU88=\"\"),0,IF(AND(DR88=$D88,DU88=$E88,DS88=$F88,DT88=$G88),70,0))","v":0},"Spanien",1,0,"Belgien",{"$f":"IF(OR(DY88=\"\",EB88=\"\"),0,IF(AND(DY88=$D88,EB88=$E88),60,IF(DY88=$D88,30,IF(EB88=$E88,30,IF(AND(DY88<>$D88,EB88<>$E88),0)))))","v":60},{"$f":"IF(COUNTIF($D$37:$E$40,EB88),80,0)+IF(COUNTIF($D$37:$E$40,DY88),80,0)","v":160},{"$f":"IF(OR(DY88=\"\",EB88=\"\"),0,IF(AND(DY88=$D88,EB88=$E88,DZ88=$F88,EA88=$G88),70,0))","v":0},"Spanien",2,0,"Belgien",{"$f":"IF(OR(EF88=\"\",EI88=\"\"),0,IF(AND(EF88=$D88,EI88=$E88),60,IF(EF88=$D88,30,IF(EI88=$E88,30,IF(AND(EF88<>$D88,EI88<>$E88),0)))))","v":60},{"$f":"IF(COUNTIF($D$37:$E$40,EI88),80,0)+IF(COUNTIF($D$37:$E$40,EF88),80,0)","v":160},{"$f":"IF(OR(EF88=\"\",EI88=\"\"),0,IF(AND(EF88=$D88,EI88=$E88,EG88=$F88,EH88=$G88),70,0))","v":0},"Spanien",2,0,"Norwegen",{"$f":"IF(OR(EM88=\"\",EP88=\"\"),0,IF(AND(EM88=$D88,EP88=$E88),60,IF(EM88=$D88,30,IF(EP88=$E88,30,IF(AND(EM88<>$D88,EP88<>$E88),0)))))","v":30},{"$f":"IF(COUNTIF($D$37:$E$40,EP88),80,0)+IF(COUNTIF($D$37:$E$40,EM88),80,0)","v":160},{"$f":"IF(OR(EM88=\"\",EP88=\"\"),0,IF(AND(EM88=$D88,EP88=$E88,EN88=$F88,EO88=$G88),70,0))","v":0},null,{"$f":"_xlfn.TEXTJOIN(\", \",TRUE,_xlfn._xlws.FILTER(INDEX($J$54:$EM$54,1,_xlfn.SEQUENCE(1,(COLUMNS($J$54:$EM$54)-1)/7+1,1,7))&\" \"&INDEX($J$55:$EM$55,1,_xlfn.SEQUENCE(1,(COLUMNS($J$55:$EM$55)-1)/7+1,1,7)),INDEX($P88:$ES88,1,_xlfn.SEQUENCE(1,(COLUMNS($P88:$ES88)-1)/7+1,1,7))>0,\"\"))","v":"Dino Duvnjak, Djuma Duvnjak, Deliz González, Florian González"}]
["Sa. 11. Jul","23:00:00",99,"Norwegen","England",1,2,null,null,"Brasilien",2,1,"England",30,80,0,"Brasilien",0,1,"England",30,80,0,"Frankreich",3,2,"England",30,160,0,"Brasilien",3,2,"England",30,80,0,"Brasilien",2,1,"Norwegen",0,80,0,"Brasilien",2,1,"England",30,80,0,"Brasilien",2,1,"England",30,80,0,"Brasilien",0,1,"England",30,80,0,"Brasilien",1,2,"England",30,80,0,"Brasilien",0,1,"Tschechien",0,0,0,"Norwegen",0,2,"England",60,160,0,"Brasilien",2,1,"Kroatien",0,0,0,"Brasilien",2,1,"England",30,80,0,"Brasilien",3,1,"England",30,80,0,"Brasilien",1,2,"England",30,80,0,"Brasilien",1,2,"England",30,80,0,"Brasilien",0,1,"England",30,80,0,"Brasilien",3,0,"Mexiko",0,0,0,"Frankreich",1,2,"England",30,160,0,"Marokko",0,1,"England",30,160,0,null,{"$f":"_xlfn.TEXTJOIN(\", \",TRUE,_xlfn._xlws.FILTER(INDEX($J$54:$EM$54,1,_xlfn.SEQUENCE(1,(COLUMNS($J$54:$EM$54)-1)/7+1,1,7))&\" \"&INDEX($J$55:$EM$55,1,_xlfn.SEQUENCE(1,(COLUMNS($J$55:$EM$55)-1)/7+1,1,7)),INDEX($P89:$ES89,1,_xlfn.SEQUENCE(1,(COLUMNS($P89:$ES89)-1)/7+1,1,7))>0,\"\"))","v":""}]
["So. 12. Jul","03:00:00",100,"Argentinien","Schweiz",3,1,null,null,"Argentinien",2,3,"Portugal",30,80,0,"Argentinien",2,1,"Schweiz",60,160,0,"Argentinien",0,2,"Schweiz",60,160,0,"Argentinien",2,0,"Kolumbien",30,80,0,"Argentinien",1,0,"Portugal",30,80,0,"Argentinien",1,2,"Portugal",30,80,0,"Argentinien",1,2,"Portugal",30,80,0,"Argentinien",0,1,"Portugal",30,80,0,"Argentinien",0,1,"Portugal",30,80,0,"Argentinien",1,2,"Portugal",30,80,0,"Argentinien",1,2,"Portugal",30,80,0,"Argentinien",3,2,"Kolumbien",30,80,0,"Argentinien",1,2,"Portugal",30,80,0,"Argentinien",1,2,"Portugal",30,80,0,"Argentinien",2,1,"Schweiz",60,160,0,"Argentinien",2,1,"Schweiz",60,160,0,"Argentinien",2,0,"Schweiz",60,160,0,"Argentinien",1,2,"Portugal",30,80,0,"Argentinien",3,0,"Kolumbien",30,80,0,"Argentinien",2,0,"Schweiz",60,160,0,null,{"$f":"_xlfn.TEXTJOIN(\", \",TRUE,_xlfn._xlws.FILTER(INDEX($J$54:$EM$54,1,_xlfn.SEQUENCE(1,(COLUMNS($J$54:$EM$54)-1)/7+1,1,7))&\" \"&INDEX($J$55:$EM$55,1,_xlfn.SEQUENCE(1,(COLUMNS($J$55:$EM$55)-1)/7+1,1,7)),INDEX($P90:$ES90,1,_xlfn.SEQUENCE(1,(COLUMNS($P90:$ES90)-1)/7+1,1,7))>0,\"\"))","v":""}]
["Halbfinale",null,null,null,null,null,null,null,null,null,null,null,null,null,null,null,null,null,null,null,null,null,null,null,null,null,null,null,null,null,null,null,null,null,null,null,null,null,null,null,null,null,null,null,null,null,null,null,null,null,null,null,null,null,null,null,null,null,null,null,null,null,null,null,null,null,null,null,null,null,null,null,null,null,null,null,null,null,null,null,null,null,null,null,null,null,null,null,null,null,null,null,null,null,null,null,null,null,null,null,null,null,null,null,null,null,null,null,null,null,null,null,null,null,null,null,null,null,null,null,null,null,null,null,null,null,null,null,null,null,null,null,null,null,null,null,null,null,null,null,null,null,null,null,null,null,null,null,null,null,{"$f":"_xlfn.TEXTJOIN(\", \",TRUE,_xlfn._xlws.FILTER(INDEX($J$54:$EM$54,1,_xlfn.SEQUENCE(1,(COLUMNS($J$54:$EM$54)-1)/7+1,1,7))&\" \"&INDEX($J$55:$EM$55,1,_xlfn.SEQUENCE(1,(COLUMNS($J$55:$EM$55)-1)/7+1,1,7)),INDEX($P91:$ES91,1,_xlfn.SEQUENCE(1,(COLUMNS($P91:$ES91)-1)/7+1,1,7))>0,\"\"))","v":""}]
[{"$f":"A42","v":"Di. 14. Jul"},"21:00:00",101,"Frankreich","Spanien",{"$f":"IF(F42=\"\",\"\",F42)","v":0},2,null,null,"Frankreich",2,1,"Spanien",{"$f":"IF(OR(J92=\"\",M92=\"\"),0,IF(AND(J92=$D92,M92=$E92),80,IF(J92=$D92,40,IF(M92=$E92,40,IF(AND(J92<>$D92,M92<>$E92),0)))))","v":80},{"$f":"IF(COUNTIF($D$42:$E$43,M92),100,0)+IF(COUNTIF($D$42:$E$43,J92),100,0)","v":200},{"$f":"IF(OR(J92=\"\",M92=\"\"),0,IF(AND(J92=$D92,M92=$E92,K92=$F92,L92=$G92),100,0))","v":0},"Frankreich",1,0,"Spanien",{"$f":"IF(OR(Q92=\"\",T92=\"\"),0,IF(AND(Q92=$D92,T92=$E92),80,IF(Q92=$D92,40,IF(T92=$E92,40,IF(AND(Q92<>$D92,T92<>$E92),0)))))","v":80},{"$f":"IF(COUNTIF($D$42:$E$43,T92),100,0)+IF(COUNTIF($D$42:$E$43,Q92),100,0)","v":200},{"$f":"IF(OR(Q92=\"\",T92=\"\"),0,IF(AND(Q92=$D92,T92=$E92,R92=$F92,S92=$G92),100,0))","v":0},"Deutschland",0,2,"Spanien",{"$f":"IF(OR(X92=\"\",AA92=\"\"),0,IF(AND(X92=$D92,AA92=$E92),80,IF(X92=$D92,40,IF(AA92=$E92,40,IF(AND(X92<>$D92,AA92<>$E92),0)))))","v":40},{"$f":"IF(COUNTIF($D$42:$E$43,AA92),100,0)+IF(COUNTIF($D$42:$E$43,X92),100,0)","v":100},{"$f":"IF(OR(X92=\"\",AA92=\"\"),0,IF(AND(X92=$D92,AA92=$E92,Y92=$F92,Z92=$G92),100,0))","v":0},"Deutschland",2,0,"Türkei",{"$f":"IF(OR(AE92=\"\",AH92=\"\"),0,IF(AND(AE92=$D92,AH92=$E92),80,IF(AE92=$D92,40,IF(AH92=$E92,40,IF(AND(AE92<>$D92,AH92<>$E92),0)))))","v":0},{"$f":"IF(COUNTIF($D$42:$E$43,AH92),100,0)+IF(COUNTIF($D$42:$E$43,AE92),100,0)","v":0},{"$f":"IF(OR(AE92=\"\",AH92=\"\"),0,IF(AND(AE92=$D92,AH92=$E92,AF92=$F92,AG92=$G92),100,0))","v":0},"Frankreich",2,1,"England",{"$f":"IF(OR(AL92=\"\",AO92=\"\"),0,IF(AND(AL92=$D92,AO92=$E92),80,IF(AL92=$D92,40,IF(AO92=$E92,40,IF(AND(AL92<>$D92,AO92<>$E92),0)))))","v":40},{"$f":"IF(COUNTIF($D$42:$E$43,AO92),100,0)+IF(COUNTIF($D$42:$E$43,AL92),100,0)","v":200},{"$f":"IF(OR(AL92=\"\",AO92=\"\"),0,IF(AND(AL92=$D92,AO92=$E92,AM92=$F92,AN92=$G92),100,0))","v":0},"Frankreich",2,1,"Spanien",{"$f":"IF(OR(AS92=\"\",AV92=\"\"),0,IF(AND(AS92=$D92,AV92=$E92),80,IF(AS92=$D92,40,IF(AV92=$E92,40,IF(AND(AS92<>$D92,AV92<>$E92),0)))))","v":80},{"$f":"IF(COUNTIF($D$42:$E$43,AV92),100,0)+IF(COUNTIF($D$42:$E$43,AS92),100,0)","v":200},{"$f":"IF(OR(AS92=\"\",AV92=\"\"),0,IF(AND(AS92=$D92,AV92=$E92,AT92=$F92,AU92=$G92),100,0))","v":0},"Frankreich",2,1,"Spanien",{"$f":"IF(OR(AZ92=\"\",BC92=\"\"),0,IF(AND(AZ92=$D92,BC92=$E92),80,IF(AZ92=$D92,40,IF(BC92=$E92,40,IF(AND(AZ92<>$D92,BC92<>$E92),0)))))","v":80},{"$f":"IF(COUNTIF($D$42:$E$43,BC92),100,0)+IF(COUNTIF($D$42:$E$43,AZ92),100,0)","v":200},{"$f":"IF(OR(AZ92=\"\",BC92=\"\"),0,IF(AND(AZ92=$D92,BC92=$E92,BA92=$F92,BB92=$G92),100,0))","v":0},"Frankreich",0,1,"Spanien",{"$f":"IF(OR(BG92=\"\",BJ92=\"\"),0,IF(AND(BG92=$D92,BJ92=$E92),80,IF(BG92=$D92,40,IF(BJ92=$E92,40,IF(AND(BG92<>$D92,BJ92<>$E92),0)))))","v":80},{"$f":"IF(COUNTIF($D$42:$E$43,BJ92),100,0)+IF(COUNTIF($D$42:$E$43,BG92),100,0)","v":200},{"$f":"IF(OR(BG92=\"\",BJ92=\"\"),0,IF(AND(BG92=$D92,BJ92=$E92,BH92=$F92,BI92=$G92),100,0))","v":0},"Frankreich",0,1,"Spanien",{"$f":"IF(OR(BN92=\"\",BQ92=\"\"),0,IF(AND(BN92=$D92,BQ92=$E92),80,IF(BN92=$D92,40,IF(BQ92=$E92,40,IF(AND(BN92<>$D92,BQ92<>$E92),0)))))","v":80},{"$f":"IF(COUNTIF($D$42:$E$43,BQ92),100,0)+IF(COUNTIF($D$42:$E$43,BN92),100,0)","v":200},{"$f":"IF(OR(BN92=\"\",BQ92=\"\"),0,IF(AND(BN92=$D92,BQ92=$E92,BO92=$F92,BP92=$G92),100,0))","v":0},"Mexiko",2,1,"Spanien",{"$f":"IF(OR(BU92=\"\",BX92=\"\"),0,IF(AND(BU92=$D92,BX92=$E92),80,IF(BU92=$D92,40,IF(BX92=$E92,40,IF(AND(BU92<>$D92,BX92<>$E92),0)))))","v":40},{"$f":"IF(COUNTIF($D$42:$E$43,BX92),100,0)+IF(COUNTIF($D$42:$E$43,BU92),100,0)","v":100},{"$f":"IF(OR(BU92=\"\",BX92=\"\"),0,IF(AND(BU92=$D92,BX92=$E92,BV92=$F92,BW92=$G92),100,0))","v":0},"Frankreich",1,2,"Kolumbien",{"$f":"IF(OR(CB92=\"\",CE92=\"\"),0,IF(AND(CB92=$D92,CE92=$E92),80,IF(CB92=$D92,40,IF(CE92=$E92,40,IF(AND(CB92<>$D92,CE92<>$E92),0)))))","v":40},{"$f":"IF(COUNTIF($D$42:$E$43,CE92),100,0)+IF(COUNTIF($D$42:$E$43,CB92),100,0)","v":100},{"$f":"IF(OR(CB92=\"\",CE92=\"\"),0,IF(AND(CB92=$D92,CE92=$E92,CC92=$F92,CD92=$G92),100,0))","v":0},"Frankreich",4,5,"Spanien",{"$f":"IF(OR(CI92=\"\",CL92=\"\"),0,IF(AND(CI92=$D92,CL92=$E92),80,IF(CI92=$D92,40,IF(CL92=$E92,40,IF(AND(CI92<>$D92,CL92<>$E92),0)))))","v":80},{"$f":"IF(COUNTIF($D$42:$E$43,CL92),100,0)+IF(COUNTIF($D$42:$E$43,CI92),100,0)","v":200},{"$f":"IF(OR(CI92=\"\",CL92=\"\"),0,IF(AND(CI92=$D92,CL92=$E92,CJ92=$F92,CK92=$G92),100,0))","v":0},"Frankreich",4,5,"Spanien",{"$f":"IF(OR(CP92=\"\",CS92=\"\"),0,IF(AND(CP92=$D92,CS92=$E92),80,IF(CP92=$D92,40,IF(CS92=$E92,40,IF(AND(CP92<>$D92,CS92<>$E92),0)))))","v":80},{"$f":"IF(COUNTIF($D$42:$E$43,CS92),100,0)+IF(COUNTIF($D$42:$E$43,CP92),100,0)","v":200},{"$f":"IF(OR(CP92=\"\",CS92=\"\"),0,IF(AND(CP92=$D92,CS92=$E92,CQ92=$F92,CR92=$G92),100,0))","v":0},"Frankreich",1,2,"Spanien",{"$f":"IF(OR(CW92=\"\",CZ92=\"\"),0,IF(AND(CW92=$D92,CZ92=$E92),80,IF(CW92=$D92,40,IF(CZ92=$E92,40,IF(AND(CW92<>$D92,CZ92<>$E92),0)))))","v":80},{"$f":"IF(COUNTIF($D$42:$E$43,CZ92),100,0)+IF(COUNTIF($D$42:$E$43,CW92),100,0)","v":200},{"$f":"IF(OR(CW92=\"\",CZ92=\"\"),0,IF(AND(CW92=$D92,CZ92=$E92,CX92=$F92,CY92=$G92),100,0))","v":0},"Frankreich",2,1,"Spanien",{"$f":"IF(OR(DD92=\"\",DG92=\"\"),0,IF(AND(DD92=$D92,DG92=$E92),80,IF(DD92=$D92,40,IF(DG92=$E92,40,IF(AND(DD92<>$D92,DG92<>$E92),0)))))","v":80},{"$f":"IF(COUNTIF($D$42:$E$43,DG92),100,0)+IF(COUNTIF($D$42:$E$43,DD92),100,0)","v":200},{"$f":"IF(OR(DD92=\"\",DG92=\"\"),0,IF(AND(DD92=$D92,DG92=$E92,DE92=$F92,DF92=$G92),100,0))","v":0},"Frankreich",2,1,"Spanien",{"$f":"IF(OR(DK92=\"\",DN92=\"\"),0,IF(AND(DK92=$D92,DN92=$E92),80,IF(DK92=$D92,40,IF(DN92=$E92,40,IF(AND(DK92<>$D92,DN92<>$E92),0)))))","v":80},{"$f":"IF(COUNTIF($D$42:$E$43,DN92),100,0)+IF(COUNTIF($D$42:$E$43,DK92),100,0)","v":200},{"$f":"IF(OR(DK92=\"\",DN92=\"\"),0,IF(AND(DK92=$D92,DN92=$E92,DL92=$F92,DM92=$G92),100,0))","v":0},"Deutschland",0,1,"Spanien",{"$f":"IF(OR(DR92=\"\",DU92=\"\"),0,IF(AND(DR92=$D92,DU92=$E92),80,IF(DR92=$D92,40,IF(DU92=$E92,40,IF(AND(DR92<>$D92,DU92<>$E92),0)))))","v":40},{"$f":"IF(COUNTIF($D$42:$E$43,DU92),100,0)+IF(COUNTIF($D$42:$E$43,DR92),100,0)","v":100},{"$f":"IF(OR(DR92=\"\",DU92=\"\"),0,IF(AND(DR92=$D92,DU92=$E92,DS92=$F92,DT92=$G92),100,0))","v":0},"Frankreich",2,1,"Spanien",{"$f":"IF(OR(DY92=\"\",EB92=\"\"),0,IF(AND(DY92=$D92,EB92=$E92),80,IF(DY92=$D92,40,IF(EB92=$E92,40,IF(AND(DY92<>$D92,EB92<>$E92),0)))))","v":80},{"$f":"IF(COUNTIF($D$42:$E$43,EB92),100,0)+IF(COUNTIF($D$42:$E$43,DY92),100,0)","v":200},{"$f":"IF(OR(DY92=\"\",EB92=\"\"),0,IF(AND(DY92=$D92,EB92=$E92,DZ92=$F92,EA92=$G92),100,0))","v":0},"Deutschland",1,2,"Spanien",{"$f":"IF(OR(EF92=\"\",EI92=\"\"),0,IF(AND(EF92=$D92,EI92=$E92),80,IF(EF92=$D92,40,IF(EI92=$E92,40,IF(AND(EF92<>$D92,EI92<>$E92),0)))))","v":40},{"$f":"IF(COUNTIF($D$42:$E$43,EI92),100,0)+IF(COUNTIF($D$42:$E$43,EF92),100,0)","v":100},{"$f":"IF(OR(EF92=\"\",EI92=\"\"),0,IF(AND(EF92=$D92,EI92=$E92,EG92=$F92,EH92=$G92),100,0))","v":0},"Frankreich",2,1,"Spanien",{"$f":"IF(OR(EM92=\"\",EP92=\"\"),0,IF(AND(EM92=$D92,EP92=$E92),80,IF(EM92=$D92,40,IF(EP92=$E92,40,IF(AND(EM92<>$D92,EP92<>$E92),0)))))","v":80},{"$f":"IF(COUNTIF($D$42:$E$43,EP92),100,0)+IF(COUNTIF($D$42:$E$43,EM92),100,0)","v":200},{"$f":"IF(OR(EM92=\"\",EP92=\"\"),0,IF(AND(EM92=$D92,EP92=$E92,EN92=$F92,EO92=$G92),100,0))","v":0},null,{"$f":"_xlfn.TEXTJOIN(\", \",TRUE,_xlfn._xlws.FILTER(INDEX($J$54:$EM$54,1,_xlfn.SEQUENCE(1,(COLUMNS($J$54:$EM$54)-1)/7+1,1,7))&\" \"&INDEX($J$55:$EM$55,1,_xlfn.SEQUENCE(1,(COLUMNS($J$55:$EM$55)-1)/7+1,1,7)),INDEX($P92:$ES92,1,_xlfn.SEQUENCE(1,(COLUMNS($P92:$ES92)-1)/7+1,1,7))>0,\"\"))","v":""}]
["Mi. 15. Jul","21:00:00",102,"England","Argentinien",1,2,null,null,"Brasilien",1,2,"Portugal",{"$f":"IF(OR(J93=\"\",M93=\"\"),0,IF(AND(J93=$D93,M93=$E93),80,IF(J93=$D93,40,IF(M93=$E93,40,IF(AND(J93<>$D93,M93<>$E93),0)))))","v":0},{"$f":"IF(COUNTIF($D$42:$E$43,M93),100,0)+IF(COUNTIF($D$42:$E$43,J93),100,0)","v":0},{"$f":"IF(OR(J93=\"\",M93=\"\"),0,IF(AND(J93=$D93,M93=$E93,K93=$F93,L93=$G93),100,0))","v":0},"England",2,1,"Argentinien",{"$f":"IF(OR(Q93=\"\",T93=\"\"),0,IF(AND(Q93=$D93,T93=$E93),80,IF(Q93=$D93,40,IF(T93=$E93,40,IF(AND(Q93<>$D93,T93<>$E93),0)))))","v":80},{"$f":"IF(COUNTIF($D$42:$E$43,T93),100,0)+IF(COUNTIF($D$42:$E$43,Q93),100,0)","v":200},{"$f":"IF(OR(Q93=\"\",T93=\"\"),0,IF(AND(Q93=$D93,T93=$E93,R93=$F93,S93=$G93),100,0))","v":0},"Frankreich",2,0,"Schweiz",{"$f":"IF(OR(X93=\"\",AA93=\"\"),0,IF(AND(X93=$D93,AA93=$E93),80,IF(X93=$D93,40,IF(AA93=$E93,40,IF(AND(X93<>$D93,AA93<>$E93),0)))))","v":0},{"$f":"IF(COUNTIF($D$42:$E$43,AA93),100,0)+IF(COUNTIF($D$42:$E$43,X93),100,0)","v":100},{"$f":"IF(OR(X93=\"\",AA93=\"\"),0,IF(AND(X93=$D93,AA93=$E93,Y93=$F93,Z93=$G93),100,0))","v":0},"Brasilien",2,0,"Argentinien",{"$f":"IF(OR(AE93=\"\",AH93=\"\"),0,IF(AND(AE93=$D93,AH93=$E93),80,IF(AE93=$D93,40,IF(AH93=$E93,40,IF(AND(AE93<>$D93,AH93<>$E93),0)))))","v":40},{"$f":"IF(COUNTIF($D$42:$E$43,AH93),100,0)+IF(COUNTIF($D$42:$E$43,AE93),100,0)","v":100},{"$f":"IF(OR(AE93=\"\",AH93=\"\"),0,IF(AND(AE93=$D93,AH93=$E93,AF93=$F93,AG93=$G93),100,0))","v":0},"Brasilien",2,1,"Argentinien",{"$f":"IF(OR(AL93=\"\",AO93=\"\"),0,IF(AND(AL93=$D93,AO93=$E93),80,IF(AL93=$D93,40,IF(AO93=$E93,40,IF(AND(AL93<>$D93,AO93<>$E93),0)))))","v":40},{"$f":"IF(COUNTIF($D$42:$E$43,AO93),100,0)+IF(COUNTIF($D$42:$E$43,AL93),100,0)","v":100},{"$f":"IF(OR(AL93=\"\",AO93=\"\"),0,IF(AND(AL93=$D93,AO93=$E93,AM93=$F93,AN93=$G93),100,0))","v":0},"Brasilien",1,2,"Portugal",{"$f":"IF(OR(AS93=\"\",AV93=\"\"),0,IF(AND(AS93=$D93,AV93=$E93),80,IF(AS93=$D93,40,IF(AV93=$E93,40,IF(AND(AS93<>$D93,AV93<>$E93),0)))))","v":0},{"$f":"IF(COUNTIF($D$42:$E$43,AV93),100,0)+IF(COUNTIF($D$42:$E$43,AS93),100,0)","v":0},{"$f":"IF(OR(AS93=\"\",AV93=\"\"),0,IF(AND(AS93=$D93,AV93=$E93,AT93=$F93,AU93=$G93),100,0))","v":0},"Brasilien",1,2,"Portugal",{"$f":"IF(OR(AZ93=\"\",BC93=\"\"),0,IF(AND(AZ93=$D93,BC93=$E93),80,IF(AZ93=$D93,40,IF(BC93=$E93,40,IF(AND(AZ93<>$D93,BC93<>$E93),0)))))","v":0},{"$f":"IF(COUNTIF($D$42:$E$43,BC93),100,0)+IF(COUNTIF($D$42:$E$43,AZ93),100,0)","v":0},{"$f":"IF(OR(AZ93=\"\",BC93=\"\"),0,IF(AND(AZ93=$D93,BC93=$E93,BA93=$F93,BB93=$G93),100,0))","v":0},"England",1,0,"Portugal",{"$f":"IF(OR(BG93=\"\",BJ93=\"\"),0,IF(AND(BG93=$D93,BJ93=$E93),80,IF(BG93=$D93,40,IF(BJ93=$E93,40,IF(AND(BG93<>$D93,BJ93<>$E93),0)))))","v":40},{"$f":"IF(COUNTIF($D$42:$E$43,BJ93),100,0)+IF(COUNTIF($D$42:$E$43,BG93),100,0)","v":100},{"$f":"IF(OR(BG93=\"\",BJ93=\"\"),0,IF(AND(BG93=$D93,BJ93=$E93,BH93=$F93,BI93=$G93),100,0))","v":0},"England",1,0,"Portugal",{"$f":"IF(OR(BN93=\"\",BQ93=\"\"),0,IF(AND(BN93=$D93,BQ93=$E93),80,IF(BN93=$D93,40,IF(BQ93=$E93,40,IF(AND(BN93<>$D93,BQ93<>$E93),0)))))","v":40},{"$f":"IF(COUNTIF($D$42:$E$43,BQ93),100,0)+IF(COUNTIF($D$42:$E$43,BN93),100,0)","v":100},{"$f":"IF(OR(BN93=\"\",BQ93=\"\"),0,IF(AND(BN93=$D93,BQ93=$E93,BO93=$F93,BP93=$G93),100,0))","v":0},"Tschechien",0,2,"Portugal",{"$f":"IF(OR(BU93=\"\",BX93=\"\"),0,IF(AND(BU93=$D93,BX93=$E93),80,IF(BU93=$D93,40,IF(BX93=$E93,40,IF(AND(BU93<>$D93,BX93<>$E93),0)))))","v":0},{"$f":"IF(COUNTIF($D$42:$E$43,BX93),100,0)+IF(COUNTIF($D$42:$E$43,BU93),100,0)","v":0},{"$f":"IF(OR(BU93=\"\",BX93=\"\"),0,IF(AND(BU93=$D93,BX93=$E93,BV93=$F93,BW93=$G93),100,0))","v":0},"England",0,1,"Portugal",{"$f":"IF(OR(CB93=\"\",CE93=\"\"),0,IF(AND(CB93=$D93,CE93=$E93),80,IF(CB93=$D93,40,IF(CE93=$E93,40,IF(AND(CB93<>$D93,CE93<>$E93),0)))))","v":40},{"$f":"IF(COUNTIF($D$42:$E$43,CE93),100,0)+IF(COUNTIF($D$42:$E$43,CB93),100,0)","v":100},{"$f":"IF(OR(CB93=\"\",CE93=\"\"),0,IF(AND(CB93=$D93,CE93=$E93,CC93=$F93,CD93=$G93),100,0))","v":0},"Brasilien",3,1,"Argentinien",{"$f":"IF(OR(CI93=\"\",CL93=\"\"),0,IF(AND(CI93=$D93,CL93=$E93),80,IF(CI93=$D93,40,IF(CL93=$E93,40,IF(AND(CI93<>$D93,CL93<>$E93),0)))))","v":40},{"$f":"IF(COUNTIF($D$42:$E$43,CL93),100,0)+IF(COUNTIF($D$42:$E$43,CI93),100,0)","v":100},{"$f":"IF(OR(CI93=\"\",CL93=\"\"),0,IF(AND(CI93=$D93,CL93=$E93,CJ93=$F93,CK93=$G93),100,0))","v":0},"Brasilien",3,1,"Portugal",{"$f":"IF(OR(CP93=\"\",CS93=\"\"),0,IF(AND(CP93=$D93,CS93=$E93),80,IF(CP93=$D93,40,IF(CS93=$E93,40,IF(AND(CP93<>$D93,CS93<>$E93),0)))))","v":0},{"$f":"IF(COUNTIF($D$42:$E$43,CS93),100,0)+IF(COUNTIF($D$42:$E$43,CP93),100,0)","v":0},{"$f":"IF(OR(CP93=\"\",CS93=\"\"),0,IF(AND(CP93=$D93,CS93=$E93,CQ93=$F93,CR93=$G93),100,0))","v":0},"Brasilien",0,1,"Portugal",{"$f":"IF(OR(CW93=\"\",CZ93=\"\"),0,IF(AND(CW93=$D93,CZ93=$E93),80,IF(CW93=$D93,40,IF(CZ93=$E93,40,IF(AND(CW93<>$D93,CZ93<>$E93),0)))))","v":0},{"$f":"IF(COUNTIF($D$42:$E$43,CZ93),100,0)+IF(COUNTIF($D$42:$E$43,CW93),100,0)","v":0},{"$f":"IF(OR(CW93=\"\",CZ93=\"\"),0,IF(AND(CW93=$D93,CZ93=$E93,CX93=$F93,CY93=$G93),100,0))","v":0},"England",2,1,"Argentinien",{"$f":"IF(OR(DD93=\"\",DG93=\"\"),0,IF(AND(DD93=$D93,DG93=$E93),80,IF(DD93=$D93,40,IF(DG93=$E93,40,IF(AND(DD93<>$D93,DG93<>$E93),0)))))","v":80},{"$f":"IF(COUNTIF($D$42:$E$43,DG93),100,0)+IF(COUNTIF($D$42:$E$43,DD93),100,0)","v":200},{"$f":"IF(OR(DD93=\"\",DG93=\"\"),0,IF(AND(DD93=$D93,DG93=$E93,DE93=$F93,DF93=$G93),100,0))","v":0},"England",2,1,"Argentinien",{"$f":"IF(OR(DK93=\"\",DN93=\"\"),0,IF(AND(DK93=$D93,DN93=$E93),80,IF(DK93=$D93,40,IF(DN93=$E93,40,IF(AND(DK93<>$D93,DN93<>$E93),0)))))","v":80},{"$f":"IF(COUNTIF($D$42:$E$43,DN93),100,0)+IF(COUNTIF($D$42:$E$43,DK93),100,0)","v":200},{"$f":"IF(OR(DK93=\"\",DN93=\"\"),0,IF(AND(DK93=$D93,DN93=$E93,DL93=$F93,DM93=$G93),100,0))","v":0},"England",0,1,"Argentinien",{"$f":"IF(OR(DR93=\"\",DU93=\"\"),0,IF(AND(DR93=$D93,DU93=$E93),80,IF(DR93=$D93,40,IF(DU93=$E93,40,IF(AND(DR93<>$D93,DU93<>$E93),0)))))","v":80},{"$f":"IF(COUNTIF($D$42:$E$43,DU93),100,0)+IF(COUNTIF($D$42:$E$43,DR93),100,0)","v":200},{"$f":"IF(OR(DR93=\"\",DU93=\"\"),0,IF(AND(DR93=$D93,DU93=$E93,DS93=$F93,DT93=$G93),100,0))","v":0},"Brasilien",1,2,"Portugal",{"$f":"IF(OR(DY93=\"\",EB93=\"\"),0,IF(AND(DY93=$D93,EB93=$E93),80,IF(DY93=$D93,40,IF(EB93=$E93,40,IF(AND(DY93<>$D93,EB93<>$E93),0)))))","v":0},{"$f":"IF(COUNTIF($D$42:$E$43,EB93),100,0)+IF(COUNTIF($D$42:$E$43,DY93),100,0)","v":0},{"$f":"IF(OR(DY93=\"\",EB93=\"\"),0,IF(AND(DY93=$D93,EB93=$E93,DZ93=$F93,EA93=$G93),100,0))","v":0},"England",1,0,"Argentinien",{"$f":"IF(OR(EF93=\"\",EI93=\"\"),0,IF(AND(EF93=$D93,EI93=$E93),80,IF(EF93=$D93,40,IF(EI93=$E93,40,IF(AND(EF93<>$D93,EI93<>$E93),0)))))","v":80},{"$f":"IF(COUNTIF($D$42:$E$43,EI93),100,0)+IF(COUNTIF($D$42:$E$43,EF93),100,0)","v":200},{"$f":"IF(OR(EF93=\"\",EI93=\"\"),0,IF(AND(EF93=$D93,EI93=$E93,EG93=$F93,EH93=$G93),100,0))","v":0},"England",1,0,"Argentinien",{"$f":"IF(OR(EM93=\"\",EP93=\"\"),0,IF(AND(EM93=$D93,EP93=$E93),80,IF(EM93=$D93,40,IF(EP93=$E93,40,IF(AND(EM93<>$D93,EP93<>$E93),0)))))","v":80},{"$f":"IF(COUNTIF($D$42:$E$43,EP93),100,0)+IF(COUNTIF($D$42:$E$43,EM93),100,0)","v":200},{"$f":"IF(OR(EM93=\"\",EP93=\"\"),0,IF(AND(EM93=$D93,EP93=$E93,EN93=$F93,EO93=$G93),100,0))","v":0},null,{"$f":"_xlfn.TEXTJOIN(\", \",TRUE,_xlfn._xlws.FILTER(INDEX($J$54:$EM$54,1,_xlfn.SEQUENCE(1,(COLUMNS($J$54:$EM$54)-1)/7+1,1,7))&\" \"&INDEX($J$55:$EM$55,1,_xlfn.SEQUENCE(1,(COLUMNS($J$55:$EM$55)-1)/7+1,1,7)),INDEX($P93:$ES93,1,_xlfn.SEQUENCE(1,(COLUMNS($P93:$ES93)-1)/7+1,1,7))>0,\"\"))","v":""}]
["Spiel um den 3. Platz",null,null,null,null,null,null,null,null,null,null,null,null,null,null,null,null,null,null,null,null,null,null,null,null,null,null,null,null,null,null,null,null,null,null,null,null,null,null,null,null,null,null,null,null,null,null,null,null,null,null,null,null,null,null,null,null,null,null,null,null,null,null,null,null,null,null,null,null,null,null,null,null,null,null,null,null,null,null,null,null,null,null,null,null,null,null,null,null,null,null,null,null,null,null,null,null,null,null,null,null,null,null,null,null,null,null,null,null,null,null,null,null,null,null,null,null,null,null,null,null,null,null,null,null,null,null,null,null,null,null,null,null,null,null,null,null,null,null,null,null,null,null,null,null,null,null,null,null,null,{"$f":"_xlfn.TEXTJOIN(\", \",TRUE,_xlfn._xlws.FILTER(INDEX($J$54:$EM$54,1,_xlfn.SEQUENCE(1,(COLUMNS($J$54:$EM$54)-1)/7+1,1,7))&\" \"&INDEX($J$55:$EM$55,1,_xlfn.SEQUENCE(1,(COLUMNS($J$55:$EM$55)-1)/7+1,1,7)),INDEX($P94:$ES94,1,_xlfn.SEQUENCE(1,(COLUMNS($P94:$ES94)-1)/7+1,1,7))>0,\"\"))","v":""}]
[{"$f":"A45","v":"Sa. 18. Jul"},{"$f":"B45","v":"23:00:00"},{"$f":"C45","v":103},{"$f":"D45","v":"Frankreich"},"England",{"$f":"IF(F45=\"\",\"\",F45)","v":""},{"$f":"IF(G45=\"\",\"\",G45)","v":""},null,null,"Spanien",2,1,"Brasilien",{"$f":"IF(OR(J95=\"\",M95=\"\"),0,IF(AND(J95=$D95,M95=$E95),100,IF(J95=$D95,50,IF(M95=$E95,50,IF(AND(J95<>$D95,M95<>$E95),0)))))","v":0},{"$f":"IF(COUNTIF($D$45:$E$45,M95),100,0)+IF(COUNTIF($D$45:$E$45,J95),100,0)","v":0},{"$f":"IF(OR(J95=\"\",M95=\"\"),0,IF(AND(J95=$D95,M95=$E95,K95=$F95,L95=$G95),150,0))","v":0},"Spanien",6,5,"Argentinien",{"$f":"IF(OR(Q95=\"\",T95=\"\"),0,IF(AND(Q95=$D95,T95=$E95),100,IF(Q95=$D95,50,IF(T95=$E95,50,IF(AND(Q95<>$D95,T95<>$E95),0)))))","v":0},{"$f":"IF(COUNTIF($D$45:$E$45,T95),100,0)+IF(COUNTIF($D$45:$E$45,Q95),100,0)","v":0},{"$f":"IF(OR(Q95=\"\",T95=\"\"),0,IF(AND(Q95=$D95,T95=$E95,R95=$F95,S95=$G95),150,0))","v":0},"Deutschland",2,3,"Schweiz",{"$f":"IF(OR(X95=\"\",AA95=\"\"),0,IF(AND(X95=$D95,AA95=$E95),100,IF(X95=$D95,50,IF(AA95=$E95,50,IF(AND(X95<>$D95,AA95<>$E95),0)))))","v":0},{"$f":"IF(COUNTIF($D$45:$E$45,AA95),100,0)+IF(COUNTIF($D$45:$E$45,X95),100,0)","v":0},{"$f":"IF(OR(X95=\"\",AA95=\"\"),0,IF(AND(X95=$D95,AA95=$E95,Y95=$F95,Z95=$G95),150,0))","v":0},"Türkei",2,3,"Argentinien",{"$f":"IF(OR(AE95=\"\",AH95=\"\"),0,IF(AND(AE95=$D95,AH95=$E95),100,IF(AE95=$D95,50,IF(AH95=$E95,50,IF(AND(AE95<>$D95,AH95<>$E95),0)))))","v":0},{"$f":"IF(COUNTIF($D$45:$E$45,AH95),100,0)+IF(COUNTIF($D$45:$E$45,AE95),100,0)","v":0},{"$f":"IF(OR(AE95=\"\",AH95=\"\"),0,IF(AND(AE95=$D95,AH95=$E95,AF95=$F95,AG95=$G95),150,0))","v":0},"England",1,2,"Argentinien",{"$f":"IF(OR(AL95=\"\",AO95=\"\"),0,IF(AND(AL95=$D95,AO95=$E95),100,IF(AL95=$D95,50,IF(AO95=$E95,50,IF(AND(AL95<>$D95,AO95<>$E95),0)))))","v":0},{"$f":"IF(COUNTIF($D$45:$E$45,AO95),100,0)+IF(COUNTIF($D$45:$E$45,AL95),100,0)","v":100},{"$f":"IF(OR(AL95=\"\",AO95=\"\"),0,IF(AND(AL95=$D95,AO95=$E95,AM95=$F95,AN95=$G95),150,0))","v":0},"Spanien",2,3,"Brasilien",{"$f":"IF(OR(AS95=\"\",AV95=\"\"),0,IF(AND(AS95=$D95,AV95=$E95),100,IF(AS95=$D95,50,IF(AV95=$E95,50,IF(AND(AS95<>$D95,AV95<>$E95),0)))))","v":0},{"$f":"IF(COUNTIF($D$45:$E$45,AV95),100,0)+IF(COUNTIF($D$45:$E$45,AS95),100,0)","v":0},{"$f":"IF(OR(AS95=\"\",AV95=\"\"),0,IF(AND(AS95=$D95,AV95=$E95,AT95=$F95,AU95=$G95),150,0))","v":0},"Spanien",1,3,"Brasilien",{"$f":"IF(OR(AZ95=\"\",BC95=\"\"),0,IF(AND(AZ95=$D95,BC95=$E95),100,IF(AZ95=$D95,50,IF(BC95=$E95,50,IF(AND(AZ95<>$D95,BC95<>$E95),0)))))","v":0},{"$f":"IF(COUNTIF($D$45:$E$45,BC95),100,0)+IF(COUNTIF($D$45:$E$45,AZ95),100,0)","v":0},{"$f":"IF(OR(AZ95=\"\",BC95=\"\"),0,IF(AND(AZ95=$D95,BC95=$E95,BA95=$F95,BB95=$G95),150,0))","v":0},"Frankreich",0,1,"Portugal",{"$f":"IF(OR(BG95=\"\",BJ95=\"\"),0,IF(AND(BG95=$D95,BJ95=$E95),100,IF(BG95=$D95,50,IF(BJ95=$E95,50,IF(AND(BG95<>$D95,BJ95<>$E95),0)))))","v":50},{"$f":"IF(COUNTIF($D$45:$E$45,BJ95),100,0)+IF(COUNTIF($D$45:$E$45,BG95),100,0)","v":100},{"$f":"IF(OR(BG95=\"\",BJ95=\"\"),0,IF(AND(BG95=$D95,BJ95=$E95,BH95=$F95,BI95=$G95),150,0))","v":0},"Frankreich",4,3,"Portugal",{"$f":"IF(OR(BN95=\"\",BQ95=\"\"),0,IF(AND(BN95=$D95,BQ95=$E95),100,IF(BN95=$D95,50,IF(BQ95=$E95,50,IF(AND(BN95<>$D95,BQ95<>$E95),0)))))","v":50},{"$f":"IF(COUNTIF($D$45:$E$45,BQ95),100,0)+IF(COUNTIF($D$45:$E$45,BN95),100,0)","v":100},{"$f":"IF(OR(BN95=\"\",BQ95=\"\"),0,IF(AND(BN95=$D95,BQ95=$E95,BO95=$F95,BP95=$G95),150,0))","v":0},"Spanien",2,1,"Tschechien",{"$f":"IF(OR(BU95=\"\",BX95=\"\"),0,IF(AND(BU95=$D95,BX95=$E95),100,IF(BU95=$D95,50,IF(BX95=$E95,50,IF(AND(BU95<>$D95,BX95<>$E95),0)))))","v":0},{"$f":"IF(COUNTIF($D$45:$E$45,BX95),100,0)+IF(COUNTIF($D$45:$E$45,BU95),100,0)","v":0},{"$f":"IF(OR(BU95=\"\",BX95=\"\"),0,IF(AND(BU95=$D95,BX95=$E95,BV95=$F95,BW95=$G95),150,0))","v":0},"Frankreich",1,2,"England",{"$f":"IF(OR(CB95=\"\",CE95=\"\"),0,IF(AND(CB95=$D95,CE95=$E95),100,IF(CB95=$D95,50,IF(CE95=$E95,50,IF(AND(CB95<>$D95,CE95<>$E95),0)))))","v":100},{"$f":"IF(COUNTIF($D$45:$E$45,CE95),100,0)+IF(COUNTIF($D$45:$E$45,CB95),100,0)","v":200},{"$f":"IF(OR(CB95=\"\",CE95=\"\"),0,IF(AND(CB95=$D95,CE95=$E95,CC95=$F95,CD95=$G95),150,0))","v":0},"Frankreich",2,1,"Argentinien",{"$f":"IF(OR(CI95=\"\",CL95=\"\"),0,IF(AND(CI95=$D95,CL95=$E95),100,IF(CI95=$D95,50,IF(CL95=$E95,50,IF(AND(CI95<>$D95,CL95<>$E95),0)))))","v":50},{"$f":"IF(COUNTIF($D$45:$E$45,CL95),100,0)+IF(COUNTIF($D$45:$E$45,CI95),100,0)","v":100},{"$f":"IF(OR(CI95=\"\",CL95=\"\"),0,IF(AND(CI95=$D95,CL95=$E95,CJ95=$F95,CK95=$G95),150,0))","v":0},"Frankreich",3,1,"Portugal",{"$f":"IF(OR(CP95=\"\",CS95=\"\"),0,IF(AND(CP95=$D95,CS95=$E95),100,IF(CP95=$D95,50,IF(CS95=$E95,50,IF(AND(CP95<>$D95,CS95<>$E95),0)))))","v":50},{"$f":"IF(COUNTIF($D$45:$E$45,CS95),100,0)+IF(COUNTIF($D$45:$E$45,CP95),100,0)","v":100},{"$f":"IF(OR(CP95=\"\",CS95=\"\"),0,IF(AND(CP95=$D95,CS95=$E95,CQ95=$F95,CR95=$G95),150,0))","v":0},"Frankreich",3,1,"Brasilien",{"$f":"IF(OR(CW95=\"\",CZ95=\"\"),0,IF(AND(CW95=$D95,CZ95=$E95),100,IF(CW95=$D95,50,IF(CZ95=$E95,50,IF(AND(CW95<>$D95,CZ95<>$E95),0)))))","v":50},{"$f":"IF(COUNTIF($D$45:$E$45,CZ95),100,0)+IF(COUNTIF($D$45:$E$45,CW95),100,0)","v":100},{"$f":"IF(OR(CW95=\"\",CZ95=\"\"),0,IF(AND(CW95=$D95,CZ95=$E95,CX95=$F95,CY95=$G95),150,0))","v":0},"Spanien",2,1,"Argentinien",{"$f":"IF(OR(DD95=\"\",DG95=\"\"),0,IF(AND(DD95=$D95,DG95=$E95),100,IF(DD95=$D95,50,IF(DG95=$E95,50,IF(AND(DD95<>$D95,DG95<>$E95),0)))))","v":0},{"$f":"IF(COUNTIF($D$45:$E$45,DG95),100,0)+IF(COUNTIF($D$45:$E$45,DD95),100,0)","v":0},{"$f":"IF(OR(DD95=\"\",DG95=\"\"),0,IF(AND(DD95=$D95,DG95=$E95,DE95=$F95,DF95=$G95),150,0))","v":0},"Spanien",1,2,"Argentinien",{"$f":"IF(OR(DK95=\"\",DN95=\"\"),0,IF(AND(DK95=$D95,DN95=$E95),100,IF(DK95=$D95,50,IF(DN95=$E95,50,IF(AND(DK95<>$D95,DN95<>$E95),0)))))","v":0},{"$f":"IF(COUNTIF($D$45:$E$45,DN95),100,0)+IF(COUNTIF($D$45:$E$45,DK95),100,0)","v":0},{"$f":"IF(OR(DK95=\"\",DN95=\"\"),0,IF(AND(DK95=$D95,DN95=$E95,DL95=$F95,DM95=$G95),150,0))","v":0},"Deutschland",2,1,"England",{"$f":"IF(OR(DR95=\"\",DU95=\"\"),0,IF(AND(DR95=$D95,DU95=$E95),100,IF(DR95=$D95,50,IF(DU95=$E95,50,IF(AND(DR95<>$D95,DU95<>$E95),0)))))","v":50},{"$f":"IF(COUNTIF($D$45:$E$45,DU95),100,0)+IF(COUNTIF($D$45:$E$45,DR95),100,0)","v":100},{"$f":"IF(OR(DR95=\"\",DU95=\"\"),0,IF(AND(DR95=$D95,DU95=$E95,DS95=$F95,DT95=$G95),150,0))","v":0},"Spanien",2,3,"Brasilien",{"$f":"IF(OR(DY95=\"\",EB95=\"\"),0,IF(AND(DY95=$D95,EB95=$E95),100,IF(DY95=$D95,50,IF(EB95=$E95,50,IF(AND(DY95<>$D95,EB95<>$E95),0)))))","v":0},{"$f":"IF(COUNTIF($D$45:$E$45,EB95),100,0)+IF(COUNTIF($D$45:$E$45,DY95),100,0)","v":0},{"$f":"IF(OR(DY95=\"\",EB95=\"\"),0,IF(AND(DY95=$D95,EB95=$E95,DZ95=$F95,EA95=$G95),150,0))","v":0},"Deutschland",2,1,"Argentinien",{"$f":"IF(OR(EF95=\"\",EI95=\"\"),0,IF(AND(EF95=$D95,EI95=$E95),100,IF(EF95=$D95,50,IF(EI95=$E95,50,IF(AND(EF95<>$D95,EI95<>$E95),0)))))","v":0},{"$f":"IF(COUNTIF($D$45:$E$45,EI95),100,0)+IF(COUNTIF($D$45:$E$45,EF95),100,0)","v":0},{"$f":"IF(OR(EF95=\"\",EI95=\"\"),0,IF(AND(EF95=$D95,EI95=$E95,EG95=$F95,EH95=$G95),150,0))","v":0},"Spanien",2,0,"Argentinien",{"$f":"IF(OR(EM95=\"\",EP95=\"\"),0,IF(AND(EM95=$D95,EP95=$E95),100,IF(EM95=$D95,50,IF(EP95=$E95,50,IF(AND(EM95<>$D95,EP95<>$E95),0)))))","v":0},{"$f":"IF(COUNTIF($D$45:$E$45,EP95),100,0)+IF(COUNTIF($D$45:$E$45,EM95),100,0)","v":0},{"$f":"IF(OR(EM95=\"\",EP95=\"\"),0,IF(AND(EM95=$D95,EP95=$E95,EN95=$F95,EO95=$G95),150,0))","v":0},null,{"$f":"_xlfn.TEXTJOIN(\", \",TRUE,_xlfn._xlws.FILTER(INDEX($J$54:$EM$54,1,_xlfn.SEQUENCE(1,(COLUMNS($J$54:$EM$54)-1)/7+1,1,7))&\" \"&INDEX($J$55:$EM$55,1,_xlfn.SEQUENCE(1,(COLUMNS($J$55:$EM$55)-1)/7+1,1,7)),INDEX($P95:$ES95,1,_xlfn.SEQUENCE(1,(COLUMNS($P95:$ES95)-1)/7+1,1,7))>0,\"\"))","v":""}]
["Endspiel",null,null,null,null,null,null,null,null,null,null,null,null,null,null,null,null,null,null,null,null,null,null,null,null,null,null,null,null,null,null,null,null,null,null,null,null,null,null,null,null,null,null,null,null,null,null,null,null,null,null,null,null,null,null,null,null,null,null,null,null,null,null,null,null,null,null,null,null,null,null,null,null,null,null,null,null,null,null,null,null,null,null,null,null,null,null,null,null,null,null,null,null,null,null,null,null,null,null,null,null,null,null,null,null,null,null,null,null,null,null,null,null,null,null,null,null,null,null,null,null,null,null,null,null,null,null,null,null,null,null,null,null,null,null,null,null,null,null,null,null,null,null,null,null,null,null,null,null,null,{"$f":"_xlfn.TEXTJOIN(\", \",TRUE,_xlfn._xlws.FILTER(INDEX($J$54:$EM$54,1,_xlfn.SEQUENCE(1,(COLUMNS($J$54:$EM$54)-1)/7+1,1,7))&\" \"&INDEX($J$55:$EM$55,1,_xlfn.SEQUENCE(1,(COLUMNS($J$55:$EM$55)-1)/7+1,1,7)),INDEX($P96:$ES96,1,_xlfn.SEQUENCE(1,(COLUMNS($P96:$ES96)-1)/7+1,1,7))>0,\"\"))","v":""}]
[{"$f":"A47","v":"So. 19. Jul"},{"$f":"B47","v":"21:00:00"},{"$f":"C47","v":104},{"$f":"D47","v":"Spanien"},"Argentinien",{"$f":"IF(F47=\"\",\"\",F47)","v":""},{"$f":"IF(G47=\"\",\"\",G47)","v":""},null,null,"Frankreich",0,1,"Portugal",{"$f":"IF(OR(J97=\"\",M97=\"\"),0,IF(AND(J97=$D97,M97=$E97),120,IF(J97=$D97,60,IF(M97=$E97,60,IF(AND(J97<>$D97,M97<>$E97),0)))))","v":0},{"$f":"IF(COUNTIF($D$47:$E$47,M97),120,0)+IF(COUNTIF($D$47:$E$47,J97),120,0)","v":0},{"$f":"IF(OR(J97=\"\",M97=\"\"),0,IF(AND(J97=$D97,M97=$E97,K97=$F97,L97=$G97),200,0))","v":0},"Frankreich",5,4,"England",{"$f":"IF(OR(Q97=\"\",T97=\"\"),0,IF(AND(Q97=$D97,T97=$E97),120,IF(Q97=$D97,60,IF(T97=$E97,60,IF(AND(Q97<>$D97,T97<>$E97),0)))))","v":0},{"$f":"IF(COUNTIF($D$47:$E$47,T97),120,0)+IF(COUNTIF($D$47:$E$47,Q97),120,0)","v":0},{"$f":"IF(OR(Q97=\"\",T97=\"\"),0,IF(AND(Q97=$D97,T97=$E97,R97=$F97,S97=$G97),200,0))","v":0},"Spanien",2,0,"Frankreich",{"$f":"IF(OR(X97=\"\",AA97=\"\"),0,IF(AND(X97=$D97,AA97=$E97),120,IF(X97=$D97,60,IF(AA97=$E97,60,IF(AND(X97<>$D97,AA97<>$E97),0)))))","v":60},{"$f":"IF(COUNTIF($D$47:$E$47,AA97),120,0)+IF(COUNTIF($D$47:$E$47,X97),120,0)","v":120},{"$f":"IF(OR(X97=\"\",AA97=\"\"),0,IF(AND(X97=$D97,AA97=$E97,Y97=$F97,Z97=$G97),200,0))","v":0},"Deutschland",2,0,"Brasilien",{"$f":"IF(OR(AE97=\"\",AH97=\"\"),0,IF(AND(AE97=$D97,AH97=$E97),120,IF(AE97=$D97,60,IF(AH97=$E97,60,IF(AND(AE97<>$D97,AH97<>$E97),0)))))","v":0},{"$f":"IF(COUNTIF($D$47:$E$47,AH97),120,0)+IF(COUNTIF($D$47:$E$47,AE97),120,0)","v":0},{"$f":"IF(OR(AE97=\"\",AH97=\"\"),0,IF(AND(AE97=$D97,AH97=$E97,AF97=$F97,AG97=$G97),200,0))","v":0},"Frankreich",1,2,"Brasilien",{"$f":"IF(OR(AL97=\"\",AO97=\"\"),0,IF(AND(AL97=$D97,AO97=$E97),120,IF(AL97=$D97,60,IF(AO97=$E97,60,IF(AND(AL97<>$D97,AO97<>$E97),0)))))","v":0},{"$f":"IF(COUNTIF($D$47:$E$47,AO97),120,0)+IF(COUNTIF($D$47:$E$47,AL97),120,0)","v":0},{"$f":"IF(OR(AL97=\"\",AO97=\"\"),0,IF(AND(AL97=$D97,AO97=$E97,AM97=$F97,AN97=$G97),200,0))","v":0},"Frankreich",2,1,"Portugal",{"$f":"IF(OR(AS97=\"\",AV97=\"\"),0,IF(AND(AS97=$D97,AV97=$E97),120,IF(AS97=$D97,60,IF(AV97=$E97,60,IF(AND(AS97<>$D97,AV97<>$E97),0)))))","v":0},{"$f":"IF(COUNTIF($D$47:$E$47,AV97),120,0)+IF(COUNTIF($D$47:$E$47,AS97),120,0)","v":0},{"$f":"IF(OR(AS97=\"\",AV97=\"\"),0,IF(AND(AS97=$D97,AV97=$E97,AT97=$F97,AU97=$G97),200,0))","v":0},"Frankreich",1,2,"Portugal",{"$f":"IF(OR(AZ97=\"\",BC97=\"\"),0,IF(AND(AZ97=$D97,BC97=$E97),120,IF(AZ97=$D97,60,IF(BC97=$E97,60,IF(AND(AZ97<>$D97,BC97<>$E97),0)))))","v":0},{"$f":"IF(COUNTIF($D$47:$E$47,BC97),120,0)+IF(COUNTIF($D$47:$E$47,AZ97),120,0)","v":0},{"$f":"IF(OR(AZ97=\"\",BC97=\"\"),0,IF(AND(AZ97=$D97,BC97=$E97,BA97=$F97,BB97=$G97),200,0))","v":0},"Spanien",0,1,"England",{"$f":"IF(OR(BG97=\"\",BJ97=\"\"),0,IF(AND(BG97=$D97,BJ97=$E97),120,IF(BG97=$D97,60,IF(BJ97=$E97,60,IF(AND(BG97<>$D97,BJ97<>$E97),0)))))","v":60},{"$f":"IF(COUNTIF($D$47:$E$47,BJ97),120,0)+IF(COUNTIF($D$47:$E$47,BG97),120,0)","v":120},{"$f":"IF(OR(BG97=\"\",BJ97=\"\"),0,IF(AND(BG97=$D97,BJ97=$E97,BH97=$F97,BI97=$G97),200,0))","v":0},"Spanien",1,0,"England",{"$f":"IF(OR(BN97=\"\",BQ97=\"\"),0,IF(AND(BN97=$D97,BQ97=$E97),120,IF(BN97=$D97,60,IF(BQ97=$E97,60,IF(AND(BN97<>$D97,BQ97<>$E97),0)))))","v":60},{"$f":"IF(COUNTIF($D$47:$E$47,BQ97),120,0)+IF(COUNTIF($D$47:$E$47,BN97),120,0)","v":120},{"$f":"IF(OR(BN97=\"\",BQ97=\"\"),0,IF(AND(BN97=$D97,BQ97=$E97,BO97=$F97,BP97=$G97),200,0))","v":0},"Mexiko",0,1,"Portugal",{"$f":"IF(OR(BU97=\"\",BX97=\"\"),0,IF(AND(BU97=$D97,BX97=$E97),120,IF(BU97=$D97,60,IF(BX97=$E97,60,IF(AND(BU97<>$D97,BX97<>$E97),0)))))","v":0},{"$f":"IF(COUNTIF($D$47:$E$47,BX97),120,0)+IF(COUNTIF($D$47:$E$47,BU97),120,0)","v":0},{"$f":"IF(OR(BU97=\"\",BX97=\"\"),0,IF(AND(BU97=$D97,BX97=$E97,BV97=$F97,BW97=$G97),200,0))","v":0},"Kolumbien",0,2,"Portugal",{"$f":"IF(OR(CB97=\"\",CE97=\"\"),0,IF(AND(CB97=$D97,CE97=$E97),120,IF(CB97=$D97,60,IF(CE97=$E97,60,IF(AND(CB97<>$D97,CE97<>$E97),0)))))","v":0},{"$f":"IF(COUNTIF($D$47:$E$47,CE97),120,0)+IF(COUNTIF($D$47:$E$47,CB97),120,0)","v":0},{"$f":"IF(OR(CB97=\"\",CE97=\"\"),0,IF(AND(CB97=$D97,CE97=$E97,CC97=$F97,CD97=$G97),200,0))","v":0},"Spanien",5,4,"Brasilien",{"$f":"IF(OR(CI97=\"\",CL97=\"\"),0,IF(AND(CI97=$D97,CL97=$E97),120,IF(CI97=$D97,60,IF(CL97=$E97,60,IF(AND(CI97<>$D97,CL97<>$E97),0)))))","v":60},{"$f":"IF(COUNTIF($D$47:$E$47,CL97),120,0)+IF(COUNTIF($D$47:$E$47,CI97),120,0)","v":120},{"$f":"IF(OR(CI97=\"\",CL97=\"\"),0,IF(AND(CI97=$D97,CL97=$E97,CJ97=$F97,CK97=$G97),200,0))","v":0},"Spanien",1,2,"Brasilien",{"$f":"IF(OR(CP97=\"\",CS97=\"\"),0,IF(AND(CP97=$D97,CS97=$E97),120,IF(CP97=$D97,60,IF(CS97=$E97,60,IF(AND(CP97<>$D97,CS97<>$E97),0)))))","v":60},{"$f":"IF(COUNTIF($D$47:$E$47,CS97),120,0)+IF(COUNTIF($D$47:$E$47,CP97),120,0)","v":120},{"$f":"IF(OR(CP97=\"\",CS97=\"\"),0,IF(AND(CP97=$D97,CS97=$E97,CQ97=$F97,CR97=$G97),200,0))","v":0},"Spanien",2,0,"Portugal",{"$f":"IF(OR(CW97=\"\",CZ97=\"\"),0,IF(AND(CW97=$D97,CZ97=$E97),120,IF(CW97=$D97,60,IF(CZ97=$E97,60,IF(AND(CW97<>$D97,CZ97<>$E97),0)))))","v":60},{"$f":"IF(COUNTIF($D$47:$E$47,CZ97),120,0)+IF(COUNTIF($D$47:$E$47,CW97),120,0)","v":120},{"$f":"IF(OR(CW97=\"\",CZ97=\"\"),0,IF(AND(CW97=$D97,CZ97=$E97,CX97=$F97,CY97=$G97),200,0))","v":0},"Frankreich",0,1,"England",{"$f":"IF(OR(DD97=\"\",DG97=\"\"),0,IF(AND(DD97=$D97,DG97=$E97),120,IF(DD97=$D97,60,IF(DG97=$E97,60,IF(AND(DD97<>$D97,DG97<>$E97),0)))))","v":0},{"$f":"IF(COUNTIF($D$47:$E$47,DG97),120,0)+IF(COUNTIF($D$47:$E$47,DD97),120,0)","v":0},{"$f":"IF(OR(DD97=\"\",DG97=\"\"),0,IF(AND(DD97=$D97,DG97=$E97,DE97=$F97,DF97=$G97),200,0))","v":0},"Frankreich",2,1,"England",{"$f":"IF(OR(DK97=\"\",DN97=\"\"),0,IF(AND(DK97=$D97,DN97=$E97),120,IF(DK97=$D97,60,IF(DN97=$E97,60,IF(AND(DK97<>$D97,DN97<>$E97),0)))))","v":0},{"$f":"IF(COUNTIF($D$47:$E$47,DN97),120,0)+IF(COUNTIF($D$47:$E$47,DK97),120,0)","v":0},{"$f":"IF(OR(DK97=\"\",DN97=\"\"),0,IF(AND(DK97=$D97,DN97=$E97,DL97=$F97,DM97=$G97),200,0))","v":0},"Spanien",0,1,"Argentinien",{"$f":"IF(OR(DR97=\"\",DU97=\"\"),0,IF(AND(DR97=$D97,DU97=$E97),120,IF(DR97=$D97,60,IF(DU97=$E97,60,IF(AND(DR97<>$D97,DU97<>$E97),0)))))","v":120},{"$f":"IF(COUNTIF($D$47:$E$47,DU97),120,0)+IF(COUNTIF($D$47:$E$47,DR97),120,0)","v":240},{"$f":"IF(OR(DR97=\"\",DU97=\"\"),0,IF(AND(DR97=$D97,DU97=$E97,DS97=$F97,DT97=$G97),200,0))","v":0},"Frankreich",1,2,"Portugal",{"$f":"IF(OR(DY97=\"\",EB97=\"\"),0,IF(AND(DY97=$D97,EB97=$E97),120,IF(DY97=$D97,60,IF(EB97=$E97,60,IF(AND(DY97<>$D97,EB97<>$E97),0)))))","v":0},{"$f":"IF(COUNTIF($D$47:$E$47,EB97),120,0)+IF(COUNTIF($D$47:$E$47,DY97),120,0)","v":0},{"$f":"IF(OR(DY97=\"\",EB97=\"\"),0,IF(AND(DY97=$D97,EB97=$E97,DZ97=$F97,EA97=$G97),200,0))","v":0},"Spanien",2,3,"England",{"$f":"IF(OR(EF97=\"\",EI97=\"\"),0,IF(AND(EF97=$D97,EI97=$E97),120,IF(EF97=$D97,60,IF(EI97=$E97,60,IF(AND(EF97<>$D97,EI97<>$E97),0)))))","v":60},{"$f":"IF(COUNTIF($D$47:$E$47,EI97),120,0)+IF(COUNTIF($D$47:$E$47,EF97),120,0)","v":120},{"$f":"IF(OR(EF97=\"\",EI97=\"\"),0,IF(AND(EF97=$D97,EI97=$E97,EG97=$F97,EH97=$G97),200,0))","v":0},"Frankreich",2,1,"England",{"$f":"IF(OR(EM97=\"\",EP97=\"\"),0,IF(AND(EM97=$D97,EP97=$E97),120,IF(EM97=$D97,60,IF(EP97=$E97,60,IF(AND(EM97<>$D97,EP97<>$E97),0)))))","v":0},{"$f":"IF(COUNTIF($D$47:$E$47,EP97),120,0)+IF(COUNTIF($D$47:$E$47,EM97),120,0)","v":0},{"$f":"IF(OR(EM97=\"\",EP97=\"\"),0,IF(AND(EM97=$D97,EP97=$E97,EN97=$F97,EO97=$G97),200,0))","v":0},null,{"$f":"_xlfn.TEXTJOIN(\", \",TRUE,_xlfn._xlws.FILTER(INDEX($J$54:$EM$54,1,_xlfn.SEQUENCE(1,(COLUMNS($J$54:$EM$54)-1)/7+1,1,7))&\" \"&INDEX($J$55:$EM$55,1,_xlfn.SEQUENCE(1,(COLUMNS($J$55:$EM$55)-1)/7+1,1,7)),INDEX($P97:$ES97,1,_xlfn.SEQUENCE(1,(COLUMNS($P97:$ES97)-1)/7+1,1,7))>0,\"\"))","v":""}]
["Weltmeister"]
[null,null,null,{"$f":"D49","v":"???"},null,null,null,null,null,"Weltmeister:",null,null,{"$f":"IF(K97=L97,\"\",IF(K97>L97,J97,M97))","v":"Portugal"},null,null,{"$f":"IF(OR(M99=\"\"),0,IF(M99=$D99,350,0))","v":0},"Weltmeister:",null,null,{"$f":"IF(R97=S97,\"\",IF(R97>S97,Q97,T97))","v":"Frankreich"},null,null,{"$f":"IF(OR(T99=\"\"),0,IF(T99=$D99,350,0))","v":0},"Weltmeister:",null,null,{"$f":"IF(Y97=Z97,\"\",IF(Y97>Z97,X97,AA97))","v":"Spanien"},null,null,{"$f":"IF(OR(AA99=\"\"),0,IF(AA99=$D99,350,0))","v":0},"Weltmeister:",null,null,{"$f":"IF(AF97=AG97,\"\",IF(AF97>AG97,AE97,AH97))","v":"Deutschland"},null,null,{"$f":"IF(OR(AH99=\"\"),0,IF(AH99=$D99,350,0))","v":0},"Weltmeister:",null,null,{"$f":"IF(AM97=AN97,\"\",IF(AM97>AN97,AL97,AO97))","v":"Brasilien"},null,null,{"$f":"IF(OR(AO99=\"\"),0,IF(AO99=$D99,350,0))","v":0},"Weltmeister:",null,null,{"$f":"IF(AT97=AU97,\"\",IF(AT97>AU97,AS97,AV97))","v":"Frankreich"},null,null,{"$f":"IF(OR(AV99=\"\"),0,IF(AV99=$D99,350,0))","v":0},"Weltmeister:",null,null,{"$f":"IF(BA97=BB97,\"\",IF(BA97>BB97,AZ97,BC97))","v":"Portugal"},null,null,{"$f":"IF(OR(BC99=\"\"),0,IF(BC99=$D99,350,0))","v":0},"Weltmeister:",null,null,{"$f":"IF(BH97=BI97,\"\",IF(BH97>BI97,BG97,BJ97))","v":"England"},null,null,{"$f":"IF(OR(BJ99=\"\"),0,IF(BJ99=$D99,350,0))","v":0},"Weltmeister:",null,null,{"$f":"IF(BO97=BP97,\"\",IF(BO97>BP97,BN97,BQ97))","v":"Spanien"},null,null,{"$f":"IF(OR(BQ99=\"\"),0,IF(BQ99=$D99,350,0))","v":0},"Weltmeister:",null,null,{"$f":"IF(BV97=BW97,\"\",IF(BV97>BW97,BU97,BX97))","v":"Portugal"},null,null,{"$f":"IF(OR(BX99=\"\"),0,IF(BX99=$D99,350,0))","v":0},"Weltmeister:",null,null,{"$f":"IF(CC97=CD97,\"\",IF(CC97>CD97,CB97,CE97))","v":"Portugal"},null,null,{"$f":"IF(OR(CE99=\"\"),0,IF(CE99=$D99,350,0))","v":0},"Weltmeister:",null,null,{"$f":"IF(CJ97=CK97,\"\",IF(CJ97>CK97,CI97,CL97))","v":"Spanien"},null,null,{"$f":"IF(OR(CL99=\"\"),0,IF(CL99=$D99,350,0))","v":0},"Weltmeister:",null,null,{"$f":"IF(CQ97=CR97,\"\",IF(CQ97>CR97,CP97,CS97))","v":"Brasilien"},null,null,{"$f":"IF(OR(CS99=\"\"),0,IF(CS99=$D99,350,0))","v":0},"Weltmeister:",null,null,{"$f":"IF(CX97=CY97,\"\",IF(CX97>CY97,CW97,CZ97))","v":"Spanien"},null,null,{"$f":"IF(OR(CZ99=\"\"),0,IF(CZ99=$D99,350,0))","v":0},"Weltmeister:",null,null,{"$f":"IF(DE97=DF97,\"\",IF(DE97>DF97,DD97,DG97))","v":"England"},null,null,{"$f":"IF(OR(DG99=\"\"),0,IF(DG99=$D99,350,0))","v":0},"Weltmeister:",null,null,{"$f":"IF(DL97=DM97,\"\",IF(DL97>DM97,DK97,DN97))","v":"Frankreich"},null,null,{"$f":"IF(OR(DN99=\"\"),0,IF(DN99=$D99,350,0))","v":0},"Weltmeister:",null,null,{"$f":"IF(DS97=DT97,\"\",IF(DS97>DT97,DR97,DU97))","v":"Argentinien"},null,null,{"$f":"IF(OR(DU99=\"\"),0,IF(DU99=$D99,350,0))","v":0},"Weltmeister:",null,null,{"$f":"IF(DZ97=EA97,\"\",IF(DZ97>EA97,DY97,EB97))","v":"Portugal"},null,null,{"$f":"IF(OR(EB99=\"\"),0,IF(EB99=$D99,350,0))","v":0},"Weltmeister:",null,null,{"$f":"IF(EG97=EH97,\"\",IF(EG97>EH97,EF97,EI97))","v":"England"},null,null,{"$f":"IF(OR(EI99=\"\"),0,IF(EI99=$D99,350,0))","v":0},"Weltmeister:",null,null,{"$f":"IF(EN97=EO97,\"\",IF(EN97>EO97,EM97,EP97))","v":"Frankreich"},null,null,{"$f":"IF(OR(EP99=\"\"),0,IF(EP99=$D99,350,0))","v":0}]
[null,null,null,null,null,null,null,null,null,{"$f":"Teilnehmerliste!$C26","v":"Rodrigues da Costa"},null,null,null,{"$f":"SUM(N61:P99)","v":2470},null,null,{"$f":"Teilnehmerliste!$C27","v":"D'Acunto"},null,null,null,{"$f":"SUM(U61:W99)","v":2580},null,null,{"$f":"Teilnehmerliste!$C28","v":"D'Acunto"},null,null,null,{"$f":"SUM(AB61:AD99)","v":2190},null,null,{"$f":"Teilnehmerliste!$C29","v":"D'Acunto"},null,null,null,{"$f":"SUM(AI61:AK99)","v":1920},null,null,{"$f":"Teilnehmerliste!$C30","v":"Derungs"},null,null,null,{"$f":"SUM(AP61:AR99)","v":2490},null,null,{"$f":"Teilnehmerliste!$C31","v":"Djukic"},null,null,null,{"$f":"SUM(AW61:AY99)","v":1940},null,null,{"$f":"Teilnehmerliste!$C32","v":"Duvnjak"},null,null,null,{"$f":"SUM(BD61:BF99)","v":2260},null,null,{"$f":"Teilnehmerliste!$C33","v":"Duvnjak"},null,null,null,{"$f":"SUM(BK61:BM99)","v":2760},null,null,{"$f":"Teilnehmerliste!$C34","v":"Duvnjak"},null,null,null,{"$f":"SUM(BR61:BT99)","v":2710},null,null,{"$f":"Teilnehmerliste!$C35","v":"Gomes"},null,null,null,{"$f":"SUM(BY61:CA99)","v":1690},null,null,{"$f":"Teilnehmerliste!$C36","v":"Gomes"},null,null,null,{"$f":"SUM(CF61:CH99)","v":2490},null,null,{"$f":"Teilnehmerliste!$C37","v":"González"},null,null,null,{"$f":"SUM(CM61:CO99)","v":2500},null,null,{"$f":"Teilnehmerliste!$C38","v":"González"},null,null,null,{"$f":"SUM(CT61:CV99)","v":2780},null,null,{"$f":"Teilnehmerliste!$C39","v":"Grosse"},null,null,null,{"$f":"SUM(DA61:DC99)","v":2350},null,null,{"$f":"Teilnehmerliste!$C40","v":"Gygli"},null,null,null,{"$f":"SUM(DH61:DJ99)","v":2620},null,null,{"$f":"Teilnehmerliste!$C41","v":"Gygli"},null,null,null,{"$f":"SUM(DO61:DQ99)","v":2620},null,null,{"$f":"Teilnehmerliste!$C42","v":"Gygli"},null,null,null,{"$f":"SUM(DV61:DX99)","v":2660},null,null,{"$f":"Teilnehmerliste!$C43","v":"Gygli"},null,null,null,{"$f":"SUM(EC61:EE99)","v":2000},null,null,{"$f":"Teilnehmerliste!$C44","v":"Gygli"},null,null,null,{"$f":"SUM(EJ61:EL99)","v":2550},null,null,{"$f":"Teilnehmerliste!$C45","v":"Gygli"},null,null,null,{"$f":"SUM(EQ61:ES99)","v":2610}]
[]
[]
["Finalrunde",null,null,"Spieler 41 - 60"]
[{"$f":"A4","v":"Pro richtige Mannschaft:"},null,null,null,null,null,null,null,null,{"$f":"Teilnehmerliste!$B46","v":"Florian"},null,null,null,null,null,null,{"$f":"Teilnehmerliste!$B47","v":"Agnes"},null,null,null,null,null,null,{"$f":"Teilnehmerliste!$B48","v":"Andreas"},null,null,null,null,null,null,{"$f":"Teilnehmerliste!$B49","v":"Michael"},null,null,null,null,null,null,{"$f":"Teilnehmerliste!$B50","v":"Aiden"},null,null,null,null,null,null,{"$f":"Teilnehmerliste!$B51","v":"Pascal"},null,null,null,null,null,null,{"$f":"Teilnehmerliste!$B52","v":"Tanja"},null,null,null,null,null,null,{"$f":"Teilnehmerliste!$B53","v":"André"},null,null,null,null,null,null,{"$f":"Teilnehmerliste!$B54","v":"Franz"},null,null,null,null,null,null,{"$f":"Teilnehmerliste!$B55","v":"Marc"},null,null,null,null,null,null,{"$f":"Teilnehmerliste!$B56","v":"Nicolas"},null,null,null,null,null,null,{"$f":"Teilnehmerliste!$B57","v":"Mauro"},null,null,null,null,null,null,{"$f":"Teilnehmerliste!$B58","v":"Ben"},null,null,null,null,null,null,{"$f":"Teilnehmerliste!$B59","v":"Martin"},null,null,null,null,null,null,{"$f":"Teilnehmerliste!$B60","v":"Elias"},null,null,null,null,null,null,{"$f":"Teilnehmerliste!$B61","v":"Julian"},null,null,null,null,null,null,{"$f":"Teilnehmerliste!$B62","v":"Philipp"},null,null,null,null,null,null,{"$f":"Teilnehmerliste!$B63","v":"Telmo"},null,null,null,null,null,null,{"$f":"Teilnehmerliste!$B64","v":"Martin"},null,null,null,null,null,null,{"$f":"Teilnehmerliste!$B65","v":"Lechena"}]
[{"$f":"A5","v":"... am richtigen Ort: 1/16= 10, 1/8=20, 1/4=30, 1/2=40, 3Pl.=50, Finale=60"},null,null,null,null,null,null,null,null,{"$f":"Teilnehmerliste!$C46","v":"Haab"},null,null,null,null,null,null,{"$f":"Teilnehmerliste!$C47","v":"Isenschmid"},null,null,null,null,null,null,{"$f":"Teilnehmerliste!$C48","v":"Isenschmid"},null,null,null,null,null,null,{"$f":"Teilnehmerliste!$C49","v":"Isenschmid"},null,null,null,null,null,null,{"$f":"Teilnehmerliste!$C50","v":"Jones"},null,null,null,null,null,null,{"$f":"Teilnehmerliste!$C51","v":"Keller"},null,null,null,null,null,null,{"$f":"Teilnehmerliste!$C52","v":"Kistler"},null,null,null,null,null,null,{"$f":"Teilnehmerliste!$C53","v":"Lanz"},null,null,null,null,null,null,{"$f":"Teilnehmerliste!$C54","v":"Lischer"},null,null,null,null,null,null,{"$f":"Teilnehmerliste!$C55","v":"Lütolf"},null,null,null,null,null,null,{"$f":"Teilnehmerliste!$C56","v":"Mack"},null,null,null,null,null,null,{"$f":"Teilnehmerliste!$C57","v":"Marini"},null,null,null,null,null,null,{"$f":"Teilnehmerliste!$C58","v":"Marthaler"},null,null,null,null,null,null,{"$f":"Teilnehmerliste!$C59","v":"Marthaler"},null,null,null,null,null,null,{"$f":"Teilnehmerliste!$C60","v":"Marty"},null,null,null,null,null,null,{"$f":"Teilnehmerliste!$C61","v":"Merkli"},null,null,null,null,null,null,{"$f":"Teilnehmerliste!$C62","v":"Meyer"},null,null,null,null,null,null,{"$f":"Teilnehmerliste!$C63","v":"Oliveira"},null,null,null,null,null,null,{"$f":"Teilnehmerliste!$C64","v":"Oroshi"},null,null,null,null,null,null,{"$f":"Teilnehmerliste!$C65","v":"Pek"}]
["... im x-Finale: 1/16=20, 1/8=40, 1/4=80, 1/2=100, 3Pl.=100, Finale=120",null,null,null,null,null,null,null,null,null,null,null,null,null,null,{"$f":"Teilnehmerliste!$A46","v":41},null,null,null,null,null,null,{"$f":"Teilnehmerliste!$A47","v":42},null,null,null,null,null,null,{"$f":"Teilnehmerliste!$A48","v":43},null,null,null,null,null,null,{"$f":"Teilnehmerliste!$A49","v":44},null,null,null,null,null,null,{"$f":"Teilnehmerliste!$A50","v":45},null,null,null,null,null,null,{"$f":"Teilnehmerliste!$A51","v":46},null,null,null,null,null,null,{"$f":"Teilnehmerliste!$A52","v":47},null,null,null,null,null,null,{"$f":"Teilnehmerliste!$A53","v":48},null,null,null,null,null,null,{"$f":"Teilnehmerliste!$A54","v":49},null,null,null,null,null,null,{"$f":"Teilnehmerliste!$A55","v":50},null,null,null,null,null,null,{"$f":"Teilnehmerliste!$A56","v":51},null,null,null,null,null,null,{"$f":"Teilnehmerliste!$A57","v":52},null,null,null,null,null,null,{"$f":"Teilnehmerliste!$A58","v":53},null,null,null,null,null,null,{"$f":"Teilnehmerliste!$A59","v":54},null,null,null,null,null,null,{"$f":"Teilnehmerliste!$A60","v":55},null,null,null,null,null,null,{"$f":"Teilnehmerliste!$A61","v":56},null,null,null,null,null,null,{"$f":"Teilnehmerliste!$A62","v":57},null,null,null,null,null,null,{"$f":"Teilnehmerliste!$A63","v":58},null,null,null,null,null,null,{"$f":"Teilnehmerliste!$A64","v":59},null,null,null,null,null,null,{"$f":"Teilnehmerliste!$A65","v":60}]
["Richtiges Resultat: 1/16=30, 1/8=50, 1/4=70, 1/2=100, 3Pl.=150, Finale=200"]
["Richtiger Weltmeister = 350"]
["Datum","Zeit","Nr.","Spiel",null,"Resultat"]
["Sechzehntelfinale",null,null,null,null,null,null,null,null,"Tipp",null,null,null,"Pkt",null,null,"Tipp",null,null,null,"Pkt",null,null,"Tipp",null,null,null,"Pkt",null,null,"Tipp",null,null,null,"Pkt",null,null,"Tipp",null,null,null,"Pkt",null,null,"Tipp",null,null,null,"Pkt",null,null,"Tipp",null,null,null,"Pkt",null,null,"Tipp",null,null,null,"Pkt",null,null,"Tipp",null,null,null,"Pkt",null,null,"Tipp",null,null,null,"Pkt",null,null,"Tipp",null,null,null,"Pkt",null,null,"Tipp",null,null,null,"Pkt",null,null,"Tipp",null,null,null,"Pkt",null,null,"Tipp",null,null,null,"Pkt",null,null,"Tipp",null,null,null,"Pkt",null,null,"Tipp",null,null,null,"Pkt",null,null,"Tipp",null,null,null,"Pkt",null,null,"Tipp",null,null,null,"Pkt",null,null,"Tipp",null,null,null,"Pkt",null,null,"Tipp",null,null,null,"Pkt"]
[{"$f":"A61","v":"So. 28. Jun"},"21:00:00",73,{"$f":"D61","v":"Südafrika"},"Kanada",{"$f":"IF(F61=\"\",\"\",F61)","v":0},1,null,null,"Südkorea",2,1,"Kanada",{"$f":"IF(OR(J111=\"\",M111=\"\"),0,IF(AND(J111=$D111,M111=$E111),20,IF(J111=$D111,10,IF(M111=$E111,10,IF(AND(J111<>$D111,M111<>$E111),0)))))","v":10},{"$f":"IF(COUNTIF($D$11:$E$26,M111),20,0)+IF(COUNTIF($D$11:$E$26,J111),20,0)","v":20},{"$f":"IF(OR(J111=\"\",M111=\"\"),0,IF(AND(J111=$D111,M111=$E111,K111=$F111,L111=$G111),30,0))","v":0},"Mexiko",2,0,"Kanada",{"$f":"IF(OR(Q111=\"\",T111=\"\"),0,IF(AND(Q111=$D111,T111=$E111),20,IF(Q111=$D111,10,IF(T111=$E111,10,IF(AND(Q111<>$D111,T111<>$E111),0)))))","v":10},{"$f":"IF(COUNTIF($D$11:$E$26,T111),20,0)+IF(COUNTIF($D$11:$E$26,Q111),20,0)","v":40},{"$f":"IF(OR(Q111=\"\",T111=\"\"),0,IF(AND(Q111=$D111,T111=$E111,R111=$F111,S111=$G111),30,0))","v":0},"Südkorea",2,1,"Bosnien-Herz.",{"$f":"IF(OR(X111=\"\",AA111=\"\"),0,IF(AND(X111=$D111,AA111=$E111),20,IF(X111=$D111,10,IF(AA111=$E111,10,IF(AND(X111<>$D111,AA111<>$E111),0)))))","v":0},{"$f":"IF(COUNTIF($D$11:$E$26,AA111),20,0)+IF(COUNTIF($D$11:$E$26,X111),20,0)","v":20},{"$f":"IF(OR(X111=\"\",AA111=\"\"),0,IF(AND(X111=$D111,AA111=$E111,Y111=$F111,Z111=$G111),30,0))","v":0},"Südkorea",2,1,"Bosnien-Herz.",{"$f":"IF(OR(AE111=\"\",AH111=\"\"),0,IF(AND(AE111=$D111,AH111=$E111),20,IF(AE111=$D111,10,IF(AH111=$E111,10,IF(AND(AE111<>$D111,AH111<>$E111),0)))))","v":0},{"$f":"IF(COUNTIF($D$11:$E$26,AH111),20,0)+IF(COUNTIF($D$11:$E$26,AE111),20,0)","v":20},{"$f":"IF(OR(AE111=\"\",AH111=\"\"),0,IF(AND(AE111=$D111,AH111=$E111,AF111=$F111,AG111=$G111),30,0))","v":0},"Tschechien",1,0,"Bosnien-Herz.",{"$f":"IF(OR(AL111=\"\",AO111=\"\"),0,IF(AND(AL111=$D111,AO111=$E111),20,IF(AL111=$D111,10,IF(AO111=$E111,10,IF(AND(AL111<>$D111,AO111<>$E111),0)))))","v":0},{"$f":"IF(COUNTIF($D$11:$E$26,AO111),20,0)+IF(COUNTIF($D$11:$E$26,AL111),20,0)","v":20},{"$f":"IF(OR(AL111=\"\",AO111=\"\"),0,IF(AND(AL111=$D111,AO111=$E111,AM111=$F111,AN111=$G111),30,0))","v":0},"Südkorea",1,0,"Kanada",{"$f":"IF(OR(AS111=\"\",AV111=\"\"),0,IF(AND(AS111=$D111,AV111=$E111),20,IF(AS111=$D111,10,IF(AV111=$E111,10,IF(AND(AS111<>$D111,AV111<>$E111),0)))))","v":10},{"$f":"IF(COUNTIF($D$11:$E$26,AV111),20,0)+IF(COUNTIF($D$11:$E$26,AS111),20,0)","v":20},{"$f":"IF(OR(AS111=\"\",AV111=\"\"),0,IF(AND(AS111=$D111,AV111=$E111,AT111=$F111,AU111=$G111),30,0))","v":0},"Südafrika",1,2,"Bosnien-Herz.",{"$f":"IF(OR(AZ111=\"\",BC111=\"\"),0,IF(AND(AZ111=$D111,BC111=$E111),20,IF(AZ111=$D111,10,IF(BC111=$E111,10,IF(AND(AZ111<>$D111,BC111<>$E111),0)))))","v":10},{"$f":"IF(COUNTIF($D$11:$E$26,BC111),20,0)+IF(COUNTIF($D$11:$E$26,AZ111),20,0)","v":40},{"$f":"IF(OR(AZ111=\"\",BC111=\"\"),0,IF(AND(AZ111=$D111,BC111=$E111,BA111=$F111,BB111=$G111),30,0))","v":0},"Südkorea",3,1,"Bosnien-Herz.",{"$f":"IF(OR(BG111=\"\",BJ111=\"\"),0,IF(AND(BG111=$D111,BJ111=$E111),20,IF(BG111=$D111,10,IF(BJ111=$E111,10,IF(AND(BG111<>$D111,BJ111<>$E111),0)))))","v":0},{"$f":"IF(COUNTIF($D$11:$E$26,BJ111),20,0)+IF(COUNTIF($D$11:$E$26,BG111),20,0)","v":20},{"$f":"IF(OR(BG111=\"\",BJ111=\"\"),0,IF(AND(BG111=$D111,BJ111=$E111,BH111=$F111,BI111=$G111),30,0))","v":0},"Mexiko",1,0,"Kanada",{"$f":"IF(OR(BN111=\"\",BQ111=\"\"),0,IF(AND(BN111=$D111,BQ111=$E111),20,IF(BN111=$D111,10,IF(BQ111=$E111,10,IF(AND(BN111<>$D111,BQ111<>$E111),0)))))","v":10},{"$f":"IF(COUNTIF($D$11:$E$26,BQ111),20,0)+IF(COUNTIF($D$11:$E$26,BN111),20,0)","v":40},{"$f":"IF(OR(BN111=\"\",BQ111=\"\"),0,IF(AND(BN111=$D111,BQ111=$E111,BO111=$F111,BP111=$G111),30,0))","v":0},"Südkorea",2,1,"Kanada",{"$f":"IF(OR(BU111=\"\",BX111=\"\"),0,IF(AND(BU111=$D111,BX111=$E111),20,IF(BU111=$D111,10,IF(BX111=$E111,10,IF(AND(BU111<>$D111,BX111<>$E111),0)))))","v":10},{"$f":"IF(COUNTIF($D$11:$E$26,BX111),20,0)+IF(COUNTIF($D$11:$E$26,BU111),20,0)","v":20},{"$f":"IF(OR(BU111=\"\",BX111=\"\"),0,IF(AND(BU111=$D111,BX111=$E111,BV111=$F111,BW111=$G111),30,0))","v":0},"Tschechien",1,2,"Kanada",{"$f":"IF(OR(CB111=\"\",CE111=\"\"),0,IF(AND(CB111=$D111,CE111=$E111),20,IF(CB111=$D111,10,IF(CE111=$E111,10,IF(AND(CB111<>$D111,CE111<>$E111),0)))))","v":10},{"$f":"IF(COUNTIF($D$11:$E$26,CE111),20,0)+IF(COUNTIF($D$11:$E$26,CB111),20,0)","v":20},{"$f":"IF(OR(CB111=\"\",CE111=\"\"),0,IF(AND(CB111=$D111,CE111=$E111,CC111=$F111,CD111=$G111),30,0))","v":0},"Tschechien",1,2,"Kanada",{"$f":"IF(OR(CI111=\"\",CL111=\"\"),0,IF(AND(CI111=$D111,CL111=$E111),20,IF(CI111=$D111,10,IF(CL111=$E111,10,IF(AND(CI111<>$D111,CL111<>$E111),0)))))","v":10},{"$f":"IF(COUNTIF($D$11:$E$26,CL111),20,0)+IF(COUNTIF($D$11:$E$26,CI111),20,0)","v":20},{"$f":"IF(OR(CI111=\"\",CL111=\"\"),0,IF(AND(CI111=$D111,CL111=$E111,CJ111=$F111,CK111=$G111),30,0))","v":0},"Südafrika",3,4,"Kanada",{"$f":"IF(OR(CP111=\"\",CS111=\"\"),0,IF(AND(CP111=$D111,CS111=$E111),20,IF(CP111=$D111,10,IF(CS111=$E111,10,IF(AND(CP111<>$D111,CS111<>$E111),0)))))","v":20},{"$f":"IF(COUNTIF($D$11:$E$26,CS111),20,0)+IF(COUNTIF($D$11:$E$26,CP111),20,0)","v":40},{"$f":"IF(OR(CP111=\"\",CS111=\"\"),0,IF(AND(CP111=$D111,CS111=$E111,CQ111=$F111,CR111=$G111),30,0))","v":0},"Tschechien",1,2,"Kanada",{"$f":"IF(OR(CW111=\"\",CZ111=\"\"),0,IF(AND(CW111=$D111,CZ111=$E111),20,IF(CW111=$D111,10,IF(CZ111=$E111,10,IF(AND(CW111<>$D111,CZ111<>$E111),0)))))","v":10},{"$f":"IF(COUNTIF($D$11:$E$26,CZ111),20,0)+IF(COUNTIF($D$11:$E$26,CW111),20,0)","v":20},{"$f":"IF(OR(CW111=\"\",CZ111=\"\"),0,IF(AND(CW111=$D111,CZ111=$E111,CX111=$F111,CY111=$G111),30,0))","v":0},"Südafrika",2,1,"Bosnien-Herz.",{"$f":"IF(OR(DD111=\"\",DG111=\"\"),0,IF(AND(DD111=$D111,DG111=$E111),20,IF(DD111=$D111,10,IF(DG111=$E111,10,IF(AND(DD111<>$D111,DG111<>$E111),0)))))","v":10},{"$f":"IF(COUNTIF($D$11:$E$26,DG111),20,0)+IF(COUNTIF($D$11:$E$26,DD111),20,0)","v":40},{"$f":"IF(OR(DD111=\"\",DG111=\"\"),0,IF(AND(DD111=$D111,DG111=$E111,DE111=$F111,DF111=$G111),30,0))","v":0},"Mexiko",2,0,"Bosnien-Herz.",{"$f":"IF(OR(DK111=\"\",DN111=\"\"),0,IF(AND(DK111=$D111,DN111=$E111),20,IF(DK111=$D111,10,IF(DN111=$E111,10,IF(AND(DK111<>$D111,DN111<>$E111),0)))))","v":0},{"$f":"IF(COUNTIF($D$11:$E$26,DN111),20,0)+IF(COUNTIF($D$11:$E$26,DK111),20,0)","v":40},{"$f":"IF(OR(DK111=\"\",DN111=\"\"),0,IF(AND(DK111=$D111,DN111=$E111,DL111=$F111,DM111=$G111),30,0))","v":0},"Tschechien",1,0,"Bosnien-Herz.",{"$f":"IF(OR(DR111=\"\",DU111=\"\"),0,IF(AND(DR111=$D111,DU111=$E111),20,IF(DR111=$D111,10,IF(DU111=$E111,10,IF(AND(DR111<>$D111,DU111<>$E111),0)))))","v":0},{"$f":"IF(COUNTIF($D$11:$E$26,DU111),20,0)+IF(COUNTIF($D$11:$E$26,DR111),20,0)","v":20},{"$f":"IF(OR(DR111=\"\",DU111=\"\"),0,IF(AND(DR111=$D111,DU111=$E111,DS111=$F111,DT111=$G111),30,0))","v":0},"Tschechien",0,2,"Schweiz",{"$f":"IF(OR(DY111=\"\",EB111=\"\"),0,IF(AND(DY111=$D111,EB111=$E111),20,IF(DY111=$D111,10,IF(EB111=$E111,10,IF(AND(DY111<>$D111,EB111<>$E111),0)))))","v":0},{"$f":"IF(COUNTIF($D$11:$E$26,EB111),20,0)+IF(COUNTIF($D$11:$E$26,DY111),20,0)","v":20},{"$f":"IF(OR(DY111=\"\",EB111=\"\"),0,IF(AND(DY111=$D111,EB111=$E111,DZ111=$F111,EA111=$G111),30,0))","v":0},"Tschechien",3,4,"Bosnien-Herz.",{"$f":"IF(OR(EF111=\"\",EI111=\"\"),0,IF(AND(EF111=$D111,EI111=$E111),20,IF(EF111=$D111,10,IF(EI111=$E111,10,IF(AND(EF111<>$D111,EI111<>$E111),0)))))","v":0},{"$f":"IF(COUNTIF($D$11:$E$26,EI111),20,0)+IF(COUNTIF($D$11:$E$26,EF111),20,0)","v":20},{"$f":"IF(OR(EF111=\"\",EI111=\"\"),0,IF(AND(EF111=$D111,EI111=$E111,EG111=$F111,EH111=$G111),30,0))","v":0},"Tschechien",1,2,"Kanada",{"$f":"IF(OR(EM111=\"\",EP111=\"\"),0,IF(AND(EM111=$D111,EP111=$E111),20,IF(EM111=$D111,10,IF(EP111=$E111,10,IF(AND(EM111<>$D111,EP111<>$E111),0)))))","v":10},{"$f":"IF(COUNTIF($D$11:$E$26,EP111),20,0)+IF(COUNTIF($D$11:$E$26,EM111),20,0)","v":20},{"$f":"IF(OR(EM111=\"\",EP111=\"\"),0,IF(AND(EM111=$D111,EP111=$E111,EN111=$F111,EO111=$G111),30,0))","v":0},null,{"$f":"_xlfn.TEXTJOIN(\", \",TRUE,_xlfn._xlws.FILTER(INDEX($J$104:$EM$104,1,_xlfn.SEQUENCE(1,(COLUMNS($J$104:$EM$104)-1)/7+1,1,7))&\" \"&INDEX($J$105:$EM$105,1,_xlfn.SEQUENCE(1,(COLUMNS($J$105:$EM$105)-1)/7+1,1,7)),INDEX($P111:$ES111,1,_xlfn.SEQUENCE(1,(COLUMNS($P111:$ES111)-1)/7+1,1,7))>0,\"\"))","v":""}]
[{"$f":"A62","v":"Mo. 29. Jun"},"22:30:00",74,"Deutschland","Paraguay",{"$f":"IF(F62=\"\",\"\",F62)","v":3},4,null,null,"Deutschland",3,0,"Schweden",{"$f":"IF(OR(J112=\"\",M112=\"\"),0,IF(AND(J112=$D112,M112=$E112),20,IF(J112=$D112,10,IF(M112=$E112,10,IF(AND(J112<>$D112,M112<>$E112),0)))))","v":10},{"$f":"IF(COUNTIF($D$11:$E$26,M112),20,0)+IF(COUNTIF($D$11:$E$26,J112),20,0)","v":40},{"$f":"IF(OR(J112=\"\",M112=\"\"),0,IF(AND(J112=$D112,M112=$E112,K112=$F112,L112=$G112),30,0))","v":0},"Deutschland",3,1,"Paraguay",{"$f":"IF(OR(Q112=\"\",T112=\"\"),0,IF(AND(Q112=$D112,T112=$E112),20,IF(Q112=$D112,10,IF(T112=$E112,10,IF(AND(Q112<>$D112,T112<>$E112),0)))))","v":20},{"$f":"IF(COUNTIF($D$11:$E$26,T112),20,0)+IF(COUNTIF($D$11:$E$26,Q112),20,0)","v":40},{"$f":"IF(OR(Q112=\"\",T112=\"\"),0,IF(AND(Q112=$D112,T112=$E112,R112=$F112,S112=$G112),30,0))","v":0},"Deutschland",3,1,"Marokko",{"$f":"IF(OR(X112=\"\",AA112=\"\"),0,IF(AND(X112=$D112,AA112=$E112),20,IF(X112=$D112,10,IF(AA112=$E112,10,IF(AND(X112<>$D112,AA112<>$E112),0)))))","v":10},{"$f":"IF(COUNTIF($D$11:$E$26,AA112),20,0)+IF(COUNTIF($D$11:$E$26,X112),20,0)","v":40},{"$f":"IF(OR(X112=\"\",AA112=\"\"),0,IF(AND(X112=$D112,AA112=$E112,Y112=$F112,Z112=$G112),30,0))","v":0},"Deutschland",2,1,"USA",{"$f":"IF(OR(AE112=\"\",AH112=\"\"),0,IF(AND(AE112=$D112,AH112=$E112),20,IF(AE112=$D112,10,IF(AH112=$E112,10,IF(AND(AE112<>$D112,AH112<>$E112),0)))))","v":10},{"$f":"IF(COUNTIF($D$11:$E$26,AH112),20,0)+IF(COUNTIF($D$11:$E$26,AE112),20,0)","v":40},{"$f":"IF(OR(AE112=\"\",AH112=\"\"),0,IF(AND(AE112=$D112,AH112=$E112,AF112=$F112,AG112=$G112),30,0))","v":0},"Deutschland",2,0,"Schottland",{"$f":"IF(OR(AL112=\"\",AO112=\"\"),0,IF(AND(AL112=$D112,AO112=$E112),20,IF(AL112=$D112,10,IF(AO112=$E112,10,IF(AND(AL112<>$D112,AO112<>$E112),0)))))","v":10},{"$f":"IF(COUNTIF($D$11:$E$26,AO112),20,0)+IF(COUNTIF($D$11:$E$26,AL112),20,0)","v":20},{"$f":"IF(OR(AL112=\"\",AO112=\"\"),0,IF(AND(AL112=$D112,AO112=$E112,AM112=$F112,AN112=$G112),30,0))","v":0},"Deutschland",1,0,"Schottland",{"$f":"IF(OR(AS112=\"\",AV112=\"\"),0,IF(AND(AS112=$D112,AV112=$E112),20,IF(AS112=$D112,10,IF(AV112=$E112,10,IF(AND(AS112<>$D112,AV112<>$E112),0)))))","v":10},{"$f":"IF(COUNTIF($D$11:$E$26,AV112),20,0)+IF(COUNTIF($D$11:$E$26,AS112),20,0)","v":20},{"$f":"IF(OR(AS112=\"\",AV112=\"\"),0,IF(AND(AS112=$D112,AV112=$E112,AT112=$F112,AU112=$G112),30,0))","v":0},"Deutschland",3,1,"Schottland",{"$f":"IF(OR(AZ112=\"\",BC112=\"\"),0,IF(AND(AZ112=$D112,BC112=$E112),20,IF(AZ112=$D112,10,IF(BC112=$E112,10,IF(AND(AZ112<>$D112,BC112<>$E112),0)))))","v":10},{"$f":"IF(COUNTIF($D$11:$E$26,BC112),20,0)+IF(COUNTIF($D$11:$E$26,AZ112),20,0)","v":20},{"$f":"IF(OR(AZ112=\"\",BC112=\"\"),0,IF(AND(AZ112=$D112,BC112=$E112,BA112=$F112,BB112=$G112),30,0))","v":0},"Deutschland",2,0,"Schottland",{"$f":"IF(OR(BG112=\"\",BJ112=\"\"),0,IF(AND(BG112=$D112,BJ112=$E112),20,IF(BG112=$D112,10,IF(BJ112=$E112,10,IF(AND(BG112<>$D112,BJ112<>$E112),0)))))","v":10},{"$f":"IF(COUNTIF($D$11:$E$26,BJ112),20,0)+IF(COUNTIF($D$11:$E$26,BG112),20,0)","v":20},{"$f":"IF(OR(BG112=\"\",BJ112=\"\"),0,IF(AND(BG112=$D112,BJ112=$E112,BH112=$F112,BI112=$G112),30,0))","v":0},"Deutschland",2,0,"Australien",{"$f":"IF(OR(BN112=\"\",BQ112=\"\"),0,IF(AND(BN112=$D112,BQ112=$E112),20,IF(BN112=$D112,10,IF(BQ112=$E112,10,IF(AND(BN112<>$D112,BQ112<>$E112),0)))))","v":10},{"$f":"IF(COUNTIF($D$11:$E$26,BQ112),20,0)+IF(COUNTIF($D$11:$E$26,BN112),20,0)","v":40},{"$f":"IF(OR(BN112=\"\",BQ112=\"\"),0,IF(AND(BN112=$D112,BQ112=$E112,BO112=$F112,BP112=$G112),30,0))","v":0},"Deutschland",2,0,"Marokko",{"$f":"IF(OR(BU112=\"\",BX112=\"\"),0,IF(AND(BU112=$D112,BX112=$E112),20,IF(BU112=$D112,10,IF(BX112=$E112,10,IF(AND(BU112<>$D112,BX112<>$E112),0)))))","v":10},{"$f":"IF(COUNTIF($D$11:$E$26,BX112),20,0)+IF(COUNTIF($D$11:$E$26,BU112),20,0)","v":40},{"$f":"IF(OR(BU112=\"\",BX112=\"\"),0,IF(AND(BU112=$D112,BX112=$E112,BV112=$F112,BW112=$G112),30,0))","v":0},"Deutschland",2,0,"Schottland",{"$f":"IF(OR(CB112=\"\",CE112=\"\"),0,IF(AND(CB112=$D112,CE112=$E112),20,IF(CB112=$D112,10,IF(CE112=$E112,10,IF(AND(CB112<>$D112,CE112<>$E112),0)))))","v":10},{"$f":"IF(COUNTIF($D$11:$E$26,CE112),20,0)+IF(COUNTIF($D$11:$E$26,CB112),20,0)","v":20},{"$f":"IF(OR(CB112=\"\",CE112=\"\"),0,IF(AND(CB112=$D112,CE112=$E112,CC112=$F112,CD112=$G112),30,0))","v":0},"Deutschland",3,0,"Schottland",{"$f":"IF(OR(CI112=\"\",CL112=\"\"),0,IF(AND(CI112=$D112,CL112=$E112),20,IF(CI112=$D112,10,IF(CL112=$E112,10,IF(AND(CI112<>$D112,CL112<>$E112),0)))))","v":10},{"$f":"IF(COUNTIF($D$11:$E$26,CL112),20,0)+IF(COUNTIF($D$11:$E$26,CI112),20,0)","v":20},{"$f":"IF(OR(CI112=\"\",CL112=\"\"),0,IF(AND(CI112=$D112,CL112=$E112,CJ112=$F112,CK112=$G112),30,0))","v":0},"Curacao",3,4,"Australien",{"$f":"IF(OR(CP112=\"\",CS112=\"\"),0,IF(AND(CP112=$D112,CS112=$E112),20,IF(CP112=$D112,10,IF(CS112=$E112,10,IF(AND(CP112<>$D112,CS112<>$E112),0)))))","v":0},{"$f":"IF(COUNTIF($D$11:$E$26,CS112),20,0)+IF(COUNTIF($D$11:$E$26,CP112),20,0)","v":20},{"$f":"IF(OR(CP112=\"\",CS112=\"\"),0,IF(AND(CP112=$D112,CS112=$E112,CQ112=$F112,CR112=$G112),30,0))","v":0},"Deutschland",2,1,"Australien",{"$f":"IF(OR(CW112=\"\",CZ112=\"\"),0,IF(AND(CW112=$D112,CZ112=$E112),20,IF(CW112=$D112,10,IF(CZ112=$E112,10,IF(AND(CW112<>$D112,CZ112<>$E112),0)))))","v":10},{"$f":"IF(COUNTIF($D$11:$E$26,CZ112),20,0)+IF(COUNTIF($D$11:$E$26,CW112),20,0)","v":40},{"$f":"IF(OR(CW112=\"\",CZ112=\"\"),0,IF(AND(CW112=$D112,CZ112=$E112,CX112=$F112,CY112=$G112),30,0))","v":0},"Deutschland",3,1,"Schottland",{"$f":"IF(OR(DD112=\"\",DG112=\"\"),0,IF(AND(DD112=$D112,DG112=$E112),20,IF(DD112=$D112,10,IF(DG112=$E112,10,IF(AND(DD112<>$D112,DG112<>$E112),0)))))","v":10},{"$f":"IF(COUNTIF($D$11:$E$26,DG112),20,0)+IF(COUNTIF($D$11:$E$26,DD112),20,0)","v":20},{"$f":"IF(OR(DD112=\"\",DG112=\"\"),0,IF(AND(DD112=$D112,DG112=$E112,DE112=$F112,DF112=$G112),30,0))","v":0},"Deutschland",2,0,"Australien",{"$f":"IF(OR(DK112=\"\",DN112=\"\"),0,IF(AND(DK112=$D112,DN112=$E112),20,IF(DK112=$D112,10,IF(DN112=$E112,10,IF(AND(DK112<>$D112,DN112<>$E112),0)))))","v":10},{"$f":"IF(COUNTIF($D$11:$E$26,DN112),20,0)+IF(COUNTIF($D$11:$E$26,DK112),20,0)","v":40},{"$f":"IF(OR(DK112=\"\",DN112=\"\"),0,IF(AND(DK112=$D112,DN112=$E112,DL112=$F112,DM112=$G112),30,0))","v":0},"Deutschland",2,0,"Schottland",{"$f":"IF(OR(DR112=\"\",DU112=\"\"),0,IF(AND(DR112=$D112,DU112=$E112),20,IF(DR112=$D112,10,IF(DU112=$E112,10,IF(AND(DR112<>$D112,DU112<>$E112),0)))))","v":10},{"$f":"IF(COUNTIF($D$11:$E$26,DU112),20,0)+IF(COUNTIF($D$11:$E$26,DR112),20,0)","v":20},{"$f":"IF(OR(DR112=\"\",DU112=\"\"),0,IF(AND(DR112=$D112,DU112=$E112,DS112=$F112,DT112=$G112),30,0))","v":0},"Deutschland",3,0,"Schottland",{"$f":"IF(OR(DY112=\"\",EB112=\"\"),0,IF(AND(DY112=$D112,EB112=$E112),20,IF(DY112=$D112,10,IF(EB112=$E112,10,IF(AND(DY112<>$D112,EB112<>$E112),0)))))","v":10},{"$f":"IF(COUNTIF($D$11:$E$26,EB112),20,0)+IF(COUNTIF($D$11:$E$26,DY112),20,0)","v":20},{"$f":"IF(OR(DY112=\"\",EB112=\"\"),0,IF(AND(DY112=$D112,EB112=$E112,DZ112=$F112,EA112=$G112),30,0))","v":0},"Deutschland",2,0,"Schottland",{"$f":"IF(OR(EF112=\"\",EI112=\"\"),0,IF(AND(EF112=$D112,EI112=$E112),20,IF(EF112=$D112,10,IF(EI112=$E112,10,IF(AND(EF112<>$D112,EI112<>$E112),0)))))","v":10},{"$f":"IF(COUNTIF($D$11:$E$26,EI112),20,0)+IF(COUNTIF($D$11:$E$26,EF112),20,0)","v":20},{"$f":"IF(OR(EF112=\"\",EI112=\"\"),0,IF(AND(EF112=$D112,EI112=$E112,EG112=$F112,EH112=$G112),30,0))","v":0},"Deutschland",3,1,"Schottland",{"$f":"IF(OR(EM112=\"\",EP112=\"\"),0,IF(AND(EM112=$D112,EP112=$E112),20,IF(EM112=$D112,10,IF(EP112=$E112,10,IF(AND(EM112<>$D112,EP112<>$E112),0)))))","v":10},{"$f":"IF(COUNTIF($D$11:$E$26,EP112),20,0)+IF(COUNTIF($D$11:$E$26,EM112),20,0)","v":20},{"$f":"IF(OR(EM112=\"\",EP112=\"\"),0,IF(AND(EM112=$D112,EP112=$E112,EN112=$F112,EO112=$G112),30,0))","v":0},null,{"$f":"_xlfn.TEXTJOIN(\", \",TRUE,_xlfn._xlws.FILTER(INDEX($J$104:$EM$104,1,_xlfn.SEQUENCE(1,(COLUMNS($J$104:$EM$104)-1)/7+1,1,7))&\" \"&INDEX($J$105:$EM$105,1,_xlfn.SEQUENCE(1,(COLUMNS($J$105:$EM$105)-1)/7+1,1,7)),INDEX($P112:$ES112,1,_xlfn.SEQUENCE(1,(COLUMNS($P112:$ES112)-1)/7+1,1,7))>0,\"\"))","v":""}]
[{"$f":"A63","v":"Di. 30. Jun"},"03:00:00",75,"Holland","Marokko",{"$f":"IF(F63=\"\",\"\",F63)","v":2},3,null,null,"Holland",2,1,"Marokko",20,40,0,"Japan",2,0,"Schottland",0,20,0,"Holland",2,0,"Schottland",10,20,0,"Holland",2,1,"Marokko",20,40,0,"Holland",1,0,"Marokko",20,40,0,"Holland",1,0,"Marokko",20,40,0,"Holland",1,2,"Marokko",20,40,0,"Holland",2,3,"Marokko",20,40,30,"Holland",1,0,"Schottland",10,20,0,"Holland",2,0,"Schottland",10,20,0,"Holland",2,1,"Marokko",20,40,0,"Tunesien",1,2,"Marokko",10,20,0,"Japan",4,3,"Marokko",10,40,0,"Schweden",1,0,"Schottland",0,20,0,"Holland",1,2,"Marokko",20,40,0,"Holland",1,2,"Marokko",20,40,0,"Holland",2,1,"Marokko",20,40,0,"Schweden",2,3,"Marokko",10,40,0,"Holland",2,1,"Marokko",20,40,0,"Holland",2,0,"Marokko",20,40,0,null,{"$f":"_xlfn.TEXTJOIN(\", \",TRUE,_xlfn._xlws.FILTER(INDEX($J$104:$EM$104,1,_xlfn.SEQUENCE(1,(COLUMNS($J$104:$EM$104)-1)/7+1,1,7))&\" \"&INDEX($J$105:$EM$105,1,_xlfn.SEQUENCE(1,(COLUMNS($J$105:$EM$105)-1)/7+1,1,7)),INDEX($P113:$ES113,1,_xlfn.SEQUENCE(1,(COLUMNS($P113:$ES113)-1)/7+1,1,7))>0,\"\"))","v":"André Lanz"}]
[{"$f":"A64","v":"Mo. 29. Jun"},"19:00:00",76,"Brasilien","Japan",{"$f":"IF(F64=\"\",\"\",F64)","v":2},1,null,null,"Brasilien",3,1,"Japan",20,40,0,"Brasilien",2,0,"Holland",10,40,0,"Brasilien",2,1,"Japan",20,40,30,"Brasilien",2,1,"Japan",20,40,30,"Brasilien",1,0,"Japan",20,40,0,"Brasilien",1,0,"Japan",20,40,0,"Brasilien",2,1,"Japan",20,40,30,"Brasilien",4,2,"Japan",20,40,0,"Brasilien",3,2,"Japan",20,40,0,"Brasilien",3,1,"Japan",20,40,0,"Brasilien",2,0,"Schweden",10,40,0,"Brasilien",3,1,"Japan",20,40,0,"Brasilien",3,2,"Schweden",10,40,0,"Brasilien",3,1,"Holland",10,40,0,"Brasilien",3,1,"Schweden",10,40,0,"Brasilien",2,0,"Japan",20,40,0,"Brasilien",2,0,"Schweden",10,40,0,"Brasilien",4,2,"Holland",10,40,0,"Brasilien",3,1,"Japan",20,40,0,"Brasilien",3,1,"Japan",20,40,0,null,{"$f":"_xlfn.TEXTJOIN(\", \",TRUE,_xlfn._xlws.FILTER(INDEX($J$104:$EM$104,1,_xlfn.SEQUENCE(1,(COLUMNS($J$104:$EM$104)-1)/7+1,1,7))&\" \"&INDEX($J$105:$EM$105,1,_xlfn.SEQUENCE(1,(COLUMNS($J$105:$EM$105)-1)/7+1,1,7)),INDEX($P114:$ES114,1,_xlfn.SEQUENCE(1,(COLUMNS($P114:$ES114)-1)/7+1,1,7))>0,\"\"))","v":"Andreas Isenschmid, Michael Isenschmid, Tanja Kistler"}]
[{"$f":"A65","v":"Di. 30. Jun"},"23:00:00",77,"Frankreich","Schweden",{"$f":"IF(F65=\"\",\"\",F65)","v":3},0,null,null,"Frankreich",3,0,"Ägypten",10,40,0,"Frankreich",3,1,"Schweden",20,40,0,"Frankreich",3,1,"Schweden",20,40,0,"Frankreich",2,1,"Schweden",20,40,0,"Frankreich",2,0,"Schweden",20,40,0,"Frankreich",1,0,"Tunesien",10,20,0,"Frankreich",2,1,"Paraguay",10,40,0,"Frankreich",2,0,"Schweden",20,40,0,"Frankreich",2,0,"Schweden",20,40,0,"Frankreich",3,0,"Neuseeland",10,20,0,"Frankreich",2,0,"Japan",10,40,0,"Frankreich",4,1,"Holland",10,40,0,"Frankreich",3,4,"Neuseeland",10,20,0,"Frankreich",2,0,"Uruguay",10,20,0,"Frankreich",3,0,"Japan",10,40,0,"Frankreich",2,0,"Schweden",20,40,0,"Frankreich",3,1,"Japan",10,40,0,"Frankreich",3,0,"Australien",10,40,0,"Frankreich",2,0,"Paraguay",10,40,0,"Frankreich",4,2,"Schweden",20,40,0,null,{"$f":"_xlfn.TEXTJOIN(\", \",TRUE,_xlfn._xlws.FILTER(INDEX($J$104:$EM$104,1,_xlfn.SEQUENCE(1,(COLUMNS($J$104:$EM$104)-1)/7+1,1,7))&\" \"&INDEX($J$105:$EM$105,1,_xlfn.SEQUENCE(1,(COLUMNS($J$105:$EM$105)-1)/7+1,1,7)),INDEX($P115:$ES115,1,_xlfn.SEQUENCE(1,(COLUMNS($P115:$ES115)-1)/7+1,1,7))>0,\"\"))","v":""}]
[{"$f":"A66","v":"Di. 30. Jun"},"19:00:00",78,"Elfenbeinküste","Norwegen",{"$f":"IF(F66=\"\",\"\",F66)","v":1},2,null,null,"Ecuador",1,2,"Norwegen",10,40,0,"Elfenbeinküste",0,2,"Norwegen",20,40,0,"Ecuador",1,3,"Norwegen",10,40,0,"Elfenbeinküste",1,2,"Senegal",10,40,0,"Ecuador",0,1,"Norwegen",10,40,0,"Elfenbeinküste",1,0,"Senegal",10,40,0,"Ecuador",0,1,"Norwegen",10,40,0,"Elfenbeinküste",1,2,"Norwegen",20,40,30,"Ecuador",1,0,"Norwegen",10,40,0,"Ecuador",0,2,"Norwegen",10,40,0,"Ecuador",1,2,"Norwegen",10,40,0,"Elfenbeinküste",1,2,"Senegal",10,40,0,"Deutschland",4,3,"Irak",0,20,0,"Elfenbeinküste",0,1,"Norwegen",20,40,0,"Ecuador",1,2,"Norwegen",10,40,0,"Elfenbeinküste",1,0,"Norwegen",20,40,0,"Ecuador",0,2,"Senegal",0,40,0,"Ecuador",0,2,"Norwegen",10,40,0,"Ecuador",3,4,"Norwegen",10,40,0,"Elfenbeinküste",2,1,"Norwegen",20,40,0,null,{"$f":"_xlfn.TEXTJOIN(\", \",TRUE,_xlfn._xlws.FILTER(INDEX($J$104:$EM$104,1,_xlfn.SEQUENCE(1,(COLUMNS($J$104:$EM$104)-1)/7+1,1,7))&\" \"&INDEX($J$105:$EM$105,1,_xlfn.SEQUENCE(1,(COLUMNS($J$105:$EM$105)-1)/7+1,1,7)),INDEX($P116:$ES116,1,_xlfn.SEQUENCE(1,(COLUMNS($P116:$ES116)-1)/7+1,1,7))>0,\"\"))","v":"André Lanz"}]
[{"$f":"A67","v":"Mi. 01. Jul"},"03:00:00",79,"Mexiko","Ecuador",{"$f":"IF(F67=\"\",\"\",F67)","v":2},0,null,null,"Mexiko",2,1,"Schottland",10,20,0,"Südkorea",2,1,"Marokko",0,20,0,"Mexiko",2,0,"Elfenbeinküste",10,40,0,"Mexiko",2,1,"Schottland",10,20,0,"Mexiko",1,0,"Saudi-Arabien",10,20,0,"Mexiko",1,0,"Saudi-Arabien",10,20,0,"Mexiko",2,0,"Saudi-Arabien",10,20,0,"Mexiko",4,3,"Ecuador",20,40,0,"Tschechien",1,0,"Senegal",0,20,0,"Mexiko",2,0,"Elfenbeinküste",10,40,0,"Mexiko",2,0,"Elfenbeinküste",10,40,0,"Mexiko",3,1,"Saudi-Arabien",10,20,0,"Mexiko",3,4,"Ecuador",20,40,0,"Mexiko",1,0,"Ecuador",20,40,0,"Mexiko",3,1,"Saudi-Arabien",10,20,0,"Tschechien",1,0,"Schottland",0,0,0,"Mexiko",2,1,"Elfenbeinküste",10,40,0,"Mexiko",3,2,"Kap Verde",10,40,0,"Mexiko",1,2,"Elfenbeinküste",10,40,0,"Südkorea",3,1,"Saudi-Arabien",0,0,0,null,{"$f":"_xlfn.TEXTJOIN(\", \",TRUE,_xlfn._xlws.FILTER(INDEX($J$104:$EM$104,1,_xlfn.SEQUENCE(1,(COLUMNS($J$104:$EM$104)-1)/7+1,1,7))&\" \"&INDEX($J$105:$EM$105,1,_xlfn.SEQUENCE(1,(COLUMNS($J$105:$EM$105)-1)/7+1,1,7)),INDEX($P117:$ES117,1,_xlfn.SEQUENCE(1,(COLUMNS($P117:$ES117)-1)/7+1,1,7))>0,\"\"))","v":""}]
[{"$f":"A68","v":"Mi. 01. Jul"},"18:00:00",80,"England","DR Kongo",{"$f":"IF(F68=\"\",\"\",F68)","v":2},1,null,null,"England",3,0,"Senegal",10,40,0,"England",3,1,"DR Kongo",20,40,0,"England",2,0,"DR Kongo",20,40,0,"England",2,1,"Norwegen",10,40,0,"England",1,0,"Senegal",10,40,0,"England",1,0,"Ecuador",10,40,0,"Kroatien",1,0,"DR Kongo",10,40,0,"England",2,0,"Senegal",10,40,0,"England",1,0,"DR Kongo",20,40,0,"England",3,0,"Usbekistan",10,20,0,"England",2,0,"Algerien",10,40,0,"England",4,1,"Norwegen",10,40,0,"England",4,3,"Kolumbien",10,40,0,"England",2,0,"Kolumbien",10,40,0,"Kroatien",0,2,"Senegal",0,40,0,"Kroatien",1,0,"Senegal",0,40,0,"Kroatien",1,2,"Norwegen",0,40,0,"England",3,0,"DR Kongo",20,40,0,"England",2,1,"Kolumbien",10,40,0,"England",3,2,"DR Kongo",20,40,0,null,{"$f":"_xlfn.TEXTJOIN(\", \",TRUE,_xlfn._xlws.FILTER(INDEX($J$104:$EM$104,1,_xlfn.SEQUENCE(1,(COLUMNS($J$104:$EM$104)-1)/7+1,1,7))&\" \"&INDEX($J$105:$EM$105,1,_xlfn.SEQUENCE(1,(COLUMNS($J$105:$EM$105)-1)/7+1,1,7)),INDEX($P118:$ES118,1,_xlfn.SEQUENCE(1,(COLUMNS($P118:$ES118)-1)/7+1,1,7))>0,\"\"))","v":""}]
[{"$f":"A69","v":"Do. 02. Jul"},"02:00:00",81,"USA","Bosnien-Herz.",{"$f":"IF(F69=\"\",\"\",F69)","v":2},0,null,null,"USA",2,1,"Bosnien-Herz.",20,40,0,"USA",2,1,"Bosnien-Herz.",20,40,0,"Paraguay",2,1,"Kanada",0,40,0,"Türkei",2,1,"Kanada",0,20,0,"Türkei",1,0,"Kanada",0,20,0,"USA",1,0,"Bosnien-Herz.",20,40,0,"Türkei",2,1,"Schweden",0,20,0,"Türkei",3,1,"Kanada",0,20,0,"Türkei",3,0,"Bosnien-Herz.",10,20,0,"Türkei",2,1,"Bosnien-Herz.",10,20,0,"USA",2,1,"Bosnien-Herz.",20,40,0,"Türkei",3,0,"Bosnien-Herz.",10,20,0,"Türkei",4,3,"Bosnien-Herz.",10,20,0,"USA",1,0,"Jordanien",10,20,0,"Türkei",1,0,"Kanada",0,20,0,"USA",1,0,"Katar",10,20,0,"Türkei",1,0,"Kanada",0,20,0,"Türkei",1,0,"Kanada",0,20,0,"Türkei",4,3,"Kanada",0,20,0,"USA",1,2,"Senegal",10,40,0,null,{"$f":"_xlfn.TEXTJOIN(\", \",TRUE,_xlfn._xlws.FILTER(INDEX($J$104:$EM$104,1,_xlfn.SEQUENCE(1,(COLUMNS($J$104:$EM$104)-1)/7+1,1,7))&\" \"&INDEX($J$105:$EM$105,1,_xlfn.SEQUENCE(1,(COLUMNS($J$105:$EM$105)-1)/7+1,1,7)),INDEX($P119:$ES119,1,_xlfn.SEQUENCE(1,(COLUMNS($P119:$ES119)-1)/7+1,1,7))>0,\"\"))","v":""}]
[{"$f":"A70","v":"Mi. 01. Jul"},"22:00:00",82,"Belgien","Senegal",{"$f":"IF(F70=\"\",\"\",F70)","v":3},2,null,null,"Belgien",2,0,"Tschechien",10,20,0,"Belgien",2,0,"Tschechien",10,20,0,"Belgien",3,1,"Saudi-Arabien",10,20,0,"Belgien",2,1,"Tschechien",10,20,0,"Belgien",1,0,"Österreich",10,40,0,"Belgien",1,0,"Tschechien",10,20,0,"Belgien",2,1,"Tschechien",10,20,0,"Belgien",2,0,"Saudi-Arabien",10,20,0,"Belgien",1,0,"Südafrika",10,40,0,"Belgien",2,0,"Senegal",20,40,0,"Belgien",2,0,"Südkorea",10,20,0,"Belgien",2,1,"Südkorea",10,20,0,"Iran",4,3,"Südkorea",0,0,0,"Belgien",2,1,"Südafrika",10,40,0,"Ägypten",0,1,"Tschechien",0,20,0,"Belgien",1,0,"Südkorea",10,20,0,"Belgien",0,1,"Südkorea",10,20,0,"Belgien",2,1,"Südafrika",10,40,0,"Belgien",2,0,"Südkorea",10,20,0,"Belgien",1,0,"Südafrika",10,40,0,null,{"$f":"_xlfn.TEXTJOIN(\", \",TRUE,_xlfn._xlws.FILTER(INDEX($J$104:$EM$104,1,_xlfn.SEQUENCE(1,(COLUMNS($J$104:$EM$104)-1)/7+1,1,7))&\" \"&INDEX($J$105:$EM$105,1,_xlfn.SEQUENCE(1,(COLUMNS($J$105:$EM$105)-1)/7+1,1,7)),INDEX($P120:$ES120,1,_xlfn.SEQUENCE(1,(COLUMNS($P120:$ES120)-1)/7+1,1,7))>0,\"\"))","v":""}]
[{"$f":"A71","v":"Fr. 03. Jul"},"01:00:00",83,"Portugal","Kroatien",{"$f":"IF(F71=\"\",\"\",F71)","v":2},1,null,null,"Kolumbien",2,1,"Kroatien",10,40,0,"Kolumbien",1,2,"Kroatien",10,40,0,"Kolumbien",1,2,"Kroatien",10,40,0,"Kolumbien",2,1,"Kroatien",10,40,0,"Kolumbien",2,0,"Ghana",0,40,0,"Kolumbien",0,1,"Ghana",0,40,0,"Kolumbien",2,1,"England",0,40,0,"Kolumbien",3,1,"Kroatien",10,40,0,"Kolumbien",2,1,"Kroatien",10,40,0,"Kolumbien",0,2,"Kroatien",10,40,0,"Kolumbien",2,1,"Kroatien",10,40,0,"Kolumbien",1,3,"Kroatien",10,40,0,"Usbekistan",3,4,"Ghana",0,20,0,"Usbekistan",0,3,"Kroatien",10,20,0,"Kolumbien",1,3,"England",0,40,0,"Kolumbien",0,2,"England",0,40,0,"Kolumbien",2,1,"England",0,40,0,"Kolumbien",2,1,"Kroatien",10,40,0,"DR Kongo",4,2,"Kroatien",10,40,0,"Kolumbien",1,2,"Ghana",0,40,0,null,{"$f":"_xlfn.TEXTJOIN(\", \",TRUE,_xlfn._xlws.FILTER(INDEX($J$104:$EM$104,1,_xlfn.SEQUENCE(1,(COLUMNS($J$104:$EM$104)-1)/7+1,1,7))&\" \"&INDEX($J$105:$EM$105,1,_xlfn.SEQUENCE(1,(COLUMNS($J$105:$EM$105)-1)/7+1,1,7)),INDEX($P121:$ES121,1,_xlfn.SEQUENCE(1,(COLUMNS($P121:$ES121)-1)/7+1,1,7))>0,\"\"))","v":""}]
[{"$f":"A72","v":"Do. 02. Jul"},"21:00:00",84,"Spanien","Österreich",{"$f":"IF(F72=\"\",\"\",F72)","v":3},0,null,null,"Spanien",3,0,"Österreich",20,40,30,"Spanien",3,0,"Österreich",20,40,30,"Spanien",2,0,"Österreich",20,40,0,"Spanien",2,1,"Österreich",20,40,0,"Spanien",2,0,"Algerien",10,40,0,"Spanien",1,0,"Österreich",20,40,0,"Spanien",2,1,"Österreich",20,40,0,"Spanien",2,0,"Österreich",20,40,0,"Spanien",3,0,"Österreich",20,40,30,"Spanien",3,1,"Österreich",20,40,0,"Spanien",2,0,"Österreich",20,40,0,"Spanien",4,1,"Algerien",10,40,0,"Spanien",4,5,"Argentinien",10,40,0,"Spanien",3,1,"Österreich",20,40,0,"Spanien",4,1,"Österreich",20,40,0,"Spanien",2,0,"Österreich",20,40,0,"Spanien",2,0,"Österreich",20,40,0,"Spanien",3,0,"Österreich",20,40,30,"Spanien",2,1,"Argentinien",10,40,0,"Spanien",3,0,"Algerien",10,40,0,null,{"$f":"_xlfn.TEXTJOIN(\", \",TRUE,_xlfn._xlws.FILTER(INDEX($J$104:$EM$104,1,_xlfn.SEQUENCE(1,(COLUMNS($J$104:$EM$104)-1)/7+1,1,7))&\" \"&INDEX($J$105:$EM$105,1,_xlfn.SEQUENCE(1,(COLUMNS($J$105:$EM$105)-1)/7+1,1,7)),INDEX($P122:$ES122,1,_xlfn.SEQUENCE(1,(COLUMNS($P122:$ES122)-1)/7+1,1,7))>0,\"\"))","v":"Florian Haab, Agnes Isenschmid, Franz Lischer, Telmo Oliveira"}]
[{"$f":"A73","v":"Fr. 03. Jul"},"05:00:00",85,"Schweiz","Algerien",{"$f":"IF(F73=\"\",\"\",F73)","v":2},0,null,null,"Schweiz",2,1,"Algerien",20,40,0,"Schweiz",2,1,"Algerien",20,40,0,"Schweiz",2,1,"Algerien",20,40,0,"Schweiz",2,1,"Algerien",20,40,0,"Schweiz",1,0,"Iran",10,20,0,"Schweiz",1,0,"Iran",10,20,0,"Schweiz",2,1,"Ägypten",10,40,0,"Schweiz",2,1,"Iran",10,20,0,"Schweiz",2,1,"Ägypten",10,40,0,"Schweiz",1,0,"Algerien",20,40,0,"Schweiz",2,0,"Ägypten",10,40,0,"Schweiz",3,0,"Österreich",10,40,0,"Schweiz",3,2,"Algerien",20,40,0,"Schweiz",2,1,"Neuseeland",10,20,0,"Schweiz",2,1,"Belgien",10,40,0,"Schweiz",1,0,"Neuseeland",10,20,0,"Schweiz",2,0,"Algerien",20,40,30,"Bosnien-Herz.",1,0,"Japan",0,40,0,"Schweiz",2,0,"Iran",10,20,0,"Schweiz",2,1,"Ägypten",10,40,0,null,{"$f":"_xlfn.TEXTJOIN(\", \",TRUE,_xlfn._xlws.FILTER(INDEX($J$104:$EM$104,1,_xlfn.SEQUENCE(1,(COLUMNS($J$104:$EM$104)-1)/7+1,1,7))&\" \"&INDEX($J$105:$EM$105,1,_xlfn.SEQUENCE(1,(COLUMNS($J$105:$EM$105)-1)/7+1,1,7)),INDEX($P123:$ES123,1,_xlfn.SEQUENCE(1,(COLUMNS($P123:$ES123)-1)/7+1,1,7))>0,\"\"))","v":"Philipp Meyer"}]
[{"$f":"A74","v":"Sa. 04. Jul"},"00:00:00",86,"Argentinien","Kap Verde",{"$f":"IF(F74=\"\",\"\",F74)","v":3},2,null,null,"Argentinien",3,1,"Uruguay",10,20,0,"Argentinien",2,0,"Uruguay",10,20,0,"Argentinien",2,0,"Uruguay",10,20,0,"Argentinien",2,1,"Uruguay",10,20,0,"Argentinien",1,0,"Uruguay",10,20,0,"Argentinien",1,0,"Uruguay",10,20,0,"Argentinien",2,1,"Uruguay",10,20,0,"Argentinien",3,2,"Uruguay",10,20,0,"Argentinien",2,0,"Uruguay",10,20,0,"Argentinien",2,1,"Uruguay",10,20,0,"Argentinien",2,1,"Uruguay",10,20,0,"Argentinien",3,1,"Uruguay",10,20,0,"Österreich",5,3,"Saudi-Arabien",0,20,0,"Argentinien",2,0,"Saudi-Arabien",10,20,0,"Argentinien",3,1,"Uruguay",10,20,0,"Argentinien",2,1,"Uruguay",10,20,0,"Argentinien",2,1,"Uruguay",10,20,0,"Argentinien",4,3,"Uruguay",10,20,0,"Österreich",2,1,"Uruguay",0,20,0,"Argentinien",2,1,"Uruguay",10,20,0,null,{"$f":"_xlfn.TEXTJOIN(\", \",TRUE,_xlfn._xlws.FILTER(INDEX($J$104:$EM$104,1,_xlfn.SEQUENCE(1,(COLUMNS($J$104:$EM$104)-1)/7+1,1,7))&\" \"&INDEX($J$105:$EM$105,1,_xlfn.SEQUENCE(1,(COLUMNS($J$105:$EM$105)-1)/7+1,1,7)),INDEX($P124:$ES124,1,_xlfn.SEQUENCE(1,(COLUMNS($P124:$ES124)-1)/7+1,1,7))>0,\"\"))","v":""}]
[{"$f":"A75","v":"Sa. 04. Jul"},"03:30:00",87,"Kolumbien","Ghana",{"$f":"IF(F75=\"\",\"\",F75)","v":1},0,null,null,"Portugal",3,0,"Ghana",10,40,0,"Portugal",2,0,"Ecuador",0,40,0,"Portugal",2,0,"Ghana",10,40,0,"Portugal",2,1,"Ecuador",0,40,0,"Portugal",1,0,"Kroatien",0,40,0,"Portugal",1,0,"Paraguay",0,40,0,"Portugal",2,0,"Ghana",10,40,0,"Portugal",3,0,"Panama",0,20,0,"Portugal",2,0,"Panama",0,20,0,"Portugal",1,0,"Ghana",10,40,0,"Portugal",2,0,"Senegal",0,40,0,"Portugal",4,0,"Ecuador",0,40,0,"Portugal",2,3,"Panama",0,20,0,"Portugal",2,0,"Irak",0,20,0,"Portugal",2,0,"Elfenbeinküste",0,40,0,"Portugal",2,0,"Ecuador",0,40,0,"Portugal",2,0,"Ghana",10,40,0,"Portugal",3,0,"Senegal",0,40,0,"Portugal",3,1,"Senegal",0,40,0,"Portugal",2,1,"Kroatien",0,40,0,null,{"$f":"_xlfn.TEXTJOIN(\", \",TRUE,_xlfn._xlws.FILTER(INDEX($J$104:$EM$104,1,_xlfn.SEQUENCE(1,(COLUMNS($J$104:$EM$104)-1)/7+1,1,7))&\" \"&INDEX($J$105:$EM$105,1,_xlfn.SEQUENCE(1,(COLUMNS($J$105:$EM$105)-1)/7+1,1,7)),INDEX($P125:$ES125,1,_xlfn.SEQUENCE(1,(COLUMNS($P125:$ES125)-1)/7+1,1,7))>0,\"\"))","v":""}]
[{"$f":"A76","v":"Fr. 03. Jul"},"20:00:00",88,"Australien","Ägypten",{"$f":"IF(F76=\"\",\"\",F76)","v":2},4,null,null,"Türkei",2,1,"Iran",0,0,0,"Türkei",2,1,"Ägypten",10,20,0,"Türkei",2,1,"Ägypten",10,20,0,"Paraguay",1,2,"Ägypten",10,40,0,"USA",1,0,"Ägypten",10,40,0,"Türkei",1,0,"Ägypten",10,20,0,"USA",1,0,"Iran",0,20,0,"USA",0,2,"Ägypten",10,40,0,"Paraguay",1,0,"Iran",0,20,0,"Australien",3,2,"Ägypten",20,40,0,"Türkei",2,0,"Iran",0,0,0,"USA",2,1,"Ägypten",10,40,0,"USA",4,5,"Ägypten",10,40,0,"Türkei",2,1,"Iran",0,0,0,"Australien",2,1,"Neuseeland",10,20,0,"Türkei",1,2,"Ägypten",10,20,0,"Paraguay",0,1,"Ägypten",10,40,0,"USA",1,0,"Neuseeland",0,20,0,"USA",1,2,"Ägypten",10,40,0,"Türkei",2,1,"Iran",0,0,0,null,{"$f":"_xlfn.TEXTJOIN(\", \",TRUE,_xlfn._xlws.FILTER(INDEX($J$104:$EM$104,1,_xlfn.SEQUENCE(1,(COLUMNS($J$104:$EM$104)-1)/7+1,1,7))&\" \"&INDEX($J$105:$EM$105,1,_xlfn.SEQUENCE(1,(COLUMNS($J$105:$EM$105)-1)/7+1,1,7)),INDEX($P126:$ES126,1,_xlfn.SEQUENCE(1,(COLUMNS($P126:$ES126)-1)/7+1,1,7))>0,\"\"))","v":""}]
["Achtelfinale",null,null,null,null,null,null,null,null,null,null,null,null,null,null,null,null,null,null,null,null,null,null,null,null,null,null,null,null,null,null,null,null,null,null,null,null,null,null,null,null,null,null,null,null,null,null,null,null,null,null,null,null,null,null,null,null,null,null,null,null,null,null,null,null,null,null,null,null,null,null,null,null,null,null,null,null,null,null,null,null,null,null,null,null,null,null,null,null,null,null,null,null,null,null,null,null,null,null,null,null,null,null,null,null,null,null,null,null,null,null,null,null,null,null,null,null,null,null,null,null,null,null,null,null,null,null,null,null,null,null,null,null,null,null,null,null,null,null,null,null,null,null,null,null,null,null,null,null,null,{"$f":"_xlfn.TEXTJOIN(\", \",TRUE,_xlfn._xlws.FILTER(INDEX($J$104:$EM$104,1,_xlfn.SEQUENCE(1,(COLUMNS($J$104:$EM$104)-1)/7+1,1,7))&\" \"&INDEX($J$105:$EM$105,1,_xlfn.SEQUENCE(1,(COLUMNS($J$105:$EM$105)-1)/7+1,1,7)),INDEX($P127:$ES127,1,_xlfn.SEQUENCE(1,(COLUMNS($P127:$ES127)-1)/7+1,1,7))>0,\"\"))","v":""}]
[{"$f":"A78","v":"Sa. 04. Jul"},"23:00:00",89,"Paraguay","Frankreich",{"$f":"IF(F78=\"\",\"\",F78)","v":0},1,null,null,"Deutschland",0,2,"Frankreich",{"$f":"IF(OR(J128=\"\",M128=\"\"),0,IF(AND(J128=$D128,M128=$E128),40,IF(J128=$D128,20,IF(M128=$E128,20,IF(AND(J128<>$D128,M128<>$E128),0)))))","v":20},{"$f":"IF(COUNTIF($D$28:$E$35,M128),40,0)+IF(COUNTIF($D$28:$E$35,J128),40,0)","v":40},{"$f":"IF(OR(J128=\"\",M128=\"\"),0,IF(AND(J128=$D128,M128=$E128,K128=$F128,L128=$G128),50,0))","v":0},"Deutschland",1,2,"Frankreich",{"$f":"IF(OR(Q128=\"\",T128=\"\"),0,IF(AND(Q128=$D128,T128=$E128),40,IF(Q128=$D128,20,IF(T128=$E128,20,IF(AND(Q128<>$D128,T128<>$E128),0)))))","v":20},{"$f":"IF(COUNTIF($D$28:$E$35,T128),40,0)+IF(COUNTIF($D$28:$E$35,Q128),40,0)","v":40},{"$f":"IF(OR(Q128=\"\",T128=\"\"),0,IF(AND(Q128=$D128,T128=$E128,R128=$F128,S128=$G128),50,0))","v":0},"Deutschland",2,3,"Frankreich",{"$f":"IF(OR(X128=\"\",AA128=\"\"),0,IF(AND(X128=$D128,AA128=$E128),40,IF(X128=$D128,20,IF(AA128=$E128,20,IF(AND(X128<>$D128,AA128<>$E128),0)))))","v":20},{"$f":"IF(COUNTIF($D$28:$E$35,AA128),40,0)+IF(COUNTIF($D$28:$E$35,X128),40,0)","v":40},{"$f":"IF(OR(X128=\"\",AA128=\"\"),0,IF(AND(X128=$D128,AA128=$E128,Y128=$F128,Z128=$G128),50,0))","v":0},"Deutschland",1,2,"Frankreich",{"$f":"IF(OR(AE128=\"\",AH128=\"\"),0,IF(AND(AE128=$D128,AH128=$E128),40,IF(AE128=$D128,20,IF(AH128=$E128,20,IF(AND(AE128<>$D128,AH128<>$E128),0)))))","v":20},{"$f":"IF(COUNTIF($D$28:$E$35,AH128),40,0)+IF(COUNTIF($D$28:$E$35,AE128),40,0)","v":40},{"$f":"IF(OR(AE128=\"\",AH128=\"\"),0,IF(AND(AE128=$D128,AH128=$E128,AF128=$F128,AG128=$G128),50,0))","v":0},"Deutschland",0,1,"Frankreich",{"$f":"IF(OR(AL128=\"\",AO128=\"\"),0,IF(AND(AL128=$D128,AO128=$E128),40,IF(AL128=$D128,20,IF(AO128=$E128,20,IF(AND(AL128<>$D128,AO128<>$E128),0)))))","v":20},{"$f":"IF(COUNTIF($D$28:$E$35,AO128),40,0)+IF(COUNTIF($D$28:$E$35,AL128),40,0)","v":40},{"$f":"IF(OR(AL128=\"\",AO128=\"\"),0,IF(AND(AL128=$D128,AO128=$E128,AM128=$F128,AN128=$G128),50,0))","v":0},"Deutschland",0,1,"Frankreich",{"$f":"IF(OR(AS128=\"\",AV128=\"\"),0,IF(AND(AS128=$D128,AV128=$E128),40,IF(AS128=$D128,20,IF(AV128=$E128,20,IF(AND(AS128<>$D128,AV128<>$E128),0)))))","v":20},{"$f":"IF(COUNTIF($D$28:$E$35,AV128),40,0)+IF(COUNTIF($D$28:$E$35,AS128),40,0)","v":40},{"$f":"IF(OR(AS128=\"\",AV128=\"\"),0,IF(AND(AS128=$D128,AV128=$E128,AT128=$F128,AU128=$G128),50,0))","v":0},"Deutschland",2,1,"Frankreich",{"$f":"IF(OR(AZ128=\"\",BC128=\"\"),0,IF(AND(AZ128=$D128,BC128=$E128),40,IF(AZ128=$D128,20,IF(BC128=$E128,20,IF(AND(AZ128<>$D128,BC128<>$E128),0)))))","v":20},{"$f":"IF(COUNTIF($D$28:$E$35,BC128),40,0)+IF(COUNTIF($D$28:$E$35,AZ128),40,0)","v":40},{"$f":"IF(OR(AZ128=\"\",BC128=\"\"),0,IF(AND(AZ128=$D128,BC128=$E128,BA128=$F128,BB128=$G128),50,0))","v":0},"Deutschland",0,2,"Frankreich",{"$f":"IF(OR(BG128=\"\",BJ128=\"\"),0,IF(AND(BG128=$D128,BJ128=$E128),40,IF(BG128=$D128,20,IF(BJ128=$E128,20,IF(AND(BG128<>$D128,BJ128<>$E128),0)))))","v":20},{"$f":"IF(COUNTIF($D$28:$E$35,BJ128),40,0)+IF(COUNTIF($D$28:$E$35,BG128),40,0)","v":40},{"$f":"IF(OR(BG128=\"\",BJ128=\"\"),0,IF(AND(BG128=$D128,BJ128=$E128,BH128=$F128,BI128=$G128),50,0))","v":0},"Deutschland",1,2,"Frankreich",{"$f":"IF(OR(BN128=\"\",BQ128=\"\"),0,IF(AND(BN128=$D128,BQ128=$E128),40,IF(BN128=$D128,20,IF(BQ128=$E128,20,IF(AND(BN128<>$D128,BQ128<>$E128),0)))))","v":20},{"$f":"IF(COUNTIF($D$28:$E$35,BQ128),40,0)+IF(COUNTIF($D$28:$E$35,BN128),40,0)","v":40},{"$f":"IF(OR(BN128=\"\",BQ128=\"\"),0,IF(AND(BN128=$D128,BQ128=$E128,BO128=$F128,BP128=$G128),50,0))","v":0},"Deutschland",1,3,"Frankreich",{"$f":"IF(OR(BU128=\"\",BX128=\"\"),0,IF(AND(BU128=$D128,BX128=$E128),40,IF(BU128=$D128,20,IF(BX128=$E128,20,IF(AND(BU128<>$D128,BX128<>$E128),0)))))","v":20},{"$f":"IF(COUNTIF($D$28:$E$35,BX128),40,0)+IF(COUNTIF($D$28:$E$35,BU128),40,0)","v":40},{"$f":"IF(OR(BU128=\"\",BX128=\"\"),0,IF(AND(BU128=$D128,BX128=$E128,BV128=$F128,BW128=$G128),50,0))","v":0},"Deutschland",1,2,"Frankreich",{"$f":"IF(OR(CB128=\"\",CE128=\"\"),0,IF(AND(CB128=$D128,CE128=$E128),40,IF(CB128=$D128,20,IF(CE128=$E128,20,IF(AND(CB128<>$D128,CE128<>$E128),0)))))","v":20},{"$f":"IF(COUNTIF($D$28:$E$35,CE128),40,0)+IF(COUNTIF($D$28:$E$35,CB128),40,0)","v":40},{"$f":"IF(OR(CB128=\"\",CE128=\"\"),0,IF(AND(CB128=$D128,CE128=$E128,CC128=$F128,CD128=$G128),50,0))","v":0},"Deutschland",1,2,"Frankreich",{"$f":"IF(OR(CI128=\"\",CL128=\"\"),0,IF(AND(CI128=$D128,CL128=$E128),40,IF(CI128=$D128,20,IF(CL128=$E128,20,IF(AND(CI128<>$D128,CL128<>$E128),0)))))","v":20},{"$f":"IF(COUNTIF($D$28:$E$35,CL128),40,0)+IF(COUNTIF($D$28:$E$35,CI128),40,0)","v":40},{"$f":"IF(OR(CI128=\"\",CL128=\"\"),0,IF(AND(CI128=$D128,CL128=$E128,CJ128=$F128,CK128=$G128),50,0))","v":0},"Australien",1,3,"Neuseeland",{"$f":"IF(OR(CP128=\"\",CS128=\"\"),0,IF(AND(CP128=$D128,CS128=$E128),40,IF(CP128=$D128,20,IF(CS128=$E128,20,IF(AND(CP128<>$D128,CS128<>$E128),0)))))","v":0},{"$f":"IF(COUNTIF($D$28:$E$35,CS128),40,0)+IF(COUNTIF($D$28:$E$35,CP128),40,0)","v":0},{"$f":"IF(OR(CP128=\"\",CS128=\"\"),0,IF(AND(CP128=$D128,CS128=$E128,CQ128=$F128,CR128=$G128),50,0))","v":0},"Deutschland",1,2,"Frankreich",{"$f":"IF(OR(CW128=\"\",CZ128=\"\"),0,IF(AND(CW128=$D128,CZ128=$E128),40,IF(CW128=$D128,20,IF(CZ128=$E128,20,IF(AND(CW128<>$D128,CZ128<>$E128),0)))))","v":20},{"$f":"IF(COUNTIF($D$28:$E$35,CZ128),40,0)+IF(COUNTIF($D$28:$E$35,CW128),40,0)","v":40},{"$f":"IF(OR(CW128=\"\",CZ128=\"\"),0,IF(AND(CW128=$D128,CZ128=$E128,CX128=$F128,CY128=$G128),50,0))","v":0},"Deutschland",1,2,"Frankreich",{"$f":"IF(OR(DD128=\"\",DG128=\"\"),0,IF(AND(DD128=$D128,DG128=$E128),40,IF(DD128=$D128,20,IF(DG128=$E128,20,IF(AND(DD128<>$D128,DG128<>$E128),0)))))","v":20},{"$f":"IF(COUNTIF($D$28:$E$35,DG128),40,0)+IF(COUNTIF($D$28:$E$35,DD128),40,0)","v":40},{"$f":"IF(OR(DD128=\"\",DG128=\"\"),0,IF(AND(DD128=$D128,DG128=$E128,DE128=$F128,DF128=$G128),50,0))","v":0},"Deutschland",4,5,"Frankreich",{"$f":"IF(OR(DK128=\"\",DN128=\"\"),0,IF(AND(DK128=$D128,DN128=$E128),40,IF(DK128=$D128,20,IF(DN128=$E128,20,IF(AND(DK128<>$D128,DN128<>$E128),0)))))","v":20},{"$f":"IF(COUNTIF($D$28:$E$35,DN128),40,0)+IF(COUNTIF($D$28:$E$35,DK128),40,0)","v":40},{"$f":"IF(OR(DK128=\"\",DN128=\"\"),0,IF(AND(DK128=$D128,DN128=$E128,DL128=$F128,DM128=$G128),50,0))","v":0},"Deutschland",1,2,"Frankreich",{"$f":"IF(OR(DR128=\"\",DU128=\"\"),0,IF(AND(DR128=$D128,DU128=$E128),40,IF(DR128=$D128,20,IF(DU128=$E128,20,IF(AND(DR128<>$D128,DU128<>$E128),0)))))","v":20},{"$f":"IF(COUNTIF($D$28:$E$35,DU128),40,0)+IF(COUNTIF($D$28:$E$35,DR128),40,0)","v":40},{"$f":"IF(OR(DR128=\"\",DU128=\"\"),0,IF(AND(DR128=$D128,DU128=$E128,DS128=$F128,DT128=$G128),50,0))","v":0},"Deutschland",2,3,"Frankreich",{"$f":"IF(OR(DY128=\"\",EB128=\"\"),0,IF(AND(DY128=$D128,EB128=$E128),40,IF(DY128=$D128,20,IF(EB128=$E128,20,IF(AND(DY128<>$D128,EB128<>$E128),0)))))","v":20},{"$f":"IF(COUNTIF($D$28:$E$35,EB128),40,0)+IF(COUNTIF($D$28:$E$35,DY128),40,0)","v":40},{"$f":"IF(OR(DY128=\"\",EB128=\"\"),0,IF(AND(DY128=$D128,EB128=$E128,DZ128=$F128,EA128=$G128),50,0))","v":0},"Deutschland",1,2,"Frankreich",{"$f":"IF(OR(EF128=\"\",EI128=\"\"),0,IF(AND(EF128=$D128,EI128=$E128),40,IF(EF128=$D128,20,IF(EI128=$E128,20,IF(AND(EF128<>$D128,EI128<>$E128),0)))))","v":20},{"$f":"IF(COUNTIF($D$28:$E$35,EI128),40,0)+IF(COUNTIF($D$28:$E$35,EF128),40,0)","v":40},{"$f":"IF(OR(EF128=\"\",EI128=\"\"),0,IF(AND(EF128=$D128,EI128=$E128,EG128=$F128,EH128=$G128),50,0))","v":0},"Deutschland",1,2,"Frankreich",{"$f":"IF(OR(EM128=\"\",EP128=\"\"),0,IF(AND(EM128=$D128,EP128=$E128),40,IF(EM128=$D128,20,IF(EP128=$E128,20,IF(AND(EM128<>$D128,EP128<>$E128),0)))))","v":20},{"$f":"IF(COUNTIF($D$28:$E$35,EP128),40,0)+IF(COUNTIF($D$28:$E$35,EM128),40,0)","v":40},{"$f":"IF(OR(EM128=\"\",EP128=\"\"),0,IF(AND(EM128=$D128,EP128=$E128,EN128=$F128,EO128=$G128),50,0))","v":0},null,{"$f":"_xlfn.TEXTJOIN(\", \",TRUE,_xlfn._xlws.FILTER(INDEX($J$104:$EM$104,1,_xlfn.SEQUENCE(1,(COLUMNS($J$104:$EM$104)-1)/7+1,1,7))&\" \"&INDEX($J$105:$EM$105,1,_xlfn.SEQUENCE(1,(COLUMNS($J$105:$EM$105)-1)/7+1,1,7)),INDEX($P128:$ES128,1,_xlfn.SEQUENCE(1,(COLUMNS($P128:$ES128)-1)/7+1,1,7))>0,\"\"))","v":""}]
["Sa. 04. Jul","19:00:00",90,"Kanada","Marokko",0,3,null,null,"Südkorea",1,3,"Holland",{"$f":"IF(OR(J129=\"\",M129=\"\"),0,IF(AND(J129=$D129,M129=$E129),40,IF(J129=$D129,20,IF(M129=$E129,20,IF(AND(J129<>$D129,M129<>$E129),0)))))","v":0},{"$f":"IF(COUNTIF($D$28:$E$35,M129),40,0)+IF(COUNTIF($D$28:$E$35,J129),40,0)","v":0},{"$f":"IF(OR(J129=\"\",M129=\"\"),0,IF(AND(J129=$D129,M129=$E129,K129=$F129,L129=$G129),50,0))","v":0},"Mexiko",1,2,"Japan",{"$f":"IF(OR(Q129=\"\",T129=\"\"),0,IF(AND(Q129=$D129,T129=$E129),40,IF(Q129=$D129,20,IF(T129=$E129,20,IF(AND(Q129<>$D129,T129<>$E129),0)))))","v":0},{"$f":"IF(COUNTIF($D$28:$E$35,T129),40,0)+IF(COUNTIF($D$28:$E$35,Q129),40,0)","v":40},{"$f":"IF(OR(Q129=\"\",T129=\"\"),0,IF(AND(Q129=$D129,T129=$E129,R129=$F129,S129=$G129),50,0))","v":0},"Südkorea",2,1,"Holland",{"$f":"IF(OR(X129=\"\",AA129=\"\"),0,IF(AND(X129=$D129,AA129=$E129),40,IF(X129=$D129,20,IF(AA129=$E129,20,IF(AND(X129<>$D129,AA129<>$E129),0)))))","v":0},{"$f":"IF(COUNTIF($D$28:$E$35,AA129),40,0)+IF(COUNTIF($D$28:$E$35,X129),40,0)","v":0},{"$f":"IF(OR(X129=\"\",AA129=\"\"),0,IF(AND(X129=$D129,AA129=$E129,Y129=$F129,Z129=$G129),50,0))","v":0},"Südkorea",1,2,"Holland",{"$f":"IF(OR(AE129=\"\",AH129=\"\"),0,IF(AND(AE129=$D129,AH129=$E129),40,IF(AE129=$D129,20,IF(AH129=$E129,20,IF(AND(AE129<>$D129,AH129<>$E129),0)))))","v":0},{"$f":"IF(COUNTIF($D$28:$E$35,AH129),40,0)+IF(COUNTIF($D$28:$E$35,AE129),40,0)","v":0},{"$f":"IF(OR(AE129=\"\",AH129=\"\"),0,IF(AND(AE129=$D129,AH129=$E129,AF129=$F129,AG129=$G129),50,0))","v":0},"Tschechien",0,1,"Holland",{"$f":"IF(OR(AL129=\"\",AO129=\"\"),0,IF(AND(AL129=$D129,AO129=$E129),40,IF(AL129=$D129,20,IF(AO129=$E129,20,IF(AND(AL129<>$D129,AO129<>$E129),0)))))","v":0},{"$f":"IF(COUNTIF($D$28:$E$35,AO129),40,0)+IF(COUNTIF($D$28:$E$35,AL129),40,0)","v":0},{"$f":"IF(OR(AL129=\"\",AO129=\"\"),0,IF(AND(AL129=$D129,AO129=$E129,AM129=$F129,AN129=$G129),50,0))","v":0},"Südkorea",0,1,"Holland",{"$f":"IF(OR(AS129=\"\",AV129=\"\"),0,IF(AND(AS129=$D129,AV129=$E129),40,IF(AS129=$D129,20,IF(AV129=$E129,20,IF(AND(AS129<>$D129,AV129<>$E129),0)))))","v":0},{"$f":"IF(COUNTIF($D$28:$E$35,AV129),40,0)+IF(COUNTIF($D$28:$E$35,AS129),40,0)","v":0},{"$f":"IF(OR(AS129=\"\",AV129=\"\"),0,IF(AND(AS129=$D129,AV129=$E129,AT129=$F129,AU129=$G129),50,0))","v":0},"Bosnien-Herz.",1,2,"Marokko",{"$f":"IF(OR(AZ129=\"\",BC129=\"\"),0,IF(AND(AZ129=$D129,BC129=$E129),40,IF(AZ129=$D129,20,IF(BC129=$E129,20,IF(AND(AZ129<>$D129,BC129<>$E129),0)))))","v":20},{"$f":"IF(COUNTIF($D$28:$E$35,BC129),40,0)+IF(COUNTIF($D$28:$E$35,AZ129),40,0)","v":40},{"$f":"IF(OR(AZ129=\"\",BC129=\"\"),0,IF(AND(AZ129=$D129,BC129=$E129,BA129=$F129,BB129=$G129),50,0))","v":0},"Südkorea",0,2,"Marokko",{"$f":"IF(OR(BG129=\"\",BJ129=\"\"),0,IF(AND(BG129=$D129,BJ129=$E129),40,IF(BG129=$D129,20,IF(BJ129=$E129,20,IF(AND(BG129<>$D129,BJ129<>$E129),0)))))","v":20},{"$f":"IF(COUNTIF($D$28:$E$35,BJ129),40,0)+IF(COUNTIF($D$28:$E$35,BG129),40,0)","v":40},{"$f":"IF(OR(BG129=\"\",BJ129=\"\"),0,IF(AND(BG129=$D129,BJ129=$E129,BH129=$F129,BI129=$G129),50,0))","v":0},"Mexiko",1,0,"Holland",{"$f":"IF(OR(BN129=\"\",BQ129=\"\"),0,IF(AND(BN129=$D129,BQ129=$E129),40,IF(BN129=$D129,20,IF(BQ129=$E129,20,IF(AND(BN129<>$D129,BQ129<>$E129),0)))))","v":0},{"$f":"IF(COUNTIF($D$28:$E$35,BQ129),40,0)+IF(COUNTIF($D$28:$E$35,BN129),40,0)","v":40},{"$f":"IF(OR(BN129=\"\",BQ129=\"\"),0,IF(AND(BN129=$D129,BQ129=$E129,BO129=$F129,BP129=$G129),50,0))","v":0},"Südkorea",1,2,"Holland",{"$f":"IF(OR(BU129=\"\",BX129=\"\"),0,IF(AND(BU129=$D129,BX129=$E129),40,IF(BU129=$D129,20,IF(BX129=$E129,20,IF(AND(BU129<>$D129,BX129<>$E129),0)))))","v":0},{"$f":"IF(COUNTIF($D$28:$E$35,BX129),40,0)+IF(COUNTIF($D$28:$E$35,BU129),40,0)","v":0},{"$f":"IF(OR(BU129=\"\",BX129=\"\"),0,IF(AND(BU129=$D129,BX129=$E129,BV129=$F129,BW129=$G129),50,0))","v":0},"Kanada",1,2,"Holland",{"$f":"IF(OR(CB129=\"\",CE129=\"\"),0,IF(AND(CB129=$D129,CE129=$E129),40,IF(CB129=$D129,20,IF(CE129=$E129,20,IF(AND(CB129<>$D129,CE129<>$E129),0)))))","v":20},{"$f":"IF(COUNTIF($D$28:$E$35,CE129),40,0)+IF(COUNTIF($D$28:$E$35,CB129),40,0)","v":40},{"$f":"IF(OR(CB129=\"\",CE129=\"\"),0,IF(AND(CB129=$D129,CE129=$E129,CC129=$F129,CD129=$G129),50,0))","v":0},"Kanada",1,2,"Marokko",{"$f":"IF(OR(CI129=\"\",CL129=\"\"),0,IF(AND(CI129=$D129,CL129=$E129),40,IF(CI129=$D129,20,IF(CL129=$E129,20,IF(AND(CI129<>$D129,CL129<>$E129),0)))))","v":40},{"$f":"IF(COUNTIF($D$28:$E$35,CL129),40,0)+IF(COUNTIF($D$28:$E$35,CI129),40,0)","v":80},{"$f":"IF(OR(CI129=\"\",CL129=\"\"),0,IF(AND(CI129=$D129,CL129=$E129,CJ129=$F129,CK129=$G129),50,0))","v":0},"Kanada",1,2,"Japan",{"$f":"IF(OR(CP129=\"\",CS129=\"\"),0,IF(AND(CP129=$D129,CS129=$E129),40,IF(CP129=$D129,20,IF(CS129=$E129,20,IF(AND(CP129<>$D129,CS129<>$E129),0)))))","v":20},{"$f":"IF(COUNTIF($D$28:$E$35,CS129),40,0)+IF(COUNTIF($D$28:$E$35,CP129),40,0)","v":40},{"$f":"IF(OR(CP129=\"\",CS129=\"\"),0,IF(AND(CP129=$D129,CS129=$E129,CQ129=$F129,CR129=$G129),50,0))","v":0},"Kanada",1,0,"Schweden",{"$f":"IF(OR(CW129=\"\",CZ129=\"\"),0,IF(AND(CW129=$D129,CZ129=$E129),40,IF(CW129=$D129,20,IF(CZ129=$E129,20,IF(AND(CW129<>$D129,CZ129<>$E129),0)))))","v":20},{"$f":"IF(COUNTIF($D$28:$E$35,CZ129),40,0)+IF(COUNTIF($D$28:$E$35,CW129),40,0)","v":40},{"$f":"IF(OR(CW129=\"\",CZ129=\"\"),0,IF(AND(CW129=$D129,CZ129=$E129,CX129=$F129,CY129=$G129),50,0))","v":0},"Südafrika",0,1,"Marokko",{"$f":"IF(OR(DD129=\"\",DG129=\"\"),0,IF(AND(DD129=$D129,DG129=$E129),40,IF(DD129=$D129,20,IF(DG129=$E129,20,IF(AND(DD129<>$D129,DG129<>$E129),0)))))","v":20},{"$f":"IF(COUNTIF($D$28:$E$35,DG129),40,0)+IF(COUNTIF($D$28:$E$35,DD129),40,0)","v":40},{"$f":"IF(OR(DD129=\"\",DG129=\"\"),0,IF(AND(DD129=$D129,DG129=$E129,DE129=$F129,DF129=$G129),50,0))","v":0},"Mexiko",0,1,"Marokko",{"$f":"IF(OR(DK129=\"\",DN129=\"\"),0,IF(AND(DK129=$D129,DN129=$E129),40,IF(DK129=$D129,20,IF(DN129=$E129,20,IF(AND(DK129<>$D129,DN129<>$E129),0)))))","v":20},{"$f":"IF(COUNTIF($D$28:$E$35,DN129),40,0)+IF(COUNTIF($D$28:$E$35,DK129),40,0)","v":80},{"$f":"IF(OR(DK129=\"\",DN129=\"\"),0,IF(AND(DK129=$D129,DN129=$E129,DL129=$F129,DM129=$G129),50,0))","v":0},"Tschechien",0,1,"Holland",{"$f":"IF(OR(DR129=\"\",DU129=\"\"),0,IF(AND(DR129=$D129,DU129=$E129),40,IF(DR129=$D129,20,IF(DU129=$E129,20,IF(AND(DR129<>$D129,DU129<>$E129),0)))))","v":0},{"$f":"IF(COUNTIF($D$28:$E$35,DU129),40,0)+IF(COUNTIF($D$28:$E$35,DR129),40,0)","v":0},{"$f":"IF(OR(DR129=\"\",DU129=\"\"),0,IF(AND(DR129=$D129,DU129=$E129,DS129=$F129,DT129=$G129),50,0))","v":0},"Schweiz",2,0,"Marokko",{"$f":"IF(OR(DY129=\"\",EB129=\"\"),0,IF(AND(DY129=$D129,EB129=$E129),40,IF(DY129=$D129,20,IF(EB129=$E129,20,IF(AND(DY129<>$D129,EB129<>$E129),0)))))","v":20},{"$f":"IF(COUNTIF($D$28:$E$35,EB129),40,0)+IF(COUNTIF($D$28:$E$35,DY129),40,0)","v":80},{"$f":"IF(OR(DY129=\"\",EB129=\"\"),0,IF(AND(DY129=$D129,EB129=$E129,DZ129=$F129,EA129=$G129),50,0))","v":0},"Bosnien-Herz.",1,2,"Holland",{"$f":"IF(OR(EF129=\"\",EI129=\"\"),0,IF(AND(EF129=$D129,EI129=$E129),40,IF(EF129=$D129,20,IF(EI129=$E129,20,IF(AND(EF129<>$D129,EI129<>$E129),0)))))","v":0},{"$f":"IF(COUNTIF($D$28:$E$35,EI129),40,0)+IF(COUNTIF($D$28:$E$35,EF129),40,0)","v":0},{"$f":"IF(OR(EF129=\"\",EI129=\"\"),0,IF(AND(EF129=$D129,EI129=$E129,EG129=$F129,EH129=$G129),50,0))","v":0},"Kanada",1,2,"Holland",{"$f":"IF(OR(EM129=\"\",EP129=\"\"),0,IF(AND(EM129=$D129,EP129=$E129),40,IF(EM129=$D129,20,IF(EP129=$E129,20,IF(AND(EM129<>$D129,EP129<>$E129),0)))))","v":20},{"$f":"IF(COUNTIF($D$28:$E$35,EP129),40,0)+IF(COUNTIF($D$28:$E$35,EM129),40,0)","v":40},{"$f":"IF(OR(EM129=\"\",EP129=\"\"),0,IF(AND(EM129=$D129,EP129=$E129,EN129=$F129,EO129=$G129),50,0))","v":0},null,{"$f":"_xlfn.TEXTJOIN(\", \",TRUE,_xlfn._xlws.FILTER(INDEX($J$104:$EM$104,1,_xlfn.SEQUENCE(1,(COLUMNS($J$104:$EM$104)-1)/7+1,1,7))&\" \"&INDEX($J$105:$EM$105,1,_xlfn.SEQUENCE(1,(COLUMNS($J$105:$EM$105)-1)/7+1,1,7)),INDEX($P129:$ES129,1,_xlfn.SEQUENCE(1,(COLUMNS($P129:$ES129)-1)/7+1,1,7))>0,\"\"))","v":""}]
["So. 05. Jul","22:00:00",91,"Brasilien","Norwegen",1,2,null,null,"Brasilien",2,0,"Norwegen",40,80,0,"Brasilien",1,2,"Norwegen",40,80,50,"Brasilien",2,1,"Norwegen",40,80,0,"Brasilien",2,1,"Senegal",20,40,0,"Brasilien",1,0,"Norwegen",40,80,0,"Brasilien",1,0,"Elfenbeinküste",20,40,0,"Brasilien",2,1,"Norwegen",40,80,0,"Brasilien",2,1,"Norwegen",40,80,0,"Brasilien",2,0,"Ecuador",20,40,0,"Brasilien",1,2,"Norwegen",40,80,50,"Brasilien",2,0,"Norwegen",40,80,0,"Brasilien",3,0,"Senegal",20,40,0,"Brasilien",3,2,"Deutschland",20,40,0,"Brasilien",2,1,"Norwegen",40,80,0,"Brasilien",3,1,"Norwegen",40,80,0,"Brasilien",2,0,"Elfenbeinküste",20,40,0,"Brasilien",1,0,"Senegal",20,40,0,"Brasilien",4,2,"Norwegen",40,80,0,"Brasilien",2,1,"Norwegen",40,80,0,"Brasilien",2,1,"Elfenbeinküste",20,40,0,null,{"$f":"_xlfn.TEXTJOIN(\", \",TRUE,_xlfn._xlws.FILTER(INDEX($J$104:$EM$104,1,_xlfn.SEQUENCE(1,(COLUMNS($J$104:$EM$104)-1)/7+1,1,7))&\" \"&INDEX($J$105:$EM$105,1,_xlfn.SEQUENCE(1,(COLUMNS($J$105:$EM$105)-1)/7+1,1,7)),INDEX($P130:$ES130,1,_xlfn.SEQUENCE(1,(COLUMNS($P130:$ES130)-1)/7+1,1,7))>0,\"\"))","v":"Agnes Isenschmid, Marc Lütolf"}]
["Mo. 06. Jul","02:00:00",92,"Mexiko","England",2,3,null,null,"Mexiko",1,3,"England",40,80,0,"Südkorea",2,3,"England",20,40,0,"Mexiko",0,2,"England",40,80,0,"Mexiko",1,2,"England",40,80,0,"Mexiko",0,1,"England",40,80,0,"Mexiko",0,1,"England",40,80,0,"Mexiko",2,1,"Kroatien",20,40,0,"Mexiko",0,2,"England",40,80,0,"Tschechien",0,1,"England",20,40,0,"Mexiko",1,2,"England",40,80,0,"Mexiko",0,2,"England",40,80,0,"Mexiko",1,2,"England",40,80,0,"Ecuador",2,1,"England",20,40,0,"Mexiko",0,2,"England",40,80,0,"Mexiko",1,2,"Senegal",20,40,0,"Tschechien",0,1,"Kroatien",0,0,0,"Mexiko",1,0,"Norwegen",20,80,0,"Mexiko",0,1,"England",40,80,0,"Elfenbeinküste",1,3,"England",20,40,0,"Südkorea",1,2,"England",20,40,0,null,{"$f":"_xlfn.TEXTJOIN(\", \",TRUE,_xlfn._xlws.FILTER(INDEX($J$104:$EM$104,1,_xlfn.SEQUENCE(1,(COLUMNS($J$104:$EM$104)-1)/7+1,1,7))&\" \"&INDEX($J$105:$EM$105,1,_xlfn.SEQUENCE(1,(COLUMNS($J$105:$EM$105)-1)/7+1,1,7)),INDEX($P131:$ES131,1,_xlfn.SEQUENCE(1,(COLUMNS($P131:$ES131)-1)/7+1,1,7))>0,\"\"))","v":""}]
["Mo. 06. Jul","21:00:00",93,"Portugal","Spanien",0,1,null,null,"Kolumbien",1,3,"Spanien",20,80,0,"Kroatien",1,3,"Spanien",20,40,0,"Kroatien",1,3,"Spanien",20,40,0,"Kolumbien",1,2,"Spanien",20,80,0,"Kolumbien",0,1,"Spanien",20,80,0,"Ghana",0,1,"Spanien",20,40,0,"Kolumbien",1,2,"Spanien",20,80,0,"Kolumbien",1,2,"Spanien",20,80,0,"Kolumbien",0,2,"Spanien",20,80,0,"Kroatien",1,3,"Spanien",20,40,0,"Kolumbien",0,2,"Spanien",20,80,0,"Kroatien",2,1,"Spanien",20,40,0,"Ghana",1,3,"Argentinien",0,40,0,"Kroatien",0,1,"Spanien",20,40,0,"England",0,3,"Spanien",20,80,0,"England",0,2,"Spanien",20,80,0,"Kolumbien",0,1,"Spanien",20,80,0,"Kolumbien",1,2,"Spanien",20,80,0,"DR Kongo",0,3,"Spanien",20,40,0,"Ghana",2,4,"Spanien",20,40,0,null,{"$f":"_xlfn.TEXTJOIN(\", \",TRUE,_xlfn._xlws.FILTER(INDEX($J$104:$EM$104,1,_xlfn.SEQUENCE(1,(COLUMNS($J$104:$EM$104)-1)/7+1,1,7))&\" \"&INDEX($J$105:$EM$105,1,_xlfn.SEQUENCE(1,(COLUMNS($J$105:$EM$105)-1)/7+1,1,7)),INDEX($P132:$ES132,1,_xlfn.SEQUENCE(1,(COLUMNS($P132:$ES132)-1)/7+1,1,7))>0,\"\"))","v":""}]
["Di. 07. Jul","02:00:00",94,"USA","Belgien",1,4,null,null,"USA",0,2,"Belgien",40,80,0,"USA",1,2,"Belgien",40,80,0,"Paraguay",1,3,"Belgien",20,80,0,"Türkei",1,2,"Belgien",20,40,0,"Türkei",1,0,"Belgien",20,40,0,"USA",0,1,"Belgien",40,80,0,"Türkei",0,1,"Belgien",20,40,0,"Türkei",0,2,"Belgien",20,40,0,"Türkei",1,0,"Belgien",20,40,0,"Türkei",1,2,"Belgien",20,40,0,"USA",1,2,"Belgien",40,80,0,"Türkei",3,1,"Belgien",20,40,0,"Türkei",2,3,"Iran",0,0,0,"USA",1,0,"Belgien",40,80,0,"Türkei",1,0,"Tschechien",0,0,0,"USA",0,1,"Belgien",40,80,0,"Türkei",0,1,"Südkorea",0,0,0,"Türkei",0,1,"Belgien",20,40,0,"Türkei",2,3,"Belgien",20,40,0,"Senegal",1,2,"Belgien",20,40,0,null,{"$f":"_xlfn.TEXTJOIN(\", \",TRUE,_xlfn._xlws.FILTER(INDEX($J$104:$EM$104,1,_xlfn.SEQUENCE(1,(COLUMNS($J$104:$EM$104)-1)/7+1,1,7))&\" \"&INDEX($J$105:$EM$105,1,_xlfn.SEQUENCE(1,(COLUMNS($J$105:$EM$105)-1)/7+1,1,7)),INDEX($P133:$ES133,1,_xlfn.SEQUENCE(1,(COLUMNS($P133:$ES133)-1)/7+1,1,7))>0,\"\"))","v":""}]
["Di. 07. Jul","18:00:00",95,"Argentinien","Ägypten",3,2,null,null,"Argentinien",3,1,"Türkei",20,40,0,"Argentinien",2,0,"Türkei",20,40,0,"Argentinien",2,0,"Türkei",20,40,0,"Argentinien",2,1,"Ägypten",40,80,0,"Argentinien",1,0,"USA",20,80,0,"Argentinien",1,0,"Türkei",20,40,0,"Argentinien",3,0,"USA",20,80,0,"Argentinien",4,3,"Ägypten",40,80,0,"Argentinien",2,0,"Paraguay",20,80,0,"Argentinien",3,0,"Australien",20,40,0,"Argentinien",2,0,"Türkei",20,40,0,"Argentinien",2,0,"USA",20,80,0,"Österreich",3,2,"Ägypten",20,40,0,"Argentinien",2,0,"Türkei",20,40,0,"Argentinien",3,1,"Australien",20,40,0,"Argentinien",2,0,"Ägypten",40,80,0,"Argentinien",2,0,"Ägypten",40,80,0,"Argentinien",2,0,"USA",20,80,0,"Österreich",2,1,"Ägypten",20,40,0,"Argentinien",3,2,"Türkei",20,40,0,null,{"$f":"_xlfn.TEXTJOIN(\", \",TRUE,_xlfn._xlws.FILTER(INDEX($J$104:$EM$104,1,_xlfn.SEQUENCE(1,(COLUMNS($J$104:$EM$104)-1)/7+1,1,7))&\" \"&INDEX($J$105:$EM$105,1,_xlfn.SEQUENCE(1,(COLUMNS($J$105:$EM$105)-1)/7+1,1,7)),INDEX($P134:$ES134,1,_xlfn.SEQUENCE(1,(COLUMNS($P134:$ES134)-1)/7+1,1,7))>0,\"\"))","v":""}]
["Di. 07. Jul","22:00:00",96,"Schweiz","Kolumbien",4,3,null,null,"Schweiz",1,3,"Portugal",20,80,0,"Schweiz",0,2,"Portugal",20,80,0,"Schweiz",1,3,"Portugal",20,80,0,"Schweiz",1,2,"Portugal",20,80,0,"Schweiz",0,2,"Portugal",20,80,0,"Schweiz",1,0,"Portugal",20,80,0,"Schweiz",2,1,"Portugal",20,80,0,"Schweiz",1,3,"Portugal",20,80,0,"Schweiz",2,1,"Portugal",20,80,0,"Schweiz",0,3,"Portugal",20,80,0,"Schweiz",1,2,"Portugal",20,80,0,"Schweiz",2,1,"Portugal",20,80,0,"Schweiz",3,2,"Panama",20,40,0,"Schweiz",1,2,"Portugal",20,80,0,"Schweiz",1,0,"Portugal",20,80,0,"Schweiz",0,2,"Portugal",20,80,0,"Schweiz",1,0,"Portugal",20,80,0,"Bosnien-Herz.",1,3,"Portugal",0,40,0,"Schweiz",3,4,"Portugal",20,80,0,"Schweiz",1,0,"Portugal",20,80,0,null,{"$f":"_xlfn.TEXTJOIN(\", \",TRUE,_xlfn._xlws.FILTER(INDEX($J$104:$EM$104,1,_xlfn.SEQUENCE(1,(COLUMNS($J$104:$EM$104)-1)/7+1,1,7))&\" \"&INDEX($J$105:$EM$105,1,_xlfn.SEQUENCE(1,(COLUMNS($J$105:$EM$105)-1)/7+1,1,7)),INDEX($P135:$ES135,1,_xlfn.SEQUENCE(1,(COLUMNS($P135:$ES135)-1)/7+1,1,7))>0,\"\"))","v":""}]
["Viertelfinale",null,null,null,null,null,null,null,null,null,null,null,null,null,null,null,null,null,null,null,null,null,null,null,null,null,null,null,null,null,null,null,null,null,null,null,null,null,null,null,null,null,null,null,null,null,null,null,null,null,null,null,null,null,null,null,null,null,null,null,null,null,null,null,null,null,null,null,null,null,null,null,null,null,null,null,null,null,null,null,null,null,null,null,null,null,null,null,null,null,null,null,null,null,null,null,null,null,null,null,null,null,null,null,null,null,null,null,null,null,null,null,null,null,null,null,null,null,null,null,null,null,null,null,null,null,null,null,null,null,null,null,null,null,null,null,null,null,null,null,null,null,null,null,null,null,null,null,null,null,{"$f":"_xlfn.TEXTJOIN(\", \",TRUE,_xlfn._xlws.FILTER(INDEX($J$104:$EM$104,1,_xlfn.SEQUENCE(1,(COLUMNS($J$104:$EM$104)-1)/7+1,1,7))&\" \"&INDEX($J$105:$EM$105,1,_xlfn.SEQUENCE(1,(COLUMNS($J$105:$EM$105)-1)/7+1,1,7)),INDEX($P136:$ES136,1,_xlfn.SEQUENCE(1,(COLUMNS($P136:$ES136)-1)/7+1,1,7))>0,\"\"))","v":""}]
[{"$f":"A87","v":"Do. 09. Jul"},"22:00:00",97,"Frankreich","Marokko",{"$f":"IF(F87=\"\",\"\",F87)","v":2},0,null,null,"Frankreich",2,0,"Holland",{"$f":"IF(OR(J137=\"\",M137=\"\"),0,IF(AND(J137=$D137,M137=$E137),60,IF(J137=$D137,30,IF(M137=$E137,30,IF(AND(J137<>$D137,M137<>$E137),0)))))","v":30},{"$f":"IF(COUNTIF($D$37:$E$40,M137),80,0)+IF(COUNTIF($D$37:$E$40,J137),80,0)","v":80},{"$f":"IF(OR(J137=\"\",M137=\"\"),0,IF(AND(J137=$D137,M137=$E137,K137=$F137,L137=$G137),70,0))","v":0},"Frankreich",3,1,"Japan",{"$f":"IF(OR(Q137=\"\",T137=\"\"),0,IF(AND(Q137=$D137,T137=$E137),60,IF(Q137=$D137,30,IF(T137=$E137,30,IF(AND(Q137<>$D137,T137<>$E137),0)))))","v":30},{"$f":"IF(COUNTIF($D$37:$E$40,T137),80,0)+IF(COUNTIF($D$37:$E$40,Q137),80,0)","v":80},{"$f":"IF(OR(Q137=\"\",T137=\"\"),0,IF(AND(Q137=$D137,T137=$E137,R137=$F137,S137=$G137),70,0))","v":0},"Frankreich",2,0,"Südkorea",{"$f":"IF(OR(X137=\"\",AA137=\"\"),0,IF(AND(X137=$D137,AA137=$E137),60,IF(X137=$D137,30,IF(AA137=$E137,30,IF(AND(X137<>$D137,AA137<>$E137),0)))))","v":30},{"$f":"IF(COUNTIF($D$37:$E$40,AA137),80,0)+IF(COUNTIF($D$37:$E$40,X137),80,0)","v":80},{"$f":"IF(OR(X137=\"\",AA137=\"\"),0,IF(AND(X137=$D137,AA137=$E137,Y137=$F137,Z137=$G137),70,0))","v":0},"Frankreich",2,1,"Holland",{"$f":"IF(OR(AE137=\"\",AH137=\"\"),0,IF(AND(AE137=$D137,AH137=$E137),60,IF(AE137=$D137,30,IF(AH137=$E137,30,IF(AND(AE137<>$D137,AH137<>$E137),0)))))","v":30},{"$f":"IF(COUNTIF($D$37:$E$40,AH137),80,0)+IF(COUNTIF($D$37:$E$40,AE137),80,0)","v":80},{"$f":"IF(OR(AE137=\"\",AH137=\"\"),0,IF(AND(AE137=$D137,AH137=$E137,AF137=$F137,AG137=$G137),70,0))","v":0},"Frankreich",1,0,"Holland",{"$f":"IF(OR(AL137=\"\",AO137=\"\"),0,IF(AND(AL137=$D137,AO137=$E137),60,IF(AL137=$D137,30,IF(AO137=$E137,30,IF(AND(AL137<>$D137,AO137<>$E137),0)))))","v":30},{"$f":"IF(COUNTIF($D$37:$E$40,AO137),80,0)+IF(COUNTIF($D$37:$E$40,AL137),80,0)","v":80},{"$f":"IF(OR(AL137=\"\",AO137=\"\"),0,IF(AND(AL137=$D137,AO137=$E137,AM137=$F137,AN137=$G137),70,0))","v":0},"Frankreich",1,0,"Holland",{"$f":"IF(OR(AS137=\"\",AV137=\"\"),0,IF(AND(AS137=$D137,AV137=$E137),60,IF(AS137=$D137,30,IF(AV137=$E137,30,IF(AND(AS137<>$D137,AV137<>$E137),0)))))","v":30},{"$f":"IF(COUNTIF($D$37:$E$40,AV137),80,0)+IF(COUNTIF($D$37:$E$40,AS137),80,0)","v":80},{"$f":"IF(OR(AS137=\"\",AV137=\"\"),0,IF(AND(AS137=$D137,AV137=$E137,AT137=$F137,AU137=$G137),70,0))","v":0},"Deutschland",1,2,"Marokko",{"$f":"IF(OR(AZ137=\"\",BC137=\"\"),0,IF(AND(AZ137=$D137,BC137=$E137),60,IF(AZ137=$D137,30,IF(BC137=$E137,30,IF(AND(AZ137<>$D137,BC137<>$E137),0)))))","v":30},{"$f":"IF(COUNTIF($D$37:$E$40,BC137),80,0)+IF(COUNTIF($D$37:$E$40,AZ137),80,0)","v":80},{"$f":"IF(OR(AZ137=\"\",BC137=\"\"),0,IF(AND(AZ137=$D137,BC137=$E137,BA137=$F137,BB137=$G137),70,0))","v":0},"Frankreich",2,1,"Marokko",{"$f":"IF(OR(BG137=\"\",BJ137=\"\"),0,IF(AND(BG137=$D137,BJ137=$E137),60,IF(BG137=$D137,30,IF(BJ137=$E137,30,IF(AND(BG137<>$D137,BJ137<>$E137),0)))))","v":60},{"$f":"IF(COUNTIF($D$37:$E$40,BJ137),80,0)+IF(COUNTIF($D$37:$E$40,BG137),80,0)","v":160},{"$f":"IF(OR(BG137=\"\",BJ137=\"\"),0,IF(AND(BG137=$D137,BJ137=$E137,BH137=$F137,BI137=$G137),70,0))","v":0},"Frankreich",2,0,"Mexiko",{"$f":"IF(OR(BN137=\"\",BQ137=\"\"),0,IF(AND(BN137=$D137,BQ137=$E137),60,IF(BN137=$D137,30,IF(BQ137=$E137,30,IF(AND(BN137<>$D137,BQ137<>$E137),0)))))","v":30},{"$f":"IF(COUNTIF($D$37:$E$40,BQ137),80,0)+IF(COUNTIF($D$37:$E$40,BN137),80,0)","v":80},{"$f":"IF(OR(BN137=\"\",BQ137=\"\"),0,IF(AND(BN137=$D137,BQ137=$E137,BO137=$F137,BP137=$G137),70,0))","v":0},"Frankreich",3,1,"Holland",{"$f":"IF(OR(BU137=\"\",BX137=\"\"),0,IF(AND(BU137=$D137,BX137=$E137),60,IF(BU137=$D137,30,IF(BX137=$E137,30,IF(AND(BU137<>$D137,BX137<>$E137),0)))))","v":30},{"$f":"IF(COUNTIF($D$37:$E$40,BX137),80,0)+IF(COUNTIF($D$37:$E$40,BU137),80,0)","v":80},{"$f":"IF(OR(BU137=\"\",BX137=\"\"),0,IF(AND(BU137=$D137,BX137=$E137,BV137=$F137,BW137=$G137),70,0))","v":0},"Frankreich",2,1,"Holland",{"$f":"IF(OR(CB137=\"\",CE137=\"\"),0,IF(AND(CB137=$D137,CE137=$E137),60,IF(CB137=$D137,30,IF(CE137=$E137,30,IF(AND(CB137<>$D137,CE137<>$E137),0)))))","v":30},{"$f":"IF(COUNTIF($D$37:$E$40,CE137),80,0)+IF(COUNTIF($D$37:$E$40,CB137),80,0)","v":80},{"$f":"IF(OR(CB137=\"\",CE137=\"\"),0,IF(AND(CB137=$D137,CE137=$E137,CC137=$F137,CD137=$G137),70,0))","v":0},"Frankreich",2,1,"Marokko",{"$f":"IF(OR(CI137=\"\",CL137=\"\"),0,IF(AND(CI137=$D137,CL137=$E137),60,IF(CI137=$D137,30,IF(CL137=$E137,30,IF(AND(CI137<>$D137,CL137<>$E137),0)))))","v":60},{"$f":"IF(COUNTIF($D$37:$E$40,CL137),80,0)+IF(COUNTIF($D$37:$E$40,CI137),80,0)","v":160},{"$f":"IF(OR(CI137=\"\",CL137=\"\"),0,IF(AND(CI137=$D137,CL137=$E137,CJ137=$F137,CK137=$G137),70,0))","v":0},"Neuseeland",1,2,"Japan",{"$f":"IF(OR(CP137=\"\",CS137=\"\"),0,IF(AND(CP137=$D137,CS137=$E137),60,IF(CP137=$D137,30,IF(CS137=$E137,30,IF(AND(CP137<>$D137,CS137<>$E137),0)))))","v":0},{"$f":"IF(COUNTIF($D$37:$E$40,CS137),80,0)+IF(COUNTIF($D$37:$E$40,CP137),80,0)","v":0},{"$f":"IF(OR(CP137=\"\",CS137=\"\"),0,IF(AND(CP137=$D137,CS137=$E137,CQ137=$F137,CR137=$G137),70,0))","v":0},"Frankreich",1,0,"Kanada",{"$f":"IF(OR(CW137=\"\",CZ137=\"\"),0,IF(AND(CW137=$D137,CZ137=$E137),60,IF(CW137=$D137,30,IF(CZ137=$E137,30,IF(AND(CW137<>$D137,CZ137<>$E137),0)))))","v":30},{"$f":"IF(COUNTIF($D$37:$E$40,CZ137),80,0)+IF(COUNTIF($D$37:$E$40,CW137),80,0)","v":80},{"$f":"IF(OR(CW137=\"\",CZ137=\"\"),0,IF(AND(CW137=$D137,CZ137=$E137,CX137=$F137,CY137=$G137),70,0))","v":0},"Frankreich",3,1,"Marokko",{"$f":"IF(OR(DD137=\"\",DG137=\"\"),0,IF(AND(DD137=$D137,DG137=$E137),60,IF(DD137=$D137,30,IF(DG137=$E137,30,IF(AND(DD137<>$D137,DG137<>$E137),0)))))","v":60},{"$f":"IF(COUNTIF($D$37:$E$40,DG137),80,0)+IF(COUNTIF($D$37:$E$40,DD137),80,0)","v":160},{"$f":"IF(OR(DD137=\"\",DG137=\"\"),0,IF(AND(DD137=$D137,DG137=$E137,DE137=$F137,DF137=$G137),70,0))","v":0},"Frankreich",2,0,"Marokko",{"$f":"IF(OR(DK137=\"\",DN137=\"\"),0,IF(AND(DK137=$D137,DN137=$E137),60,IF(DK137=$D137,30,IF(DN137=$E137,30,IF(AND(DK137<>$D137,DN137<>$E137),0)))))","v":60},{"$f":"IF(COUNTIF($D$37:$E$40,DN137),80,0)+IF(COUNTIF($D$37:$E$40,DK137),80,0)","v":160},{"$f":"IF(OR(DK137=\"\",DN137=\"\"),0,IF(AND(DK137=$D137,DN137=$E137,DL137=$F137,DM137=$G137),70,0))","v":70},"Frankreich",1,0,"Holland",{"$f":"IF(OR(DR137=\"\",DU137=\"\"),0,IF(AND(DR137=$D137,DU137=$E137),60,IF(DR137=$D137,30,IF(DU137=$E137,30,IF(AND(DR137<>$D137,DU137<>$E137),0)))))","v":30},{"$f":"IF(COUNTIF($D$37:$E$40,DU137),80,0)+IF(COUNTIF($D$37:$E$40,DR137),80,0)","v":80},{"$f":"IF(OR(DR137=\"\",DU137=\"\"),0,IF(AND(DR137=$D137,DU137=$E137,DS137=$F137,DT137=$G137),70,0))","v":0},"Frankreich",2,0,"Schweiz",{"$f":"IF(OR(DY137=\"\",EB137=\"\"),0,IF(AND(DY137=$D137,EB137=$E137),60,IF(DY137=$D137,30,IF(EB137=$E137,30,IF(AND(DY137<>$D137,EB137<>$E137),0)))))","v":30},{"$f":"IF(COUNTIF($D$37:$E$40,EB137),80,0)+IF(COUNTIF($D$37:$E$40,DY137),80,0)","v":160},{"$f":"IF(OR(DY137=\"\",EB137=\"\"),0,IF(AND(DY137=$D137,EB137=$E137,DZ137=$F137,EA137=$G137),70,0))","v":0},"Frankreich",2,1,"Holland",{"$f":"IF(OR(EF137=\"\",EI137=\"\"),0,IF(AND(EF137=$D137,EI137=$E137),60,IF(EF137=$D137,30,IF(EI137=$E137,30,IF(AND(EF137<>$D137,EI137<>$E137),0)))))","v":30},{"$f":"IF(COUNTIF($D$37:$E$40,EI137),80,0)+IF(COUNTIF($D$37:$E$40,EF137),80,0)","v":80},{"$f":"IF(OR(EF137=\"\",EI137=\"\"),0,IF(AND(EF137=$D137,EI137=$E137,EG137=$F137,EH137=$G137),70,0))","v":0},"Frankreich",2,1,"Holland",{"$f":"IF(OR(EM137=\"\",EP137=\"\"),0,IF(AND(EM137=$D137,EP137=$E137),60,IF(EM137=$D137,30,IF(EP137=$E137,30,IF(AND(EM137<>$D137,EP137<>$E137),0)))))","v":30},{"$f":"IF(COUNTIF($D$37:$E$40,EP137),80,0)+IF(COUNTIF($D$37:$E$40,EM137),80,0)","v":80},{"$f":"IF(OR(EM137=\"\",EP137=\"\"),0,IF(AND(EM137=$D137,EP137=$E137,EN137=$F137,EO137=$G137),70,0))","v":0},null,{"$f":"_xlfn.TEXTJOIN(\", \",TRUE,_xlfn._xlws.FILTER(INDEX($J$104:$EM$104,1,_xlfn.SEQUENCE(1,(COLUMNS($J$104:$EM$104)-1)/7+1,1,7))&\" \"&INDEX($J$105:$EM$105,1,_xlfn.SEQUENCE(1,(COLUMNS($J$105:$EM$105)-1)/7+1,1,7)),INDEX($P137:$ES137,1,_xlfn.SEQUENCE(1,(COLUMNS($P137:$ES137)-1)/7+1,1,7))>0,\"\"))","v":"Julian Merkli"}]
["Fr. 10. Jul","21:00:00",98,"Spanien","Belgien",2,1,null,null,"Spanien",3,1,"Belgien",{"$f":"IF(OR(J138=\"\",M138=\"\"),0,IF(AND(J138=$D138,M138=$E138),60,IF(J138=$D138,30,IF(M138=$E138,30,IF(AND(J138<>$D138,M138<>$E138),0)))))","v":60},{"$f":"IF(COUNTIF($D$37:$E$40,M138),80,0)+IF(COUNTIF($D$37:$E$40,J138),80,0)","v":160},{"$f":"IF(OR(J138=\"\",M138=\"\"),0,IF(AND(J138=$D138,M138=$E138,K138=$F138,L138=$G138),70,0))","v":0},"Spanien",2,0,"Belgien",{"$f":"IF(OR(Q138=\"\",T138=\"\"),0,IF(AND(Q138=$D138,T138=$E138),60,IF(Q138=$D138,30,IF(T138=$E138,30,IF(AND(Q138<>$D138,T138<>$E138),0)))))","v":60},{"$f":"IF(COUNTIF($D$37:$E$40,T138),80,0)+IF(COUNTIF($D$37:$E$40,Q138),80,0)","v":160},{"$f":"IF(OR(Q138=\"\",T138=\"\"),0,IF(AND(Q138=$D138,T138=$E138,R138=$F138,S138=$G138),70,0))","v":0},"Spanien",2,1,"Belgien",{"$f":"IF(OR(X138=\"\",AA138=\"\"),0,IF(AND(X138=$D138,AA138=$E138),60,IF(X138=$D138,30,IF(AA138=$E138,30,IF(AND(X138<>$D138,AA138<>$E138),0)))))","v":60},{"$f":"IF(COUNTIF($D$37:$E$40,AA138),80,0)+IF(COUNTIF($D$37:$E$40,X138),80,0)","v":160},{"$f":"IF(OR(X138=\"\",AA138=\"\"),0,IF(AND(X138=$D138,AA138=$E138,Y138=$F138,Z138=$G138),70,0))","v":70},"Spanien",2,1,"Belgien",{"$f":"IF(OR(AE138=\"\",AH138=\"\"),0,IF(AND(AE138=$D138,AH138=$E138),60,IF(AE138=$D138,30,IF(AH138=$E138,30,IF(AND(AE138<>$D138,AH138<>$E138),0)))))","v":60},{"$f":"IF(COUNTIF($D$37:$E$40,AH138),80,0)+IF(COUNTIF($D$37:$E$40,AE138),80,0)","v":160},{"$f":"IF(OR(AE138=\"\",AH138=\"\"),0,IF(AND(AE138=$D138,AH138=$E138,AF138=$F138,AG138=$G138),70,0))","v":70},"Spanien",1,0,"Türkei",{"$f":"IF(OR(AL138=\"\",AO138=\"\"),0,IF(AND(AL138=$D138,AO138=$E138),60,IF(AL138=$D138,30,IF(AO138=$E138,30,IF(AND(AL138<>$D138,AO138<>$E138),0)))))","v":30},{"$f":"IF(COUNTIF($D$37:$E$40,AO138),80,0)+IF(COUNTIF($D$37:$E$40,AL138),80,0)","v":80},{"$f":"IF(OR(AL138=\"\",AO138=\"\"),0,IF(AND(AL138=$D138,AO138=$E138,AM138=$F138,AN138=$G138),70,0))","v":0},"Spanien",1,0,"Belgien",{"$f":"IF(OR(AS138=\"\",AV138=\"\"),0,IF(AND(AS138=$D138,AV138=$E138),60,IF(AS138=$D138,30,IF(AV138=$E138,30,IF(AND(AS138<>$D138,AV138<>$E138),0)))))","v":60},{"$f":"IF(COUNTIF($D$37:$E$40,AV138),80,0)+IF(COUNTIF($D$37:$E$40,AS138),80,0)","v":160},{"$f":"IF(OR(AS138=\"\",AV138=\"\"),0,IF(AND(AS138=$D138,AV138=$E138,AT138=$F138,AU138=$G138),70,0))","v":0},"Spanien",2,1,"Belgien",{"$f":"IF(OR(AZ138=\"\",BC138=\"\"),0,IF(AND(AZ138=$D138,BC138=$E138),60,IF(AZ138=$D138,30,IF(BC138=$E138,30,IF(AND(AZ138<>$D138,BC138<>$E138),0)))))","v":60},{"$f":"IF(COUNTIF($D$37:$E$40,BC138),80,0)+IF(COUNTIF($D$37:$E$40,AZ138),80,0)","v":160},{"$f":"IF(OR(AZ138=\"\",BC138=\"\"),0,IF(AND(AZ138=$D138,BC138=$E138,BA138=$F138,BB138=$G138),70,0))","v":70},"Spanien",2,0,"Belgien",{"$f":"IF(OR(BG138=\"\",BJ138=\"\"),0,IF(AND(BG138=$D138,BJ138=$E138),60,IF(BG138=$D138,30,IF(BJ138=$E138,30,IF(AND(BG138<>$D138,BJ138<>$E138),0)))))","v":60},{"$f":"IF(COUNTIF($D$37:$E$40,BJ138),80,0)+IF(COUNTIF($D$37:$E$40,BG138),80,0)","v":160},{"$f":"IF(OR(BG138=\"\",BJ138=\"\"),0,IF(AND(BG138=$D138,BJ138=$E138,BH138=$F138,BI138=$G138),70,0))","v":0},"Spanien",2,0,"Türkei",{"$f":"IF(OR(BN138=\"\",BQ138=\"\"),0,IF(AND(BN138=$D138,BQ138=$E138),60,IF(BN138=$D138,30,IF(BQ138=$E138,30,IF(AND(BN138<>$D138,BQ138<>$E138),0)))))","v":30},{"$f":"IF(COUNTIF($D$37:$E$40,BQ138),80,0)+IF(COUNTIF($D$37:$E$40,BN138),80,0)","v":80},{"$f":"IF(OR(BN138=\"\",BQ138=\"\"),0,IF(AND(BN138=$D138,BQ138=$E138,BO138=$F138,BP138=$G138),70,0))","v":0},"Spanien",2,1,"Belgien",{"$f":"IF(OR(BU138=\"\",BX138=\"\"),0,IF(AND(BU138=$D138,BX138=$E138),60,IF(BU138=$D138,30,IF(BX138=$E138,30,IF(AND(BU138<>$D138,BX138<>$E138),0)))))","v":60},{"$f":"IF(COUNTIF($D$37:$E$40,BX138),80,0)+IF(COUNTIF($D$37:$E$40,BU138),80,0)","v":160},{"$f":"IF(OR(BU138=\"\",BX138=\"\"),0,IF(AND(BU138=$D138,BX138=$E138,BV138=$F138,BW138=$G138),70,0))","v":70},"Spanien",2,1,"Belgien",{"$f":"IF(OR(CB138=\"\",CE138=\"\"),0,IF(AND(CB138=$D138,CE138=$E138),60,IF(CB138=$D138,30,IF(CE138=$E138,30,IF(AND(CB138<>$D138,CE138<>$E138),0)))))","v":60},{"$f":"IF(COUNTIF($D$37:$E$40,CE138),80,0)+IF(COUNTIF($D$37:$E$40,CB138),80,0)","v":160},{"$f":"IF(OR(CB138=\"\",CE138=\"\"),0,IF(AND(CB138=$D138,CE138=$E138,CC138=$F138,CD138=$G138),70,0))","v":70},"Kroatien",3,1,"Türkei",{"$f":"IF(OR(CI138=\"\",CL138=\"\"),0,IF(AND(CI138=$D138,CL138=$E138),60,IF(CI138=$D138,30,IF(CL138=$E138,30,IF(AND(CI138<>$D138,CL138<>$E138),0)))))","v":0},{"$f":"IF(COUNTIF($D$37:$E$40,CL138),80,0)+IF(COUNTIF($D$37:$E$40,CI138),80,0)","v":0},{"$f":"IF(OR(CI138=\"\",CL138=\"\"),0,IF(AND(CI138=$D138,CL138=$E138,CJ138=$F138,CK138=$G138),70,0))","v":0},"Argentinien",2,1,"Iran",{"$f":"IF(OR(CP138=\"\",CS138=\"\"),0,IF(AND(CP138=$D138,CS138=$E138),60,IF(CP138=$D138,30,IF(CS138=$E138,30,IF(AND(CP138<>$D138,CS138<>$E138),0)))))","v":0},{"$f":"IF(COUNTIF($D$37:$E$40,CS138),80,0)+IF(COUNTIF($D$37:$E$40,CP138),80,0)","v":80},{"$f":"IF(OR(CP138=\"\",CS138=\"\"),0,IF(AND(CP138=$D138,CS138=$E138,CQ138=$F138,CR138=$G138),70,0))","v":0},"Spanien",1,0,"USA",{"$f":"IF(OR(CW138=\"\",CZ138=\"\"),0,IF(AND(CW138=$D138,CZ138=$E138),60,IF(CW138=$D138,30,IF(CZ138=$E138,30,IF(AND(CW138<>$D138,CZ138<>$E138),0)))))","v":30},{"$f":"IF(COUNTIF($D$37:$E$40,CZ138),80,0)+IF(COUNTIF($D$37:$E$40,CW138),80,0)","v":80},{"$f":"IF(OR(CW138=\"\",CZ138=\"\"),0,IF(AND(CW138=$D138,CZ138=$E138,CX138=$F138,CY138=$G138),70,0))","v":0},"Spanien",4,1,"Türkei",{"$f":"IF(OR(DD138=\"\",DG138=\"\"),0,IF(AND(DD138=$D138,DG138=$E138),60,IF(DD138=$D138,30,IF(DG138=$E138,30,IF(AND(DD138<>$D138,DG138<>$E138),0)))))","v":30},{"$f":"IF(COUNTIF($D$37:$E$40,DG138),80,0)+IF(COUNTIF($D$37:$E$40,DD138),80,0)","v":80},{"$f":"IF(OR(DD138=\"\",DG138=\"\"),0,IF(AND(DD138=$D138,DG138=$E138,DE138=$F138,DF138=$G138),70,0))","v":0},"Spanien",2,1,"Belgien",{"$f":"IF(OR(DK138=\"\",DN138=\"\"),0,IF(AND(DK138=$D138,DN138=$E138),60,IF(DK138=$D138,30,IF(DN138=$E138,30,IF(AND(DK138<>$D138,DN138<>$E138),0)))))","v":60},{"$f":"IF(COUNTIF($D$37:$E$40,DN138),80,0)+IF(COUNTIF($D$37:$E$40,DK138),80,0)","v":160},{"$f":"IF(OR(DK138=\"\",DN138=\"\"),0,IF(AND(DK138=$D138,DN138=$E138,DL138=$F138,DM138=$G138),70,0))","v":70},"Spanien",1,0,"Südkorea",{"$f":"IF(OR(DR138=\"\",DU138=\"\"),0,IF(AND(DR138=$D138,DU138=$E138),60,IF(DR138=$D138,30,IF(DU138=$E138,30,IF(AND(DR138<>$D138,DU138<>$E138),0)))))","v":30},{"$f":"IF(COUNTIF($D$37:$E$40,DU138),80,0)+IF(COUNTIF($D$37:$E$40,DR138),80,0)","v":80},{"$f":"IF(OR(DR138=\"\",DU138=\"\"),0,IF(AND(DR138=$D138,DU138=$E138,DS138=$F138,DT138=$G138),70,0))","v":0},"Spanien",3,0,"Belgien",{"$f":"IF(OR(DY138=\"\",EB138=\"\"),0,IF(AND(DY138=$D138,EB138=$E138),60,IF(DY138=$D138,30,IF(EB138=$E138,30,IF(AND(DY138<>$D138,EB138<>$E138),0)))))","v":60},{"$f":"IF(COUNTIF($D$37:$E$40,EB138),80,0)+IF(COUNTIF($D$37:$E$40,DY138),80,0)","v":160},{"$f":"IF(OR(DY138=\"\",EB138=\"\"),0,IF(AND(DY138=$D138,EB138=$E138,DZ138=$F138,EA138=$G138),70,0))","v":0},"Spanien",2,1,"Belgien",{"$f":"IF(OR(EF138=\"\",EI138=\"\"),0,IF(AND(EF138=$D138,EI138=$E138),60,IF(EF138=$D138,30,IF(EI138=$E138,30,IF(AND(EF138<>$D138,EI138<>$E138),0)))))","v":60},{"$f":"IF(COUNTIF($D$37:$E$40,EI138),80,0)+IF(COUNTIF($D$37:$E$40,EF138),80,0)","v":160},{"$f":"IF(OR(EF138=\"\",EI138=\"\"),0,IF(AND(EF138=$D138,EI138=$E138,EG138=$F138,EH138=$G138),70,0))","v":70},"Spanien",3,1,"Belgien",{"$f":"IF(OR(EM138=\"\",EP138=\"\"),0,IF(AND(EM138=$D138,EP138=$E138),60,IF(EM138=$D138,30,IF(EP138=$E138,30,IF(AND(EM138<>$D138,EP138<>$E138),0)))))","v":60},{"$f":"IF(COUNTIF($D$37:$E$40,EP138),80,0)+IF(COUNTIF($D$37:$E$40,EM138),80,0)","v":160},{"$f":"IF(OR(EM138=\"\",EP138=\"\"),0,IF(AND(EM138=$D138,EP138=$E138,EN138=$F138,EO138=$G138),70,0))","v":0},null,{"$f":"_xlfn.TEXTJOIN(\", \",TRUE,_xlfn._xlws.FILTER(INDEX($J$104:$EM$104,1,_xlfn.SEQUENCE(1,(COLUMNS($J$104:$EM$104)-1)/7+1,1,7))&\" \"&INDEX($J$105:$EM$105,1,_xlfn.SEQUENCE(1,(COLUMNS($J$105:$EM$105)-1)/7+1,1,7)),INDEX($P138:$ES138,1,_xlfn.SEQUENCE(1,(COLUMNS($P138:$ES138)-1)/7+1,1,7))>0,\"\"))","v":"Andreas Isenschmid, Michael Isenschmid, Tanja Kistler, Marc Lütolf, Nicolas Mack, Julian Merkli, Martin Oroshi"}]
["Sa. 11. Jul","23:00:00",99,"Norwegen","England",1,2,null,null,"Brasilien",1,2,"England",30,80,0,"Norwegen",1,2,"England",60,160,70,"Brasilien",1,2,"England",30,80,0,"Brasilien",1,2,"England",30,80,0,"Brasilien",1,0,"England",30,80,0,"Brasilien",0,1,"England",30,80,0,"Brasilien",2,1,"Mexiko",0,0,0,"Brasilien",1,2,"England",30,80,0,"Brasilien",2,0,"England",30,80,0,"Norwegen",1,2,"England",60,160,70,"Brasilien",2,1,"England",30,80,0,"Brasilien",3,1,"England",30,80,0,"Brasilien",2,1,"Ecuador",0,0,0,"Brasilien",0,1,"England",30,80,0,"Brasilien",3,1,"Senegal",0,0,0,"Brasilien",2,1,"Kroatien",0,0,0,"Brasilien",1,0,"Mexiko",0,0,0,"Brasilien",3,2,"England",30,80,0,"Brasilien",4,5,"England",30,80,0,"Brasilien",2,1,"England",30,80,0,null,{"$f":"_xlfn.TEXTJOIN(\", \",TRUE,_xlfn._xlws.FILTER(INDEX($J$104:$EM$104,1,_xlfn.SEQUENCE(1,(COLUMNS($J$104:$EM$104)-1)/7+1,1,7))&\" \"&INDEX($J$105:$EM$105,1,_xlfn.SEQUENCE(1,(COLUMNS($J$105:$EM$105)-1)/7+1,1,7)),INDEX($P139:$ES139,1,_xlfn.SEQUENCE(1,(COLUMNS($P139:$ES139)-1)/7+1,1,7))>0,\"\"))","v":"Agnes Isenschmid, Marc Lütolf"}]
["So. 12. Jul","03:00:00",100,"Argentinien","Schweiz",3,1,null,null,"Argentinien",2,1,"Portugal",30,80,0,"Argentinien",2,0,"Portugal",30,80,0,"Argentinien",1,3,"Portugal",30,80,0,"Argentinien",2,1,"Portugal",30,80,0,"Argentinien",0,1,"Portugal",30,80,0,"Argentinien",0,1,"Schweiz",60,160,0,"Argentinien",0,1,"Schweiz",60,160,0,"Argentinien",1,3,"Portugal",30,80,0,"Argentinien",2,0,"Schweiz",60,160,0,"Argentinien",3,1,"Portugal",30,80,0,"Argentinien",2,1,"Portugal",30,80,0,"Argentinien",3,1,"Schweiz",60,160,70,"Österreich",3,2,"Schweiz",30,80,0,"Argentinien",2,1,"Portugal",30,80,0,"Argentinien",2,1,"Schweiz",60,160,0,"Argentinien",3,2,"Portugal",30,80,0,"Argentinien",1,0,"Schweiz",60,160,0,"Argentinien",0,1,"Portugal",30,80,0,"Österreich",0,2,"Portugal",0,0,0,"Argentinien",2,1,"Schweiz",60,160,0,null,{"$f":"_xlfn.TEXTJOIN(\", \",TRUE,_xlfn._xlws.FILTER(INDEX($J$104:$EM$104,1,_xlfn.SEQUENCE(1,(COLUMNS($J$104:$EM$104)-1)/7+1,1,7))&\" \"&INDEX($J$105:$EM$105,1,_xlfn.SEQUENCE(1,(COLUMNS($J$105:$EM$105)-1)/7+1,1,7)),INDEX($P140:$ES140,1,_xlfn.SEQUENCE(1,(COLUMNS($P140:$ES140)-1)/7+1,1,7))>0,\"\"))","v":"Mauro Marini"}]
["Halbfinale",null,null,null,null,null,null,null,null,null,null,null,null,null,null,null,null,null,null,null,null,null,null,null,null,null,null,null,null,null,null,null,null,null,null,null,null,null,null,null,null,null,null,null,null,null,null,null,null,null,null,null,null,null,null,null,null,null,null,null,null,null,null,null,null,null,null,null,null,null,null,null,null,null,null,null,null,null,null,null,null,null,null,null,null,null,null,null,null,null,null,null,null,null,null,null,null,null,null,null,null,null,null,null,null,null,null,null,null,null,null,null,null,null,null,null,null,null,null,null,null,null,null,null,null,null,null,null,null,null,null,null,null,null,null,null,null,null,null,null,null,null,null,null,null,null,null,null,null,null,{"$f":"_xlfn.TEXTJOIN(\", \",TRUE,_xlfn._xlws.FILTER(INDEX($J$104:$EM$104,1,_xlfn.SEQUENCE(1,(COLUMNS($J$104:$EM$104)-1)/7+1,1,7))&\" \"&INDEX($J$105:$EM$105,1,_xlfn.SEQUENCE(1,(COLUMNS($J$105:$EM$105)-1)/7+1,1,7)),INDEX($P141:$ES141,1,_xlfn.SEQUENCE(1,(COLUMNS($P141:$ES141)-1)/7+1,1,7))>0,\"\"))","v":""}]
[{"$f":"A92","v":"Di. 14. Jul"},"21:00:00",101,"Frankreich","Spanien",{"$f":"IF(F92=\"\",\"\",F92)","v":0},{"$f":"IF(G92=\"\",\"\",G92)","v":2},null,null,"Frankreich",1,2,"Spanien",{"$f":"IF(OR(J142=\"\",M142=\"\"),0,IF(AND(J142=$D142,M142=$E142),80,IF(J142=$D142,40,IF(M142=$E142,40,IF(AND(J142<>$D142,M142<>$E142),0)))))","v":80},{"$f":"IF(COUNTIF($D$42:$E$43,M142),100,0)+IF(COUNTIF($D$42:$E$43,J142),100,0)","v":200},{"$f":"IF(OR(J142=\"\",M142=\"\"),0,IF(AND(J142=$D142,M142=$E142,K142=$F142,L142=$G142),100,0))","v":0},"Frankreich",1,2,"Spanien",{"$f":"IF(OR(Q142=\"\",T142=\"\"),0,IF(AND(Q142=$D142,T142=$E142),80,IF(Q142=$D142,40,IF(T142=$E142,40,IF(AND(Q142<>$D142,T142<>$E142),0)))))","v":80},{"$f":"IF(COUNTIF($D$42:$E$43,T142),100,0)+IF(COUNTIF($D$42:$E$43,Q142),100,0)","v":200},{"$f":"IF(OR(Q142=\"\",T142=\"\"),0,IF(AND(Q142=$D142,T142=$E142,R142=$F142,S142=$G142),100,0))","v":0},"Frankreich",2,3,"Spanien",{"$f":"IF(OR(X142=\"\",AA142=\"\"),0,IF(AND(X142=$D142,AA142=$E142),80,IF(X142=$D142,40,IF(AA142=$E142,40,IF(AND(X142<>$D142,AA142<>$E142),0)))))","v":80},{"$f":"IF(COUNTIF($D$42:$E$43,AA142),100,0)+IF(COUNTIF($D$42:$E$43,X142),100,0)","v":200},{"$f":"IF(OR(X142=\"\",AA142=\"\"),0,IF(AND(X142=$D142,AA142=$E142,Y142=$F142,Z142=$G142),100,0))","v":0},"Frankreich",1,2,"Spanien",{"$f":"IF(OR(AE142=\"\",AH142=\"\"),0,IF(AND(AE142=$D142,AH142=$E142),80,IF(AE142=$D142,40,IF(AH142=$E142,40,IF(AND(AE142<>$D142,AH142<>$E142),0)))))","v":80},{"$f":"IF(COUNTIF($D$42:$E$43,AH142),100,0)+IF(COUNTIF($D$42:$E$43,AE142),100,0)","v":200},{"$f":"IF(OR(AE142=\"\",AH142=\"\"),0,IF(AND(AE142=$D142,AH142=$E142,AF142=$F142,AG142=$G142),100,0))","v":0},"Frankreich",1,0,"Spanien",{"$f":"IF(OR(AL142=\"\",AO142=\"\"),0,IF(AND(AL142=$D142,AO142=$E142),80,IF(AL142=$D142,40,IF(AO142=$E142,40,IF(AND(AL142<>$D142,AO142<>$E142),0)))))","v":80},{"$f":"IF(COUNTIF($D$42:$E$43,AO142),100,0)+IF(COUNTIF($D$42:$E$43,AL142),100,0)","v":200},{"$f":"IF(OR(AL142=\"\",AO142=\"\"),0,IF(AND(AL142=$D142,AO142=$E142,AM142=$F142,AN142=$G142),100,0))","v":0},"Frankreich",1,0,"Spanien",{"$f":"IF(OR(AS142=\"\",AV142=\"\"),0,IF(AND(AS142=$D142,AV142=$E142),80,IF(AS142=$D142,40,IF(AV142=$E142,40,IF(AND(AS142<>$D142,AV142<>$E142),0)))))","v":80},{"$f":"IF(COUNTIF($D$42:$E$43,AV142),100,0)+IF(COUNTIF($D$42:$E$43,AS142),100,0)","v":200},{"$f":"IF(OR(AS142=\"\",AV142=\"\"),0,IF(AND(AS142=$D142,AV142=$E142,AT142=$F142,AU142=$G142),100,0))","v":0},"Marokko",1,2,"Spanien",{"$f":"IF(OR(AZ142=\"\",BC142=\"\"),0,IF(AND(AZ142=$D142,BC142=$E142),80,IF(AZ142=$D142,40,IF(BC142=$E142,40,IF(AND(AZ142<>$D142,BC142<>$E142),0)))))","v":40},{"$f":"IF(COUNTIF($D$42:$E$43,BC142),100,0)+IF(COUNTIF($D$42:$E$43,AZ142),100,0)","v":100},{"$f":"IF(OR(AZ142=\"\",BC142=\"\"),0,IF(AND(AZ142=$D142,BC142=$E142,BA142=$F142,BB142=$G142),100,0))","v":0},"Frankreich",1,2,"Spanien",{"$f":"IF(OR(BG142=\"\",BJ142=\"\"),0,IF(AND(BG142=$D142,BJ142=$E142),80,IF(BG142=$D142,40,IF(BJ142=$E142,40,IF(AND(BG142<>$D142,BJ142<>$E142),0)))))","v":80},{"$f":"IF(COUNTIF($D$42:$E$43,BJ142),100,0)+IF(COUNTIF($D$42:$E$43,BG142),100,0)","v":200},{"$f":"IF(OR(BG142=\"\",BJ142=\"\"),0,IF(AND(BG142=$D142,BJ142=$E142,BH142=$F142,BI142=$G142),100,0))","v":0},"Frankreich",2,0,"Spanien",{"$f":"IF(OR(BN142=\"\",BQ142=\"\"),0,IF(AND(BN142=$D142,BQ142=$E142),80,IF(BN142=$D142,40,IF(BQ142=$E142,40,IF(AND(BN142<>$D142,BQ142<>$E142),0)))))","v":80},{"$f":"IF(COUNTIF($D$42:$E$43,BQ142),100,0)+IF(COUNTIF($D$42:$E$43,BN142),100,0)","v":200},{"$f":"IF(OR(BN142=\"\",BQ142=\"\"),0,IF(AND(BN142=$D142,BQ142=$E142,BO142=$F142,BP142=$G142),100,0))","v":0},"Frankreich",1,2,"Spanien",{"$f":"IF(OR(BU142=\"\",BX142=\"\"),0,IF(AND(BU142=$D142,BX142=$E142),80,IF(BU142=$D142,40,IF(BX142=$E142,40,IF(AND(BU142<>$D142,BX142<>$E142),0)))))","v":80},{"$f":"IF(COUNTIF($D$42:$E$43,BX142),100,0)+IF(COUNTIF($D$42:$E$43,BU142),100,0)","v":200},{"$f":"IF(OR(BU142=\"\",BX142=\"\"),0,IF(AND(BU142=$D142,BX142=$E142,BV142=$F142,BW142=$G142),100,0))","v":0},"Frankreich",1,2,"Spanien",{"$f":"IF(OR(CB142=\"\",CE142=\"\"),0,IF(AND(CB142=$D142,CE142=$E142),80,IF(CB142=$D142,40,IF(CE142=$E142,40,IF(AND(CB142<>$D142,CE142<>$E142),0)))))","v":80},{"$f":"IF(COUNTIF($D$42:$E$43,CE142),100,0)+IF(COUNTIF($D$42:$E$43,CB142),100,0)","v":200},{"$f":"IF(OR(CB142=\"\",CE142=\"\"),0,IF(AND(CB142=$D142,CE142=$E142,CC142=$F142,CD142=$G142),100,0))","v":0},"Frankreich",3,1,"Kroatien",{"$f":"IF(OR(CI142=\"\",CL142=\"\"),0,IF(AND(CI142=$D142,CL142=$E142),80,IF(CI142=$D142,40,IF(CL142=$E142,40,IF(AND(CI142<>$D142,CL142<>$E142),0)))))","v":40},{"$f":"IF(COUNTIF($D$42:$E$43,CL142),100,0)+IF(COUNTIF($D$42:$E$43,CI142),100,0)","v":100},{"$f":"IF(OR(CI142=\"\",CL142=\"\"),0,IF(AND(CI142=$D142,CL142=$E142,CJ142=$F142,CK142=$G142),100,0))","v":0},"Japan",3,2,"Argentinien",{"$f":"IF(OR(CP142=\"\",CS142=\"\"),0,IF(AND(CP142=$D142,CS142=$E142),80,IF(CP142=$D142,40,IF(CS142=$E142,40,IF(AND(CP142<>$D142,CS142<>$E142),0)))))","v":0},{"$f":"IF(COUNTIF($D$42:$E$43,CS142),100,0)+IF(COUNTIF($D$42:$E$43,CP142),100,0)","v":100},{"$f":"IF(OR(CP142=\"\",CS142=\"\"),0,IF(AND(CP142=$D142,CS142=$E142,CQ142=$F142,CR142=$G142),100,0))","v":0},"Frankreich",1,0,"Spanien",{"$f":"IF(OR(CW142=\"\",CZ142=\"\"),0,IF(AND(CW142=$D142,CZ142=$E142),80,IF(CW142=$D142,40,IF(CZ142=$E142,40,IF(AND(CW142<>$D142,CZ142<>$E142),0)))))","v":80},{"$f":"IF(COUNTIF($D$42:$E$43,CZ142),100,0)+IF(COUNTIF($D$42:$E$43,CW142),100,0)","v":200},{"$f":"IF(OR(CW142=\"\",CZ142=\"\"),0,IF(AND(CW142=$D142,CZ142=$E142,CX142=$F142,CY142=$G142),100,0))","v":0},"Frankreich",1,3,"Spanien",{"$f":"IF(OR(DD142=\"\",DG142=\"\"),0,IF(AND(DD142=$D142,DG142=$E142),80,IF(DD142=$D142,40,IF(DG142=$E142,40,IF(AND(DD142<>$D142,DG142<>$E142),0)))))","v":80},{"$f":"IF(COUNTIF($D$42:$E$43,DG142),100,0)+IF(COUNTIF($D$42:$E$43,DD142),100,0)","v":200},{"$f":"IF(OR(DD142=\"\",DG142=\"\"),0,IF(AND(DD142=$D142,DG142=$E142,DE142=$F142,DF142=$G142),100,0))","v":0},"Frankreich",1,2,"Spanien",{"$f":"IF(OR(DK142=\"\",DN142=\"\"),0,IF(AND(DK142=$D142,DN142=$E142),80,IF(DK142=$D142,40,IF(DN142=$E142,40,IF(AND(DK142<>$D142,DN142<>$E142),0)))))","v":80},{"$f":"IF(COUNTIF($D$42:$E$43,DN142),100,0)+IF(COUNTIF($D$42:$E$43,DK142),100,0)","v":200},{"$f":"IF(OR(DK142=\"\",DN142=\"\"),0,IF(AND(DK142=$D142,DN142=$E142,DL142=$F142,DM142=$G142),100,0))","v":0},"Frankreich",1,0,"Spanien",{"$f":"IF(OR(DR142=\"\",DU142=\"\"),0,IF(AND(DR142=$D142,DU142=$E142),80,IF(DR142=$D142,40,IF(DU142=$E142,40,IF(AND(DR142<>$D142,DU142<>$E142),0)))))","v":80},{"$f":"IF(COUNTIF($D$42:$E$43,DU142),100,0)+IF(COUNTIF($D$42:$E$43,DR142),100,0)","v":200},{"$f":"IF(OR(DR142=\"\",DU142=\"\"),0,IF(AND(DR142=$D142,DU142=$E142,DS142=$F142,DT142=$G142),100,0))","v":0},"Frankreich",0,1,"Spanien",{"$f":"IF(OR(DY142=\"\",EB142=\"\"),0,IF(AND(DY142=$D142,EB142=$E142),80,IF(DY142=$D142,40,IF(EB142=$E142,40,IF(AND(DY142<>$D142,EB142<>$E142),0)))))","v":80},{"$f":"IF(COUNTIF($D$42:$E$43,EB142),100,0)+IF(COUNTIF($D$42:$E$43,DY142),100,0)","v":200},{"$f":"IF(OR(DY142=\"\",EB142=\"\"),0,IF(AND(DY142=$D142,EB142=$E142,DZ142=$F142,EA142=$G142),100,0))","v":0},"Frankreich",5,4,"Spanien",{"$f":"IF(OR(EF142=\"\",EI142=\"\"),0,IF(AND(EF142=$D142,EI142=$E142),80,IF(EF142=$D142,40,IF(EI142=$E142,40,IF(AND(EF142<>$D142,EI142<>$E142),0)))))","v":80},{"$f":"IF(COUNTIF($D$42:$E$43,EI142),100,0)+IF(COUNTIF($D$42:$E$43,EF142),100,0)","v":200},{"$f":"IF(OR(EF142=\"\",EI142=\"\"),0,IF(AND(EF142=$D142,EI142=$E142,EG142=$F142,EH142=$G142),100,0))","v":0},"Frankreich",3,4,"Spanien",{"$f":"IF(OR(EM142=\"\",EP142=\"\"),0,IF(AND(EM142=$D142,EP142=$E142),80,IF(EM142=$D142,40,IF(EP142=$E142,40,IF(AND(EM142<>$D142,EP142<>$E142),0)))))","v":80},{"$f":"IF(COUNTIF($D$42:$E$43,EP142),100,0)+IF(COUNTIF($D$42:$E$43,EM142),100,0)","v":200},{"$f":"IF(OR(EM142=\"\",EP142=\"\"),0,IF(AND(EM142=$D142,EP142=$E142,EN142=$F142,EO142=$G142),100,0))","v":0},null,{"$f":"_xlfn.TEXTJOIN(\", \",TRUE,_xlfn._xlws.FILTER(INDEX($J$104:$EM$104,1,_xlfn.SEQUENCE(1,(COLUMNS($J$104:$EM$104)-1)/7+1,1,7))&\" \"&INDEX($J$105:$EM$105,1,_xlfn.SEQUENCE(1,(COLUMNS($J$105:$EM$105)-1)/7+1,1,7)),INDEX($P142:$ES142,1,_xlfn.SEQUENCE(1,(COLUMNS($P142:$ES142)-1)/7+1,1,7))>0,\"\"))","v":""}]
["Mi. 15. Jul","21:00:00",102,"England","Argentinien",{"$f":"IF(F93=\"\",\"\",F93)","v":1},{"$f":"IF(G93=\"\",\"\",G93)","v":2},null,null,"England",2,1,"Argentinien",{"$f":"IF(OR(J143=\"\",M143=\"\"),0,IF(AND(J143=$D143,M143=$E143),80,IF(J143=$D143,40,IF(M143=$E143,40,IF(AND(J143<>$D143,M143<>$E143),0)))))","v":80},{"$f":"IF(COUNTIF($D$42:$E$43,M143),100,0)+IF(COUNTIF($D$42:$E$43,J143),100,0)","v":200},{"$f":"IF(OR(J143=\"\",M143=\"\"),0,IF(AND(J143=$D143,M143=$E143,K143=$F143,L143=$G143),100,0))","v":0},"England",0,1,"Argentinien",{"$f":"IF(OR(Q143=\"\",T143=\"\"),0,IF(AND(Q143=$D143,T143=$E143),80,IF(Q143=$D143,40,IF(T143=$E143,40,IF(AND(Q143<>$D143,T143<>$E143),0)))))","v":80},{"$f":"IF(COUNTIF($D$42:$E$43,T143),100,0)+IF(COUNTIF($D$42:$E$43,Q143),100,0)","v":200},{"$f":"IF(OR(Q143=\"\",T143=\"\"),0,IF(AND(Q143=$D143,T143=$E143,R143=$F143,S143=$G143),100,0))","v":0},"England",2,1,"Portugal",{"$f":"IF(OR(X143=\"\",AA143=\"\"),0,IF(AND(X143=$D143,AA143=$E143),80,IF(X143=$D143,40,IF(AA143=$E143,40,IF(AND(X143<>$D143,AA143<>$E143),0)))))","v":40},{"$f":"IF(COUNTIF($D$42:$E$43,AA143),100,0)+IF(COUNTIF($D$42:$E$43,X143),100,0)","v":100},{"$f":"IF(OR(X143=\"\",AA143=\"\"),0,IF(AND(X143=$D143,AA143=$E143,Y143=$F143,Z143=$G143),100,0))","v":0},"England",2,1,"Argentinien",{"$f":"IF(OR(AE143=\"\",AH143=\"\"),0,IF(AND(AE143=$D143,AH143=$E143),80,IF(AE143=$D143,40,IF(AH143=$E143,40,IF(AND(AE143<>$D143,AH143<>$E143),0)))))","v":80},{"$f":"IF(COUNTIF($D$42:$E$43,AH143),100,0)+IF(COUNTIF($D$42:$E$43,AE143),100,0)","v":200},{"$f":"IF(OR(AE143=\"\",AH143=\"\"),0,IF(AND(AE143=$D143,AH143=$E143,AF143=$F143,AG143=$G143),100,0))","v":0},"Brasilien",0,1,"Portugal",{"$f":"IF(OR(AL143=\"\",AO143=\"\"),0,IF(AND(AL143=$D143,AO143=$E143),80,IF(AL143=$D143,40,IF(AO143=$E143,40,IF(AND(AL143<>$D143,AO143<>$E143),0)))))","v":0},{"$f":"IF(COUNTIF($D$42:$E$43,AO143),100,0)+IF(COUNTIF($D$42:$E$43,AL143),100,0)","v":0},{"$f":"IF(OR(AL143=\"\",AO143=\"\"),0,IF(AND(AL143=$D143,AO143=$E143,AM143=$F143,AN143=$G143),100,0))","v":0},"England",1,0,"Schweiz",{"$f":"IF(OR(AS143=\"\",AV143=\"\"),0,IF(AND(AS143=$D143,AV143=$E143),80,IF(AS143=$D143,40,IF(AV143=$E143,40,IF(AND(AS143<>$D143,AV143<>$E143),0)))))","v":40},{"$f":"IF(COUNTIF($D$42:$E$43,AV143),100,0)+IF(COUNTIF($D$42:$E$43,AS143),100,0)","v":100},{"$f":"IF(OR(AS143=\"\",AV143=\"\"),0,IF(AND(AS143=$D143,AV143=$E143,AT143=$F143,AU143=$G143),100,0))","v":0},"Brasilien",2,1,"Schweiz",{"$f":"IF(OR(AZ143=\"\",BC143=\"\"),0,IF(AND(AZ143=$D143,BC143=$E143),80,IF(AZ143=$D143,40,IF(BC143=$E143,40,IF(AND(AZ143<>$D143,BC143<>$E143),0)))))","v":0},{"$f":"IF(COUNTIF($D$42:$E$43,BC143),100,0)+IF(COUNTIF($D$42:$E$43,AZ143),100,0)","v":0},{"$f":"IF(OR(AZ143=\"\",BC143=\"\"),0,IF(AND(AZ143=$D143,BC143=$E143,BA143=$F143,BB143=$G143),100,0))","v":0},"England",0,2,"Portugal",{"$f":"IF(OR(BG143=\"\",BJ143=\"\"),0,IF(AND(BG143=$D143,BJ143=$E143),80,IF(BG143=$D143,40,IF(BJ143=$E143,40,IF(AND(BG143<>$D143,BJ143<>$E143),0)))))","v":40},{"$f":"IF(COUNTIF($D$42:$E$43,BJ143),100,0)+IF(COUNTIF($D$42:$E$43,BG143),100,0)","v":100},{"$f":"IF(OR(BG143=\"\",BJ143=\"\"),0,IF(AND(BG143=$D143,BJ143=$E143,BH143=$F143,BI143=$G143),100,0))","v":0},"Brasilien",2,0,"Argentinien",{"$f":"IF(OR(BN143=\"\",BQ143=\"\"),0,IF(AND(BN143=$D143,BQ143=$E143),80,IF(BN143=$D143,40,IF(BQ143=$E143,40,IF(AND(BN143<>$D143,BQ143<>$E143),0)))))","v":40},{"$f":"IF(COUNTIF($D$42:$E$43,BQ143),100,0)+IF(COUNTIF($D$42:$E$43,BN143),100,0)","v":100},{"$f":"IF(OR(BN143=\"\",BQ143=\"\"),0,IF(AND(BN143=$D143,BQ143=$E143,BO143=$F143,BP143=$G143),100,0))","v":0},"England",2,1,"Argentinien",{"$f":"IF(OR(BU143=\"\",BX143=\"\"),0,IF(AND(BU143=$D143,BX143=$E143),80,IF(BU143=$D143,40,IF(BX143=$E143,40,IF(AND(BU143<>$D143,BX143<>$E143),0)))))","v":80},{"$f":"IF(COUNTIF($D$42:$E$43,BX143),100,0)+IF(COUNTIF($D$42:$E$43,BU143),100,0)","v":200},{"$f":"IF(OR(BU143=\"\",BX143=\"\"),0,IF(AND(BU143=$D143,BX143=$E143,BV143=$F143,BW143=$G143),100,0))","v":0},"Brasilien",2,1,"Argentinien",{"$f":"IF(OR(CB143=\"\",CE143=\"\"),0,IF(AND(CB143=$D143,CE143=$E143),80,IF(CB143=$D143,40,IF(CE143=$E143,40,IF(AND(CB143<>$D143,CE143<>$E143),0)))))","v":40},{"$f":"IF(COUNTIF($D$42:$E$43,CE143),100,0)+IF(COUNTIF($D$42:$E$43,CB143),100,0)","v":100},{"$f":"IF(OR(CB143=\"\",CE143=\"\"),0,IF(AND(CB143=$D143,CE143=$E143,CC143=$F143,CD143=$G143),100,0))","v":0},"Brasilien",1,3,"Argentinien",{"$f":"IF(OR(CI143=\"\",CL143=\"\"),0,IF(AND(CI143=$D143,CL143=$E143),80,IF(CI143=$D143,40,IF(CL143=$E143,40,IF(AND(CI143<>$D143,CL143<>$E143),0)))))","v":40},{"$f":"IF(COUNTIF($D$42:$E$43,CL143),100,0)+IF(COUNTIF($D$42:$E$43,CI143),100,0)","v":100},{"$f":"IF(OR(CI143=\"\",CL143=\"\"),0,IF(AND(CI143=$D143,CL143=$E143,CJ143=$F143,CK143=$G143),100,0))","v":0},"Brasilien",3,2,"Österreich",{"$f":"IF(OR(CP143=\"\",CS143=\"\"),0,IF(AND(CP143=$D143,CS143=$E143),80,IF(CP143=$D143,40,IF(CS143=$E143,40,IF(AND(CP143<>$D143,CS143<>$E143),0)))))","v":0},{"$f":"IF(COUNTIF($D$42:$E$43,CS143),100,0)+IF(COUNTIF($D$42:$E$43,CP143),100,0)","v":0},{"$f":"IF(OR(CP143=\"\",CS143=\"\"),0,IF(AND(CP143=$D143,CS143=$E143,CQ143=$F143,CR143=$G143),100,0))","v":0},"England",1,2,"Argentinien",{"$f":"IF(OR(CW143=\"\",CZ143=\"\"),0,IF(AND(CW143=$D143,CZ143=$E143),80,IF(CW143=$D143,40,IF(CZ143=$E143,40,IF(AND(CW143<>$D143,CZ143<>$E143),0)))))","v":80},{"$f":"IF(COUNTIF($D$42:$E$43,CZ143),100,0)+IF(COUNTIF($D$42:$E$43,CW143),100,0)","v":200},{"$f":"IF(OR(CW143=\"\",CZ143=\"\"),0,IF(AND(CW143=$D143,CZ143=$E143,CX143=$F143,CY143=$G143),100,0))","v":100},"Brasilien",1,2,"Argentinien",{"$f":"IF(OR(DD143=\"\",DG143=\"\"),0,IF(AND(DD143=$D143,DG143=$E143),80,IF(DD143=$D143,40,IF(DG143=$E143,40,IF(AND(DD143<>$D143,DG143<>$E143),0)))))","v":40},{"$f":"IF(COUNTIF($D$42:$E$43,DG143),100,0)+IF(COUNTIF($D$42:$E$43,DD143),100,0)","v":100},{"$f":"IF(OR(DD143=\"\",DG143=\"\"),0,IF(AND(DD143=$D143,DG143=$E143,DE143=$F143,DF143=$G143),100,0))","v":0},"Brasilien",4,3,"Argentinien",{"$f":"IF(OR(DK143=\"\",DN143=\"\"),0,IF(AND(DK143=$D143,DN143=$E143),80,IF(DK143=$D143,40,IF(DN143=$E143,40,IF(AND(DK143<>$D143,DN143<>$E143),0)))))","v":40},{"$f":"IF(COUNTIF($D$42:$E$43,DN143),100,0)+IF(COUNTIF($D$42:$E$43,DK143),100,0)","v":100},{"$f":"IF(OR(DK143=\"\",DN143=\"\"),0,IF(AND(DK143=$D143,DN143=$E143,DL143=$F143,DM143=$G143),100,0))","v":0},"Brasilien",1,0,"Argentinien",{"$f":"IF(OR(DR143=\"\",DU143=\"\"),0,IF(AND(DR143=$D143,DU143=$E143),80,IF(DR143=$D143,40,IF(DU143=$E143,40,IF(AND(DR143<>$D143,DU143<>$E143),0)))))","v":40},{"$f":"IF(COUNTIF($D$42:$E$43,DU143),100,0)+IF(COUNTIF($D$42:$E$43,DR143),100,0)","v":100},{"$f":"IF(OR(DR143=\"\",DU143=\"\"),0,IF(AND(DR143=$D143,DU143=$E143,DS143=$F143,DT143=$G143),100,0))","v":0},"Brasilien",2,3,"Portugal",{"$f":"IF(OR(DY143=\"\",EB143=\"\"),0,IF(AND(DY143=$D143,EB143=$E143),80,IF(DY143=$D143,40,IF(EB143=$E143,40,IF(AND(DY143<>$D143,EB143<>$E143),0)))))","v":0},{"$f":"IF(COUNTIF($D$42:$E$43,EB143),100,0)+IF(COUNTIF($D$42:$E$43,DY143),100,0)","v":0},{"$f":"IF(OR(DY143=\"\",EB143=\"\"),0,IF(AND(DY143=$D143,EB143=$E143,DZ143=$F143,EA143=$G143),100,0))","v":0},"England",5,4,"Portugal",{"$f":"IF(OR(EF143=\"\",EI143=\"\"),0,IF(AND(EF143=$D143,EI143=$E143),80,IF(EF143=$D143,40,IF(EI143=$E143,40,IF(AND(EF143<>$D143,EI143<>$E143),0)))))","v":40},{"$f":"IF(COUNTIF($D$42:$E$43,EI143),100,0)+IF(COUNTIF($D$42:$E$43,EF143),100,0)","v":100},{"$f":"IF(OR(EF143=\"\",EI143=\"\"),0,IF(AND(EF143=$D143,EI143=$E143,EG143=$F143,EH143=$G143),100,0))","v":0},"Brasilien",2,1,"Argentinien",{"$f":"IF(OR(EM143=\"\",EP143=\"\"),0,IF(AND(EM143=$D143,EP143=$E143),80,IF(EM143=$D143,40,IF(EP143=$E143,40,IF(AND(EM143<>$D143,EP143<>$E143),0)))))","v":40},{"$f":"IF(COUNTIF($D$42:$E$43,EP143),100,0)+IF(COUNTIF($D$42:$E$43,EM143),100,0)","v":100},{"$f":"IF(OR(EM143=\"\",EP143=\"\"),0,IF(AND(EM143=$D143,EP143=$E143,EN143=$F143,EO143=$G143),100,0))","v":0},null,{"$f":"_xlfn.TEXTJOIN(\", \",TRUE,_xlfn._xlws.FILTER(INDEX($J$104:$EM$104,1,_xlfn.SEQUENCE(1,(COLUMNS($J$104:$EM$104)-1)/7+1,1,7))&\" \"&INDEX($J$105:$EM$105,1,_xlfn.SEQUENCE(1,(COLUMNS($J$105:$EM$105)-1)/7+1,1,7)),INDEX($P143:$ES143,1,_xlfn.SEQUENCE(1,(COLUMNS($P143:$ES143)-1)/7+1,1,7))>0,\"\"))","v":"Martin Marthaler"}]
["Spiel um den 3. Platz",null,null,null,null,null,null,null,null,null,null,null,null,null,null,null,null,null,null,null,null,null,null,null,null,null,null,null,null,null,null,null,null,null,null,null,null,null,null,null,null,null,null,null,null,null,null,null,null,null,null,null,null,null,null,null,null,null,null,null,null,null,null,null,null,null,null,null,null,null,null,null,null,null,null,null,null,null,null,null,null,null,null,null,null,null,null,null,null,null,null,null,null,null,null,null,null,null,null,null,null,null,null,null,null,null,null,null,null,null,null,null,null,null,null,null,null,null,null,null,null,null,null,null,null,null,null,null,null,null,null,null,null,null,null,null,null,null,null,null,null,null,null,null,null,null,null,null,null,null,{"$f":"_xlfn.TEXTJOIN(\", \",TRUE,_xlfn._xlws.FILTER(INDEX($J$104:$EM$104,1,_xlfn.SEQUENCE(1,(COLUMNS($J$104:$EM$104)-1)/7+1,1,7))&\" \"&INDEX($J$105:$EM$105,1,_xlfn.SEQUENCE(1,(COLUMNS($J$105:$EM$105)-1)/7+1,1,7)),INDEX($P144:$ES144,1,_xlfn.SEQUENCE(1,(COLUMNS($P144:$ES144)-1)/7+1,1,7))>0,\"\"))","v":""}]
[{"$f":"A95","v":"Sa. 18. Jul"},{"$f":"B95","v":"23:00:00"},{"$f":"C95","v":103},{"$f":"D95","v":"Frankreich"},{"$f":"E95","v":"England"},{"$f":"IF(F95=\"\",\"\",F95)","v":""},{"$f":"IF(G95=\"\",\"\",G95)","v":""},null,null,"Frankreich",2,1,"Argentinien",{"$f":"IF(OR(J145=\"\",M145=\"\"),0,IF(AND(J145=$D145,M145=$E145),100,IF(J145=$D145,50,IF(M145=$E145,50,IF(AND(J145<>$D145,M145<>$E145),0)))))","v":50},{"$f":"IF(COUNTIF($D$45:$E$45,M145),100,0)+IF(COUNTIF($D$45:$E$45,J145),100,0)","v":100},{"$f":"IF(OR(J145=\"\",M145=\"\"),0,IF(AND(J145=$D145,M145=$E145,K145=$F145,L145=$G145),150,0))","v":0},"Frankreich",2,1,"England",{"$f":"IF(OR(Q145=\"\",T145=\"\"),0,IF(AND(Q145=$D145,T145=$E145),100,IF(Q145=$D145,50,IF(T145=$E145,50,IF(AND(Q145<>$D145,T145<>$E145),0)))))","v":100},{"$f":"IF(COUNTIF($D$45:$E$45,T145),100,0)+IF(COUNTIF($D$45:$E$45,Q145),100,0)","v":200},{"$f":"IF(OR(Q145=\"\",T145=\"\"),0,IF(AND(Q145=$D145,T145=$E145,R145=$F145,S145=$G145),150,0))","v":0},"Frankreich",2,1,"Portugal",{"$f":"IF(OR(X145=\"\",AA145=\"\"),0,IF(AND(X145=$D145,AA145=$E145),100,IF(X145=$D145,50,IF(AA145=$E145,50,IF(AND(X145<>$D145,AA145<>$E145),0)))))","v":50},{"$f":"IF(COUNTIF($D$45:$E$45,AA145),100,0)+IF(COUNTIF($D$45:$E$45,X145),100,0)","v":100},{"$f":"IF(OR(X145=\"\",AA145=\"\"),0,IF(AND(X145=$D145,AA145=$E145,Y145=$F145,Z145=$G145),150,0))","v":0},"Frankreich",1,2,"Argentinien",{"$f":"IF(OR(AE145=\"\",AH145=\"\"),0,IF(AND(AE145=$D145,AH145=$E145),100,IF(AE145=$D145,50,IF(AH145=$E145,50,IF(AND(AE145<>$D145,AH145<>$E145),0)))))","v":50},{"$f":"IF(COUNTIF($D$45:$E$45,AH145),100,0)+IF(COUNTIF($D$45:$E$45,AE145),100,0)","v":100},{"$f":"IF(OR(AE145=\"\",AH145=\"\"),0,IF(AND(AE145=$D145,AH145=$E145,AF145=$F145,AG145=$G145),150,0))","v":0},"Spanien",1,1,"Brasilien",{"$f":"IF(OR(AL145=\"\",AO145=\"\"),0,IF(AND(AL145=$D145,AO145=$E145),100,IF(AL145=$D145,50,IF(AO145=$E145,50,IF(AND(AL145<>$D145,AO145<>$E145),0)))))","v":0},{"$f":"IF(COUNTIF($D$45:$E$45,AO145),100,0)+IF(COUNTIF($D$45:$E$45,AL145),100,0)","v":0},{"$f":"IF(OR(AL145=\"\",AO145=\"\"),0,IF(AND(AL145=$D145,AO145=$E145,AM145=$F145,AN145=$G145),150,0))","v":0},"Spanien",1,0,"Schweiz",{"$f":"IF(OR(AS145=\"\",AV145=\"\"),0,IF(AND(AS145=$D145,AV145=$E145),100,IF(AS145=$D145,50,IF(AV145=$E145,50,IF(AND(AS145<>$D145,AV145<>$E145),0)))))","v":0},{"$f":"IF(COUNTIF($D$45:$E$45,AV145),100,0)+IF(COUNTIF($D$45:$E$45,AS145),100,0)","v":0},{"$f":"IF(OR(AS145=\"\",AV145=\"\"),0,IF(AND(AS145=$D145,AV145=$E145,AT145=$F145,AU145=$G145),150,0))","v":0},"Marokko",2,1,"Schweiz",{"$f":"IF(OR(AZ145=\"\",BC145=\"\"),0,IF(AND(AZ145=$D145,BC145=$E145),100,IF(AZ145=$D145,50,IF(BC145=$E145,50,IF(AND(AZ145<>$D145,BC145<>$E145),0)))))","v":0},{"$f":"IF(COUNTIF($D$45:$E$45,BC145),100,0)+IF(COUNTIF($D$45:$E$45,AZ145),100,0)","v":0},{"$f":"IF(OR(AZ145=\"\",BC145=\"\"),0,IF(AND(AZ145=$D145,BC145=$E145,BA145=$F145,BB145=$G145),150,0))","v":0},"Frankreich",3,1,"England",{"$f":"IF(OR(BG145=\"\",BJ145=\"\"),0,IF(AND(BG145=$D145,BJ145=$E145),100,IF(BG145=$D145,50,IF(BJ145=$E145,50,IF(AND(BG145<>$D145,BJ145<>$E145),0)))))","v":100},{"$f":"IF(COUNTIF($D$45:$E$45,BJ145),100,0)+IF(COUNTIF($D$45:$E$45,BG145),100,0)","v":200},{"$f":"IF(OR(BG145=\"\",BJ145=\"\"),0,IF(AND(BG145=$D145,BJ145=$E145,BH145=$F145,BI145=$G145),150,0))","v":0},"Spanien",2,0,"Argentinien",{"$f":"IF(OR(BN145=\"\",BQ145=\"\"),0,IF(AND(BN145=$D145,BQ145=$E145),100,IF(BN145=$D145,50,IF(BQ145=$E145,50,IF(AND(BN145<>$D145,BQ145<>$E145),0)))))","v":0},{"$f":"IF(COUNTIF($D$45:$E$45,BQ145),100,0)+IF(COUNTIF($D$45:$E$45,BN145),100,0)","v":0},{"$f":"IF(OR(BN145=\"\",BQ145=\"\"),0,IF(AND(BN145=$D145,BQ145=$E145,BO145=$F145,BP145=$G145),150,0))","v":0},"Frankreich",1,0,"Argentinien",{"$f":"IF(OR(BU145=\"\",BX145=\"\"),0,IF(AND(BU145=$D145,BX145=$E145),100,IF(BU145=$D145,50,IF(BX145=$E145,50,IF(AND(BU145<>$D145,BX145<>$E145),0)))))","v":50},{"$f":"IF(COUNTIF($D$45:$E$45,BX145),100,0)+IF(COUNTIF($D$45:$E$45,BU145),100,0)","v":100},{"$f":"IF(OR(BU145=\"\",BX145=\"\"),0,IF(AND(BU145=$D145,BX145=$E145,BV145=$F145,BW145=$G145),150,0))","v":0},"Frankreich",2,1,"Argentinien",{"$f":"IF(OR(CB145=\"\",CE145=\"\"),0,IF(AND(CB145=$D145,CE145=$E145),100,IF(CB145=$D145,50,IF(CE145=$E145,50,IF(AND(CB145<>$D145,CE145<>$E145),0)))))","v":50},{"$f":"IF(COUNTIF($D$45:$E$45,CE145),100,0)+IF(COUNTIF($D$45:$E$45,CB145),100,0)","v":100},{"$f":"IF(OR(CB145=\"\",CE145=\"\"),0,IF(AND(CB145=$D145,CE145=$E145,CC145=$F145,CD145=$G145),150,0))","v":0},"Kroatien",1,2,"Brasilien",{"$f":"IF(OR(CI145=\"\",CL145=\"\"),0,IF(AND(CI145=$D145,CL145=$E145),100,IF(CI145=$D145,50,IF(CL145=$E145,50,IF(AND(CI145<>$D145,CL145<>$E145),0)))))","v":0},{"$f":"IF(COUNTIF($D$45:$E$45,CL145),100,0)+IF(COUNTIF($D$45:$E$45,CI145),100,0)","v":0},{"$f":"IF(OR(CI145=\"\",CL145=\"\"),0,IF(AND(CI145=$D145,CL145=$E145,CJ145=$F145,CK145=$G145),150,0))","v":0},"Argentinien",1,0,"Österreich",{"$f":"IF(OR(CP145=\"\",CS145=\"\"),0,IF(AND(CP145=$D145,CS145=$E145),100,IF(CP145=$D145,50,IF(CS145=$E145,50,IF(AND(CP145<>$D145,CS145<>$E145),0)))))","v":0},{"$f":"IF(COUNTIF($D$45:$E$45,CS145),100,0)+IF(COUNTIF($D$45:$E$45,CP145),100,0)","v":0},{"$f":"IF(OR(CP145=\"\",CS145=\"\"),0,IF(AND(CP145=$D145,CS145=$E145,CQ145=$F145,CR145=$G145),150,0))","v":0},"Spanien",0,1,"England",{"$f":"IF(OR(CW145=\"\",CZ145=\"\"),0,IF(AND(CW145=$D145,CZ145=$E145),100,IF(CW145=$D145,50,IF(CZ145=$E145,50,IF(AND(CW145<>$D145,CZ145<>$E145),0)))))","v":50},{"$f":"IF(COUNTIF($D$45:$E$45,CZ145),100,0)+IF(COUNTIF($D$45:$E$45,CW145),100,0)","v":100},{"$f":"IF(OR(CW145=\"\",CZ145=\"\"),0,IF(AND(CW145=$D145,CZ145=$E145,CX145=$F145,CY145=$G145),150,0))","v":0},"Frankreich",2,1,"Brasilien",{"$f":"IF(OR(DD145=\"\",DG145=\"\"),0,IF(AND(DD145=$D145,DG145=$E145),100,IF(DD145=$D145,50,IF(DG145=$E145,50,IF(AND(DD145<>$D145,DG145<>$E145),0)))))","v":50},{"$f":"IF(COUNTIF($D$45:$E$45,DG145),100,0)+IF(COUNTIF($D$45:$E$45,DD145),100,0)","v":100},{"$f":"IF(OR(DD145=\"\",DG145=\"\"),0,IF(AND(DD145=$D145,DG145=$E145,DE145=$F145,DF145=$G145),150,0))","v":0},"Frankreich",1,0,"Argentinien",{"$f":"IF(OR(DK145=\"\",DN145=\"\"),0,IF(AND(DK145=$D145,DN145=$E145),100,IF(DK145=$D145,50,IF(DN145=$E145,50,IF(AND(DK145<>$D145,DN145<>$E145),0)))))","v":50},{"$f":"IF(COUNTIF($D$45:$E$45,DN145),100,0)+IF(COUNTIF($D$45:$E$45,DK145),100,0)","v":100},{"$f":"IF(OR(DK145=\"\",DN145=\"\"),0,IF(AND(DK145=$D145,DN145=$E145,DL145=$F145,DM145=$G145),150,0))","v":0},"Spanien",1,0,"Argentinien",{"$f":"IF(OR(DR145=\"\",DU145=\"\"),0,IF(AND(DR145=$D145,DU145=$E145),100,IF(DR145=$D145,50,IF(DU145=$E145,50,IF(AND(DR145<>$D145,DU145<>$E145),0)))))","v":0},{"$f":"IF(COUNTIF($D$45:$E$45,DU145),100,0)+IF(COUNTIF($D$45:$E$45,DR145),100,0)","v":0},{"$f":"IF(OR(DR145=\"\",DU145=\"\"),0,IF(AND(DR145=$D145,DU145=$E145,DS145=$F145,DT145=$G145),150,0))","v":0},"Frankreich",1,0,"Brasilien",{"$f":"IF(OR(DY145=\"\",EB145=\"\"),0,IF(AND(DY145=$D145,EB145=$E145),100,IF(DY145=$D145,50,IF(EB145=$E145,50,IF(AND(DY145<>$D145,EB145<>$E145),0)))))","v":50},{"$f":"IF(COUNTIF($D$45:$E$45,EB145),100,0)+IF(COUNTIF($D$45:$E$45,DY145),100,0)","v":100},{"$f":"IF(OR(DY145=\"\",EB145=\"\"),0,IF(AND(DY145=$D145,EB145=$E145,DZ145=$F145,EA145=$G145),150,0))","v":0},"Spanien",2,0,"Portugal",{"$f":"IF(OR(EF145=\"\",EI145=\"\"),0,IF(AND(EF145=$D145,EI145=$E145),100,IF(EF145=$D145,50,IF(EI145=$E145,50,IF(AND(EF145<>$D145,EI145<>$E145),0)))))","v":0},{"$f":"IF(COUNTIF($D$45:$E$45,EI145),100,0)+IF(COUNTIF($D$45:$E$45,EF145),100,0)","v":0},{"$f":"IF(OR(EF145=\"\",EI145=\"\"),0,IF(AND(EF145=$D145,EI145=$E145,EG145=$F145,EH145=$G145),150,0))","v":0},"Frankreich",2,0,"Argentinien",{"$f":"IF(OR(EM145=\"\",EP145=\"\"),0,IF(AND(EM145=$D145,EP145=$E145),100,IF(EM145=$D145,50,IF(EP145=$E145,50,IF(AND(EM145<>$D145,EP145<>$E145),0)))))","v":50},{"$f":"IF(COUNTIF($D$45:$E$45,EP145),100,0)+IF(COUNTIF($D$45:$E$45,EM145),100,0)","v":100},{"$f":"IF(OR(EM145=\"\",EP145=\"\"),0,IF(AND(EM145=$D145,EP145=$E145,EN145=$F145,EO145=$G145),150,0))","v":0},null,{"$f":"_xlfn.TEXTJOIN(\", \",TRUE,_xlfn._xlws.FILTER(INDEX($J$104:$EM$104,1,_xlfn.SEQUENCE(1,(COLUMNS($J$104:$EM$104)-1)/7+1,1,7))&\" \"&INDEX($J$105:$EM$105,1,_xlfn.SEQUENCE(1,(COLUMNS($J$105:$EM$105)-1)/7+1,1,7)),INDEX($P145:$ES145,1,_xlfn.SEQUENCE(1,(COLUMNS($P145:$ES145)-1)/7+1,1,7))>0,\"\"))","v":""}]
["Endspiel",null,null,null,null,null,null,null,null,null,null,null,null,null,null,null,null,null,null,null,null,null,null,null,null,null,null,null,null,null,null,null,null,null,null,null,null,null,null,null,null,null,null,null,null,null,null,null,null,null,null,null,null,null,null,null,null,null,null,null,null,null,null,null,null,null,null,null,null,null,null,null,null,null,null,null,null,null,null,null,null,null,null,null,null,null,null,null,null,null,null,null,null,null,null,null,null,null,null,null,null,null,null,null,null,null,null,null,null,null,null,null,null,null,null,null,null,null,null,null,null,null,null,null,null,null,null,null,null,null,null,null,null,null,null,null,null,null,null,null,null,null,null,null,null,null,null,null,null,null,{"$f":"_xlfn.TEXTJOIN(\", \",TRUE,_xlfn._xlws.FILTER(INDEX($J$104:$EM$104,1,_xlfn.SEQUENCE(1,(COLUMNS($J$104:$EM$104)-1)/7+1,1,7))&\" \"&INDEX($J$105:$EM$105,1,_xlfn.SEQUENCE(1,(COLUMNS($J$105:$EM$105)-1)/7+1,1,7)),INDEX($P146:$ES146,1,_xlfn.SEQUENCE(1,(COLUMNS($P146:$ES146)-1)/7+1,1,7))>0,\"\"))","v":""}]
[{"$f":"A97","v":"So. 19. Jul"},{"$f":"B97","v":"21:00:00"},{"$f":"C97","v":104},{"$f":"D97","v":"Spanien"},{"$f":"E97","v":"Argentinien"},{"$f":"IF(F97=\"\",\"\",F97)","v":""},{"$f":"IF(G97=\"\",\"\",G97)","v":""},null,null,"Spanien",2,1,"England",{"$f":"IF(OR(J147=\"\",M147=\"\"),0,IF(AND(J147=$D147,M147=$E147),120,IF(J147=$D147,60,IF(M147=$E147,60,IF(AND(J147<>$D147,M147<>$E147),0)))))","v":60},{"$f":"IF(COUNTIF($D$47:$E$47,M147),120,0)+IF(COUNTIF($D$47:$E$47,J147),120,0)","v":120},{"$f":"IF(OR(J147=\"\",M147=\"\"),0,IF(AND(J147=$D147,M147=$E147,K147=$F147,L147=$G147),200,0))","v":0},"Spanien",2,0,"Argentinien",{"$f":"IF(OR(Q147=\"\",T147=\"\"),0,IF(AND(Q147=$D147,T147=$E147),120,IF(Q147=$D147,60,IF(T147=$E147,60,IF(AND(Q147<>$D147,T147<>$E147),0)))))","v":120},{"$f":"IF(COUNTIF($D$47:$E$47,T147),120,0)+IF(COUNTIF($D$47:$E$47,Q147),120,0)","v":240},{"$f":"IF(OR(Q147=\"\",T147=\"\"),0,IF(AND(Q147=$D147,T147=$E147,R147=$F147,S147=$G147),200,0))","v":0},"Spanien",3,1,"England",{"$f":"IF(OR(X147=\"\",AA147=\"\"),0,IF(AND(X147=$D147,AA147=$E147),120,IF(X147=$D147,60,IF(AA147=$E147,60,IF(AND(X147<>$D147,AA147<>$E147),0)))))","v":60},{"$f":"IF(COUNTIF($D$47:$E$47,AA147),120,0)+IF(COUNTIF($D$47:$E$47,X147),120,0)","v":120},{"$f":"IF(OR(X147=\"\",AA147=\"\"),0,IF(AND(X147=$D147,AA147=$E147,Y147=$F147,Z147=$G147),200,0))","v":0},"Spanien",1,2,"England",{"$f":"IF(OR(AE147=\"\",AH147=\"\"),0,IF(AND(AE147=$D147,AH147=$E147),120,IF(AE147=$D147,60,IF(AH147=$E147,60,IF(AND(AE147<>$D147,AH147<>$E147),0)))))","v":60},{"$f":"IF(COUNTIF($D$47:$E$47,AH147),120,0)+IF(COUNTIF($D$47:$E$47,AE147),120,0)","v":120},{"$f":"IF(OR(AE147=\"\",AH147=\"\"),0,IF(AND(AE147=$D147,AH147=$E147,AF147=$F147,AG147=$G147),200,0))","v":0},"Frankreich",1,0,"Portugal",{"$f":"IF(OR(AL147=\"\",AO147=\"\"),0,IF(AND(AL147=$D147,AO147=$E147),120,IF(AL147=$D147,60,IF(AO147=$E147,60,IF(AND(AL147<>$D147,AO147<>$E147),0)))))","v":0},{"$f":"IF(COUNTIF($D$47:$E$47,AO147),120,0)+IF(COUNTIF($D$47:$E$47,AL147),120,0)","v":0},{"$f":"IF(OR(AL147=\"\",AO147=\"\"),0,IF(AND(AL147=$D147,AO147=$E147,AM147=$F147,AN147=$G147),200,0))","v":0},"Frankreich",1,0,"England",{"$f":"IF(OR(AS147=\"\",AV147=\"\"),0,IF(AND(AS147=$D147,AV147=$E147),120,IF(AS147=$D147,60,IF(AV147=$E147,60,IF(AND(AS147<>$D147,AV147<>$E147),0)))))","v":0},{"$f":"IF(COUNTIF($D$47:$E$47,AV147),120,0)+IF(COUNTIF($D$47:$E$47,AS147),120,0)","v":0},{"$f":"IF(OR(AS147=\"\",AV147=\"\"),0,IF(AND(AS147=$D147,AV147=$E147,AT147=$F147,AU147=$G147),200,0))","v":0},"Spanien",1,0,"Brasilien",{"$f":"IF(OR(AZ147=\"\",BC147=\"\"),0,IF(AND(AZ147=$D147,BC147=$E147),120,IF(AZ147=$D147,60,IF(BC147=$E147,60,IF(AND(AZ147<>$D147,BC147<>$E147),0)))))","v":60},{"$f":"IF(COUNTIF($D$47:$E$47,BC147),120,0)+IF(COUNTIF($D$47:$E$47,AZ147),120,0)","v":120},{"$f":"IF(OR(AZ147=\"\",BC147=\"\"),0,IF(AND(AZ147=$D147,BC147=$E147,BA147=$F147,BB147=$G147),200,0))","v":0},"Spanien",1,0,"Portugal",{"$f":"IF(OR(BG147=\"\",BJ147=\"\"),0,IF(AND(BG147=$D147,BJ147=$E147),120,IF(BG147=$D147,60,IF(BJ147=$E147,60,IF(AND(BG147<>$D147,BJ147<>$E147),0)))))","v":60},{"$f":"IF(COUNTIF($D$47:$E$47,BJ147),120,0)+IF(COUNTIF($D$47:$E$47,BG147),120,0)","v":120},{"$f":"IF(OR(BG147=\"\",BJ147=\"\"),0,IF(AND(BG147=$D147,BJ147=$E147,BH147=$F147,BI147=$G147),200,0))","v":0},"Frankreich",1,0,"Brasilien",{"$f":"IF(OR(BN147=\"\",BQ147=\"\"),0,IF(AND(BN147=$D147,BQ147=$E147),120,IF(BN147=$D147,60,IF(BQ147=$E147,60,IF(AND(BN147<>$D147,BQ147<>$E147),0)))))","v":0},{"$f":"IF(COUNTIF($D$47:$E$47,BQ147),120,0)+IF(COUNTIF($D$47:$E$47,BN147),120,0)","v":0},{"$f":"IF(OR(BN147=\"\",BQ147=\"\"),0,IF(AND(BN147=$D147,BQ147=$E147,BO147=$F147,BP147=$G147),200,0))","v":0},"Spanien",3,1,"England",{"$f":"IF(OR(BU147=\"\",BX147=\"\"),0,IF(AND(BU147=$D147,BX147=$E147),120,IF(BU147=$D147,60,IF(BX147=$E147,60,IF(AND(BU147<>$D147,BX147<>$E147),0)))))","v":60},{"$f":"IF(COUNTIF($D$47:$E$47,BX147),120,0)+IF(COUNTIF($D$47:$E$47,BU147),120,0)","v":120},{"$f":"IF(OR(BU147=\"\",BX147=\"\"),0,IF(AND(BU147=$D147,BX147=$E147,BV147=$F147,BW147=$G147),200,0))","v":0},"Spanien",1,2,"Brasilien",{"$f":"IF(OR(CB147=\"\",CE147=\"\"),0,IF(AND(CB147=$D147,CE147=$E147),120,IF(CB147=$D147,60,IF(CE147=$E147,60,IF(AND(CB147<>$D147,CE147<>$E147),0)))))","v":60},{"$f":"IF(COUNTIF($D$47:$E$47,CE147),120,0)+IF(COUNTIF($D$47:$E$47,CB147),120,0)","v":120},{"$f":"IF(OR(CB147=\"\",CE147=\"\"),0,IF(AND(CB147=$D147,CE147=$E147,CC147=$F147,CD147=$G147),200,0))","v":0},"Frankreich",2,0,"Argentinien",{"$f":"IF(OR(CI147=\"\",CL147=\"\"),0,IF(AND(CI147=$D147,CL147=$E147),120,IF(CI147=$D147,60,IF(CL147=$E147,60,IF(AND(CI147<>$D147,CL147<>$E147),0)))))","v":60},{"$f":"IF(COUNTIF($D$47:$E$47,CL147),120,0)+IF(COUNTIF($D$47:$E$47,CI147),120,0)","v":120},{"$f":"IF(OR(CI147=\"\",CL147=\"\"),0,IF(AND(CI147=$D147,CL147=$E147,CJ147=$F147,CK147=$G147),200,0))","v":0},"Japan",2,1,"Brasilien",{"$f":"IF(OR(CP147=\"\",CS147=\"\"),0,IF(AND(CP147=$D147,CS147=$E147),120,IF(CP147=$D147,60,IF(CS147=$E147,60,IF(AND(CP147<>$D147,CS147<>$E147),0)))))","v":0},{"$f":"IF(COUNTIF($D$47:$E$47,CS147),120,0)+IF(COUNTIF($D$47:$E$47,CP147),120,0)","v":0},{"$f":"IF(OR(CP147=\"\",CS147=\"\"),0,IF(AND(CP147=$D147,CS147=$E147,CQ147=$F147,CR147=$G147),200,0))","v":0},"Frankreich",0,1,"Argentinien",{"$f":"IF(OR(CW147=\"\",CZ147=\"\"),0,IF(AND(CW147=$D147,CZ147=$E147),120,IF(CW147=$D147,60,IF(CZ147=$E147,60,IF(AND(CW147<>$D147,CZ147<>$E147),0)))))","v":60},{"$f":"IF(COUNTIF($D$47:$E$47,CZ147),120,0)+IF(COUNTIF($D$47:$E$47,CW147),120,0)","v":120},{"$f":"IF(OR(CW147=\"\",CZ147=\"\"),0,IF(AND(CW147=$D147,CZ147=$E147,CX147=$F147,CY147=$G147),200,0))","v":0},"Spanien",3,1,"Argentinien",{"$f":"IF(OR(DD147=\"\",DG147=\"\"),0,IF(AND(DD147=$D147,DG147=$E147),120,IF(DD147=$D147,60,IF(DG147=$E147,60,IF(AND(DD147<>$D147,DG147<>$E147),0)))))","v":120},{"$f":"IF(COUNTIF($D$47:$E$47,DG147),120,0)+IF(COUNTIF($D$47:$E$47,DD147),120,0)","v":240},{"$f":"IF(OR(DD147=\"\",DG147=\"\"),0,IF(AND(DD147=$D147,DG147=$E147,DE147=$F147,DF147=$G147),200,0))","v":0},"Spanien",2,1,"Brasilien",{"$f":"IF(OR(DK147=\"\",DN147=\"\"),0,IF(AND(DK147=$D147,DN147=$E147),120,IF(DK147=$D147,60,IF(DN147=$E147,60,IF(AND(DK147<>$D147,DN147<>$E147),0)))))","v":60},{"$f":"IF(COUNTIF($D$47:$E$47,DN147),120,0)+IF(COUNTIF($D$47:$E$47,DK147),120,0)","v":120},{"$f":"IF(OR(DK147=\"\",DN147=\"\"),0,IF(AND(DK147=$D147,DN147=$E147,DL147=$F147,DM147=$G147),200,0))","v":0},"Frankreich",2,1,"Brasilien",{"$f":"IF(OR(DR147=\"\",DU147=\"\"),0,IF(AND(DR147=$D147,DU147=$E147),120,IF(DR147=$D147,60,IF(DU147=$E147,60,IF(AND(DR147<>$D147,DU147<>$E147),0)))))","v":0},{"$f":"IF(COUNTIF($D$47:$E$47,DU147),120,0)+IF(COUNTIF($D$47:$E$47,DR147),120,0)","v":0},{"$f":"IF(OR(DR147=\"\",DU147=\"\"),0,IF(AND(DR147=$D147,DU147=$E147,DS147=$F147,DT147=$G147),200,0))","v":0},"Spanien",1,2,"Portugal",{"$f":"IF(OR(DY147=\"\",EB147=\"\"),0,IF(AND(DY147=$D147,EB147=$E147),120,IF(DY147=$D147,60,IF(EB147=$E147,60,IF(AND(DY147<>$D147,EB147<>$E147),0)))))","v":60},{"$f":"IF(COUNTIF($D$47:$E$47,EB147),120,0)+IF(COUNTIF($D$47:$E$47,DY147),120,0)","v":120},{"$f":"IF(OR(DY147=\"\",EB147=\"\"),0,IF(AND(DY147=$D147,EB147=$E147,DZ147=$F147,EA147=$G147),200,0))","v":0},"Frankreich",5,4,"England",{"$f":"IF(OR(EF147=\"\",EI147=\"\"),0,IF(AND(EF147=$D147,EI147=$E147),120,IF(EF147=$D147,60,IF(EI147=$E147,60,IF(AND(EF147<>$D147,EI147<>$E147),0)))))","v":0},{"$f":"IF(COUNTIF($D$47:$E$47,EI147),120,0)+IF(COUNTIF($D$47:$E$47,EF147),120,0)","v":0},{"$f":"IF(OR(EF147=\"\",EI147=\"\"),0,IF(AND(EF147=$D147,EI147=$E147,EG147=$F147,EH147=$G147),200,0))","v":0},"Spanien",2,1,"Brasilien",{"$f":"IF(OR(EM147=\"\",EP147=\"\"),0,IF(AND(EM147=$D147,EP147=$E147),120,IF(EM147=$D147,60,IF(EP147=$E147,60,IF(AND(EM147<>$D147,EP147<>$E147),0)))))","v":60},{"$f":"IF(COUNTIF($D$47:$E$47,EP147),120,0)+IF(COUNTIF($D$47:$E$47,EM147),120,0)","v":120},{"$f":"IF(OR(EM147=\"\",EP147=\"\"),0,IF(AND(EM147=$D147,EP147=$E147,EN147=$F147,EO147=$G147),200,0))","v":0},null,{"$f":"_xlfn.TEXTJOIN(\", \",TRUE,_xlfn._xlws.FILTER(INDEX($J$104:$EM$104,1,_xlfn.SEQUENCE(1,(COLUMNS($J$104:$EM$104)-1)/7+1,1,7))&\" \"&INDEX($J$105:$EM$105,1,_xlfn.SEQUENCE(1,(COLUMNS($J$105:$EM$105)-1)/7+1,1,7)),INDEX($P147:$ES147,1,_xlfn.SEQUENCE(1,(COLUMNS($P147:$ES147)-1)/7+1,1,7))>0,\"\"))","v":""}]
["Weltmeister"]
[null,null,null,{"$f":"D99","v":"???"},null,null,null,null,null,"Weltmeister:",null,null,{"$f":"IF(K147=L147,\"\",IF(K147>L147,J147,M147))","v":"Spanien"},null,null,{"$f":"IF(OR(M149=\"\"),0,IF(M149=$D149,350,0))","v":0},"Weltmeister:",null,null,{"$f":"IF(R147=S147,\"\",IF(R147>S147,Q147,T147))","v":"Spanien"},null,null,{"$f":"IF(OR(T149=\"\"),0,IF(T149=$D149,350,0))","v":0},"Weltmeister:",null,null,{"$f":"IF(Y147=Z147,\"\",IF(Y147>Z147,X147,AA147))","v":"Spanien"},null,null,{"$f":"IF(OR(AA149=\"\"),0,IF(AA149=$D149,350,0))","v":0},"Weltmeister:",null,null,{"$f":"IF(AF147=AG147,\"\",IF(AF147>AG147,AE147,AH147))","v":"England"},null,null,{"$f":"IF(OR(AH149=\"\"),0,IF(AH149=$D149,350,0))","v":0},"Weltmeister:",null,null,{"$f":"IF(AM147=AN147,\"\",IF(AM147>AN147,AL147,AO147))","v":"Frankreich"},null,null,{"$f":"IF(OR(AO149=\"\"),0,IF(AO149=$D149,350,0))","v":0},"Weltmeister:",null,null,{"$f":"IF(AT147=AU147,\"\",IF(AT147>AU147,AS147,AV147))","v":"Frankreich"},null,null,{"$f":"IF(OR(AV149=\"\"),0,IF(AV149=$D149,350,0))","v":0},"Weltmeister:",null,null,{"$f":"IF(BA147=BB147,\"\",IF(BA147>BB147,AZ147,BC147))","v":"Spanien"},null,null,{"$f":"IF(OR(BC149=\"\"),0,IF(BC149=$D149,350,0))","v":0},"Weltmeister:",null,null,{"$f":"IF(BH147=BI147,\"\",IF(BH147>BI147,BG147,BJ147))","v":"Spanien"},null,null,{"$f":"IF(OR(BJ149=\"\"),0,IF(BJ149=$D149,350,0))","v":0},"Weltmeister:",null,null,{"$f":"IF(BO147=BP147,\"\",IF(BO147>BP147,BN147,BQ147))","v":"Frankreich"},null,null,{"$f":"IF(OR(BQ149=\"\"),0,IF(BQ149=$D149,350,0))","v":0},"Weltmeister:",null,null,{"$f":"IF(BV147=BW147,\"\",IF(BV147>BW147,BU147,BX147))","v":"Spanien"},null,null,{"$f":"IF(OR(BX149=\"\"),0,IF(BX149=$D149,350,0))","v":0},"Weltmeister:",null,null,{"$f":"IF(CC147=CD147,\"\",IF(CC147>CD147,CB147,CE147))","v":"Brasilien"},null,null,{"$f":"IF(OR(CE149=\"\"),0,IF(CE149=$D149,350,0))","v":0},"Weltmeister:",null,null,{"$f":"IF(CJ147=CK147,\"\",IF(CJ147>CK147,CI147,CL147))","v":"Frankreich"},null,null,{"$f":"IF(OR(CL149=\"\"),0,IF(CL149=$D149,350,0))","v":0},"Weltmeister:",null,null,{"$f":"IF(CQ147=CR147,\"\",IF(CQ147>CR147,CP147,CS147))","v":"Japan"},null,null,{"$f":"IF(OR(CS149=\"\"),0,IF(CS149=$D149,350,0))","v":0},"Weltmeister:",null,null,{"$f":"IF(CX147=CY147,\"\",IF(CX147>CY147,CW147,CZ147))","v":"Argentinien"},null,null,{"$f":"IF(OR(CZ149=\"\"),0,IF(CZ149=$D149,350,0))","v":0},"Weltmeister:",null,null,{"$f":"IF(DE147=DF147,\"\",IF(DE147>DF147,DD147,DG147))","v":"Spanien"},null,null,{"$f":"IF(OR(DG149=\"\"),0,IF(DG149=$D149,350,0))","v":0},"Weltmeister:",null,null,{"$f":"IF(DL147=DM147,\"\",IF(DL147>DM147,DK147,DN147))","v":"Spanien"},null,null,{"$f":"IF(OR(DN149=\"\"),0,IF(DN149=$D149,350,0))","v":0},"Weltmeister:",null,null,{"$f":"IF(DS147=DT147,\"\",IF(DS147>DT147,DR147,DU147))","v":"Frankreich"},null,null,{"$f":"IF(OR(DU149=\"\"),0,IF(DU149=$D149,350,0))","v":0},"Weltmeister:",null,null,{"$f":"IF(DZ147=EA147,\"\",IF(DZ147>EA147,DY147,EB147))","v":"Portugal"},null,null,{"$f":"IF(OR(EB149=\"\"),0,IF(EB149=$D149,350,0))","v":0},"Weltmeister:",null,null,{"$f":"IF(EG147=EH147,\"\",IF(EG147>EH147,EF147,EI147))","v":"Frankreich"},null,null,{"$f":"IF(OR(EI149=\"\"),0,IF(EI149=$D149,350,0))","v":0},"Weltmeister:",null,null,{"$f":"IF(EN147=EO147,\"\",IF(EN147>EO147,EM147,EP147))","v":"Spanien"},null,null,{"$f":"IF(OR(EP149=\"\"),0,IF(EP149=$D149,350,0))","v":0}]
[null,null,null,null,null,null,null,null,null,{"$f":"Teilnehmerliste!$C46","v":"Haab"},null,null,null,{"$f":"SUM(N111:P149)","v":2870},null,null,{"$f":"Teilnehmerliste!$C47","v":"Isenschmid"},null,null,null,{"$f":"SUM(U111:W149)","v":3390},null,null,{"$f":"Teilnehmerliste!$C48","v":"Isenschmid"},null,null,null,{"$f":"SUM(AB111:AD149)","v":2750},null,null,{"$f":"Teilnehmerliste!$C49","v":"Isenschmid"},null,null,null,{"$f":"SUM(AI111:AK149)","v":2880},null,null,{"$f":"Teilnehmerliste!$C50","v":"Jones"},null,null,null,{"$f":"SUM(AP111:AR149)","v":2050},null,null,{"$f":"Teilnehmerliste!$C51","v":"Keller"},null,null,null,{"$f":"SUM(AW111:AY149)","v":2320},null,null,{"$f":"Teilnehmerliste!$C52","v":"Kistler"},null,null,null,{"$f":"SUM(BD111:BF149)","v":2310},null,null,{"$f":"Teilnehmerliste!$C53","v":"Lanz"},null,null,null,{"$f":"SUM(BK111:BM149)","v":3050},null,null,{"$f":"Teilnehmerliste!$C54","v":"Lischer"},null,null,null,{"$f":"SUM(BR111:BT149)","v":2270},null,null,{"$f":"Teilnehmerliste!$C55","v":"Lütolf"},null,null,null,{"$f":"SUM(BY111:CA149)","v":3050},null,null,{"$f":"Teilnehmerliste!$C56","v":"Mack"},null,null,null,{"$f":"SUM(CF111:CH149)","v":2800},null,null,{"$f":"Teilnehmerliste!$C57","v":"Marini"},null,null,null,{"$f":"SUM(CM111:CO149)","v":2420},null,null,{"$f":"Teilnehmerliste!$C58","v":"Marthaler"},null,null,null,{"$f":"SUM(CT111:CV149)","v":1220},null,null,{"$f":"Teilnehmerliste!$C59","v":"Marthaler"},null,null,null,{"$f":"SUM(DA111:DC149)","v":2730},null,null,{"$f":"Teilnehmerliste!$C60","v":"Marty"},null,null,null,{"$f":"SUM(DH111:DJ149)","v":2690},null,null,{"$f":"Teilnehmerliste!$C61","v":"Merkli"},null,null,null,{"$f":"SUM(DO111:DQ149)","v":2760},null,null,{"$f":"Teilnehmerliste!$C62","v":"Meyer"},null,null,null,{"$f":"SUM(DV111:DX149)","v":2110},null,null,{"$f":"Teilnehmerliste!$C63","v":"Oliveira"},null,null,null,{"$f":"SUM(EC111:EE149)","v":2640},null,null,{"$f":"Teilnehmerliste!$C64","v":"Oroshi"},null,null,null,{"$f":"SUM(EJ111:EL149)","v":2110},null,null,{"$f":"Teilnehmerliste!$C65","v":"Pek"},null,null,null,{"$f":"SUM(EQ111:ES149)","v":2600}]
[]
[]
["Finalrunde",null,null,"Spieler 61 - 80"]
[{"$f":"A4","v":"Pro richtige Mannschaft:"},null,null,null,null,null,null,null,null,{"$f":"Teilnehmerliste!$B66","v":"Stefan"},null,null,null,null,null,null,{"$f":"Teilnehmerliste!$B67","v":"Michael"},null,null,null,null,null,null,{"$f":"Teilnehmerliste!$B68","v":"Petra"},null,null,null,null,null,null,{"$f":"Teilnehmerliste!$B69","v":"Martin"},null,null,null,null,null,null,{"$f":"Teilnehmerliste!$B70","v":"Ivo und Brigitte"},null,null,null,null,null,null,{"$f":"Teilnehmerliste!$B71","v":"Lynn"},null,null,null,null,null,null,{"$f":"Teilnehmerliste!$B72","v":"Michael"},null,null,null,null,null,null,{"$f":"Teilnehmerliste!$B73","v":"Sabine"},null,null,null,null,null,null,{"$f":"Teilnehmerliste!$B74","v":"Martin"},null,null,null,null,null,null,{"$f":"Teilnehmerliste!$B75","v":"Evelyne"},null,null,null,null,null,null,{"$f":"Teilnehmerliste!$B76","v":"Yannick"},null,null,null,null,null,null,{"$f":"Teilnehmerliste!$B77","v":"Erich"},null,null,null,null,null,null,{"$f":"Teilnehmerliste!$B78","v":"Ralph"},null,null,null,null,null,null,{"$f":"Teilnehmerliste!$B79","v":"Bruno"},null,null,null,null,null,null,{"$f":"Teilnehmerliste!$B80","v":"Aleandro"},null,null,null,null,null,null,{"$f":"Teilnehmerliste!$B81","v":"Armando"},null,null,null,null,null,null,{"$f":"Teilnehmerliste!$B82","v":"Lea"},null,null,null,null,null,null,{"$f":"Teilnehmerliste!$B83","v":"Reto"},null,null,null,null,null,null,{"$f":"Teilnehmerliste!$B84","v":"Christoph"},null,null,null,null,null,null,{"$f":"Teilnehmerliste!$B85","v":"Markus"}]
[{"$f":"A5","v":"... am richtigen Ort: 1/16= 10, 1/8=20, 1/4=30, 1/2=40, 3Pl.=50, Finale=60"},null,null,null,null,null,null,null,null,{"$f":"Teilnehmerliste!$C66","v":"Principe"},null,null,null,null,null,null,{"$f":"Teilnehmerliste!$C67","v":"Prucha"},null,null,null,null,null,null,{"$f":"Teilnehmerliste!$C68","v":"Rauscher"},null,null,null,null,null,null,{"$f":"Teilnehmerliste!$C69","v":"Rohner"},null,null,null,null,null,null,{"$f":"Teilnehmerliste!$C70","v":"Rüdemann"},null,null,null,null,null,null,{"$f":"Teilnehmerliste!$C71","v":"Rüegg"},null,null,null,null,null,null,{"$f":"Teilnehmerliste!$C72","v":"Rüegg"},null,null,null,null,null,null,{"$f":"Teilnehmerliste!$C73","v":"Rüegg"},null,null,null,null,null,null,{"$f":"Teilnehmerliste!$C74","v":"Schawalder"},null,null,null,null,null,null,{"$f":"Teilnehmerliste!$C75","v":"Schenk"},null,null,null,null,null,null,{"$f":"Teilnehmerliste!$C76","v":"Schilliger"},null,null,null,null,null,null,{"$f":"Teilnehmerliste!$C77","v":"Schommarz"},null,null,null,null,null,null,{"$f":"Teilnehmerliste!$C78","v":"Schuster"},null,null,null,null,null,null,{"$f":"Teilnehmerliste!$C79","v":"Silva"},null,null,null,null,null,null,{"$f":"Teilnehmerliste!$C80","v":"Silvestri"},null,null,null,null,null,null,{"$f":"Teilnehmerliste!$C81","v":"Thormann"},null,null,null,null,null,null,{"$f":"Teilnehmerliste!$C82","v":"Treichler"},null,null,null,null,null,null,{"$f":"Teilnehmerliste!$C83","v":"Treichler"},null,null,null,null,null,null,{"$f":"Teilnehmerliste!$C84","v":"Wälti"},null,null,null,null,null,null,{"$f":"Teilnehmerliste!$C85","v":"Wagner"}]
["... im x-Finale: 1/16=20, 1/8=40, 1/4=80, 1/2=100, 3Pl.=100, Finale=120",null,null,null,null,null,null,null,null,null,null,null,null,null,null,{"$f":"Teilnehmerliste!$A66","v":61},null,null,null,null,null,null,{"$f":"Teilnehmerliste!$A67","v":62},null,null,null,null,null,null,{"$f":"Teilnehmerliste!$A68","v":63},null,null,null,null,null,null,{"$f":"Teilnehmerliste!$A69","v":64},null,null,null,null,null,null,{"$f":"Teilnehmerliste!$A70","v":65},null,null,null,null,null,null,{"$f":"Teilnehmerliste!$A71","v":66},null,null,null,null,null,null,{"$f":"Teilnehmerliste!$A72","v":67},null,null,null,null,null,null,{"$f":"Teilnehmerliste!$A73","v":68},null,null,null,null,null,null,{"$f":"Teilnehmerliste!$A74","v":69},null,null,null,null,null,null,{"$f":"Teilnehmerliste!$A75","v":70},null,null,null,null,null,null,{"$f":"Teilnehmerliste!$A76","v":71},null,null,null,null,null,null,{"$f":"Teilnehmerliste!$A77","v":72},null,null,null,null,null,null,{"$f":"Teilnehmerliste!$A78","v":73},null,null,null,null,null,null,{"$f":"Teilnehmerliste!$A79","v":74},null,null,null,null,null,null,{"$f":"Teilnehmerliste!$A80","v":75},null,null,null,null,null,null,{"$f":"Teilnehmerliste!$A81","v":76},null,null,null,null,null,null,{"$f":"Teilnehmerliste!$A82","v":77},null,null,null,null,null,null,{"$f":"Teilnehmerliste!$A83","v":78},null,null,null,null,null,null,{"$f":"Teilnehmerliste!$A84","v":79},null,null,null,null,null,null,{"$f":"Teilnehmerliste!$A85","v":80}]
["Richtiges Resultat: 1/16=30, 1/8=50, 1/4=70, 1/2=100, 3Pl.=150, Finale=200"]
["Richtiger Weltmeister = 350"]
["Datum","Zeit","Nr.","Spiel",null,"Resultat"]
["Sechzehntelfinale",null,null,null,null,null,null,null,null,"Tipp",null,null,null,"Pkt",null,null,"Tipp",null,null,null,"Pkt",null,null,"Tipp",null,null,null,"Pkt",null,null,"Tipp",null,null,null,"Pkt",null,null,"Tipp",null,null,null,"Pkt",null,null,"Tipp",null,null,null,"Pkt",null,null,"Tipp",null,null,null,"Pkt",null,null,"Tipp",null,null,null,"Pkt",null,null,"Tipp",null,null,null,"Pkt",null,null,"Tipp",null,null,null,"Pkt",null,null,"Tipp",null,null,null,"Pkt",null,null,"Tipp",null,null,null,"Pkt",null,null,"Tipp",null,null,null,"Pkt",null,null,"Tipp",null,null,null,"Pkt",null,null,"Tipp",null,null,null,"Pkt",null,null,"Tipp",null,null,null,"Pkt",null,null,"Tipp",null,null,null,"Pkt",null,null,"Tipp",null,null,null,"Pkt",null,null,"Tipp",null,null,null,"Pkt",null,null,"Tipp",null,null,null,"Pkt"]
[{"$f":"A111","v":"So. 28. Jun"},"21:00:00",73,"Südafrika","Kanada",{"$f":"IF(F111=\"\",\"\",F111)","v":0},1,null,null,"Tschechien",2,1,"Kanada",{"$f":"IF(OR(J161=\"\",M161=\"\"),0,IF(AND(J161=$D161,M161=$E161),20,IF(J161=$D161,10,IF(M161=$E161,10,IF(AND(J161<>$D161,M161<>$E161),0)))))","v":10},{"$f":"IF(COUNTIF($D$11:$E$26,M161),20,0)+IF(COUNTIF($D$11:$E$26,J161),20,0)","v":20},{"$f":"IF(OR(J161=\"\",M161=\"\"),0,IF(AND(J161=$D161,M161=$E161,K161=$F161,L161=$G161),30,0))","v":0},"Tschechien",1,2,"Schweiz",{"$f":"IF(OR(Q161=\"\",T161=\"\"),0,IF(AND(Q161=$D161,T161=$E161),20,IF(Q161=$D161,10,IF(T161=$E161,10,IF(AND(Q161<>$D161,T161<>$E161),0)))))","v":0},{"$f":"IF(COUNTIF($D$11:$E$26,T161),20,0)+IF(COUNTIF($D$11:$E$26,Q161),20,0)","v":20},{"$f":"IF(OR(Q161=\"\",T161=\"\"),0,IF(AND(Q161=$D161,T161=$E161,R161=$F161,S161=$G161),30,0))","v":0},"Tschechien",1,2,"Kanada",{"$f":"IF(OR(X161=\"\",AA161=\"\"),0,IF(AND(X161=$D161,AA161=$E161),20,IF(X161=$D161,10,IF(AA161=$E161,10,IF(AND(X161<>$D161,AA161<>$E161),0)))))","v":10},{"$f":"IF(COUNTIF($D$11:$E$26,AA161),20,0)+IF(COUNTIF($D$11:$E$26,X161),20,0)","v":20},{"$f":"IF(OR(X161=\"\",AA161=\"\"),0,IF(AND(X161=$D161,AA161=$E161,Y161=$F161,Z161=$G161),30,0))","v":0},"Mexiko",4,3,"Kanada",{"$f":"IF(OR(AE161=\"\",AH161=\"\"),0,IF(AND(AE161=$D161,AH161=$E161),20,IF(AE161=$D161,10,IF(AH161=$E161,10,IF(AND(AE161<>$D161,AH161<>$E161),0)))))","v":10},{"$f":"IF(COUNTIF($D$11:$E$26,AH161),20,0)+IF(COUNTIF($D$11:$E$26,AE161),20,0)","v":40},{"$f":"IF(OR(AE161=\"\",AH161=\"\"),0,IF(AND(AE161=$D161,AH161=$E161,AF161=$F161,AG161=$G161),30,0))","v":0},"Mexiko",2,0,"Bosnien-Herz.",{"$f":"IF(OR(AL161=\"\",AO161=\"\"),0,IF(AND(AL161=$D161,AO161=$E161),20,IF(AL161=$D161,10,IF(AO161=$E161,10,IF(AND(AL161<>$D161,AO161<>$E161),0)))))","v":0},{"$f":"IF(COUNTIF($D$11:$E$26,AO161),20,0)+IF(COUNTIF($D$11:$E$26,AL161),20,0)","v":40},{"$f":"IF(OR(AL161=\"\",AO161=\"\"),0,IF(AND(AL161=$D161,AO161=$E161,AM161=$F161,AN161=$G161),30,0))","v":0},"Mexiko",1,2,"Kanada",{"$f":"IF(OR(AS161=\"\",AV161=\"\"),0,IF(AND(AS161=$D161,AV161=$E161),20,IF(AS161=$D161,10,IF(AV161=$E161,10,IF(AND(AS161<>$D161,AV161<>$E161),0)))))","v":10},{"$f":"IF(COUNTIF($D$11:$E$26,AV161),20,0)+IF(COUNTIF($D$11:$E$26,AS161),20,0)","v":40},{"$f":"IF(OR(AS161=\"\",AV161=\"\"),0,IF(AND(AS161=$D161,AV161=$E161,AT161=$F161,AU161=$G161),30,0))","v":0},"Tschechien",1,2,"Kanada",{"$f":"IF(OR(AZ161=\"\",BC161=\"\"),0,IF(AND(AZ161=$D161,BC161=$E161),20,IF(AZ161=$D161,10,IF(BC161=$E161,10,IF(AND(AZ161<>$D161,BC161<>$E161),0)))))","v":10},{"$f":"IF(COUNTIF($D$11:$E$26,BC161),20,0)+IF(COUNTIF($D$11:$E$26,AZ161),20,0)","v":20},{"$f":"IF(OR(AZ161=\"\",BC161=\"\"),0,IF(AND(AZ161=$D161,BC161=$E161,BA161=$F161,BB161=$G161),30,0))","v":0},"Mexiko",2,1,"Kanada",{"$f":"IF(OR(BG161=\"\",BJ161=\"\"),0,IF(AND(BG161=$D161,BJ161=$E161),20,IF(BG161=$D161,10,IF(BJ161=$E161,10,IF(AND(BG161<>$D161,BJ161<>$E161),0)))))","v":10},{"$f":"IF(COUNTIF($D$11:$E$26,BJ161),20,0)+IF(COUNTIF($D$11:$E$26,BG161),20,0)","v":40},{"$f":"IF(OR(BG161=\"\",BJ161=\"\"),0,IF(AND(BG161=$D161,BJ161=$E161,BH161=$F161,BI161=$G161),30,0))","v":0},"Südkorea",1,0,"Kanada",{"$f":"IF(OR(BN161=\"\",BQ161=\"\"),0,IF(AND(BN161=$D161,BQ161=$E161),20,IF(BN161=$D161,10,IF(BQ161=$E161,10,IF(AND(BN161<>$D161,BQ161<>$E161),0)))))","v":10},{"$f":"IF(COUNTIF($D$11:$E$26,BQ161),20,0)+IF(COUNTIF($D$11:$E$26,BN161),20,0)","v":20},{"$f":"IF(OR(BN161=\"\",BQ161=\"\"),0,IF(AND(BN161=$D161,BQ161=$E161,BO161=$F161,BP161=$G161),30,0))","v":0},"Südkorea",1,2,"Kanada",{"$f":"IF(OR(BU161=\"\",BX161=\"\"),0,IF(AND(BU161=$D161,BX161=$E161),20,IF(BU161=$D161,10,IF(BX161=$E161,10,IF(AND(BU161<>$D161,BX161<>$E161),0)))))","v":10},{"$f":"IF(COUNTIF($D$11:$E$26,BX161),20,0)+IF(COUNTIF($D$11:$E$26,BU161),20,0)","v":20},{"$f":"IF(OR(BU161=\"\",BX161=\"\"),0,IF(AND(BU161=$D161,BX161=$E161,BV161=$F161,BW161=$G161),30,0))","v":0},"Südkorea",1,2,"Kanada",{"$f":"IF(OR(CB161=\"\",CE161=\"\"),0,IF(AND(CB161=$D161,CE161=$E161),20,IF(CB161=$D161,10,IF(CE161=$E161,10,IF(AND(CB161<>$D161,CE161<>$E161),0)))))","v":10},{"$f":"IF(COUNTIF($D$11:$E$26,CE161),20,0)+IF(COUNTIF($D$11:$E$26,CB161),20,0)","v":20},{"$f":"IF(OR(CB161=\"\",CE161=\"\"),0,IF(AND(CB161=$D161,CE161=$E161,CC161=$F161,CD161=$G161),30,0))","v":0},"Tschechien",2,1,"Kanada",{"$f":"IF(OR(CI161=\"\",CL161=\"\"),0,IF(AND(CI161=$D161,CL161=$E161),20,IF(CI161=$D161,10,IF(CL161=$E161,10,IF(AND(CI161<>$D161,CL161<>$E161),0)))))","v":10},{"$f":"IF(COUNTIF($D$11:$E$26,CL161),20,0)+IF(COUNTIF($D$11:$E$26,CI161),20,0)","v":20},{"$f":"IF(OR(CI161=\"\",CL161=\"\"),0,IF(AND(CI161=$D161,CL161=$E161,CJ161=$F161,CK161=$G161),30,0))","v":0},"Südafrika",3,2,"Bosnien-Herz.",{"$f":"IF(OR(CP161=\"\",CS161=\"\"),0,IF(AND(CP161=$D161,CS161=$E161),20,IF(CP161=$D161,10,IF(CS161=$E161,10,IF(AND(CP161<>$D161,CS161<>$E161),0)))))","v":10},{"$f":"IF(COUNTIF($D$11:$E$26,CS161),20,0)+IF(COUNTIF($D$11:$E$26,CP161),20,0)","v":40},{"$f":"IF(OR(CP161=\"\",CS161=\"\"),0,IF(AND(CP161=$D161,CS161=$E161,CQ161=$F161,CR161=$G161),30,0))","v":0},"Südkorea",0,1,"Kanada",{"$f":"IF(OR(CW161=\"\",CZ161=\"\"),0,IF(AND(CW161=$D161,CZ161=$E161),20,IF(CW161=$D161,10,IF(CZ161=$E161,10,IF(AND(CW161<>$D161,CZ161<>$E161),0)))))","v":10},{"$f":"IF(COUNTIF($D$11:$E$26,CZ161),20,0)+IF(COUNTIF($D$11:$E$26,CW161),20,0)","v":20},{"$f":"IF(OR(CW161=\"\",CZ161=\"\"),0,IF(AND(CW161=$D161,CZ161=$E161,CX161=$F161,CY161=$G161),30,0))","v":0},"Tschechien",1,2,"Kanada",{"$f":"IF(OR(DD161=\"\",DG161=\"\"),0,IF(AND(DD161=$D161,DG161=$E161),20,IF(DD161=$D161,10,IF(DG161=$E161,10,IF(AND(DD161<>$D161,DG161<>$E161),0)))))","v":10},{"$f":"IF(COUNTIF($D$11:$E$26,DG161),20,0)+IF(COUNTIF($D$11:$E$26,DD161),20,0)","v":20},{"$f":"IF(OR(DD161=\"\",DG161=\"\"),0,IF(AND(DD161=$D161,DG161=$E161,DE161=$F161,DF161=$G161),30,0))","v":0},"Tschechien",2,1,"Kanada",{"$f":"IF(OR(DK161=\"\",DN161=\"\"),0,IF(AND(DK161=$D161,DN161=$E161),20,IF(DK161=$D161,10,IF(DN161=$E161,10,IF(AND(DK161<>$D161,DN161<>$E161),0)))))","v":10},{"$f":"IF(COUNTIF($D$11:$E$26,DN161),20,0)+IF(COUNTIF($D$11:$E$26,DK161),20,0)","v":20},{"$f":"IF(OR(DK161=\"\",DN161=\"\"),0,IF(AND(DK161=$D161,DN161=$E161,DL161=$F161,DM161=$G161),30,0))","v":0},"Tschechien",5,4,"Kanada",{"$f":"IF(OR(DR161=\"\",DU161=\"\"),0,IF(AND(DR161=$D161,DU161=$E161),20,IF(DR161=$D161,10,IF(DU161=$E161,10,IF(AND(DR161<>$D161,DU161<>$E161),0)))))","v":10},{"$f":"IF(COUNTIF($D$11:$E$26,DU161),20,0)+IF(COUNTIF($D$11:$E$26,DR161),20,0)","v":20},{"$f":"IF(OR(DR161=\"\",DU161=\"\"),0,IF(AND(DR161=$D161,DU161=$E161,DS161=$F161,DT161=$G161),30,0))","v":0},"Südkorea",1,2,"Kanada",{"$f":"IF(OR(DY161=\"\",EB161=\"\"),0,IF(AND(DY161=$D161,EB161=$E161),20,IF(DY161=$D161,10,IF(EB161=$E161,10,IF(AND(DY161<>$D161,EB161<>$E161),0)))))","v":10},{"$f":"IF(COUNTIF($D$11:$E$26,EB161),20,0)+IF(COUNTIF($D$11:$E$26,DY161),20,0)","v":20},{"$f":"IF(OR(DY161=\"\",EB161=\"\"),0,IF(AND(DY161=$D161,EB161=$E161,DZ161=$F161,EA161=$G161),30,0))","v":0},"Südkorea",2,1,"Bosnien-Herz.",{"$f":"IF(OR(EF161=\"\",EI161=\"\"),0,IF(AND(EF161=$D161,EI161=$E161),20,IF(EF161=$D161,10,IF(EI161=$E161,10,IF(AND(EF161<>$D161,EI161<>$E161),0)))))","v":0},{"$f":"IF(COUNTIF($D$11:$E$26,EI161),20,0)+IF(COUNTIF($D$11:$E$26,EF161),20,0)","v":20},{"$f":"IF(OR(EF161=\"\",EI161=\"\"),0,IF(AND(EF161=$D161,EI161=$E161,EG161=$F161,EH161=$G161),30,0))","v":0},"Südkorea",1,0,"Kanada",{"$f":"IF(OR(EM161=\"\",EP161=\"\"),0,IF(AND(EM161=$D161,EP161=$E161),20,IF(EM161=$D161,10,IF(EP161=$E161,10,IF(AND(EM161<>$D161,EP161<>$E161),0)))))","v":10},{"$f":"IF(COUNTIF($D$11:$E$26,EP161),20,0)+IF(COUNTIF($D$11:$E$26,EM161),20,0)","v":20},{"$f":"IF(OR(EM161=\"\",EP161=\"\"),0,IF(AND(EM161=$D161,EP161=$E161,EN161=$F161,EO161=$G161),30,0))","v":0},null,{"$f":"_xlfn.TEXTJOIN(\", \",TRUE,_xlfn._xlws.FILTER(INDEX($J$154:$EM$154,1,_xlfn.SEQUENCE(1,(COLUMNS($J$154:$EM$154)-1)/7+1,1,7))&\" \"&INDEX($J$155:$EM$155,1,_xlfn.SEQUENCE(1,(COLUMNS($J$155:$EM$155)-1)/7+1,1,7)),INDEX($P161:$ES161,1,_xlfn.SEQUENCE(1,(COLUMNS($P161:$ES161)-1)/7+1,1,7))>0,\"\"))","v":""}]
[{"$f":"A112","v":"Mo. 29. Jun"},"22:30:00",74,"Deutschland","Paraguay",{"$f":"IF(F112=\"\",\"\",F112)","v":3},4,null,null,"Deutschland",4,1,"USA",{"$f":"IF(OR(J162=\"\",M162=\"\"),0,IF(AND(J162=$D162,M162=$E162),20,IF(J162=$D162,10,IF(M162=$E162,10,IF(AND(J162<>$D162,M162<>$E162),0)))))","v":10},{"$f":"IF(COUNTIF($D$11:$E$26,M162),20,0)+IF(COUNTIF($D$11:$E$26,J162),20,0)","v":40},{"$f":"IF(OR(J162=\"\",M162=\"\"),0,IF(AND(J162=$D162,M162=$E162,K162=$F162,L162=$G162),30,0))","v":0},"Deutschland",2,0,"Schottland",{"$f":"IF(OR(Q162=\"\",T162=\"\"),0,IF(AND(Q162=$D162,T162=$E162),20,IF(Q162=$D162,10,IF(T162=$E162,10,IF(AND(Q162<>$D162,T162<>$E162),0)))))","v":10},{"$f":"IF(COUNTIF($D$11:$E$26,T162),20,0)+IF(COUNTIF($D$11:$E$26,Q162),20,0)","v":20},{"$f":"IF(OR(Q162=\"\",T162=\"\"),0,IF(AND(Q162=$D162,T162=$E162,R162=$F162,S162=$G162),30,0))","v":0},"Deutschland",3,1,"Marokko",{"$f":"IF(OR(X162=\"\",AA162=\"\"),0,IF(AND(X162=$D162,AA162=$E162),20,IF(X162=$D162,10,IF(AA162=$E162,10,IF(AND(X162<>$D162,AA162<>$E162),0)))))","v":10},{"$f":"IF(COUNTIF($D$11:$E$26,AA162),20,0)+IF(COUNTIF($D$11:$E$26,X162),20,0)","v":40},{"$f":"IF(OR(X162=\"\",AA162=\"\"),0,IF(AND(X162=$D162,AA162=$E162,Y162=$F162,Z162=$G162),30,0))","v":0},"Deutschland",2,1,"USA",{"$f":"IF(OR(AE162=\"\",AH162=\"\"),0,IF(AND(AE162=$D162,AH162=$E162),20,IF(AE162=$D162,10,IF(AH162=$E162,10,IF(AND(AE162<>$D162,AH162<>$E162),0)))))","v":10},{"$f":"IF(COUNTIF($D$11:$E$26,AH162),20,0)+IF(COUNTIF($D$11:$E$26,AE162),20,0)","v":40},{"$f":"IF(OR(AE162=\"\",AH162=\"\"),0,IF(AND(AE162=$D162,AH162=$E162,AF162=$F162,AG162=$G162),30,0))","v":0},"Deutschland",2,0,"USA",{"$f":"IF(OR(AL162=\"\",AO162=\"\"),0,IF(AND(AL162=$D162,AO162=$E162),20,IF(AL162=$D162,10,IF(AO162=$E162,10,IF(AND(AL162<>$D162,AO162<>$E162),0)))))","v":10},{"$f":"IF(COUNTIF($D$11:$E$26,AO162),20,0)+IF(COUNTIF($D$11:$E$26,AL162),20,0)","v":40},{"$f":"IF(OR(AL162=\"\",AO162=\"\"),0,IF(AND(AL162=$D162,AO162=$E162,AM162=$F162,AN162=$G162),30,0))","v":0},"Deutschland",4,1,"USA",{"$f":"IF(OR(AS162=\"\",AV162=\"\"),0,IF(AND(AS162=$D162,AV162=$E162),20,IF(AS162=$D162,10,IF(AV162=$E162,10,IF(AND(AS162<>$D162,AV162<>$E162),0)))))","v":10},{"$f":"IF(COUNTIF($D$11:$E$26,AV162),20,0)+IF(COUNTIF($D$11:$E$26,AS162),20,0)","v":40},{"$f":"IF(OR(AS162=\"\",AV162=\"\"),0,IF(AND(AS162=$D162,AV162=$E162,AT162=$F162,AU162=$G162),30,0))","v":0},"Deutschland",2,0,"Australien",{"$f":"IF(OR(AZ162=\"\",BC162=\"\"),0,IF(AND(AZ162=$D162,BC162=$E162),20,IF(AZ162=$D162,10,IF(BC162=$E162,10,IF(AND(AZ162<>$D162,BC162<>$E162),0)))))","v":10},{"$f":"IF(COUNTIF($D$11:$E$26,BC162),20,0)+IF(COUNTIF($D$11:$E$26,AZ162),20,0)","v":40},{"$f":"IF(OR(AZ162=\"\",BC162=\"\"),0,IF(AND(AZ162=$D162,BC162=$E162,BA162=$F162,BB162=$G162),30,0))","v":0},"Deutschland",3,1,"Paraguay",{"$f":"IF(OR(BG162=\"\",BJ162=\"\"),0,IF(AND(BG162=$D162,BJ162=$E162),20,IF(BG162=$D162,10,IF(BJ162=$E162,10,IF(AND(BG162<>$D162,BJ162<>$E162),0)))))","v":20},{"$f":"IF(COUNTIF($D$11:$E$26,BJ162),20,0)+IF(COUNTIF($D$11:$E$26,BG162),20,0)","v":40},{"$f":"IF(OR(BG162=\"\",BJ162=\"\"),0,IF(AND(BG162=$D162,BJ162=$E162,BH162=$F162,BI162=$G162),30,0))","v":0},"Deutschland",2,0,"Schottland",{"$f":"IF(OR(BN162=\"\",BQ162=\"\"),0,IF(AND(BN162=$D162,BQ162=$E162),20,IF(BN162=$D162,10,IF(BQ162=$E162,10,IF(AND(BN162<>$D162,BQ162<>$E162),0)))))","v":10},{"$f":"IF(COUNTIF($D$11:$E$26,BQ162),20,0)+IF(COUNTIF($D$11:$E$26,BN162),20,0)","v":20},{"$f":"IF(OR(BN162=\"\",BQ162=\"\"),0,IF(AND(BN162=$D162,BQ162=$E162,BO162=$F162,BP162=$G162),30,0))","v":0},"Deutschland",3,1,"Australien",{"$f":"IF(OR(BU162=\"\",BX162=\"\"),0,IF(AND(BU162=$D162,BX162=$E162),20,IF(BU162=$D162,10,IF(BX162=$E162,10,IF(AND(BU162<>$D162,BX162<>$E162),0)))))","v":10},{"$f":"IF(COUNTIF($D$11:$E$26,BX162),20,0)+IF(COUNTIF($D$11:$E$26,BU162),20,0)","v":40},{"$f":"IF(OR(BU162=\"\",BX162=\"\"),0,IF(AND(BU162=$D162,BX162=$E162,BV162=$F162,BW162=$G162),30,0))","v":0},"Deutschland",2,0,"Schottland",{"$f":"IF(OR(CB162=\"\",CE162=\"\"),0,IF(AND(CB162=$D162,CE162=$E162),20,IF(CB162=$D162,10,IF(CE162=$E162,10,IF(AND(CB162<>$D162,CE162<>$E162),0)))))","v":10},{"$f":"IF(COUNTIF($D$11:$E$26,CE162),20,0)+IF(COUNTIF($D$11:$E$26,CB162),20,0)","v":20},{"$f":"IF(OR(CB162=\"\",CE162=\"\"),0,IF(AND(CB162=$D162,CE162=$E162,CC162=$F162,CD162=$G162),30,0))","v":0},"Deutschland",3,1,"Marokko",{"$f":"IF(OR(CI162=\"\",CL162=\"\"),0,IF(AND(CI162=$D162,CL162=$E162),20,IF(CI162=$D162,10,IF(CL162=$E162,10,IF(AND(CI162<>$D162,CL162<>$E162),0)))))","v":10},{"$f":"IF(COUNTIF($D$11:$E$26,CL162),20,0)+IF(COUNTIF($D$11:$E$26,CI162),20,0)","v":40},{"$f":"IF(OR(CI162=\"\",CL162=\"\"),0,IF(AND(CI162=$D162,CL162=$E162,CJ162=$F162,CK162=$G162),30,0))","v":0},"Deutschland",4,1,"Marokko",{"$f":"IF(OR(CP162=\"\",CS162=\"\"),0,IF(AND(CP162=$D162,CS162=$E162),20,IF(CP162=$D162,10,IF(CS162=$E162,10,IF(AND(CP162<>$D162,CS162<>$E162),0)))))","v":10},{"$f":"IF(COUNTIF($D$11:$E$26,CS162),20,0)+IF(COUNTIF($D$11:$E$26,CP162),20,0)","v":40},{"$f":"IF(OR(CP162=\"\",CS162=\"\"),0,IF(AND(CP162=$D162,CS162=$E162,CQ162=$F162,CR162=$G162),30,0))","v":0},"Deutschland",2,0,"Paraguay",{"$f":"IF(OR(CW162=\"\",CZ162=\"\"),0,IF(AND(CW162=$D162,CZ162=$E162),20,IF(CW162=$D162,10,IF(CZ162=$E162,10,IF(AND(CW162<>$D162,CZ162<>$E162),0)))))","v":20},{"$f":"IF(COUNTIF($D$11:$E$26,CZ162),20,0)+IF(COUNTIF($D$11:$E$26,CW162),20,0)","v":40},{"$f":"IF(OR(CW162=\"\",CZ162=\"\"),0,IF(AND(CW162=$D162,CZ162=$E162,CX162=$F162,CY162=$G162),30,0))","v":0},"Deutschland",2,0,"Schottland",{"$f":"IF(OR(DD162=\"\",DG162=\"\"),0,IF(AND(DD162=$D162,DG162=$E162),20,IF(DD162=$D162,10,IF(DG162=$E162,10,IF(AND(DD162<>$D162,DG162<>$E162),0)))))","v":10},{"$f":"IF(COUNTIF($D$11:$E$26,DG162),20,0)+IF(COUNTIF($D$11:$E$26,DD162),20,0)","v":20},{"$f":"IF(OR(DD162=\"\",DG162=\"\"),0,IF(AND(DD162=$D162,DG162=$E162,DE162=$F162,DF162=$G162),30,0))","v":0},"Deutschland",2,0,"Türkei",{"$f":"IF(OR(DK162=\"\",DN162=\"\"),0,IF(AND(DK162=$D162,DN162=$E162),20,IF(DK162=$D162,10,IF(DN162=$E162,10,IF(AND(DK162<>$D162,DN162<>$E162),0)))))","v":10},{"$f":"IF(COUNTIF($D$11:$E$26,DN162),20,0)+IF(COUNTIF($D$11:$E$26,DK162),20,0)","v":20},{"$f":"IF(OR(DK162=\"\",DN162=\"\"),0,IF(AND(DK162=$D162,DN162=$E162,DL162=$F162,DM162=$G162),30,0))","v":0},"Deutschland",3,0,"Marokko",{"$f":"IF(OR(DR162=\"\",DU162=\"\"),0,IF(AND(DR162=$D162,DU162=$E162),20,IF(DR162=$D162,10,IF(DU162=$E162,10,IF(AND(DR162<>$D162,DU162<>$E162),0)))))","v":10},{"$f":"IF(COUNTIF($D$11:$E$26,DU162),20,0)+IF(COUNTIF($D$11:$E$26,DR162),20,0)","v":40},{"$f":"IF(OR(DR162=\"\",DU162=\"\"),0,IF(AND(DR162=$D162,DU162=$E162,DS162=$F162,DT162=$G162),30,0))","v":0},"Deutschland",2,0,"Schottland",{"$f":"IF(OR(DY162=\"\",EB162=\"\"),0,IF(AND(DY162=$D162,EB162=$E162),20,IF(DY162=$D162,10,IF(EB162=$E162,10,IF(AND(DY162<>$D162,EB162<>$E162),0)))))","v":10},{"$f":"IF(COUNTIF($D$11:$E$26,EB162),20,0)+IF(COUNTIF($D$11:$E$26,DY162),20,0)","v":20},{"$f":"IF(OR(DY162=\"\",EB162=\"\"),0,IF(AND(DY162=$D162,EB162=$E162,DZ162=$F162,EA162=$G162),30,0))","v":0},"Deutschland",2,0,"Schottland",{"$f":"IF(OR(EF162=\"\",EI162=\"\"),0,IF(AND(EF162=$D162,EI162=$E162),20,IF(EF162=$D162,10,IF(EI162=$E162,10,IF(AND(EF162<>$D162,EI162<>$E162),0)))))","v":10},{"$f":"IF(COUNTIF($D$11:$E$26,EI162),20,0)+IF(COUNTIF($D$11:$E$26,EF162),20,0)","v":20},{"$f":"IF(OR(EF162=\"\",EI162=\"\"),0,IF(AND(EF162=$D162,EI162=$E162,EG162=$F162,EH162=$G162),30,0))","v":0},"Deutschland",1,0,"Australien",{"$f":"IF(OR(EM162=\"\",EP162=\"\"),0,IF(AND(EM162=$D162,EP162=$E162),20,IF(EM162=$D162,10,IF(EP162=$E162,10,IF(AND(EM162<>$D162,EP162<>$E162),0)))))","v":10},{"$f":"IF(COUNTIF($D$11:$E$26,EP162),20,0)+IF(COUNTIF($D$11:$E$26,EM162),20,0)","v":40},{"$f":"IF(OR(EM162=\"\",EP162=\"\"),0,IF(AND(EM162=$D162,EP162=$E162,EN162=$F162,EO162=$G162),30,0))","v":0},null,{"$f":"_xlfn.TEXTJOIN(\", \",TRUE,_xlfn._xlws.FILTER(INDEX($J$154:$EM$154,1,_xlfn.SEQUENCE(1,(COLUMNS($J$154:$EM$154)-1)/7+1,1,7))&\" \"&INDEX($J$155:$EM$155,1,_xlfn.SEQUENCE(1,(COLUMNS($J$155:$EM$155)-1)/7+1,1,7)),INDEX($P162:$ES162,1,_xlfn.SEQUENCE(1,(COLUMNS($P162:$ES162)-1)/7+1,1,7))>0,\"\"))","v":""}]
[{"$f":"A113","v":"Di. 30. Jun"},"03:00:00",75,"Holland","Marokko",{"$f":"IF(F113=\"\",\"\",F113)","v":2},3,null,null,"Holland",2,1,"Marokko",20,40,0,"Holland",2,1,"Marokko",20,40,0,"Holland",1,0,"Schottland",10,20,0,"Holland",1,0,"Marokko",20,40,0,"Holland",2,0,"Marokko",20,40,0,"Holland",3,1,"Marokko",20,40,0,"Holland",1,0,"Marokko",20,40,0,"Holland",2,1,"Marokko",20,40,0,"Holland",2,1,"Marokko",20,40,0,"Holland",2,1,"Schottland",10,20,0,"Holland",2,3,"Marokko",20,40,30,"Holland",2,0,"Schottland",10,20,0,"Holland",3,2,"Schottland",10,20,0,"Holland",0,1,"Marokko",20,40,0,"Holland",2,1,"Marokko",20,40,0,"Holland",1,2,"Marokko",20,40,0,"Holland",2,0,"Schottland",10,20,0,"Holland",2,1,"Marokko",20,40,0,"Holland",2,1,"Marokko",20,40,0,"Holland",1,0,"Marokko",20,40,0,null,{"$f":"_xlfn.TEXTJOIN(\", \",TRUE,_xlfn._xlws.FILTER(INDEX($J$154:$EM$154,1,_xlfn.SEQUENCE(1,(COLUMNS($J$154:$EM$154)-1)/7+1,1,7))&\" \"&INDEX($J$155:$EM$155,1,_xlfn.SEQUENCE(1,(COLUMNS($J$155:$EM$155)-1)/7+1,1,7)),INDEX($P163:$ES163,1,_xlfn.SEQUENCE(1,(COLUMNS($P163:$ES163)-1)/7+1,1,7))>0,\"\"))","v":"Yannick Schilliger"}]
[{"$f":"A114","v":"Mo. 29. Jun"},"19:00:00",76,"Brasilien","Japan",{"$f":"IF(F114=\"\",\"\",F114)","v":2},1,null,null,"Brasilien",3,0,"Japan",20,40,0,"Brasilien",2,1,"Japan",20,40,30,"Brasilien",2,0,"Japan",20,40,0,"Brasilien",2,0,"Japan",20,40,0,"Brasilien",2,0,"Schweden",10,40,0,"Brasilien",4,1,"Japan",20,40,0,"Brasilien",2,0,"Tunesien",10,20,0,"Brasilien",3,1,"Schweden",10,40,0,"Brasilien",2,1,"Japan",20,40,30,"Brasilien",3,1,"Japan",20,40,0,"Brasilien",2,0,"Japan",20,40,0,"Brasilien",3,1,"Japan",20,40,0,"Brasilien",3,2,"Schweden",10,40,0,"Brasilien",2,0,"Japan",20,40,0,"Brasilien",2,0,"Japan",20,40,0,"Brasilien",2,0,"Japan",20,40,0,"Brasilien",1,0,"Schweden",10,40,0,"Brasilien",3,1,"Schweden",10,40,0,"Brasilien",3,1,"Japan",20,40,0,"Brasilien",2,1,"Japan",20,40,30,null,{"$f":"_xlfn.TEXTJOIN(\", \",TRUE,_xlfn._xlws.FILTER(INDEX($J$154:$EM$154,1,_xlfn.SEQUENCE(1,(COLUMNS($J$154:$EM$154)-1)/7+1,1,7))&\" \"&INDEX($J$155:$EM$155,1,_xlfn.SEQUENCE(1,(COLUMNS($J$155:$EM$155)-1)/7+1,1,7)),INDEX($P164:$ES164,1,_xlfn.SEQUENCE(1,(COLUMNS($P164:$ES164)-1)/7+1,1,7))>0,\"\"))","v":"Michael Prucha, Martin Schawalder, Markus Wagner"}]
[{"$f":"A115","v":"Di. 30. Jun"},"23:00:00",77,"Frankreich","Schweden",{"$f":"IF(F115=\"\",\"\",F115)","v":3},0,null,null,"Frankreich",3,0,"Tunesien",10,20,0,"Frankreich",3,0,"Paraguay",10,40,0,"Frankreich",3,1,"Australien",10,40,0,"Frankreich",2,1,"Schweden",20,40,0,"Frankreich",2,0,"Japan",10,40,0,"Frankreich",4,2,"Ägypten",10,40,0,"Frankreich",2,0,"Japan",10,40,0,"Frankreich",3,0,"Japan",10,40,0,"Frankreich",2,0,"Australien",10,40,0,"Frankreich",4,1,"Schweden",20,40,0,"Frankreich",2,0,"Paraguay",10,40,0,"Frankreich",2,0,"Schweden",20,40,0,"Frankreich",4,2,"Japan",10,40,0,"Frankreich",3,1,"Kap Verde",10,40,0,"Frankreich",3,0,"Schweden",20,40,30,"Frankreich",3,1,"Schweden",20,40,0,"Frankreich",2,0,"Japan",10,40,0,"Frankreich",3,0,"Japan",10,40,0,"Frankreich",2,0,"Schweden",20,40,0,"Frankreich",1,0,"Schweden",20,40,0,null,{"$f":"_xlfn.TEXTJOIN(\", \",TRUE,_xlfn._xlws.FILTER(INDEX($J$154:$EM$154,1,_xlfn.SEQUENCE(1,(COLUMNS($J$154:$EM$154)-1)/7+1,1,7))&\" \"&INDEX($J$155:$EM$155,1,_xlfn.SEQUENCE(1,(COLUMNS($J$155:$EM$155)-1)/7+1,1,7)),INDEX($P165:$ES165,1,_xlfn.SEQUENCE(1,(COLUMNS($P165:$ES165)-1)/7+1,1,7))>0,\"\"))","v":"Aleandro Silvestri"}]
[{"$f":"A116","v":"Di. 30. Jun"},"19:00:00",78,"Elfenbeinküste","Norwegen",{"$f":"IF(F116=\"\",\"\",F116)","v":1},2,null,null,"Elfenbeinküste",2,1,"Norwegen",20,40,0,"Ecuador",1,2,"Norwegen",10,40,0,"Ecuador",1,2,"Norwegen",10,40,0,"Ecuador",0,1,"Norwegen",10,40,0,"Ecuador",0,1,"Norwegen",10,40,0,"Elfenbeinküste",1,2,"Norwegen",20,40,30,"Elfenbeinküste",1,2,"Senegal",10,40,0,"Ecuador",1,2,"Norwegen",10,40,0,"Ecuador",1,2,"Senegal",0,40,0,"Elfenbeinküste",1,2,"Norwegen",20,40,30,"Elfenbeinküste",1,2,"Norwegen",20,40,30,"Ecuador",1,2,"Norwegen",10,40,0,"Elfenbeinküste",2,1,"Senegal",10,40,0,"Ecuador",0,2,"Senegal",0,40,0,"Ecuador",1,2,"Norwegen",10,40,0,"Elfenbeinküste",1,2,"Norwegen",20,40,30,"Ecuador",1,2,"Norwegen",10,40,0,"Ecuador",1,2,"Norwegen",10,40,0,"Ecuador",1,3,"Norwegen",10,40,0,"Ecuador",1,2,"Norwegen",10,40,0,null,{"$f":"_xlfn.TEXTJOIN(\", \",TRUE,_xlfn._xlws.FILTER(INDEX($J$154:$EM$154,1,_xlfn.SEQUENCE(1,(COLUMNS($J$154:$EM$154)-1)/7+1,1,7))&\" \"&INDEX($J$155:$EM$155,1,_xlfn.SEQUENCE(1,(COLUMNS($J$155:$EM$155)-1)/7+1,1,7)),INDEX($P166:$ES166,1,_xlfn.SEQUENCE(1,(COLUMNS($P166:$ES166)-1)/7+1,1,7))>0,\"\"))","v":"Lynn Rüegg, Evelyne Schenk, Yannick Schilliger, Armando Thormann"}]
[{"$f":"A117","v":"Mi. 01. Jul"},"03:00:00",79,"Mexiko","Ecuador",{"$f":"IF(F117=\"\",\"\",F117)","v":2},0,null,null,"Südkorea",2,0,"Schottland",0,0,0,"Mexiko",2,1,"Elfenbeinküste",10,40,0,"Mexiko",2,1,"Curacao",10,20,0,"Tschechien",1,0,"Schottland",0,0,0,"Tschechien",1,0,"Schottland",0,0,0,"Südkorea",0,1,"Schottland",0,0,0,"Südkorea",4,5,"Schottland",0,0,0,"Tschechien",2,1,"Schottland",0,0,0,"Mexiko",2,0,"Elfenbeinküste",10,40,0,"Mexiko",3,1,"Marokko",10,40,0,"Mexiko",1,0,"Ecuador",20,40,0,"Mexiko",2,1,"Elfenbeinküste",10,40,0,"Südkorea",3,1,"Ecuador",10,20,0,"Mexiko",2,1,"Elfenbeinküste",10,40,0,"Mexiko",2,1,"Elfenbeinküste",10,40,0,"Mexiko",2,0,"Schottland",10,20,0,"Mexiko",3,0,"Saudi-Arabien",10,20,0,"Mexiko",2,1,"Elfenbeinküste",10,40,0,"Mexiko",2,0,"Elfenbeinküste",10,40,0,"Mexiko",1,0,"Schottland",10,20,0,null,{"$f":"_xlfn.TEXTJOIN(\", \",TRUE,_xlfn._xlws.FILTER(INDEX($J$154:$EM$154,1,_xlfn.SEQUENCE(1,(COLUMNS($J$154:$EM$154)-1)/7+1,1,7))&\" \"&INDEX($J$155:$EM$155,1,_xlfn.SEQUENCE(1,(COLUMNS($J$155:$EM$155)-1)/7+1,1,7)),INDEX($P167:$ES167,1,_xlfn.SEQUENCE(1,(COLUMNS($P167:$ES167)-1)/7+1,1,7))>0,\"\"))","v":""}]
[{"$f":"A118","v":"Mi. 01. Jul"},"18:00:00",80,"England","DR Kongo",{"$f":"IF(F118=\"\",\"\",F118)","v":2},1,null,null,"England",2,1,"Senegal",10,40,0,"England",2,0,"Algerien",10,40,0,"England",3,1,"Senegal",10,40,0,"England",2,0,"Elfenbeinküste",10,40,0,"England",2,0,"Elfenbeinküste",10,40,0,"England",4,0,"Senegal",10,40,0,"England",2,1,"Norwegen",10,40,0,"England",3,0,"Senegal",10,40,0,"England",2,0,"Norwegen",10,40,0,"England",3,2,"DR Kongo",20,40,0,"England",2,1,"Senegal",10,40,0,"England",3,0,"Algerien",10,40,0,"Kroatien",3,1,"Norwegen",0,40,0,"England",2,0,"DR Kongo",20,40,0,"England",2,0,"Algerien",10,40,0,"England",3,1,"Ecuador",10,40,0,"England",4,2,"Senegal",10,40,0,"England",2,0,"Senegal",10,40,0,"England",3,0,"Senegal",10,40,0,"England",2,1,"Senegal",10,40,0,null,{"$f":"_xlfn.TEXTJOIN(\", \",TRUE,_xlfn._xlws.FILTER(INDEX($J$154:$EM$154,1,_xlfn.SEQUENCE(1,(COLUMNS($J$154:$EM$154)-1)/7+1,1,7))&\" \"&INDEX($J$155:$EM$155,1,_xlfn.SEQUENCE(1,(COLUMNS($J$155:$EM$155)-1)/7+1,1,7)),INDEX($P168:$ES168,1,_xlfn.SEQUENCE(1,(COLUMNS($P168:$ES168)-1)/7+1,1,7))>0,\"\"))","v":""}]
[{"$f":"A119","v":"Do. 02. Jul"},"02:00:00",81,"USA","Bosnien-Herz.",{"$f":"IF(F119=\"\",\"\",F119)","v":2},0,null,null,"Paraguay",6,7,"Ecuador",0,40,0,"USA",2,1,"Bosnien-Herz.",20,40,0,"Türkei",1,0,"Bosnien-Herz.",10,20,0,"Türkei",1,0,"Bosnien-Herz.",10,20,0,"Australien",1,0,"Kanada",0,40,0,"Türkei",2,1,"Bosnien-Herz.",10,20,0,"USA",2,1,"Bosnien-Herz.",20,40,0,"Türkei",3,1,"Bosnien-Herz.",10,20,0,"USA",2,0,"Katar",10,20,0,"USA",1,2,"Österreich",10,40,0,"USA",1,2,"Bosnien-Herz.",20,40,0,"USA",2,1,"Bosnien-Herz.",20,40,0,"USA",1,0,"Kanada",10,40,0,"USA",1,0,"Bosnien-Herz.",20,40,0,"Türkei",2,1,"Bosnien-Herz.",10,20,0,"USA",1,0,"Bosnien-Herz.",20,40,0,"Türkei",1,0,"Bosnien-Herz.",10,20,0,"USA",2,0,"Bosnien-Herz.",20,40,30,"USA",4,1,"Kanada",10,40,0,"USA",1,0,"Algerien",10,40,0,null,{"$f":"_xlfn.TEXTJOIN(\", \",TRUE,_xlfn._xlws.FILTER(INDEX($J$154:$EM$154,1,_xlfn.SEQUENCE(1,(COLUMNS($J$154:$EM$154)-1)/7+1,1,7))&\" \"&INDEX($J$155:$EM$155,1,_xlfn.SEQUENCE(1,(COLUMNS($J$155:$EM$155)-1)/7+1,1,7)),INDEX($P169:$ES169,1,_xlfn.SEQUENCE(1,(COLUMNS($P169:$ES169)-1)/7+1,1,7))>0,\"\"))","v":"Reto Treichler"}]
[{"$f":"A120","v":"Mi. 01. Jul"},"22:00:00",82,"Belgien","Senegal",{"$f":"IF(F120=\"\",\"\",F120)","v":3},2,null,null,"Belgien",2,0,"Mexiko",10,40,0,"Belgien",2,1,"Südkorea",10,20,0,"Belgien",2,1,"Südkorea",10,20,0,"Belgien",4,2,"Südkorea",10,20,0,"Belgien",2,0,"Südafrika",10,40,0,"Neuseeland",4,2,"Südafrika",0,20,0,"Belgien",2,1,"Ecuador",10,40,0,"Belgien",2,0,"Südkorea",10,20,0,"Belgien",2,1,"Algerien",10,40,0,"Belgien",1,0,"Südafrika",10,40,0,"Belgien",2,1,"Algerien",10,40,0,"Belgien",2,0,"Südkorea",10,20,0,"Belgien",2,0,"Saudi-Arabien",10,20,0,"Belgien",2,1,"Tschechien",10,20,0,"Belgien",2,0,"Südkorea",10,20,0,"Belgien",2,1,"Saudi-Arabien",10,20,0,"Belgien",2,1,"Südkorea",10,20,0,"Belgien",2,1,"Tschechien",10,20,0,"Belgien",1,0,"Österreich",10,40,0,"Belgien",1,0,"Tschechien",10,20,0,null,{"$f":"_xlfn.TEXTJOIN(\", \",TRUE,_xlfn._xlws.FILTER(INDEX($J$154:$EM$154,1,_xlfn.SEQUENCE(1,(COLUMNS($J$154:$EM$154)-1)/7+1,1,7))&\" \"&INDEX($J$155:$EM$155,1,_xlfn.SEQUENCE(1,(COLUMNS($J$155:$EM$155)-1)/7+1,1,7)),INDEX($P170:$ES170,1,_xlfn.SEQUENCE(1,(COLUMNS($P170:$ES170)-1)/7+1,1,7))>0,\"\"))","v":""}]
[{"$f":"A121","v":"Fr. 03. Jul"},"01:00:00",83,"Portugal","Kroatien",{"$f":"IF(F121=\"\",\"\",F121)","v":2},1,null,null,"Kolumbien",3,2,"Ghana",0,40,0,"Kolumbien",1,2,"Kroatien",10,40,0,"Kolumbien",1,2,"Kroatien",10,40,0,"Kolumbien",1,0,"Kroatien",10,40,0,"Kolumbien",1,0,"Kroatien",10,40,0,"Kolumbien",1,2,"Kroatien",10,40,0,"Kolumbien",1,2,"Ghana",0,40,0,"Portugal",2,1,"Kroatien",20,40,30,"Kolumbien",1,2,"Kroatien",10,40,0,"Kolumbien",1,2,"Kroatien",10,40,0,"Kolumbien",2,1,"Ghana",0,40,0,"Kolumbien",1,0,"Kroatien",10,40,0,"Kolumbien",3,1,"Ghana",0,40,0,"Kolumbien",1,2,"Kroatien",10,40,0,"Kolumbien",1,2,"Kroatien",10,40,0,"Kolumbien",2,1,"Kroatien",10,40,0,"Kolumbien",3,2,"Kroatien",10,40,0,"Kolumbien",3,4,"Kroatien",10,40,0,"Kolumbien",2,1,"Kroatien",10,40,0,"Kolumbien",1,2,"Kroatien",10,40,0,null,{"$f":"_xlfn.TEXTJOIN(\", \",TRUE,_xlfn._xlws.FILTER(INDEX($J$154:$EM$154,1,_xlfn.SEQUENCE(1,(COLUMNS($J$154:$EM$154)-1)/7+1,1,7))&\" \"&INDEX($J$155:$EM$155,1,_xlfn.SEQUENCE(1,(COLUMNS($J$155:$EM$155)-1)/7+1,1,7)),INDEX($P171:$ES171,1,_xlfn.SEQUENCE(1,(COLUMNS($P171:$ES171)-1)/7+1,1,7))>0,\"\"))","v":"Sabine Rüegg"}]
[{"$f":"A122","v":"Do. 02. Jul"},"21:00:00",84,"Spanien","Österreich",{"$f":"IF(F122=\"\",\"\",F122)","v":3},0,null,null,"Spanien",3,0,"Österreich",20,40,30,"Spanien",4,2,"Österreich",20,40,0,"Spanien",2,0,"Österreich",20,40,0,"Spanien",3,0,"Algerien",10,40,0,"Spanien",2,0,"Österreich",20,40,0,"Spanien",5,4,"Argentinien",10,40,0,"Spanien",3,0,"Österreich",20,40,30,"Spanien",3,0,"Österreich",20,40,30,"Spanien",2,0,"Österreich",20,40,0,"Spanien",3,0,"Algerien",10,40,0,"Spanien",2,1,"Österreich",20,40,0,"Spanien",3,1,"Österreich",20,40,0,"Spanien",5,0,"Österreich",20,40,0,"Spanien",2,0,"Österreich",20,40,0,"Spanien",2,0,"Österreich",20,40,0,"Spanien",3,0,"Österreich",20,40,30,"Spanien",4,1,"Österreich",20,40,0,"Spanien",2,0,"Österreich",20,40,0,"Spanien",2,0,"Algerien",10,40,0,"Spanien",1,0,"Österreich",20,40,0,null,{"$f":"_xlfn.TEXTJOIN(\", \",TRUE,_xlfn._xlws.FILTER(INDEX($J$154:$EM$154,1,_xlfn.SEQUENCE(1,(COLUMNS($J$154:$EM$154)-1)/7+1,1,7))&\" \"&INDEX($J$155:$EM$155,1,_xlfn.SEQUENCE(1,(COLUMNS($J$155:$EM$155)-1)/7+1,1,7)),INDEX($P172:$ES172,1,_xlfn.SEQUENCE(1,(COLUMNS($P172:$ES172)-1)/7+1,1,7))>0,\"\"))","v":"Stefan Principe, Michael Rüegg, Sabine Rüegg, Armando Thormann"}]
[{"$f":"A123","v":"Fr. 03. Jul"},"05:00:00",85,"Schweiz","Algerien",{"$f":"IF(F123=\"\",\"\",F123)","v":2},0,null,null,"Schweiz",2,0,"Algerien",20,40,30,"Kanada",2,0,"Iran",0,20,0,"Schweiz",1,0,"Algerien",20,40,0,"Schweiz",2,1,"Ägypten",10,40,0,"Schweiz",2,0,"Neuseeland",10,20,0,"Schweiz",3,0,"Algerien",20,40,0,"Schweiz",2,0,"Ägypten",10,40,0,"Schweiz",3,1,"Algerien",20,40,0,"Schweiz",1,0,"Iran",10,20,0,"Schweiz",3,1,"Iran",10,20,0,"Schweiz",2,0,"Ägypten",10,40,0,"Schweiz",2,0,"Iran",10,20,0,"Schweiz",3,1,"Algerien",20,40,0,"Schweiz",1,0,"Norwegen",10,40,0,"Schweiz",1,0,"Iran",10,20,0,"Schweiz",2,0,"Algerien",20,40,30,"Schweiz",4,3,"Algerien",20,40,0,"Schweiz",2,0,"Iran",10,20,0,"Schweiz",1,0,"Iran",10,20,0,"Schweiz",1,0,"Ägypten",10,40,0,null,{"$f":"_xlfn.TEXTJOIN(\", \",TRUE,_xlfn._xlws.FILTER(INDEX($J$154:$EM$154,1,_xlfn.SEQUENCE(1,(COLUMNS($J$154:$EM$154)-1)/7+1,1,7))&\" \"&INDEX($J$155:$EM$155,1,_xlfn.SEQUENCE(1,(COLUMNS($J$155:$EM$155)-1)/7+1,1,7)),INDEX($P173:$ES173,1,_xlfn.SEQUENCE(1,(COLUMNS($P173:$ES173)-1)/7+1,1,7))>0,\"\"))","v":"Stefan Principe, Armando Thormann"}]
[{"$f":"A124","v":"Sa. 04. Jul"},"00:00:00",86,"Argentinien","Kap Verde",{"$f":"IF(F124=\"\",\"\",F124)","v":3},2,null,null,"Argentinien",2,1,"Uruguay",10,20,0,"Argentinien",2,1,"Uruguay",10,20,0,"Argentinien",3,2,"Uruguay",10,20,0,"Argentinien",2,0,"Uruguay",10,20,0,"Argentinien",2,1,"Uruguay",10,20,0,"Österreich",2,1,"Uruguay",0,20,0,"Argentinien",2,0,"Uruguay",10,20,0,"Argentinien",3,1,"Uruguay",10,20,0,"Argentinien",2,1,"Uruguay",10,20,0,"Argentinien",2,1,"Uruguay",10,20,0,"Argentinien",2,1,"Uruguay",10,20,0,"Argentinien",2,1,"Uruguay",10,20,0,"Argentinien",2,1,"Uruguay",10,20,0,"Argentinien",3,2,"Uruguay",10,20,0,"Argentinien",2,1,"Uruguay",10,20,0,"Argentinien",2,1,"Uruguay",10,20,0,"Argentinien",3,2,"Uruguay",10,20,0,"Argentinien",2,1,"Uruguay",10,20,0,"Argentinien",1,0,"Uruguay",10,20,0,"Argentinien",1,0,"Uruguay",10,20,0,null,{"$f":"_xlfn.TEXTJOIN(\", \",TRUE,_xlfn._xlws.FILTER(INDEX($J$154:$EM$154,1,_xlfn.SEQUENCE(1,(COLUMNS($J$154:$EM$154)-1)/7+1,1,7))&\" \"&INDEX($J$155:$EM$155,1,_xlfn.SEQUENCE(1,(COLUMNS($J$155:$EM$155)-1)/7+1,1,7)),INDEX($P174:$ES174,1,_xlfn.SEQUENCE(1,(COLUMNS($P174:$ES174)-1)/7+1,1,7))>0,\"\"))","v":""}]
[{"$f":"A125","v":"Sa. 04. Jul"},"03:30:00",87,"Kolumbien","Ghana",{"$f":"IF(F125=\"\",\"\",F125)","v":1},0,null,null,"Portugal",7,6,"Kroatien",0,40,0,"Portugal",3,1,"Senegal",0,40,0,"Portugal",2,1,"Ghana",10,40,0,"Portugal",3,0,"Panama",0,20,0,"Portugal",2,1,"Ghana",10,40,0,"Portugal",5,2,"Ghana",10,40,0,"Portugal",2,1,"Kroatien",0,40,0,"Kolumbien",2,0,"Panama",10,20,0,"Portugal",2,0,"Panama",0,20,0,"Portugal",3,1,"Senegal",0,40,0,"Portugal",2,0,"Kroatien",0,40,0,"Portugal",2,1,"Senegal",0,40,0,"Portugal",3,2,"England",0,40,0,"Portugal",2,0,"Ghana",10,40,0,"Portugal",3,0,"Senegal",0,40,0,"Portugal",2,0,"Ghana",10,40,0,"Portugal",2,0,"Elfenbeinküste",0,40,0,"Portugal",3,1,"Ghana",10,40,0,"Portugal",4,0,"Ghana",10,40,0,"Portugal",1,0,"Elfenbeinküste",0,40,0,null,{"$f":"_xlfn.TEXTJOIN(\", \",TRUE,_xlfn._xlws.FILTER(INDEX($J$154:$EM$154,1,_xlfn.SEQUENCE(1,(COLUMNS($J$154:$EM$154)-1)/7+1,1,7))&\" \"&INDEX($J$155:$EM$155,1,_xlfn.SEQUENCE(1,(COLUMNS($J$155:$EM$155)-1)/7+1,1,7)),INDEX($P175:$ES175,1,_xlfn.SEQUENCE(1,(COLUMNS($P175:$ES175)-1)/7+1,1,7))>0,\"\"))","v":""}]
[{"$f":"A126","v":"Fr. 03. Jul"},"20:00:00",88,"Australien","Ägypten",{"$f":"IF(F126=\"\",\"\",F126)","v":2},4,null,null,"Türkei",3,4,"Ägypten",10,20,0,"Türkei",2,1,"Ägypten",10,20,0,"USA",2,1,"Ägypten",10,40,0,"Paraguay",1,0,"Iran",0,20,0,"Paraguay",0,1,"Ägypten",10,40,0,"Australien",0,3,"Belgien",10,40,0,"Türkei",1,0,"Iran",0,0,0,"USA",2,0,"Iran",0,20,0,"Türkei",1,0,"Ägypten",10,20,0,"Türkei",2,1,"Neuseeland",0,0,0,"Türkei",2,1,"Iran",0,0,0,"Türkei",2,1,"Ägypten",10,20,0,"Australien",2,3,"Ägypten",20,40,0,"Türkei",1,0,"Ägypten",10,20,0,"USA",2,1,"Ägypten",10,40,0,"Paraguay",1,2,"Ägypten",10,40,0,"USA",1,0,"Ägypten",10,40,0,"Türkei",2,1,"Ägypten",10,20,0,"Türkei",1,2,"Ägypten",10,20,0,"Türkei",2,1,"Iran",0,0,0,null,{"$f":"_xlfn.TEXTJOIN(\", \",TRUE,_xlfn._xlws.FILTER(INDEX($J$154:$EM$154,1,_xlfn.SEQUENCE(1,(COLUMNS($J$154:$EM$154)-1)/7+1,1,7))&\" \"&INDEX($J$155:$EM$155,1,_xlfn.SEQUENCE(1,(COLUMNS($J$155:$EM$155)-1)/7+1,1,7)),INDEX($P176:$ES176,1,_xlfn.SEQUENCE(1,(COLUMNS($P176:$ES176)-1)/7+1,1,7))>0,\"\"))","v":""}]
["Achtelfinale",null,null,null,null,null,null,null,null,null,null,null,null,null,null,null,null,null,null,null,null,null,null,null,null,null,null,null,null,null,null,null,null,null,null,null,null,null,null,null,null,null,null,null,null,null,null,null,null,null,null,null,null,null,null,null,null,null,null,null,null,null,null,null,null,null,null,null,null,null,null,null,null,null,null,null,null,null,null,null,null,null,null,null,null,null,null,null,null,null,null,null,null,null,null,null,null,null,null,null,null,null,null,null,null,null,null,null,null,null,null,null,null,null,null,null,null,null,null,null,null,null,null,null,null,null,null,null,null,null,null,null,null,null,null,null,null,null,null,null,null,null,null,null,null,null,null,null,null,null,{"$f":"_xlfn.TEXTJOIN(\", \",TRUE,_xlfn._xlws.FILTER(INDEX($J$154:$EM$154,1,_xlfn.SEQUENCE(1,(COLUMNS($J$154:$EM$154)-1)/7+1,1,7))&\" \"&INDEX($J$155:$EM$155,1,_xlfn.SEQUENCE(1,(COLUMNS($J$155:$EM$155)-1)/7+1,1,7)),INDEX($P177:$ES177,1,_xlfn.SEQUENCE(1,(COLUMNS($P177:$ES177)-1)/7+1,1,7))>0,\"\"))","v":""}]
[{"$f":"A128","v":"Sa. 04. Jul"},"23:00:00",89,"Paraguay","Frankreich",{"$f":"IF(F128=\"\",\"\",F128)","v":0},1,null,null,"Deutschland",1,3,"Frankreich",{"$f":"IF(OR(J178=\"\",M178=\"\"),0,IF(AND(J178=$D178,M178=$E178),40,IF(J178=$D178,20,IF(M178=$E178,20,IF(AND(J178<>$D178,M178<>$E178),0)))))","v":20},{"$f":"IF(COUNTIF($D$28:$E$35,M178),40,0)+IF(COUNTIF($D$28:$E$35,J178),40,0)","v":40},{"$f":"IF(OR(J178=\"\",M178=\"\"),0,IF(AND(J178=$D178,M178=$E178,K178=$F178,L178=$G178),50,0))","v":0},"Deutschland",1,2,"Frankreich",{"$f":"IF(OR(Q178=\"\",T178=\"\"),0,IF(AND(Q178=$D178,T178=$E178),40,IF(Q178=$D178,20,IF(T178=$E178,20,IF(AND(Q178<>$D178,T178<>$E178),0)))))","v":20},{"$f":"IF(COUNTIF($D$28:$E$35,T178),40,0)+IF(COUNTIF($D$28:$E$35,Q178),40,0)","v":40},{"$f":"IF(OR(Q178=\"\",T178=\"\"),0,IF(AND(Q178=$D178,T178=$E178,R178=$F178,S178=$G178),50,0))","v":0},"Deutschland",1,2,"Frankreich",{"$f":"IF(OR(X178=\"\",AA178=\"\"),0,IF(AND(X178=$D178,AA178=$E178),40,IF(X178=$D178,20,IF(AA178=$E178,20,IF(AND(X178<>$D178,AA178<>$E178),0)))))","v":20},{"$f":"IF(COUNTIF($D$28:$E$35,AA178),40,0)+IF(COUNTIF($D$28:$E$35,X178),40,0)","v":40},{"$f":"IF(OR(X178=\"\",AA178=\"\"),0,IF(AND(X178=$D178,AA178=$E178,Y178=$F178,Z178=$G178),50,0))","v":0},"Deutschland",1,3,"Frankreich",{"$f":"IF(OR(AE178=\"\",AH178=\"\"),0,IF(AND(AE178=$D178,AH178=$E178),40,IF(AE178=$D178,20,IF(AH178=$E178,20,IF(AND(AE178<>$D178,AH178<>$E178),0)))))","v":20},{"$f":"IF(COUNTIF($D$28:$E$35,AH178),40,0)+IF(COUNTIF($D$28:$E$35,AE178),40,0)","v":40},{"$f":"IF(OR(AE178=\"\",AH178=\"\"),0,IF(AND(AE178=$D178,AH178=$E178,AF178=$F178,AG178=$G178),50,0))","v":0},"Deutschland",1,2,"Frankreich",{"$f":"IF(OR(AL178=\"\",AO178=\"\"),0,IF(AND(AL178=$D178,AO178=$E178),40,IF(AL178=$D178,20,IF(AO178=$E178,20,IF(AND(AL178<>$D178,AO178<>$E178),0)))))","v":20},{"$f":"IF(COUNTIF($D$28:$E$35,AO178),40,0)+IF(COUNTIF($D$28:$E$35,AL178),40,0)","v":40},{"$f":"IF(OR(AL178=\"\",AO178=\"\"),0,IF(AND(AL178=$D178,AO178=$E178,AM178=$F178,AN178=$G178),50,0))","v":0},"Deutschland",4,5,"Frankreich",{"$f":"IF(OR(AS178=\"\",AV178=\"\"),0,IF(AND(AS178=$D178,AV178=$E178),40,IF(AS178=$D178,20,IF(AV178=$E178,20,IF(AND(AS178<>$D178,AV178<>$E178),0)))))","v":20},{"$f":"IF(COUNTIF($D$28:$E$35,AV178),40,0)+IF(COUNTIF($D$28:$E$35,AS178),40,0)","v":40},{"$f":"IF(OR(AS178=\"\",AV178=\"\"),0,IF(AND(AS178=$D178,AV178=$E178,AT178=$F178,AU178=$G178),50,0))","v":0},"Deutschland",1,2,"Frankreich",{"$f":"IF(OR(AZ178=\"\",BC178=\"\"),0,IF(AND(AZ178=$D178,BC178=$E178),40,IF(AZ178=$D178,20,IF(BC178=$E178,20,IF(AND(AZ178<>$D178,BC178<>$E178),0)))))","v":20},{"$f":"IF(COUNTIF($D$28:$E$35,BC178),40,0)+IF(COUNTIF($D$28:$E$35,AZ178),40,0)","v":40},{"$f":"IF(OR(AZ178=\"\",BC178=\"\"),0,IF(AND(AZ178=$D178,BC178=$E178,BA178=$F178,BB178=$G178),50,0))","v":0},"Deutschland",2,3,"Frankreich",{"$f":"IF(OR(BG178=\"\",BJ178=\"\"),0,IF(AND(BG178=$D178,BJ178=$E178),40,IF(BG178=$D178,20,IF(BJ178=$E178,20,IF(AND(BG178<>$D178,BJ178<>$E178),0)))))","v":20},{"$f":"IF(COUNTIF($D$28:$E$35,BJ178),40,0)+IF(COUNTIF($D$28:$E$35,BG178),40,0)","v":40},{"$f":"IF(OR(BG178=\"\",BJ178=\"\"),0,IF(AND(BG178=$D178,BJ178=$E178,BH178=$F178,BI178=$G178),50,0))","v":0},"Deutschland",1,2,"Frankreich",{"$f":"IF(OR(BN178=\"\",BQ178=\"\"),0,IF(AND(BN178=$D178,BQ178=$E178),40,IF(BN178=$D178,20,IF(BQ178=$E178,20,IF(AND(BN178<>$D178,BQ178<>$E178),0)))))","v":20},{"$f":"IF(COUNTIF($D$28:$E$35,BQ178),40,0)+IF(COUNTIF($D$28:$E$35,BN178),40,0)","v":40},{"$f":"IF(OR(BN178=\"\",BQ178=\"\"),0,IF(AND(BN178=$D178,BQ178=$E178,BO178=$F178,BP178=$G178),50,0))","v":0},"Deutschland",2,1,"Frankreich",{"$f":"IF(OR(BU178=\"\",BX178=\"\"),0,IF(AND(BU178=$D178,BX178=$E178),40,IF(BU178=$D178,20,IF(BX178=$E178,20,IF(AND(BU178<>$D178,BX178<>$E178),0)))))","v":20},{"$f":"IF(COUNTIF($D$28:$E$35,BX178),40,0)+IF(COUNTIF($D$28:$E$35,BU178),40,0)","v":40},{"$f":"IF(OR(BU178=\"\",BX178=\"\"),0,IF(AND(BU178=$D178,BX178=$E178,BV178=$F178,BW178=$G178),50,0))","v":0},"Deutschland",1,2,"Frankreich",{"$f":"IF(OR(CB178=\"\",CE178=\"\"),0,IF(AND(CB178=$D178,CE178=$E178),40,IF(CB178=$D178,20,IF(CE178=$E178,20,IF(AND(CB178<>$D178,CE178<>$E178),0)))))","v":20},{"$f":"IF(COUNTIF($D$28:$E$35,CE178),40,0)+IF(COUNTIF($D$28:$E$35,CB178),40,0)","v":40},{"$f":"IF(OR(CB178=\"\",CE178=\"\"),0,IF(AND(CB178=$D178,CE178=$E178,CC178=$F178,CD178=$G178),50,0))","v":0},"Deutschland",2,1,"Frankreich",{"$f":"IF(OR(CI178=\"\",CL178=\"\"),0,IF(AND(CI178=$D178,CL178=$E178),40,IF(CI178=$D178,20,IF(CL178=$E178,20,IF(AND(CI178<>$D178,CL178<>$E178),0)))))","v":20},{"$f":"IF(COUNTIF($D$28:$E$35,CL178),40,0)+IF(COUNTIF($D$28:$E$35,CI178),40,0)","v":40},{"$f":"IF(OR(CI178=\"\",CL178=\"\"),0,IF(AND(CI178=$D178,CL178=$E178,CJ178=$F178,CK178=$G178),50,0))","v":0},"Deutschland",2,1,"Frankreich",{"$f":"IF(OR(CP178=\"\",CS178=\"\"),0,IF(AND(CP178=$D178,CS178=$E178),40,IF(CP178=$D178,20,IF(CS178=$E178,20,IF(AND(CP178<>$D178,CS178<>$E178),0)))))","v":20},{"$f":"IF(COUNTIF($D$28:$E$35,CS178),40,0)+IF(COUNTIF($D$28:$E$35,CP178),40,0)","v":40},{"$f":"IF(OR(CP178=\"\",CS178=\"\"),0,IF(AND(CP178=$D178,CS178=$E178,CQ178=$F178,CR178=$G178),50,0))","v":0},"Deutschland",0,1,"Frankreich",{"$f":"IF(OR(CW178=\"\",CZ178=\"\"),0,IF(AND(CW178=$D178,CZ178=$E178),40,IF(CW178=$D178,20,IF(CZ178=$E178,20,IF(AND(CW178<>$D178,CZ178<>$E178),0)))))","v":20},{"$f":"IF(COUNTIF($D$28:$E$35,CZ178),40,0)+IF(COUNTIF($D$28:$E$35,CW178),40,0)","v":40},{"$f":"IF(OR(CW178=\"\",CZ178=\"\"),0,IF(AND(CW178=$D178,CZ178=$E178,CX178=$F178,CY178=$G178),50,0))","v":0},"Deutschland",1,2,"Frankreich",{"$f":"IF(OR(DD178=\"\",DG178=\"\"),0,IF(AND(DD178=$D178,DG178=$E178),40,IF(DD178=$D178,20,IF(DG178=$E178,20,IF(AND(DD178<>$D178,DG178<>$E178),0)))))","v":20},{"$f":"IF(COUNTIF($D$28:$E$35,DG178),40,0)+IF(COUNTIF($D$28:$E$35,DD178),40,0)","v":40},{"$f":"IF(OR(DD178=\"\",DG178=\"\"),0,IF(AND(DD178=$D178,DG178=$E178,DE178=$F178,DF178=$G178),50,0))","v":0},"Deutschland",0,1,"Frankreich",{"$f":"IF(OR(DK178=\"\",DN178=\"\"),0,IF(AND(DK178=$D178,DN178=$E178),40,IF(DK178=$D178,20,IF(DN178=$E178,20,IF(AND(DK178<>$D178,DN178<>$E178),0)))))","v":20},{"$f":"IF(COUNTIF($D$28:$E$35,DN178),40,0)+IF(COUNTIF($D$28:$E$35,DK178),40,0)","v":40},{"$f":"IF(OR(DK178=\"\",DN178=\"\"),0,IF(AND(DK178=$D178,DN178=$E178,DL178=$F178,DM178=$G178),50,0))","v":0},"Deutschland",4,3,"Frankreich",{"$f":"IF(OR(DR178=\"\",DU178=\"\"),0,IF(AND(DR178=$D178,DU178=$E178),40,IF(DR178=$D178,20,IF(DU178=$E178,20,IF(AND(DR178<>$D178,DU178<>$E178),0)))))","v":20},{"$f":"IF(COUNTIF($D$28:$E$35,DU178),40,0)+IF(COUNTIF($D$28:$E$35,DR178),40,0)","v":40},{"$f":"IF(OR(DR178=\"\",DU178=\"\"),0,IF(AND(DR178=$D178,DU178=$E178,DS178=$F178,DT178=$G178),50,0))","v":0},"Deutschland",1,2,"Frankreich",{"$f":"IF(OR(DY178=\"\",EB178=\"\"),0,IF(AND(DY178=$D178,EB178=$E178),40,IF(DY178=$D178,20,IF(EB178=$E178,20,IF(AND(DY178<>$D178,EB178<>$E178),0)))))","v":20},{"$f":"IF(COUNTIF($D$28:$E$35,EB178),40,0)+IF(COUNTIF($D$28:$E$35,DY178),40,0)","v":40},{"$f":"IF(OR(DY178=\"\",EB178=\"\"),0,IF(AND(DY178=$D178,EB178=$E178,DZ178=$F178,EA178=$G178),50,0))","v":0},"Deutschland",1,3,"Frankreich",{"$f":"IF(OR(EF178=\"\",EI178=\"\"),0,IF(AND(EF178=$D178,EI178=$E178),40,IF(EF178=$D178,20,IF(EI178=$E178,20,IF(AND(EF178<>$D178,EI178<>$E178),0)))))","v":20},{"$f":"IF(COUNTIF($D$28:$E$35,EI178),40,0)+IF(COUNTIF($D$28:$E$35,EF178),40,0)","v":40},{"$f":"IF(OR(EF178=\"\",EI178=\"\"),0,IF(AND(EF178=$D178,EI178=$E178,EG178=$F178,EH178=$G178),50,0))","v":0},"Deutschland",0,1,"Frankreich",{"$f":"IF(OR(EM178=\"\",EP178=\"\"),0,IF(AND(EM178=$D178,EP178=$E178),40,IF(EM178=$D178,20,IF(EP178=$E178,20,IF(AND(EM178<>$D178,EP178<>$E178),0)))))","v":20},{"$f":"IF(COUNTIF($D$28:$E$35,EP178),40,0)+IF(COUNTIF($D$28:$E$35,EM178),40,0)","v":40},{"$f":"IF(OR(EM178=\"\",EP178=\"\"),0,IF(AND(EM178=$D178,EP178=$E178,EN178=$F178,EO178=$G178),50,0))","v":0},null,{"$f":"_xlfn.TEXTJOIN(\", \",TRUE,_xlfn._xlws.FILTER(INDEX($J$154:$EM$154,1,_xlfn.SEQUENCE(1,(COLUMNS($J$154:$EM$154)-1)/7+1,1,7))&\" \"&INDEX($J$155:$EM$155,1,_xlfn.SEQUENCE(1,(COLUMNS($J$155:$EM$155)-1)/7+1,1,7)),INDEX($P178:$ES178,1,_xlfn.SEQUENCE(1,(COLUMNS($P178:$ES178)-1)/7+1,1,7))>0,\"\"))","v":""}]
["Sa. 04. Jul","19:00:00",90,"Kanada","Marokko",0,3,null,null,"Tschechien",1,2,"Holland",{"$f":"IF(OR(J179=\"\",M179=\"\"),0,IF(AND(J179=$D179,M179=$E179),40,IF(J179=$D179,20,IF(M179=$E179,20,IF(AND(J179<>$D179,M179<>$E179),0)))))","v":0},{"$f":"IF(COUNTIF($D$28:$E$35,M179),40,0)+IF(COUNTIF($D$28:$E$35,J179),40,0)","v":0},{"$f":"IF(OR(J179=\"\",M179=\"\"),0,IF(AND(J179=$D179,M179=$E179,K179=$F179,L179=$G179),50,0))","v":0},"Schweiz",2,0,"Holland",{"$f":"IF(OR(Q179=\"\",T179=\"\"),0,IF(AND(Q179=$D179,T179=$E179),40,IF(Q179=$D179,20,IF(T179=$E179,20,IF(AND(Q179<>$D179,T179<>$E179),0)))))","v":0},{"$f":"IF(COUNTIF($D$28:$E$35,T179),40,0)+IF(COUNTIF($D$28:$E$35,Q179),40,0)","v":40},{"$f":"IF(OR(Q179=\"\",T179=\"\"),0,IF(AND(Q179=$D179,T179=$E179,R179=$F179,S179=$G179),50,0))","v":0},"Kanada",1,2,"Holland",{"$f":"IF(OR(X179=\"\",AA179=\"\"),0,IF(AND(X179=$D179,AA179=$E179),40,IF(X179=$D179,20,IF(AA179=$E179,20,IF(AND(X179<>$D179,AA179<>$E179),0)))))","v":20},{"$f":"IF(COUNTIF($D$28:$E$35,AA179),40,0)+IF(COUNTIF($D$28:$E$35,X179),40,0)","v":40},{"$f":"IF(OR(X179=\"\",AA179=\"\"),0,IF(AND(X179=$D179,AA179=$E179,Y179=$F179,Z179=$G179),50,0))","v":0},"Mexiko",1,2,"Holland",{"$f":"IF(OR(AE179=\"\",AH179=\"\"),0,IF(AND(AE179=$D179,AH179=$E179),40,IF(AE179=$D179,20,IF(AH179=$E179,20,IF(AND(AE179<>$D179,AH179<>$E179),0)))))","v":0},{"$f":"IF(COUNTIF($D$28:$E$35,AH179),40,0)+IF(COUNTIF($D$28:$E$35,AE179),40,0)","v":40},{"$f":"IF(OR(AE179=\"\",AH179=\"\"),0,IF(AND(AE179=$D179,AH179=$E179,AF179=$F179,AG179=$G179),50,0))","v":0},"Mexiko",1,2,"Holland",{"$f":"IF(OR(AL179=\"\",AO179=\"\"),0,IF(AND(AL179=$D179,AO179=$E179),40,IF(AL179=$D179,20,IF(AO179=$E179,20,IF(AND(AL179<>$D179,AO179<>$E179),0)))))","v":0},{"$f":"IF(COUNTIF($D$28:$E$35,AO179),40,0)+IF(COUNTIF($D$28:$E$35,AL179),40,0)","v":40},{"$f":"IF(OR(AL179=\"\",AO179=\"\"),0,IF(AND(AL179=$D179,AO179=$E179,AM179=$F179,AN179=$G179),50,0))","v":0},"Kanada",2,3,"Holland",{"$f":"IF(OR(AS179=\"\",AV179=\"\"),0,IF(AND(AS179=$D179,AV179=$E179),40,IF(AS179=$D179,20,IF(AV179=$E179,20,IF(AND(AS179<>$D179,AV179<>$E179),0)))))","v":20},{"$f":"IF(COUNTIF($D$28:$E$35,AV179),40,0)+IF(COUNTIF($D$28:$E$35,AS179),40,0)","v":40},{"$f":"IF(OR(AS179=\"\",AV179=\"\"),0,IF(AND(AS179=$D179,AV179=$E179,AT179=$F179,AU179=$G179),50,0))","v":0},"Kanada",1,2,"Holland",{"$f":"IF(OR(AZ179=\"\",BC179=\"\"),0,IF(AND(AZ179=$D179,BC179=$E179),40,IF(AZ179=$D179,20,IF(BC179=$E179,20,IF(AND(AZ179<>$D179,BC179<>$E179),0)))))","v":20},{"$f":"IF(COUNTIF($D$28:$E$35,BC179),40,0)+IF(COUNTIF($D$28:$E$35,AZ179),40,0)","v":40},{"$f":"IF(OR(AZ179=\"\",BC179=\"\"),0,IF(AND(AZ179=$D179,BC179=$E179,BA179=$F179,BB179=$G179),50,0))","v":0},"Mexiko",1,2,"Holland",{"$f":"IF(OR(BG179=\"\",BJ179=\"\"),0,IF(AND(BG179=$D179,BJ179=$E179),40,IF(BG179=$D179,20,IF(BJ179=$E179,20,IF(AND(BG179<>$D179,BJ179<>$E179),0)))))","v":0},{"$f":"IF(COUNTIF($D$28:$E$35,BJ179),40,0)+IF(COUNTIF($D$28:$E$35,BG179),40,0)","v":40},{"$f":"IF(OR(BG179=\"\",BJ179=\"\"),0,IF(AND(BG179=$D179,BJ179=$E179,BH179=$F179,BI179=$G179),50,0))","v":0},"Südkorea",1,2,"Holland",{"$f":"IF(OR(BN179=\"\",BQ179=\"\"),0,IF(AND(BN179=$D179,BQ179=$E179),40,IF(BN179=$D179,20,IF(BQ179=$E179,20,IF(AND(BN179<>$D179,BQ179<>$E179),0)))))","v":0},{"$f":"IF(COUNTIF($D$28:$E$35,BQ179),40,0)+IF(COUNTIF($D$28:$E$35,BN179),40,0)","v":0},{"$f":"IF(OR(BN179=\"\",BQ179=\"\"),0,IF(AND(BN179=$D179,BQ179=$E179,BO179=$F179,BP179=$G179),50,0))","v":0},"Kanada",1,3,"Holland",{"$f":"IF(OR(BU179=\"\",BX179=\"\"),0,IF(AND(BU179=$D179,BX179=$E179),40,IF(BU179=$D179,20,IF(BX179=$E179,20,IF(AND(BU179<>$D179,BX179<>$E179),0)))))","v":20},{"$f":"IF(COUNTIF($D$28:$E$35,BX179),40,0)+IF(COUNTIF($D$28:$E$35,BU179),40,0)","v":40},{"$f":"IF(OR(BU179=\"\",BX179=\"\"),0,IF(AND(BU179=$D179,BX179=$E179,BV179=$F179,BW179=$G179),50,0))","v":0},"Kanada",0,1,"Marokko",{"$f":"IF(OR(CB179=\"\",CE179=\"\"),0,IF(AND(CB179=$D179,CE179=$E179),40,IF(CB179=$D179,20,IF(CE179=$E179,20,IF(AND(CB179<>$D179,CE179<>$E179),0)))))","v":40},{"$f":"IF(COUNTIF($D$28:$E$35,CE179),40,0)+IF(COUNTIF($D$28:$E$35,CB179),40,0)","v":80},{"$f":"IF(OR(CB179=\"\",CE179=\"\"),0,IF(AND(CB179=$D179,CE179=$E179,CC179=$F179,CD179=$G179),50,0))","v":0},"Tschechien",0,2,"Holland",{"$f":"IF(OR(CI179=\"\",CL179=\"\"),0,IF(AND(CI179=$D179,CL179=$E179),40,IF(CI179=$D179,20,IF(CL179=$E179,20,IF(AND(CI179<>$D179,CL179<>$E179),0)))))","v":0},{"$f":"IF(COUNTIF($D$28:$E$35,CL179),40,0)+IF(COUNTIF($D$28:$E$35,CI179),40,0)","v":0},{"$f":"IF(OR(CI179=\"\",CL179=\"\"),0,IF(AND(CI179=$D179,CL179=$E179,CJ179=$F179,CK179=$G179),50,0))","v":0},"Südafrika",1,4,"Holland",{"$f":"IF(OR(CP179=\"\",CS179=\"\"),0,IF(AND(CP179=$D179,CS179=$E179),40,IF(CP179=$D179,20,IF(CS179=$E179,20,IF(AND(CP179<>$D179,CS179<>$E179),0)))))","v":0},{"$f":"IF(COUNTIF($D$28:$E$35,CS179),40,0)+IF(COUNTIF($D$28:$E$35,CP179),40,0)","v":0},{"$f":"IF(OR(CP179=\"\",CS179=\"\"),0,IF(AND(CP179=$D179,CS179=$E179,CQ179=$F179,CR179=$G179),50,0))","v":0},"Kanada",0,1,"Marokko",{"$f":"IF(OR(CW179=\"\",CZ179=\"\"),0,IF(AND(CW179=$D179,CZ179=$E179),40,IF(CW179=$D179,20,IF(CZ179=$E179,20,IF(AND(CW179<>$D179,CZ179<>$E179),0)))))","v":40},{"$f":"IF(COUNTIF($D$28:$E$35,CZ179),40,0)+IF(COUNTIF($D$28:$E$35,CW179),40,0)","v":80},{"$f":"IF(OR(CW179=\"\",CZ179=\"\"),0,IF(AND(CW179=$D179,CZ179=$E179,CX179=$F179,CY179=$G179),50,0))","v":0},"Kanada",1,3,"Holland",{"$f":"IF(OR(DD179=\"\",DG179=\"\"),0,IF(AND(DD179=$D179,DG179=$E179),40,IF(DD179=$D179,20,IF(DG179=$E179,20,IF(AND(DD179<>$D179,DG179<>$E179),0)))))","v":20},{"$f":"IF(COUNTIF($D$28:$E$35,DG179),40,0)+IF(COUNTIF($D$28:$E$35,DD179),40,0)","v":40},{"$f":"IF(OR(DD179=\"\",DG179=\"\"),0,IF(AND(DD179=$D179,DG179=$E179,DE179=$F179,DF179=$G179),50,0))","v":0},"Tschechien",0,1,"Marokko",{"$f":"IF(OR(DK179=\"\",DN179=\"\"),0,IF(AND(DK179=$D179,DN179=$E179),40,IF(DK179=$D179,20,IF(DN179=$E179,20,IF(AND(DK179<>$D179,DN179<>$E179),0)))))","v":20},{"$f":"IF(COUNTIF($D$28:$E$35,DN179),40,0)+IF(COUNTIF($D$28:$E$35,DK179),40,0)","v":40},{"$f":"IF(OR(DK179=\"\",DN179=\"\"),0,IF(AND(DK179=$D179,DN179=$E179,DL179=$F179,DM179=$G179),50,0))","v":0},"Tschechien",1,2,"Holland",{"$f":"IF(OR(DR179=\"\",DU179=\"\"),0,IF(AND(DR179=$D179,DU179=$E179),40,IF(DR179=$D179,20,IF(DU179=$E179,20,IF(AND(DR179<>$D179,DU179<>$E179),0)))))","v":0},{"$f":"IF(COUNTIF($D$28:$E$35,DU179),40,0)+IF(COUNTIF($D$28:$E$35,DR179),40,0)","v":0},{"$f":"IF(OR(DR179=\"\",DU179=\"\"),0,IF(AND(DR179=$D179,DU179=$E179,DS179=$F179,DT179=$G179),50,0))","v":0},"Kanada",0,2,"Holland",{"$f":"IF(OR(DY179=\"\",EB179=\"\"),0,IF(AND(DY179=$D179,EB179=$E179),40,IF(DY179=$D179,20,IF(EB179=$E179,20,IF(AND(DY179<>$D179,EB179<>$E179),0)))))","v":20},{"$f":"IF(COUNTIF($D$28:$E$35,EB179),40,0)+IF(COUNTIF($D$28:$E$35,DY179),40,0)","v":40},{"$f":"IF(OR(DY179=\"\",EB179=\"\"),0,IF(AND(DY179=$D179,EB179=$E179,DZ179=$F179,EA179=$G179),50,0))","v":0},"Südkorea",0,2,"Holland",{"$f":"IF(OR(EF179=\"\",EI179=\"\"),0,IF(AND(EF179=$D179,EI179=$E179),40,IF(EF179=$D179,20,IF(EI179=$E179,20,IF(AND(EF179<>$D179,EI179<>$E179),0)))))","v":0},{"$f":"IF(COUNTIF($D$28:$E$35,EI179),40,0)+IF(COUNTIF($D$28:$E$35,EF179),40,0)","v":0},{"$f":"IF(OR(EF179=\"\",EI179=\"\"),0,IF(AND(EF179=$D179,EI179=$E179,EG179=$F179,EH179=$G179),50,0))","v":0},"Südkorea",0,1,"Holland",{"$f":"IF(OR(EM179=\"\",EP179=\"\"),0,IF(AND(EM179=$D179,EP179=$E179),40,IF(EM179=$D179,20,IF(EP179=$E179,20,IF(AND(EM179<>$D179,EP179<>$E179),0)))))","v":0},{"$f":"IF(COUNTIF($D$28:$E$35,EP179),40,0)+IF(COUNTIF($D$28:$E$35,EM179),40,0)","v":0},{"$f":"IF(OR(EM179=\"\",EP179=\"\"),0,IF(AND(EM179=$D179,EP179=$E179,EN179=$F179,EO179=$G179),50,0))","v":0},null,{"$f":"_xlfn.TEXTJOIN(\", \",TRUE,_xlfn._xlws.FILTER(INDEX($J$154:$EM$154,1,_xlfn.SEQUENCE(1,(COLUMNS($J$154:$EM$154)-1)/7+1,1,7))&\" \"&INDEX($J$155:$EM$155,1,_xlfn.SEQUENCE(1,(COLUMNS($J$155:$EM$155)-1)/7+1,1,7)),INDEX($P179:$ES179,1,_xlfn.SEQUENCE(1,(COLUMNS($P179:$ES179)-1)/7+1,1,7))>0,\"\"))","v":""}]
["So. 05. Jul","22:00:00",91,"Brasilien","Norwegen",1,2,null,null,"Brasilien",3,1,"Elfenbeinküste",20,40,0,"Brasilien",3,1,"Norwegen",40,80,0,"Brasilien",3,1,"Norwegen",40,80,0,"Brasilien",2,0,"Norwegen",40,80,0,"Brasilien",2,0,"Norwegen",40,80,0,"Brasilien",4,3,"Norwegen",40,80,0,"Brasilien",2,0,"Senegal",20,40,0,"Brasilien",1,2,"Norwegen",40,80,50,"Brasilien",2,1,"Senegal",20,40,0,"Brasilien",2,1,"Norwegen",40,80,0,"Brasilien",2,1,"Norwegen",40,80,0,"Brasilien",3,0,"Norwegen",40,80,0,"Brasilien",4,3,"Elfenbeinküste",20,40,0,"Brasilien",1,0,"Senegal",20,40,0,"Brasilien",2,0,"Norwegen",40,80,0,"Brasilien",2,1,"Norwegen",40,80,0,"Brasilien",3,2,"Norwegen",40,80,0,"Brasilien",3,1,"Norwegen",40,80,0,"Brasilien",3,1,"Norwegen",40,80,0,"Brasilien",2,1,"Norwegen",40,80,0,null,{"$f":"_xlfn.TEXTJOIN(\", \",TRUE,_xlfn._xlws.FILTER(INDEX($J$154:$EM$154,1,_xlfn.SEQUENCE(1,(COLUMNS($J$154:$EM$154)-1)/7+1,1,7))&\" \"&INDEX($J$155:$EM$155,1,_xlfn.SEQUENCE(1,(COLUMNS($J$155:$EM$155)-1)/7+1,1,7)),INDEX($P180:$ES180,1,_xlfn.SEQUENCE(1,(COLUMNS($P180:$ES180)-1)/7+1,1,7))>0,\"\"))","v":"Sabine Rüegg"}]
["Mo. 06. Jul","02:00:00",92,"Mexiko","England",2,3,null,null,"Südkorea",0,2,"England",20,40,0,"Mexiko",2,1,"England",40,80,0,"Mexiko",1,2,"England",40,80,0,"Tschechien",0,1,"England",20,40,0,"Tschechien",1,2,"England",20,40,0,"Schottland",4,5,"England",20,40,0,"Schottland",1,2,"England",20,40,0,"Tschechien",1,3,"England",20,40,0,"Mexiko",1,2,"England",40,80,0,"Mexiko",1,2,"England",40,80,0,"Mexiko",1,2,"England",40,80,0,"Mexiko",1,2,"England",40,80,0,"Südkorea",1,2,"Kroatien",0,0,0,"Mexiko",0,2,"England",40,80,0,"Mexiko",1,2,"England",40,80,0,"Mexiko",0,2,"England",40,80,0,"Mexiko",4,5,"England",40,80,0,"Mexiko",1,2,"England",40,80,0,"Mexiko",0,2,"England",40,80,0,"Mexiko",0,1,"England",40,80,0,null,{"$f":"_xlfn.TEXTJOIN(\", \",TRUE,_xlfn._xlws.FILTER(INDEX($J$154:$EM$154,1,_xlfn.SEQUENCE(1,(COLUMNS($J$154:$EM$154)-1)/7+1,1,7))&\" \"&INDEX($J$155:$EM$155,1,_xlfn.SEQUENCE(1,(COLUMNS($J$155:$EM$155)-1)/7+1,1,7)),INDEX($P181:$ES181,1,_xlfn.SEQUENCE(1,(COLUMNS($P181:$ES181)-1)/7+1,1,7))>0,\"\"))","v":""}]
["Mo. 06. Jul","21:00:00",93,"Portugal","Spanien",0,1,null,null,"Kolumbien",1,2,"Spanien",20,80,0,"Kroatien",1,3,"Spanien",20,40,0,"Kroatien",1,2,"Spanien",20,40,0,"Kolumbien",0,2,"Spanien",20,80,0,"Kolumbien",0,2,"Spanien",20,80,0,"Kroatien",3,4,"Spanien",20,40,0,"Ghana",0,2,"Spanien",20,40,0,"Portugal",1,3,"Spanien",40,80,0,"Kroatien",0,2,"Spanien",20,40,0,"Kroatien",2,4,"Spanien",20,40,0,"Kolumbien",1,3,"Spanien",20,80,0,"Kolumbien",1,3,"Spanien",20,80,0,"Kolumbien",1,3,"Spanien",20,80,0,"Kroatien",1,2,"Spanien",20,40,0,"Kroatien",1,2,"Spanien",20,40,0,"Kolumbien",1,2,"Spanien",20,80,0,"Kolumbien",1,4,"Spanien",20,80,0,"Kroatien",0,2,"Spanien",20,40,0,"Kolumbien",0,3,"Spanien",20,80,0,"Kroatien",0,1,"Spanien",20,40,0,null,{"$f":"_xlfn.TEXTJOIN(\", \",TRUE,_xlfn._xlws.FILTER(INDEX($J$154:$EM$154,1,_xlfn.SEQUENCE(1,(COLUMNS($J$154:$EM$154)-1)/7+1,1,7))&\" \"&INDEX($J$155:$EM$155,1,_xlfn.SEQUENCE(1,(COLUMNS($J$155:$EM$155)-1)/7+1,1,7)),INDEX($P182:$ES182,1,_xlfn.SEQUENCE(1,(COLUMNS($P182:$ES182)-1)/7+1,1,7))>0,\"\"))","v":""}]
["Di. 07. Jul","02:00:00",94,"USA","Belgien",1,4,null,null,"Ecuador",1,3,"Belgien",20,40,0,"USA",1,2,"Belgien",40,80,0,"Türkei",4,3,"Belgien",20,40,0,"Türkei",0,1,"Belgien",20,40,0,"Australien",0,2,"Belgien",20,40,0,"Türkei",1,0,"Neuseeland",0,0,0,"USA",1,0,"Belgien",40,80,0,"Türkei",1,2,"Belgien",20,40,0,"USA",1,2,"Belgien",40,80,0,"Österreich",0,1,"Belgien",20,40,0,"Bosnien-Herz.",2,1,"Belgien",20,40,0,"USA",1,2,"Belgien",40,80,0,"USA",1,0,"Belgien",40,80,0,"USA",2,1,"Belgien",40,80,0,"Türkei",1,2,"Belgien",20,40,0,"USA",0,1,"Belgien",40,80,0,"Türkei",1,0,"Belgien",20,40,0,"USA",4,3,"Belgien",40,80,0,"USA",0,1,"Belgien",40,80,0,"USA",0,1,"Belgien",40,80,0,null,{"$f":"_xlfn.TEXTJOIN(\", \",TRUE,_xlfn._xlws.FILTER(INDEX($J$154:$EM$154,1,_xlfn.SEQUENCE(1,(COLUMNS($J$154:$EM$154)-1)/7+1,1,7))&\" \"&INDEX($J$155:$EM$155,1,_xlfn.SEQUENCE(1,(COLUMNS($J$155:$EM$155)-1)/7+1,1,7)),INDEX($P183:$ES183,1,_xlfn.SEQUENCE(1,(COLUMNS($P183:$ES183)-1)/7+1,1,7))>0,\"\"))","v":""}]
["Di. 07. Jul","18:00:00",95,"Argentinien","Ägypten",3,2,null,null,"Argentinien",3,0,"Ägypten",40,80,0,"Argentinien",3,0,"Türkei",20,40,0,"Argentinien",2,1,"USA",20,80,0,"Argentinien",3,1,"Paraguay",20,80,0,"Argentinien",3,0,"Ägypten",40,80,0,"Österreich",0,1,"Belgien",0,40,0,"Argentinien",2,0,"Türkei",20,40,0,"Argentinien",3,0,"USA",20,80,0,"Argentinien",2,0,"Türkei",20,40,0,"Argentinien",2,1,"Türkei",20,40,0,"Argentinien",2,0,"Türkei",20,40,0,"Argentinien",3,1,"Türkei",20,40,0,"Argentinien",4,0,"Ägypten",40,80,0,"Argentinien",2,0,"Türkei",20,40,0,"Argentinien",2,0,"USA",20,80,0,"Argentinien",2,0,"Ägypten",40,80,0,"Argentinien",2,0,"USA",20,80,0,"Argentinien",2,0,"Türkei",20,40,0,"Argentinien",2,0,"Ägypten",40,80,0,"Argentinien",1,0,"Türkei",20,40,0,null,{"$f":"_xlfn.TEXTJOIN(\", \",TRUE,_xlfn._xlws.FILTER(INDEX($J$154:$EM$154,1,_xlfn.SEQUENCE(1,(COLUMNS($J$154:$EM$154)-1)/7+1,1,7))&\" \"&INDEX($J$155:$EM$155,1,_xlfn.SEQUENCE(1,(COLUMNS($J$155:$EM$155)-1)/7+1,1,7)),INDEX($P184:$ES184,1,_xlfn.SEQUENCE(1,(COLUMNS($P184:$ES184)-1)/7+1,1,7))>0,\"\"))","v":""}]
["Di. 07. Jul","22:00:00",96,"Schweiz","Kolumbien",4,3,null,null,"Schweiz",1,2,"Portugal",20,80,0,"Kanada",1,2,"Portugal",0,80,0,"Schweiz",1,2,"Portugal",20,80,0,"Schweiz",0,1,"Portugal",20,80,0,"Schweiz",1,3,"Portugal",20,80,0,"Schweiz",4,5,"Portugal",20,80,0,"Schweiz",1,2,"Portugal",20,80,0,"Schweiz",2,1,"Kolumbien",40,80,0,"Schweiz",1,2,"Portugal",20,80,0,"Schweiz",2,1,"Portugal",20,80,0,"Schweiz",1,2,"Portugal",20,80,0,"Schweiz",1,2,"Portugal",20,80,0,"Schweiz",1,3,"Portugal",20,80,0,"Schweiz",0,1,"Portugal",20,80,0,"Schweiz",1,2,"Portugal",20,80,0,"Schweiz",1,2,"Portugal",20,80,0,"Schweiz",3,4,"Portugal",20,80,0,"Schweiz",1,2,"Portugal",20,80,0,"Schweiz",0,3,"Portugal",20,80,0,"Schweiz",0,1,"Portugal",20,80,0,null,{"$f":"_xlfn.TEXTJOIN(\", \",TRUE,_xlfn._xlws.FILTER(INDEX($J$154:$EM$154,1,_xlfn.SEQUENCE(1,(COLUMNS($J$154:$EM$154)-1)/7+1,1,7))&\" \"&INDEX($J$155:$EM$155,1,_xlfn.SEQUENCE(1,(COLUMNS($J$155:$EM$155)-1)/7+1,1,7)),INDEX($P185:$ES185,1,_xlfn.SEQUENCE(1,(COLUMNS($P185:$ES185)-1)/7+1,1,7))>0,\"\"))","v":""}]
["Viertelfinale",null,null,null,null,null,null,null,null,null,null,null,null,null,null,null,null,null,null,null,null,null,null,null,null,null,null,null,null,null,null,null,null,null,null,null,null,null,null,null,null,null,null,null,null,null,null,null,null,null,null,null,null,null,null,null,null,null,null,null,null,null,null,null,null,null,null,null,null,null,null,null,null,null,null,null,null,null,null,null,null,null,null,null,null,null,null,null,null,null,null,null,null,null,null,null,null,null,null,null,null,null,null,null,null,null,null,null,null,null,null,null,null,null,null,null,null,null,null,null,null,null,null,null,null,null,null,null,null,null,null,null,null,null,null,null,null,null,null,null,null,null,null,null,null,null,null,null,null,null,{"$f":"_xlfn.TEXTJOIN(\", \",TRUE,_xlfn._xlws.FILTER(INDEX($J$154:$EM$154,1,_xlfn.SEQUENCE(1,(COLUMNS($J$154:$EM$154)-1)/7+1,1,7))&\" \"&INDEX($J$155:$EM$155,1,_xlfn.SEQUENCE(1,(COLUMNS($J$155:$EM$155)-1)/7+1,1,7)),INDEX($P186:$ES186,1,_xlfn.SEQUENCE(1,(COLUMNS($P186:$ES186)-1)/7+1,1,7))>0,\"\"))","v":""}]
[{"$f":"A137","v":"Do. 09. Jul"},"22:00:00",97,"Frankreich","Marokko",{"$f":"IF(F137=\"\",\"\",F137)","v":2},0,null,null,"Frankreich",3,0,"Holland",{"$f":"IF(OR(J187=\"\",M187=\"\"),0,IF(AND(J187=$D187,M187=$E187),60,IF(J187=$D187,30,IF(M187=$E187,30,IF(AND(J187<>$D187,M187<>$E187),0)))))","v":30},{"$f":"IF(COUNTIF($D$37:$E$40,M187),80,0)+IF(COUNTIF($D$37:$E$40,J187),80,0)","v":80},{"$f":"IF(OR(J187=\"\",M187=\"\"),0,IF(AND(J187=$D187,M187=$E187,K187=$F187,L187=$G187),70,0))","v":0},"Frankreich",3,1,"Schweiz",{"$f":"IF(OR(Q187=\"\",T187=\"\"),0,IF(AND(Q187=$D187,T187=$E187),60,IF(Q187=$D187,30,IF(T187=$E187,30,IF(AND(Q187<>$D187,T187<>$E187),0)))))","v":30},{"$f":"IF(COUNTIF($D$37:$E$40,T187),80,0)+IF(COUNTIF($D$37:$E$40,Q187),80,0)","v":160},{"$f":"IF(OR(Q187=\"\",T187=\"\"),0,IF(AND(Q187=$D187,T187=$E187,R187=$F187,S187=$G187),70,0))","v":0},"Frankreich",2,1,"Holland",{"$f":"IF(OR(X187=\"\",AA187=\"\"),0,IF(AND(X187=$D187,AA187=$E187),60,IF(X187=$D187,30,IF(AA187=$E187,30,IF(AND(X187<>$D187,AA187<>$E187),0)))))","v":30},{"$f":"IF(COUNTIF($D$37:$E$40,AA187),80,0)+IF(COUNTIF($D$37:$E$40,X187),80,0)","v":80},{"$f":"IF(OR(X187=\"\",AA187=\"\"),0,IF(AND(X187=$D187,AA187=$E187,Y187=$F187,Z187=$G187),70,0))","v":0},"Frankreich",2,0,"Holland",{"$f":"IF(OR(AE187=\"\",AH187=\"\"),0,IF(AND(AE187=$D187,AH187=$E187),60,IF(AE187=$D187,30,IF(AH187=$E187,30,IF(AND(AE187<>$D187,AH187<>$E187),0)))))","v":30},{"$f":"IF(COUNTIF($D$37:$E$40,AH187),80,0)+IF(COUNTIF($D$37:$E$40,AE187),80,0)","v":80},{"$f":"IF(OR(AE187=\"\",AH187=\"\"),0,IF(AND(AE187=$D187,AH187=$E187,AF187=$F187,AG187=$G187),70,0))","v":0},"Frankreich",2,1,"Holland",{"$f":"IF(OR(AL187=\"\",AO187=\"\"),0,IF(AND(AL187=$D187,AO187=$E187),60,IF(AL187=$D187,30,IF(AO187=$E187,30,IF(AND(AL187<>$D187,AO187<>$E187),0)))))","v":30},{"$f":"IF(COUNTIF($D$37:$E$40,AO187),80,0)+IF(COUNTIF($D$37:$E$40,AL187),80,0)","v":80},{"$f":"IF(OR(AL187=\"\",AO187=\"\"),0,IF(AND(AL187=$D187,AO187=$E187,AM187=$F187,AN187=$G187),70,0))","v":0},"Frankreich",2,1,"Holland",{"$f":"IF(OR(AS187=\"\",AV187=\"\"),0,IF(AND(AS187=$D187,AV187=$E187),60,IF(AS187=$D187,30,IF(AV187=$E187,30,IF(AND(AS187<>$D187,AV187<>$E187),0)))))","v":30},{"$f":"IF(COUNTIF($D$37:$E$40,AV187),80,0)+IF(COUNTIF($D$37:$E$40,AS187),80,0)","v":80},{"$f":"IF(OR(AS187=\"\",AV187=\"\"),0,IF(AND(AS187=$D187,AV187=$E187,AT187=$F187,AU187=$G187),70,0))","v":0},"Frankreich",2,0,"Holland",{"$f":"IF(OR(AZ187=\"\",BC187=\"\"),0,IF(AND(AZ187=$D187,BC187=$E187),60,IF(AZ187=$D187,30,IF(BC187=$E187,30,IF(AND(AZ187<>$D187,BC187<>$E187),0)))))","v":30},{"$f":"IF(COUNTIF($D$37:$E$40,BC187),80,0)+IF(COUNTIF($D$37:$E$40,AZ187),80,0)","v":80},{"$f":"IF(OR(AZ187=\"\",BC187=\"\"),0,IF(AND(AZ187=$D187,BC187=$E187,BA187=$F187,BB187=$G187),70,0))","v":0},"Frankreich",1,2,"Holland",{"$f":"IF(OR(BG187=\"\",BJ187=\"\"),0,IF(AND(BG187=$D187,BJ187=$E187),60,IF(BG187=$D187,30,IF(BJ187=$E187,30,IF(AND(BG187<>$D187,BJ187<>$E187),0)))))","v":30},{"$f":"IF(COUNTIF($D$37:$E$40,BJ187),80,0)+IF(COUNTIF($D$37:$E$40,BG187),80,0)","v":80},{"$f":"IF(OR(BG187=\"\",BJ187=\"\"),0,IF(AND(BG187=$D187,BJ187=$E187,BH187=$F187,BI187=$G187),70,0))","v":0},"Frankreich",2,1,"Holland",{"$f":"IF(OR(BN187=\"\",BQ187=\"\"),0,IF(AND(BN187=$D187,BQ187=$E187),60,IF(BN187=$D187,30,IF(BQ187=$E187,30,IF(AND(BN187<>$D187,BQ187<>$E187),0)))))","v":30},{"$f":"IF(COUNTIF($D$37:$E$40,BQ187),80,0)+IF(COUNTIF($D$37:$E$40,BN187),80,0)","v":80},{"$f":"IF(OR(BN187=\"\",BQ187=\"\"),0,IF(AND(BN187=$D187,BQ187=$E187,BO187=$F187,BP187=$G187),70,0))","v":0},"Deutschland",2,1,"Holland",{"$f":"IF(OR(BU187=\"\",BX187=\"\"),0,IF(AND(BU187=$D187,BX187=$E187),60,IF(BU187=$D187,30,IF(BX187=$E187,30,IF(AND(BU187<>$D187,BX187<>$E187),0)))))","v":0},{"$f":"IF(COUNTIF($D$37:$E$40,BX187),80,0)+IF(COUNTIF($D$37:$E$40,BU187),80,0)","v":0},{"$f":"IF(OR(BU187=\"\",BX187=\"\"),0,IF(AND(BU187=$D187,BX187=$E187,BV187=$F187,BW187=$G187),70,0))","v":0},"Frankreich",2,1,"Marokko",{"$f":"IF(OR(CB187=\"\",CE187=\"\"),0,IF(AND(CB187=$D187,CE187=$E187),60,IF(CB187=$D187,30,IF(CE187=$E187,30,IF(AND(CB187<>$D187,CE187<>$E187),0)))))","v":60},{"$f":"IF(COUNTIF($D$37:$E$40,CE187),80,0)+IF(COUNTIF($D$37:$E$40,CB187),80,0)","v":160},{"$f":"IF(OR(CB187=\"\",CE187=\"\"),0,IF(AND(CB187=$D187,CE187=$E187,CC187=$F187,CD187=$G187),70,0))","v":0},"Deutschland",2,1,"Holland",{"$f":"IF(OR(CI187=\"\",CL187=\"\"),0,IF(AND(CI187=$D187,CL187=$E187),60,IF(CI187=$D187,30,IF(CL187=$E187,30,IF(AND(CI187<>$D187,CL187<>$E187),0)))))","v":0},{"$f":"IF(COUNTIF($D$37:$E$40,CL187),80,0)+IF(COUNTIF($D$37:$E$40,CI187),80,0)","v":0},{"$f":"IF(OR(CI187=\"\",CL187=\"\"),0,IF(AND(CI187=$D187,CL187=$E187,CJ187=$F187,CK187=$G187),70,0))","v":0},"Deutschland",3,1,"Holland",{"$f":"IF(OR(CP187=\"\",CS187=\"\"),0,IF(AND(CP187=$D187,CS187=$E187),60,IF(CP187=$D187,30,IF(CS187=$E187,30,IF(AND(CP187<>$D187,CS187<>$E187),0)))))","v":0},{"$f":"IF(COUNTIF($D$37:$E$40,CS187),80,0)+IF(COUNTIF($D$37:$E$40,CP187),80,0)","v":0},{"$f":"IF(OR(CP187=\"\",CS187=\"\"),0,IF(AND(CP187=$D187,CS187=$E187,CQ187=$F187,CR187=$G187),70,0))","v":0},"Frankreich",1,0,"Marokko",{"$f":"IF(OR(CW187=\"\",CZ187=\"\"),0,IF(AND(CW187=$D187,CZ187=$E187),60,IF(CW187=$D187,30,IF(CZ187=$E187,30,IF(AND(CW187<>$D187,CZ187<>$E187),0)))))","v":60},{"$f":"IF(COUNTIF($D$37:$E$40,CZ187),80,0)+IF(COUNTIF($D$37:$E$40,CW187),80,0)","v":160},{"$f":"IF(OR(CW187=\"\",CZ187=\"\"),0,IF(AND(CW187=$D187,CZ187=$E187,CX187=$F187,CY187=$G187),70,0))","v":0},"Frankreich",2,1,"Holland",{"$f":"IF(OR(DD187=\"\",DG187=\"\"),0,IF(AND(DD187=$D187,DG187=$E187),60,IF(DD187=$D187,30,IF(DG187=$E187,30,IF(AND(DD187<>$D187,DG187<>$E187),0)))))","v":30},{"$f":"IF(COUNTIF($D$37:$E$40,DG187),80,0)+IF(COUNTIF($D$37:$E$40,DD187),80,0)","v":80},{"$f":"IF(OR(DD187=\"\",DG187=\"\"),0,IF(AND(DD187=$D187,DG187=$E187,DE187=$F187,DF187=$G187),70,0))","v":0},"Frankreich",2,1,"Marokko",{"$f":"IF(OR(DK187=\"\",DN187=\"\"),0,IF(AND(DK187=$D187,DN187=$E187),60,IF(DK187=$D187,30,IF(DN187=$E187,30,IF(AND(DK187<>$D187,DN187<>$E187),0)))))","v":60},{"$f":"IF(COUNTIF($D$37:$E$40,DN187),80,0)+IF(COUNTIF($D$37:$E$40,DK187),80,0)","v":160},{"$f":"IF(OR(DK187=\"\",DN187=\"\"),0,IF(AND(DK187=$D187,DN187=$E187,DL187=$F187,DM187=$G187),70,0))","v":0},"Deutschland",2,0,"Holland",{"$f":"IF(OR(DR187=\"\",DU187=\"\"),0,IF(AND(DR187=$D187,DU187=$E187),60,IF(DR187=$D187,30,IF(DU187=$E187,30,IF(AND(DR187<>$D187,DU187<>$E187),0)))))","v":0},{"$f":"IF(COUNTIF($D$37:$E$40,DU187),80,0)+IF(COUNTIF($D$37:$E$40,DR187),80,0)","v":0},{"$f":"IF(OR(DR187=\"\",DU187=\"\"),0,IF(AND(DR187=$D187,DU187=$E187,DS187=$F187,DT187=$G187),70,0))","v":0},"Frankreich",2,1,"Holland",{"$f":"IF(OR(DY187=\"\",EB187=\"\"),0,IF(AND(DY187=$D187,EB187=$E187),60,IF(DY187=$D187,30,IF(EB187=$E187,30,IF(AND(DY187<>$D187,EB187<>$E187),0)))))","v":30},{"$f":"IF(COUNTIF($D$37:$E$40,EB187),80,0)+IF(COUNTIF($D$37:$E$40,DY187),80,0)","v":80},{"$f":"IF(OR(DY187=\"\",EB187=\"\"),0,IF(AND(DY187=$D187,EB187=$E187,DZ187=$F187,EA187=$G187),70,0))","v":0},"Frankreich",2,1,"Holland",{"$f":"IF(OR(EF187=\"\",EI187=\"\"),0,IF(AND(EF187=$D187,EI187=$E187),60,IF(EF187=$D187,30,IF(EI187=$E187,30,IF(AND(EF187<>$D187,EI187<>$E187),0)))))","v":30},{"$f":"IF(COUNTIF($D$37:$E$40,EI187),80,0)+IF(COUNTIF($D$37:$E$40,EF187),80,0)","v":80},{"$f":"IF(OR(EF187=\"\",EI187=\"\"),0,IF(AND(EF187=$D187,EI187=$E187,EG187=$F187,EH187=$G187),70,0))","v":0},"Frankreich",1,0,"Holland",{"$f":"IF(OR(EM187=\"\",EP187=\"\"),0,IF(AND(EM187=$D187,EP187=$E187),60,IF(EM187=$D187,30,IF(EP187=$E187,30,IF(AND(EM187<>$D187,EP187<>$E187),0)))))","v":30},{"$f":"IF(COUNTIF($D$37:$E$40,EP187),80,0)+IF(COUNTIF($D$37:$E$40,EM187),80,0)","v":80},{"$f":"IF(OR(EM187=\"\",EP187=\"\"),0,IF(AND(EM187=$D187,EP187=$E187,EN187=$F187,EO187=$G187),70,0))","v":0},null,{"$f":"_xlfn.TEXTJOIN(\", \",TRUE,_xlfn._xlws.FILTER(INDEX($J$154:$EM$154,1,_xlfn.SEQUENCE(1,(COLUMNS($J$154:$EM$154)-1)/7+1,1,7))&\" \"&INDEX($J$155:$EM$155,1,_xlfn.SEQUENCE(1,(COLUMNS($J$155:$EM$155)-1)/7+1,1,7)),INDEX($P187:$ES187,1,_xlfn.SEQUENCE(1,(COLUMNS($P187:$ES187)-1)/7+1,1,7))>0,\"\"))","v":""}]
["Fr. 10. Jul","21:00:00",98,"Spanien","Belgien",2,1,null,null,"Spanien",4,0,"Belgien",{"$f":"IF(OR(J188=\"\",M188=\"\"),0,IF(AND(J188=$D188,M188=$E188),60,IF(J188=$D188,30,IF(M188=$E188,30,IF(AND(J188<>$D188,M188<>$E188),0)))))","v":60},{"$f":"IF(COUNTIF($D$37:$E$40,M188),80,0)+IF(COUNTIF($D$37:$E$40,J188),80,0)","v":160},{"$f":"IF(OR(J188=\"\",M188=\"\"),0,IF(AND(J188=$D188,M188=$E188,K188=$F188,L188=$G188),70,0))","v":0},"Spanien",3,2,"Belgien",{"$f":"IF(OR(Q188=\"\",T188=\"\"),0,IF(AND(Q188=$D188,T188=$E188),60,IF(Q188=$D188,30,IF(T188=$E188,30,IF(AND(Q188<>$D188,T188<>$E188),0)))))","v":60},{"$f":"IF(COUNTIF($D$37:$E$40,T188),80,0)+IF(COUNTIF($D$37:$E$40,Q188),80,0)","v":160},{"$f":"IF(OR(Q188=\"\",T188=\"\"),0,IF(AND(Q188=$D188,T188=$E188,R188=$F188,S188=$G188),70,0))","v":0},"Spanien",3,2,"Türkei",{"$f":"IF(OR(X188=\"\",AA188=\"\"),0,IF(AND(X188=$D188,AA188=$E188),60,IF(X188=$D188,30,IF(AA188=$E188,30,IF(AND(X188<>$D188,AA188<>$E188),0)))))","v":30},{"$f":"IF(COUNTIF($D$37:$E$40,AA188),80,0)+IF(COUNTIF($D$37:$E$40,X188),80,0)","v":80},{"$f":"IF(OR(X188=\"\",AA188=\"\"),0,IF(AND(X188=$D188,AA188=$E188,Y188=$F188,Z188=$G188),70,0))","v":0},"Spanien",2,0,"Belgien",{"$f":"IF(OR(AE188=\"\",AH188=\"\"),0,IF(AND(AE188=$D188,AH188=$E188),60,IF(AE188=$D188,30,IF(AH188=$E188,30,IF(AND(AE188<>$D188,AH188<>$E188),0)))))","v":60},{"$f":"IF(COUNTIF($D$37:$E$40,AH188),80,0)+IF(COUNTIF($D$37:$E$40,AE188),80,0)","v":160},{"$f":"IF(OR(AE188=\"\",AH188=\"\"),0,IF(AND(AE188=$D188,AH188=$E188,AF188=$F188,AG188=$G188),70,0))","v":0},"Spanien",2,0,"Belgien",{"$f":"IF(OR(AL188=\"\",AO188=\"\"),0,IF(AND(AL188=$D188,AO188=$E188),60,IF(AL188=$D188,30,IF(AO188=$E188,30,IF(AND(AL188<>$D188,AO188<>$E188),0)))))","v":60},{"$f":"IF(COUNTIF($D$37:$E$40,AO188),80,0)+IF(COUNTIF($D$37:$E$40,AL188),80,0)","v":160},{"$f":"IF(OR(AL188=\"\",AO188=\"\"),0,IF(AND(AL188=$D188,AO188=$E188,AM188=$F188,AN188=$G188),70,0))","v":0},"Spanien",3,1,"Türkei",{"$f":"IF(OR(AS188=\"\",AV188=\"\"),0,IF(AND(AS188=$D188,AV188=$E188),60,IF(AS188=$D188,30,IF(AV188=$E188,30,IF(AND(AS188<>$D188,AV188<>$E188),0)))))","v":30},{"$f":"IF(COUNTIF($D$37:$E$40,AV188),80,0)+IF(COUNTIF($D$37:$E$40,AS188),80,0)","v":80},{"$f":"IF(OR(AS188=\"\",AV188=\"\"),0,IF(AND(AS188=$D188,AV188=$E188,AT188=$F188,AU188=$G188),70,0))","v":0},"Spanien",2,0,"USA",{"$f":"IF(OR(AZ188=\"\",BC188=\"\"),0,IF(AND(AZ188=$D188,BC188=$E188),60,IF(AZ188=$D188,30,IF(BC188=$E188,30,IF(AND(AZ188<>$D188,BC188<>$E188),0)))))","v":30},{"$f":"IF(COUNTIF($D$37:$E$40,BC188),80,0)+IF(COUNTIF($D$37:$E$40,AZ188),80,0)","v":80},{"$f":"IF(OR(AZ188=\"\",BC188=\"\"),0,IF(AND(AZ188=$D188,BC188=$E188,BA188=$F188,BB188=$G188),70,0))","v":0},"Spanien",3,1,"Belgien",{"$f":"IF(OR(BG188=\"\",BJ188=\"\"),0,IF(AND(BG188=$D188,BJ188=$E188),60,IF(BG188=$D188,30,IF(BJ188=$E188,30,IF(AND(BG188<>$D188,BJ188<>$E188),0)))))","v":60},{"$f":"IF(COUNTIF($D$37:$E$40,BJ188),80,0)+IF(COUNTIF($D$37:$E$40,BG188),80,0)","v":160},{"$f":"IF(OR(BG188=\"\",BJ188=\"\"),0,IF(AND(BG188=$D188,BJ188=$E188,BH188=$F188,BI188=$G188),70,0))","v":0},"Spanien",2,0,"Belgien",{"$f":"IF(OR(BN188=\"\",BQ188=\"\"),0,IF(AND(BN188=$D188,BQ188=$E188),60,IF(BN188=$D188,30,IF(BQ188=$E188,30,IF(AND(BN188<>$D188,BQ188<>$E188),0)))))","v":60},{"$f":"IF(COUNTIF($D$37:$E$40,BQ188),80,0)+IF(COUNTIF($D$37:$E$40,BN188),80,0)","v":160},{"$f":"IF(OR(BN188=\"\",BQ188=\"\"),0,IF(AND(BN188=$D188,BQ188=$E188,BO188=$F188,BP188=$G188),70,0))","v":0},"Spanien",3,1,"Belgien",{"$f":"IF(OR(BU188=\"\",BX188=\"\"),0,IF(AND(BU188=$D188,BX188=$E188),60,IF(BU188=$D188,30,IF(BX188=$E188,30,IF(AND(BU188<>$D188,BX188<>$E188),0)))))","v":60},{"$f":"IF(COUNTIF($D$37:$E$40,BX188),80,0)+IF(COUNTIF($D$37:$E$40,BU188),80,0)","v":160},{"$f":"IF(OR(BU188=\"\",BX188=\"\"),0,IF(AND(BU188=$D188,BX188=$E188,BV188=$F188,BW188=$G188),70,0))","v":0},"Spanien",3,0,"Bosnien-Herz.",{"$f":"IF(OR(CB188=\"\",CE188=\"\"),0,IF(AND(CB188=$D188,CE188=$E188),60,IF(CB188=$D188,30,IF(CE188=$E188,30,IF(AND(CB188<>$D188,CE188<>$E188),0)))))","v":30},{"$f":"IF(COUNTIF($D$37:$E$40,CE188),80,0)+IF(COUNTIF($D$37:$E$40,CB188),80,0)","v":80},{"$f":"IF(OR(CB188=\"\",CE188=\"\"),0,IF(AND(CB188=$D188,CE188=$E188,CC188=$F188,CD188=$G188),70,0))","v":0},"Spanien",3,1,"Belgien",{"$f":"IF(OR(CI188=\"\",CL188=\"\"),0,IF(AND(CI188=$D188,CL188=$E188),60,IF(CI188=$D188,30,IF(CL188=$E188,30,IF(AND(CI188<>$D188,CL188<>$E188),0)))))","v":60},{"$f":"IF(COUNTIF($D$37:$E$40,CL188),80,0)+IF(COUNTIF($D$37:$E$40,CI188),80,0)","v":160},{"$f":"IF(OR(CI188=\"\",CL188=\"\"),0,IF(AND(CI188=$D188,CL188=$E188,CJ188=$F188,CK188=$G188),70,0))","v":0},"Spanien",4,2,"USA",{"$f":"IF(OR(CP188=\"\",CS188=\"\"),0,IF(AND(CP188=$D188,CS188=$E188),60,IF(CP188=$D188,30,IF(CS188=$E188,30,IF(AND(CP188<>$D188,CS188<>$E188),0)))))","v":30},{"$f":"IF(COUNTIF($D$37:$E$40,CS188),80,0)+IF(COUNTIF($D$37:$E$40,CP188),80,0)","v":80},{"$f":"IF(OR(CP188=\"\",CS188=\"\"),0,IF(AND(CP188=$D188,CS188=$E188,CQ188=$F188,CR188=$G188),70,0))","v":0},"Spanien",2,1,"USA",{"$f":"IF(OR(CW188=\"\",CZ188=\"\"),0,IF(AND(CW188=$D188,CZ188=$E188),60,IF(CW188=$D188,30,IF(CZ188=$E188,30,IF(AND(CW188<>$D188,CZ188<>$E188),0)))))","v":30},{"$f":"IF(COUNTIF($D$37:$E$40,CZ188),80,0)+IF(COUNTIF($D$37:$E$40,CW188),80,0)","v":80},{"$f":"IF(OR(CW188=\"\",CZ188=\"\"),0,IF(AND(CW188=$D188,CZ188=$E188,CX188=$F188,CY188=$G188),70,0))","v":0},"Spanien",2,1,"Belgien",{"$f":"IF(OR(DD188=\"\",DG188=\"\"),0,IF(AND(DD188=$D188,DG188=$E188),60,IF(DD188=$D188,30,IF(DG188=$E188,30,IF(AND(DD188<>$D188,DG188<>$E188),0)))))","v":60},{"$f":"IF(COUNTIF($D$37:$E$40,DG188),80,0)+IF(COUNTIF($D$37:$E$40,DD188),80,0)","v":160},{"$f":"IF(OR(DD188=\"\",DG188=\"\"),0,IF(AND(DD188=$D188,DG188=$E188,DE188=$F188,DF188=$G188),70,0))","v":70},"Spanien",2,0,"Belgien",{"$f":"IF(OR(DK188=\"\",DN188=\"\"),0,IF(AND(DK188=$D188,DN188=$E188),60,IF(DK188=$D188,30,IF(DN188=$E188,30,IF(AND(DK188<>$D188,DN188<>$E188),0)))))","v":60},{"$f":"IF(COUNTIF($D$37:$E$40,DN188),80,0)+IF(COUNTIF($D$37:$E$40,DK188),80,0)","v":160},{"$f":"IF(OR(DK188=\"\",DN188=\"\"),0,IF(AND(DK188=$D188,DN188=$E188,DL188=$F188,DM188=$G188),70,0))","v":0},"Spanien",2,0,"Türkei",{"$f":"IF(OR(DR188=\"\",DU188=\"\"),0,IF(AND(DR188=$D188,DU188=$E188),60,IF(DR188=$D188,30,IF(DU188=$E188,30,IF(AND(DR188<>$D188,DU188<>$E188),0)))))","v":30},{"$f":"IF(COUNTIF($D$37:$E$40,DU188),80,0)+IF(COUNTIF($D$37:$E$40,DR188),80,0)","v":80},{"$f":"IF(OR(DR188=\"\",DU188=\"\"),0,IF(AND(DR188=$D188,DU188=$E188,DS188=$F188,DT188=$G188),70,0))","v":0},"Spanien",2,0,"USA",{"$f":"IF(OR(DY188=\"\",EB188=\"\"),0,IF(AND(DY188=$D188,EB188=$E188),60,IF(DY188=$D188,30,IF(EB188=$E188,30,IF(AND(DY188<>$D188,EB188<>$E188),0)))))","v":30},{"$f":"IF(COUNTIF($D$37:$E$40,EB188),80,0)+IF(COUNTIF($D$37:$E$40,DY188),80,0)","v":80},{"$f":"IF(OR(DY188=\"\",EB188=\"\"),0,IF(AND(DY188=$D188,EB188=$E188,DZ188=$F188,EA188=$G188),70,0))","v":0},"Spanien",3,0,"Belgien",{"$f":"IF(OR(EF188=\"\",EI188=\"\"),0,IF(AND(EF188=$D188,EI188=$E188),60,IF(EF188=$D188,30,IF(EI188=$E188,30,IF(AND(EF188<>$D188,EI188<>$E188),0)))))","v":60},{"$f":"IF(COUNTIF($D$37:$E$40,EI188),80,0)+IF(COUNTIF($D$37:$E$40,EF188),80,0)","v":160},{"$f":"IF(OR(EF188=\"\",EI188=\"\"),0,IF(AND(EF188=$D188,EI188=$E188,EG188=$F188,EH188=$G188),70,0))","v":0},"Spanien",1,0,"Belgien",{"$f":"IF(OR(EM188=\"\",EP188=\"\"),0,IF(AND(EM188=$D188,EP188=$E188),60,IF(EM188=$D188,30,IF(EP188=$E188,30,IF(AND(EM188<>$D188,EP188<>$E188),0)))))","v":60},{"$f":"IF(COUNTIF($D$37:$E$40,EP188),80,0)+IF(COUNTIF($D$37:$E$40,EM188),80,0)","v":160},{"$f":"IF(OR(EM188=\"\",EP188=\"\"),0,IF(AND(EM188=$D188,EP188=$E188,EN188=$F188,EO188=$G188),70,0))","v":0},null,{"$f":"_xlfn.TEXTJOIN(\", \",TRUE,_xlfn._xlws.FILTER(INDEX($J$154:$EM$154,1,_xlfn.SEQUENCE(1,(COLUMNS($J$154:$EM$154)-1)/7+1,1,7))&\" \"&INDEX($J$155:$EM$155,1,_xlfn.SEQUENCE(1,(COLUMNS($J$155:$EM$155)-1)/7+1,1,7)),INDEX($P188:$ES188,1,_xlfn.SEQUENCE(1,(COLUMNS($P188:$ES188)-1)/7+1,1,7))>0,\"\"))","v":"Aleandro Silvestri"}]
["Sa. 11. Jul","23:00:00",99,"Norwegen","England",1,2,null,null,"Brasilien",2,1,"England",30,80,0,"Brasilien",1,2,"Mexiko",0,0,0,"Brasilien",2,1,"England",30,80,0,"Brasilien",1,2,"England",30,80,0,"Brasilien",2,0,"England",30,80,0,"Brasilien",3,2,"England",30,80,0,"Brasilien",1,2,"England",30,80,0,"Norwegen",1,3,"England",60,160,0,"Brasilien",2,1,"England",30,80,0,"Brasilien",2,1,"England",30,80,0,"Brasilien",1,2,"England",30,80,0,"Brasilien",1,2,"England",30,80,0,"Brasilien",2,3,"Kroatien",0,0,0,"Brasilien",0,1,"England",30,80,0,"Brasilien",2,1,"England",30,80,0,"Brasilien",1,2,"England",30,80,0,"Brasilien",5,4,"England",30,80,0,"Brasilien",2,1,"England",30,80,0,"Brasilien",5,4,"England",30,80,0,"Brasilien",1,0,"England",30,80,0,null,{"$f":"_xlfn.TEXTJOIN(\", \",TRUE,_xlfn._xlws.FILTER(INDEX($J$154:$EM$154,1,_xlfn.SEQUENCE(1,(COLUMNS($J$154:$EM$154)-1)/7+1,1,7))&\" \"&INDEX($J$155:$EM$155,1,_xlfn.SEQUENCE(1,(COLUMNS($J$155:$EM$155)-1)/7+1,1,7)),INDEX($P189:$ES189,1,_xlfn.SEQUENCE(1,(COLUMNS($P189:$ES189)-1)/7+1,1,7))>0,\"\"))","v":""}]
["So. 12. Jul","03:00:00",100,"Argentinien","Schweiz",3,1,null,null,"Argentinien",2,0,"Portugal",30,80,0,"Argentinien",2,0,"Portugal",30,80,0,"Argentinien",1,0,"Portugal",30,80,0,"Argentinien",1,0,"Portugal",30,80,0,"Argentinien",2,1,"Portugal",30,80,0,"Belgien",2,4,"Portugal",0,80,0,"Argentinien",0,1,"Portugal",30,80,0,"Argentinien",3,1,"Schweiz",60,160,70,"Argentinien",2,1,"Portugal",30,80,0,"Argentinien",2,1,"Schweiz",60,160,0,"Argentinien",1,2,"Portugal",30,80,0,"Argentinien",2,1,"Portugal",30,80,0,"Argentinien",3,2,"Portugal",30,80,0,"Argentinien",0,1,"Portugal",30,80,0,"Argentinien",1,2,"Portugal",30,80,0,"Argentinien",2,1,"Portugal",30,80,0,"Argentinien",1,3,"Portugal",30,80,0,"Argentinien",4,3,"Portugal",30,80,0,"Argentinien",0,1,"Portugal",30,80,0,"Argentinien",1,0,"Portugal",30,80,0,null,{"$f":"_xlfn.TEXTJOIN(\", \",TRUE,_xlfn._xlws.FILTER(INDEX($J$154:$EM$154,1,_xlfn.SEQUENCE(1,(COLUMNS($J$154:$EM$154)-1)/7+1,1,7))&\" \"&INDEX($J$155:$EM$155,1,_xlfn.SEQUENCE(1,(COLUMNS($J$155:$EM$155)-1)/7+1,1,7)),INDEX($P190:$ES190,1,_xlfn.SEQUENCE(1,(COLUMNS($P190:$ES190)-1)/7+1,1,7))>0,\"\"))","v":"Sabine Rüegg"}]
["Halbfinale",null,null,null,null,null,null,null,null,null,null,null,null,null,null,null,null,null,null,null,null,null,null,null,null,null,null,null,null,null,null,null,null,null,null,null,null,null,null,null,null,null,null,null,null,null,null,null,null,null,null,null,null,null,null,null,null,null,null,null,null,null,null,null,null,null,null,null,null,null,null,null,null,null,null,null,null,null,null,null,null,null,null,null,null,null,null,null,null,null,null,null,null,null,null,null,null,null,null,null,null,null,null,null,null,null,null,null,null,null,null,null,null,null,null,null,null,null,null,null,null,null,null,null,null,null,null,null,null,null,null,null,null,null,null,null,null,null,null,null,null,null,null,null,null,null,null,null,null,null,{"$f":"_xlfn.TEXTJOIN(\", \",TRUE,_xlfn._xlws.FILTER(INDEX($J$154:$EM$154,1,_xlfn.SEQUENCE(1,(COLUMNS($J$154:$EM$154)-1)/7+1,1,7))&\" \"&INDEX($J$155:$EM$155,1,_xlfn.SEQUENCE(1,(COLUMNS($J$155:$EM$155)-1)/7+1,1,7)),INDEX($P191:$ES191,1,_xlfn.SEQUENCE(1,(COLUMNS($P191:$ES191)-1)/7+1,1,7))>0,\"\"))","v":""}]
[{"$f":"A142","v":"Di. 14. Jul"},"21:00:00",101,"Frankreich","Spanien",{"$f":"IF(F142=\"\",\"\",F142)","v":0},{"$f":"IF(G142=\"\",\"\",G142)","v":2},null,null,"Frankreich",3,2,"Spanien",{"$f":"IF(OR(J192=\"\",M192=\"\"),0,IF(AND(J192=$D192,M192=$E192),80,IF(J192=$D192,40,IF(M192=$E192,40,IF(AND(J192<>$D192,M192<>$E192),0)))))","v":80},{"$f":"IF(COUNTIF($D$42:$E$43,M192),100,0)+IF(COUNTIF($D$42:$E$43,J192),100,0)","v":200},{"$f":"IF(OR(J192=\"\",M192=\"\"),0,IF(AND(J192=$D192,M192=$E192,K192=$F192,L192=$G192),100,0))","v":0},"Frankreich",1,2,"Spanien",{"$f":"IF(OR(Q192=\"\",T192=\"\"),0,IF(AND(Q192=$D192,T192=$E192),80,IF(Q192=$D192,40,IF(T192=$E192,40,IF(AND(Q192<>$D192,T192<>$E192),0)))))","v":80},{"$f":"IF(COUNTIF($D$42:$E$43,T192),100,0)+IF(COUNTIF($D$42:$E$43,Q192),100,0)","v":200},{"$f":"IF(OR(Q192=\"\",T192=\"\"),0,IF(AND(Q192=$D192,T192=$E192,R192=$F192,S192=$G192),100,0))","v":0},"Frankreich",5,4,"Spanien",{"$f":"IF(OR(X192=\"\",AA192=\"\"),0,IF(AND(X192=$D192,AA192=$E192),80,IF(X192=$D192,40,IF(AA192=$E192,40,IF(AND(X192<>$D192,AA192<>$E192),0)))))","v":80},{"$f":"IF(COUNTIF($D$42:$E$43,AA192),100,0)+IF(COUNTIF($D$42:$E$43,X192),100,0)","v":200},{"$f":"IF(OR(X192=\"\",AA192=\"\"),0,IF(AND(X192=$D192,AA192=$E192,Y192=$F192,Z192=$G192),100,0))","v":0},"Frankreich",0,1,"Spanien",{"$f":"IF(OR(AE192=\"\",AH192=\"\"),0,IF(AND(AE192=$D192,AH192=$E192),80,IF(AE192=$D192,40,IF(AH192=$E192,40,IF(AND(AE192<>$D192,AH192<>$E192),0)))))","v":80},{"$f":"IF(COUNTIF($D$42:$E$43,AH192),100,0)+IF(COUNTIF($D$42:$E$43,AE192),100,0)","v":200},{"$f":"IF(OR(AE192=\"\",AH192=\"\"),0,IF(AND(AE192=$D192,AH192=$E192,AF192=$F192,AG192=$G192),100,0))","v":0},"Frankreich",1,2,"Spanien",{"$f":"IF(OR(AL192=\"\",AO192=\"\"),0,IF(AND(AL192=$D192,AO192=$E192),80,IF(AL192=$D192,40,IF(AO192=$E192,40,IF(AND(AL192<>$D192,AO192<>$E192),0)))))","v":80},{"$f":"IF(COUNTIF($D$42:$E$43,AO192),100,0)+IF(COUNTIF($D$42:$E$43,AL192),100,0)","v":200},{"$f":"IF(OR(AL192=\"\",AO192=\"\"),0,IF(AND(AL192=$D192,AO192=$E192,AM192=$F192,AN192=$G192),100,0))","v":0},"Frankreich",3,4,"Spanien",{"$f":"IF(OR(AS192=\"\",AV192=\"\"),0,IF(AND(AS192=$D192,AV192=$E192),80,IF(AS192=$D192,40,IF(AV192=$E192,40,IF(AND(AS192<>$D192,AV192<>$E192),0)))))","v":80},{"$f":"IF(COUNTIF($D$42:$E$43,AV192),100,0)+IF(COUNTIF($D$42:$E$43,AS192),100,0)","v":200},{"$f":"IF(OR(AS192=\"\",AV192=\"\"),0,IF(AND(AS192=$D192,AV192=$E192,AT192=$F192,AU192=$G192),100,0))","v":0},"Frankreich",0,1,"Spanien",{"$f":"IF(OR(AZ192=\"\",BC192=\"\"),0,IF(AND(AZ192=$D192,BC192=$E192),80,IF(AZ192=$D192,40,IF(BC192=$E192,40,IF(AND(AZ192<>$D192,BC192<>$E192),0)))))","v":80},{"$f":"IF(COUNTIF($D$42:$E$43,BC192),100,0)+IF(COUNTIF($D$42:$E$43,AZ192),100,0)","v":200},{"$f":"IF(OR(AZ192=\"\",BC192=\"\"),0,IF(AND(AZ192=$D192,BC192=$E192,BA192=$F192,BB192=$G192),100,0))","v":0},"Holland",1,3,"Spanien",{"$f":"IF(OR(BG192=\"\",BJ192=\"\"),0,IF(AND(BG192=$D192,BJ192=$E192),80,IF(BG192=$D192,40,IF(BJ192=$E192,40,IF(AND(BG192<>$D192,BJ192<>$E192),0)))))","v":40},{"$f":"IF(COUNTIF($D$42:$E$43,BJ192),100,0)+IF(COUNTIF($D$42:$E$43,BG192),100,0)","v":100},{"$f":"IF(OR(BG192=\"\",BJ192=\"\"),0,IF(AND(BG192=$D192,BJ192=$E192,BH192=$F192,BI192=$G192),100,0))","v":0},"Frankreich",1,2,"Spanien",{"$f":"IF(OR(BN192=\"\",BQ192=\"\"),0,IF(AND(BN192=$D192,BQ192=$E192),80,IF(BN192=$D192,40,IF(BQ192=$E192,40,IF(AND(BN192<>$D192,BQ192<>$E192),0)))))","v":80},{"$f":"IF(COUNTIF($D$42:$E$43,BQ192),100,0)+IF(COUNTIF($D$42:$E$43,BN192),100,0)","v":200},{"$f":"IF(OR(BN192=\"\",BQ192=\"\"),0,IF(AND(BN192=$D192,BQ192=$E192,BO192=$F192,BP192=$G192),100,0))","v":0},"Deutschland",2,4,"Spanien",{"$f":"IF(OR(BU192=\"\",BX192=\"\"),0,IF(AND(BU192=$D192,BX192=$E192),80,IF(BU192=$D192,40,IF(BX192=$E192,40,IF(AND(BU192<>$D192,BX192<>$E192),0)))))","v":40},{"$f":"IF(COUNTIF($D$42:$E$43,BX192),100,0)+IF(COUNTIF($D$42:$E$43,BU192),100,0)","v":100},{"$f":"IF(OR(BU192=\"\",BX192=\"\"),0,IF(AND(BU192=$D192,BX192=$E192,BV192=$F192,BW192=$G192),100,0))","v":0},"Frankreich",1,2,"Spanien",{"$f":"IF(OR(CB192=\"\",CE192=\"\"),0,IF(AND(CB192=$D192,CE192=$E192),80,IF(CB192=$D192,40,IF(CE192=$E192,40,IF(AND(CB192<>$D192,CE192<>$E192),0)))))","v":80},{"$f":"IF(COUNTIF($D$42:$E$43,CE192),100,0)+IF(COUNTIF($D$42:$E$43,CB192),100,0)","v":200},{"$f":"IF(OR(CB192=\"\",CE192=\"\"),0,IF(AND(CB192=$D192,CE192=$E192,CC192=$F192,CD192=$G192),100,0))","v":0},"Deutschland",2,1,"Spanien",{"$f":"IF(OR(CI192=\"\",CL192=\"\"),0,IF(AND(CI192=$D192,CL192=$E192),80,IF(CI192=$D192,40,IF(CL192=$E192,40,IF(AND(CI192<>$D192,CL192<>$E192),0)))))","v":40},{"$f":"IF(COUNTIF($D$42:$E$43,CL192),100,0)+IF(COUNTIF($D$42:$E$43,CI192),100,0)","v":100},{"$f":"IF(OR(CI192=\"\",CL192=\"\"),0,IF(AND(CI192=$D192,CL192=$E192,CJ192=$F192,CK192=$G192),100,0))","v":0},"Deutschland",2,1,"Spanien",{"$f":"IF(OR(CP192=\"\",CS192=\"\"),0,IF(AND(CP192=$D192,CS192=$E192),80,IF(CP192=$D192,40,IF(CS192=$E192,40,IF(AND(CP192<>$D192,CS192<>$E192),0)))))","v":40},{"$f":"IF(COUNTIF($D$42:$E$43,CS192),100,0)+IF(COUNTIF($D$42:$E$43,CP192),100,0)","v":100},{"$f":"IF(OR(CP192=\"\",CS192=\"\"),0,IF(AND(CP192=$D192,CS192=$E192,CQ192=$F192,CR192=$G192),100,0))","v":0},"Frankreich",1,0,"Spanien",{"$f":"IF(OR(CW192=\"\",CZ192=\"\"),0,IF(AND(CW192=$D192,CZ192=$E192),80,IF(CW192=$D192,40,IF(CZ192=$E192,40,IF(AND(CW192<>$D192,CZ192<>$E192),0)))))","v":80},{"$f":"IF(COUNTIF($D$42:$E$43,CZ192),100,0)+IF(COUNTIF($D$42:$E$43,CW192),100,0)","v":200},{"$f":"IF(OR(CW192=\"\",CZ192=\"\"),0,IF(AND(CW192=$D192,CZ192=$E192,CX192=$F192,CY192=$G192),100,0))","v":0},"Frankreich",1,2,"Spanien",{"$f":"IF(OR(DD192=\"\",DG192=\"\"),0,IF(AND(DD192=$D192,DG192=$E192),80,IF(DD192=$D192,40,IF(DG192=$E192,40,IF(AND(DD192<>$D192,DG192<>$E192),0)))))","v":80},{"$f":"IF(COUNTIF($D$42:$E$43,DG192),100,0)+IF(COUNTIF($D$42:$E$43,DD192),100,0)","v":200},{"$f":"IF(OR(DD192=\"\",DG192=\"\"),0,IF(AND(DD192=$D192,DG192=$E192,DE192=$F192,DF192=$G192),100,0))","v":0},"Frankreich",2,1,"Spanien",{"$f":"IF(OR(DK192=\"\",DN192=\"\"),0,IF(AND(DK192=$D192,DN192=$E192),80,IF(DK192=$D192,40,IF(DN192=$E192,40,IF(AND(DK192<>$D192,DN192<>$E192),0)))))","v":80},{"$f":"IF(COUNTIF($D$42:$E$43,DN192),100,0)+IF(COUNTIF($D$42:$E$43,DK192),100,0)","v":200},{"$f":"IF(OR(DK192=\"\",DN192=\"\"),0,IF(AND(DK192=$D192,DN192=$E192,DL192=$F192,DM192=$G192),100,0))","v":0},"Deutschland",1,2,"Spanien",{"$f":"IF(OR(DR192=\"\",DU192=\"\"),0,IF(AND(DR192=$D192,DU192=$E192),80,IF(DR192=$D192,40,IF(DU192=$E192,40,IF(AND(DR192<>$D192,DU192<>$E192),0)))))","v":40},{"$f":"IF(COUNTIF($D$42:$E$43,DU192),100,0)+IF(COUNTIF($D$42:$E$43,DR192),100,0)","v":100},{"$f":"IF(OR(DR192=\"\",DU192=\"\"),0,IF(AND(DR192=$D192,DU192=$E192,DS192=$F192,DT192=$G192),100,0))","v":0},"Frankreich",2,1,"Spanien",{"$f":"IF(OR(DY192=\"\",EB192=\"\"),0,IF(AND(DY192=$D192,EB192=$E192),80,IF(DY192=$D192,40,IF(EB192=$E192,40,IF(AND(DY192<>$D192,EB192<>$E192),0)))))","v":80},{"$f":"IF(COUNTIF($D$42:$E$43,EB192),100,0)+IF(COUNTIF($D$42:$E$43,DY192),100,0)","v":200},{"$f":"IF(OR(DY192=\"\",EB192=\"\"),0,IF(AND(DY192=$D192,EB192=$E192,DZ192=$F192,EA192=$G192),100,0))","v":0},"Frankreich",3,2,"Spanien",{"$f":"IF(OR(EF192=\"\",EI192=\"\"),0,IF(AND(EF192=$D192,EI192=$E192),80,IF(EF192=$D192,40,IF(EI192=$E192,40,IF(AND(EF192<>$D192,EI192<>$E192),0)))))","v":80},{"$f":"IF(COUNTIF($D$42:$E$43,EI192),100,0)+IF(COUNTIF($D$42:$E$43,EF192),100,0)","v":200},{"$f":"IF(OR(EF192=\"\",EI192=\"\"),0,IF(AND(EF192=$D192,EI192=$E192,EG192=$F192,EH192=$G192),100,0))","v":0},"Frankreich",1,2,"Spanien",{"$f":"IF(OR(EM192=\"\",EP192=\"\"),0,IF(AND(EM192=$D192,EP192=$E192),80,IF(EM192=$D192,40,IF(EP192=$E192,40,IF(AND(EM192<>$D192,EP192<>$E192),0)))))","v":80},{"$f":"IF(COUNTIF($D$42:$E$43,EP192),100,0)+IF(COUNTIF($D$42:$E$43,EM192),100,0)","v":200},{"$f":"IF(OR(EM192=\"\",EP192=\"\"),0,IF(AND(EM192=$D192,EP192=$E192,EN192=$F192,EO192=$G192),100,0))","v":0},null,{"$f":"_xlfn.TEXTJOIN(\", \",TRUE,_xlfn._xlws.FILTER(INDEX($J$154:$EM$154,1,_xlfn.SEQUENCE(1,(COLUMNS($J$154:$EM$154)-1)/7+1,1,7))&\" \"&INDEX($J$155:$EM$155,1,_xlfn.SEQUENCE(1,(COLUMNS($J$155:$EM$155)-1)/7+1,1,7)),INDEX($P192:$ES192,1,_xlfn.SEQUENCE(1,(COLUMNS($P192:$ES192)-1)/7+1,1,7))>0,\"\"))","v":""}]
["Mi. 15. Jul","21:00:00",102,"England","Argentinien",{"$f":"IF(F143=\"\",\"\",F143)","v":1},{"$f":"IF(G143=\"\",\"\",G143)","v":2},null,null,"Brasilien",2,1,"Argentinien",{"$f":"IF(OR(J193=\"\",M193=\"\"),0,IF(AND(J193=$D193,M193=$E193),80,IF(J193=$D193,40,IF(M193=$E193,40,IF(AND(J193<>$D193,M193<>$E193),0)))))","v":40},{"$f":"IF(COUNTIF($D$42:$E$43,M193),100,0)+IF(COUNTIF($D$42:$E$43,J193),100,0)","v":100},{"$f":"IF(OR(J193=\"\",M193=\"\"),0,IF(AND(J193=$D193,M193=$E193,K193=$F193,L193=$G193),100,0))","v":0},"Mexiko",1,3,"Argentinien",{"$f":"IF(OR(Q193=\"\",T193=\"\"),0,IF(AND(Q193=$D193,T193=$E193),80,IF(Q193=$D193,40,IF(T193=$E193,40,IF(AND(Q193<>$D193,T193<>$E193),0)))))","v":40},{"$f":"IF(COUNTIF($D$42:$E$43,T193),100,0)+IF(COUNTIF($D$42:$E$43,Q193),100,0)","v":100},{"$f":"IF(OR(Q193=\"\",T193=\"\"),0,IF(AND(Q193=$D193,T193=$E193,R193=$F193,S193=$G193),100,0))","v":0},"Brasilien",2,1,"Argentinien",{"$f":"IF(OR(X193=\"\",AA193=\"\"),0,IF(AND(X193=$D193,AA193=$E193),80,IF(X193=$D193,40,IF(AA193=$E193,40,IF(AND(X193<>$D193,AA193<>$E193),0)))))","v":40},{"$f":"IF(COUNTIF($D$42:$E$43,AA193),100,0)+IF(COUNTIF($D$42:$E$43,X193),100,0)","v":100},{"$f":"IF(OR(X193=\"\",AA193=\"\"),0,IF(AND(X193=$D193,AA193=$E193,Y193=$F193,Z193=$G193),100,0))","v":0},"England",1,2,"Argentinien",{"$f":"IF(OR(AE193=\"\",AH193=\"\"),0,IF(AND(AE193=$D193,AH193=$E193),80,IF(AE193=$D193,40,IF(AH193=$E193,40,IF(AND(AE193<>$D193,AH193<>$E193),0)))))","v":80},{"$f":"IF(COUNTIF($D$42:$E$43,AH193),100,0)+IF(COUNTIF($D$42:$E$43,AE193),100,0)","v":200},{"$f":"IF(OR(AE193=\"\",AH193=\"\"),0,IF(AND(AE193=$D193,AH193=$E193,AF193=$F193,AG193=$G193),100,0))","v":100},"Brasilien",2,1,"Argentinien",{"$f":"IF(OR(AL193=\"\",AO193=\"\"),0,IF(AND(AL193=$D193,AO193=$E193),80,IF(AL193=$D193,40,IF(AO193=$E193,40,IF(AND(AL193<>$D193,AO193<>$E193),0)))))","v":40},{"$f":"IF(COUNTIF($D$42:$E$43,AO193),100,0)+IF(COUNTIF($D$42:$E$43,AL193),100,0)","v":100},{"$f":"IF(OR(AL193=\"\",AO193=\"\"),0,IF(AND(AL193=$D193,AO193=$E193,AM193=$F193,AN193=$G193),100,0))","v":0},"Brasilien",3,4,"Portugal",{"$f":"IF(OR(AS193=\"\",AV193=\"\"),0,IF(AND(AS193=$D193,AV193=$E193),80,IF(AS193=$D193,40,IF(AV193=$E193,40,IF(AND(AS193<>$D193,AV193<>$E193),0)))))","v":0},{"$f":"IF(COUNTIF($D$42:$E$43,AV193),100,0)+IF(COUNTIF($D$42:$E$43,AS193),100,0)","v":0},{"$f":"IF(OR(AS193=\"\",AV193=\"\"),0,IF(AND(AS193=$D193,AV193=$E193,AT193=$F193,AU193=$G193),100,0))","v":0},"England",1,0,"Portugal",{"$f":"IF(OR(AZ193=\"\",BC193=\"\"),0,IF(AND(AZ193=$D193,BC193=$E193),80,IF(AZ193=$D193,40,IF(BC193=$E193,40,IF(AND(AZ193<>$D193,BC193<>$E193),0)))))","v":40},{"$f":"IF(COUNTIF($D$42:$E$43,BC193),100,0)+IF(COUNTIF($D$42:$E$43,AZ193),100,0)","v":100},{"$f":"IF(OR(AZ193=\"\",BC193=\"\"),0,IF(AND(AZ193=$D193,BC193=$E193,BA193=$F193,BB193=$G193),100,0))","v":0},"England",3,2,"Argentinien",{"$f":"IF(OR(BG193=\"\",BJ193=\"\"),0,IF(AND(BG193=$D193,BJ193=$E193),80,IF(BG193=$D193,40,IF(BJ193=$E193,40,IF(AND(BG193<>$D193,BJ193<>$E193),0)))))","v":80},{"$f":"IF(COUNTIF($D$42:$E$43,BJ193),100,0)+IF(COUNTIF($D$42:$E$43,BG193),100,0)","v":200},{"$f":"IF(OR(BG193=\"\",BJ193=\"\"),0,IF(AND(BG193=$D193,BJ193=$E193,BH193=$F193,BI193=$G193),100,0))","v":0},"Brasilien",1,2,"Argentinien",{"$f":"IF(OR(BN193=\"\",BQ193=\"\"),0,IF(AND(BN193=$D193,BQ193=$E193),80,IF(BN193=$D193,40,IF(BQ193=$E193,40,IF(AND(BN193<>$D193,BQ193<>$E193),0)))))","v":40},{"$f":"IF(COUNTIF($D$42:$E$43,BQ193),100,0)+IF(COUNTIF($D$42:$E$43,BN193),100,0)","v":100},{"$f":"IF(OR(BN193=\"\",BQ193=\"\"),0,IF(AND(BN193=$D193,BQ193=$E193,BO193=$F193,BP193=$G193),100,0))","v":0},"Brasilien",3,1,"Argentinien",{"$f":"IF(OR(BU193=\"\",BX193=\"\"),0,IF(AND(BU193=$D193,BX193=$E193),80,IF(BU193=$D193,40,IF(BX193=$E193,40,IF(AND(BU193<>$D193,BX193<>$E193),0)))))","v":40},{"$f":"IF(COUNTIF($D$42:$E$43,BX193),100,0)+IF(COUNTIF($D$42:$E$43,BU193),100,0)","v":100},{"$f":"IF(OR(BU193=\"\",BX193=\"\"),0,IF(AND(BU193=$D193,BX193=$E193,BV193=$F193,BW193=$G193),100,0))","v":0},"England",1,0,"Portugal",{"$f":"IF(OR(CB193=\"\",CE193=\"\"),0,IF(AND(CB193=$D193,CE193=$E193),80,IF(CB193=$D193,40,IF(CE193=$E193,40,IF(AND(CB193<>$D193,CE193<>$E193),0)))))","v":40},{"$f":"IF(COUNTIF($D$42:$E$43,CE193),100,0)+IF(COUNTIF($D$42:$E$43,CB193),100,0)","v":100},{"$f":"IF(OR(CB193=\"\",CE193=\"\"),0,IF(AND(CB193=$D193,CE193=$E193,CC193=$F193,CD193=$G193),100,0))","v":0},"England",2,1,"Argentinien",{"$f":"IF(OR(CI193=\"\",CL193=\"\"),0,IF(AND(CI193=$D193,CL193=$E193),80,IF(CI193=$D193,40,IF(CL193=$E193,40,IF(AND(CI193<>$D193,CL193<>$E193),0)))))","v":80},{"$f":"IF(COUNTIF($D$42:$E$43,CL193),100,0)+IF(COUNTIF($D$42:$E$43,CI193),100,0)","v":200},{"$f":"IF(OR(CI193=\"\",CL193=\"\"),0,IF(AND(CI193=$D193,CL193=$E193,CJ193=$F193,CK193=$G193),100,0))","v":0},"Kroatien",0,1,"Argentinien",{"$f":"IF(OR(CP193=\"\",CS193=\"\"),0,IF(AND(CP193=$D193,CS193=$E193),80,IF(CP193=$D193,40,IF(CS193=$E193,40,IF(AND(CP193<>$D193,CS193<>$E193),0)))))","v":40},{"$f":"IF(COUNTIF($D$42:$E$43,CS193),100,0)+IF(COUNTIF($D$42:$E$43,CP193),100,0)","v":100},{"$f":"IF(OR(CP193=\"\",CS193=\"\"),0,IF(AND(CP193=$D193,CS193=$E193,CQ193=$F193,CR193=$G193),100,0))","v":0},"England",0,2,"Portugal",{"$f":"IF(OR(CW193=\"\",CZ193=\"\"),0,IF(AND(CW193=$D193,CZ193=$E193),80,IF(CW193=$D193,40,IF(CZ193=$E193,40,IF(AND(CW193<>$D193,CZ193<>$E193),0)))))","v":40},{"$f":"IF(COUNTIF($D$42:$E$43,CZ193),100,0)+IF(COUNTIF($D$42:$E$43,CW193),100,0)","v":100},{"$f":"IF(OR(CW193=\"\",CZ193=\"\"),0,IF(AND(CW193=$D193,CZ193=$E193,CX193=$F193,CY193=$G193),100,0))","v":0},"Brasilien",2,1,"Portugal",{"$f":"IF(OR(DD193=\"\",DG193=\"\"),0,IF(AND(DD193=$D193,DG193=$E193),80,IF(DD193=$D193,40,IF(DG193=$E193,40,IF(AND(DD193<>$D193,DG193<>$E193),0)))))","v":0},{"$f":"IF(COUNTIF($D$42:$E$43,DG193),100,0)+IF(COUNTIF($D$42:$E$43,DD193),100,0)","v":0},{"$f":"IF(OR(DD193=\"\",DG193=\"\"),0,IF(AND(DD193=$D193,DG193=$E193,DE193=$F193,DF193=$G193),100,0))","v":0},"England",1,0,"Argentinien",{"$f":"IF(OR(DK193=\"\",DN193=\"\"),0,IF(AND(DK193=$D193,DN193=$E193),80,IF(DK193=$D193,40,IF(DN193=$E193,40,IF(AND(DK193<>$D193,DN193<>$E193),0)))))","v":80},{"$f":"IF(COUNTIF($D$42:$E$43,DN193),100,0)+IF(COUNTIF($D$42:$E$43,DK193),100,0)","v":200},{"$f":"IF(OR(DK193=\"\",DN193=\"\"),0,IF(AND(DK193=$D193,DN193=$E193,DL193=$F193,DM193=$G193),100,0))","v":0},"Brasilien",1,2,"Portugal",{"$f":"IF(OR(DR193=\"\",DU193=\"\"),0,IF(AND(DR193=$D193,DU193=$E193),80,IF(DR193=$D193,40,IF(DU193=$E193,40,IF(AND(DR193<>$D193,DU193<>$E193),0)))))","v":0},{"$f":"IF(COUNTIF($D$42:$E$43,DU193),100,0)+IF(COUNTIF($D$42:$E$43,DR193),100,0)","v":0},{"$f":"IF(OR(DR193=\"\",DU193=\"\"),0,IF(AND(DR193=$D193,DU193=$E193,DS193=$F193,DT193=$G193),100,0))","v":0},"Brasilien",4,3,"Argentinien",{"$f":"IF(OR(DY193=\"\",EB193=\"\"),0,IF(AND(DY193=$D193,EB193=$E193),80,IF(DY193=$D193,40,IF(EB193=$E193,40,IF(AND(DY193<>$D193,EB193<>$E193),0)))))","v":40},{"$f":"IF(COUNTIF($D$42:$E$43,EB193),100,0)+IF(COUNTIF($D$42:$E$43,DY193),100,0)","v":100},{"$f":"IF(OR(DY193=\"\",EB193=\"\"),0,IF(AND(DY193=$D193,EB193=$E193,DZ193=$F193,EA193=$G193),100,0))","v":0},"Brasilien",1,0,"Portugal",{"$f":"IF(OR(EF193=\"\",EI193=\"\"),0,IF(AND(EF193=$D193,EI193=$E193),80,IF(EF193=$D193,40,IF(EI193=$E193,40,IF(AND(EF193<>$D193,EI193<>$E193),0)))))","v":0},{"$f":"IF(COUNTIF($D$42:$E$43,EI193),100,0)+IF(COUNTIF($D$42:$E$43,EF193),100,0)","v":0},{"$f":"IF(OR(EF193=\"\",EI193=\"\"),0,IF(AND(EF193=$D193,EI193=$E193,EG193=$F193,EH193=$G193),100,0))","v":0},"Brasilien",0,1,"Argentinien",{"$f":"IF(OR(EM193=\"\",EP193=\"\"),0,IF(AND(EM193=$D193,EP193=$E193),80,IF(EM193=$D193,40,IF(EP193=$E193,40,IF(AND(EM193<>$D193,EP193<>$E193),0)))))","v":40},{"$f":"IF(COUNTIF($D$42:$E$43,EP193),100,0)+IF(COUNTIF($D$42:$E$43,EM193),100,0)","v":100},{"$f":"IF(OR(EM193=\"\",EP193=\"\"),0,IF(AND(EM193=$D193,EP193=$E193,EN193=$F193,EO193=$G193),100,0))","v":0},null,{"$f":"_xlfn.TEXTJOIN(\", \",TRUE,_xlfn._xlws.FILTER(INDEX($J$154:$EM$154,1,_xlfn.SEQUENCE(1,(COLUMNS($J$154:$EM$154)-1)/7+1,1,7))&\" \"&INDEX($J$155:$EM$155,1,_xlfn.SEQUENCE(1,(COLUMNS($J$155:$EM$155)-1)/7+1,1,7)),INDEX($P193:$ES193,1,_xlfn.SEQUENCE(1,(COLUMNS($P193:$ES193)-1)/7+1,1,7))>0,\"\"))","v":"Martin Rohner"}]
["Spiel um den 3. Platz",null,null,null,null,null,null,null,null,null,null,null,null,null,null,null,null,null,null,null,null,null,null,null,null,null,null,null,null,null,null,null,null,null,null,null,null,null,null,null,null,null,null,null,null,null,null,null,null,null,null,null,null,null,null,null,null,null,null,null,null,null,null,null,null,null,null,null,null,null,null,null,null,null,null,null,null,null,null,null,null,null,null,null,null,null,null,null,null,null,null,null,null,null,null,null,null,null,null,null,null,null,null,null,null,null,null,null,null,null,null,null,null,null,null,null,null,null,null,null,null,null,null,null,null,null,null,null,null,null,null,null,null,null,null,null,null,null,null,null,null,null,null,null,null,null,null,null,null,null,{"$f":"_xlfn.TEXTJOIN(\", \",TRUE,_xlfn._xlws.FILTER(INDEX($J$154:$EM$154,1,_xlfn.SEQUENCE(1,(COLUMNS($J$154:$EM$154)-1)/7+1,1,7))&\" \"&INDEX($J$155:$EM$155,1,_xlfn.SEQUENCE(1,(COLUMNS($J$155:$EM$155)-1)/7+1,1,7)),INDEX($P194:$ES194,1,_xlfn.SEQUENCE(1,(COLUMNS($P194:$ES194)-1)/7+1,1,7))>0,\"\"))","v":""}]
[{"$f":"A145","v":"Sa. 18. Jul"},{"$f":"B145","v":"23:00:00"},{"$f":"C145","v":103},{"$f":"D145","v":"Frankreich"},{"$f":"E145","v":"England"},{"$f":"IF(F145=\"\",\"\",F145)","v":""},{"$f":"IF(G145=\"\",\"\",G145)","v":""},null,null,"Spanien",3,1,"Argentinien",{"$f":"IF(OR(J195=\"\",M195=\"\"),0,IF(AND(J195=$D195,M195=$E195),100,IF(J195=$D195,50,IF(M195=$E195,50,IF(AND(J195<>$D195,M195<>$E195),0)))))","v":0},{"$f":"IF(COUNTIF($D$45:$E$45,M195),100,0)+IF(COUNTIF($D$45:$E$45,J195),100,0)","v":0},{"$f":"IF(OR(J195=\"\",M195=\"\"),0,IF(AND(J195=$D195,M195=$E195,K195=$F195,L195=$G195),150,0))","v":0},"Frankreich",2,0,"Mexiko",{"$f":"IF(OR(Q195=\"\",T195=\"\"),0,IF(AND(Q195=$D195,T195=$E195),100,IF(Q195=$D195,50,IF(T195=$E195,50,IF(AND(Q195<>$D195,T195<>$E195),0)))))","v":50},{"$f":"IF(COUNTIF($D$45:$E$45,T195),100,0)+IF(COUNTIF($D$45:$E$45,Q195),100,0)","v":100},{"$f":"IF(OR(Q195=\"\",T195=\"\"),0,IF(AND(Q195=$D195,T195=$E195,R195=$F195,S195=$G195),150,0))","v":0},"Spanien",1,2,"Argentinien",{"$f":"IF(OR(X195=\"\",AA195=\"\"),0,IF(AND(X195=$D195,AA195=$E195),100,IF(X195=$D195,50,IF(AA195=$E195,50,IF(AND(X195<>$D195,AA195<>$E195),0)))))","v":0},{"$f":"IF(COUNTIF($D$45:$E$45,AA195),100,0)+IF(COUNTIF($D$45:$E$45,X195),100,0)","v":0},{"$f":"IF(OR(X195=\"\",AA195=\"\"),0,IF(AND(X195=$D195,AA195=$E195,Y195=$F195,Z195=$G195),150,0))","v":0},"Frankreich",3,1,"England",{"$f":"IF(OR(AE195=\"\",AH195=\"\"),0,IF(AND(AE195=$D195,AH195=$E195),100,IF(AE195=$D195,50,IF(AH195=$E195,50,IF(AND(AE195<>$D195,AH195<>$E195),0)))))","v":100},{"$f":"IF(COUNTIF($D$45:$E$45,AH195),100,0)+IF(COUNTIF($D$45:$E$45,AE195),100,0)","v":200},{"$f":"IF(OR(AE195=\"\",AH195=\"\"),0,IF(AND(AE195=$D195,AH195=$E195,AF195=$F195,AG195=$G195),150,0))","v":0},"Frankreich",1,2,"Argentinien",{"$f":"IF(OR(AL195=\"\",AO195=\"\"),0,IF(AND(AL195=$D195,AO195=$E195),100,IF(AL195=$D195,50,IF(AO195=$E195,50,IF(AND(AL195<>$D195,AO195<>$E195),0)))))","v":50},{"$f":"IF(COUNTIF($D$45:$E$45,AO195),100,0)+IF(COUNTIF($D$45:$E$45,AL195),100,0)","v":100},{"$f":"IF(OR(AL195=\"\",AO195=\"\"),0,IF(AND(AL195=$D195,AO195=$E195,AM195=$F195,AN195=$G195),150,0))","v":0},"Frankreich",2,3,"Brasilien",{"$f":"IF(OR(AS195=\"\",AV195=\"\"),0,IF(AND(AS195=$D195,AV195=$E195),100,IF(AS195=$D195,50,IF(AV195=$E195,50,IF(AND(AS195<>$D195,AV195<>$E195),0)))))","v":50},{"$f":"IF(COUNTIF($D$45:$E$45,AV195),100,0)+IF(COUNTIF($D$45:$E$45,AS195),100,0)","v":100},{"$f":"IF(OR(AS195=\"\",AV195=\"\"),0,IF(AND(AS195=$D195,AV195=$E195,AT195=$F195,AU195=$G195),150,0))","v":0},"Frankreich",2,0,"Portugal",{"$f":"IF(OR(AZ195=\"\",BC195=\"\"),0,IF(AND(AZ195=$D195,BC195=$E195),100,IF(AZ195=$D195,50,IF(BC195=$E195,50,IF(AND(AZ195<>$D195,BC195<>$E195),0)))))","v":50},{"$f":"IF(COUNTIF($D$45:$E$45,BC195),100,0)+IF(COUNTIF($D$45:$E$45,AZ195),100,0)","v":100},{"$f":"IF(OR(AZ195=\"\",BC195=\"\"),0,IF(AND(AZ195=$D195,BC195=$E195,BA195=$F195,BB195=$G195),150,0))","v":0},"Holland",1,3,"Argentinien",{"$f":"IF(OR(BG195=\"\",BJ195=\"\"),0,IF(AND(BG195=$D195,BJ195=$E195),100,IF(BG195=$D195,50,IF(BJ195=$E195,50,IF(AND(BG195<>$D195,BJ195<>$E195),0)))))","v":0},{"$f":"IF(COUNTIF($D$45:$E$45,BJ195),100,0)+IF(COUNTIF($D$45:$E$45,BG195),100,0)","v":0},{"$f":"IF(OR(BG195=\"\",BJ195=\"\"),0,IF(AND(BG195=$D195,BJ195=$E195,BH195=$F195,BI195=$G195),150,0))","v":0},"Frankreich",2,1,"Brasilien",{"$f":"IF(OR(BN195=\"\",BQ195=\"\"),0,IF(AND(BN195=$D195,BQ195=$E195),100,IF(BN195=$D195,50,IF(BQ195=$E195,50,IF(AND(BN195<>$D195,BQ195<>$E195),0)))))","v":50},{"$f":"IF(COUNTIF($D$45:$E$45,BQ195),100,0)+IF(COUNTIF($D$45:$E$45,BN195),100,0)","v":100},{"$f":"IF(OR(BN195=\"\",BQ195=\"\"),0,IF(AND(BN195=$D195,BQ195=$E195,BO195=$F195,BP195=$G195),150,0))","v":0},"Deutschland",2,0,"Argentinien",{"$f":"IF(OR(BU195=\"\",BX195=\"\"),0,IF(AND(BU195=$D195,BX195=$E195),100,IF(BU195=$D195,50,IF(BX195=$E195,50,IF(AND(BU195<>$D195,BX195<>$E195),0)))))","v":0},{"$f":"IF(COUNTIF($D$45:$E$45,BX195),100,0)+IF(COUNTIF($D$45:$E$45,BU195),100,0)","v":0},{"$f":"IF(OR(BU195=\"\",BX195=\"\"),0,IF(AND(BU195=$D195,BX195=$E195,BV195=$F195,BW195=$G195),150,0))","v":0},"Frankreich",2,1,"Portugal",{"$f":"IF(OR(CB195=\"\",CE195=\"\"),0,IF(AND(CB195=$D195,CE195=$E195),100,IF(CB195=$D195,50,IF(CE195=$E195,50,IF(AND(CB195<>$D195,CE195<>$E195),0)))))","v":50},{"$f":"IF(COUNTIF($D$45:$E$45,CE195),100,0)+IF(COUNTIF($D$45:$E$45,CB195),100,0)","v":100},{"$f":"IF(OR(CB195=\"\",CE195=\"\"),0,IF(AND(CB195=$D195,CE195=$E195,CC195=$F195,CD195=$G195),150,0))","v":0},"Spanien",2,1,"Argentinien",{"$f":"IF(OR(CI195=\"\",CL195=\"\"),0,IF(AND(CI195=$D195,CL195=$E195),100,IF(CI195=$D195,50,IF(CL195=$E195,50,IF(AND(CI195<>$D195,CL195<>$E195),0)))))","v":0},{"$f":"IF(COUNTIF($D$45:$E$45,CL195),100,0)+IF(COUNTIF($D$45:$E$45,CI195),100,0)","v":0},{"$f":"IF(OR(CI195=\"\",CL195=\"\"),0,IF(AND(CI195=$D195,CL195=$E195,CJ195=$F195,CK195=$G195),150,0))","v":0},"Spanien",2,1,"Kroatien",{"$f":"IF(OR(CP195=\"\",CS195=\"\"),0,IF(AND(CP195=$D195,CS195=$E195),100,IF(CP195=$D195,50,IF(CS195=$E195,50,IF(AND(CP195<>$D195,CS195<>$E195),0)))))","v":0},{"$f":"IF(COUNTIF($D$45:$E$45,CS195),100,0)+IF(COUNTIF($D$45:$E$45,CP195),100,0)","v":0},{"$f":"IF(OR(CP195=\"\",CS195=\"\"),0,IF(AND(CP195=$D195,CS195=$E195,CQ195=$F195,CR195=$G195),150,0))","v":0},"Spanien",3,2,"England",{"$f":"IF(OR(CW195=\"\",CZ195=\"\"),0,IF(AND(CW195=$D195,CZ195=$E195),100,IF(CW195=$D195,50,IF(CZ195=$E195,50,IF(AND(CW195<>$D195,CZ195<>$E195),0)))))","v":50},{"$f":"IF(COUNTIF($D$45:$E$45,CZ195),100,0)+IF(COUNTIF($D$45:$E$45,CW195),100,0)","v":100},{"$f":"IF(OR(CW195=\"\",CZ195=\"\"),0,IF(AND(CW195=$D195,CZ195=$E195,CX195=$F195,CY195=$G195),150,0))","v":0},"Frankreich",2,1,"Portugal",{"$f":"IF(OR(DD195=\"\",DG195=\"\"),0,IF(AND(DD195=$D195,DG195=$E195),100,IF(DD195=$D195,50,IF(DG195=$E195,50,IF(AND(DD195<>$D195,DG195<>$E195),0)))))","v":50},{"$f":"IF(COUNTIF($D$45:$E$45,DG195),100,0)+IF(COUNTIF($D$45:$E$45,DD195),100,0)","v":100},{"$f":"IF(OR(DD195=\"\",DG195=\"\"),0,IF(AND(DD195=$D195,DG195=$E195,DE195=$F195,DF195=$G195),150,0))","v":0},"Spanien",1,0,"Argentinien",{"$f":"IF(OR(DK195=\"\",DN195=\"\"),0,IF(AND(DK195=$D195,DN195=$E195),100,IF(DK195=$D195,50,IF(DN195=$E195,50,IF(AND(DK195<>$D195,DN195<>$E195),0)))))","v":0},{"$f":"IF(COUNTIF($D$45:$E$45,DN195),100,0)+IF(COUNTIF($D$45:$E$45,DK195),100,0)","v":0},{"$f":"IF(OR(DK195=\"\",DN195=\"\"),0,IF(AND(DK195=$D195,DN195=$E195,DL195=$F195,DM195=$G195),150,0))","v":0},"Deutschland",1,0,"Brasilien",{"$f":"IF(OR(DR195=\"\",DU195=\"\"),0,IF(AND(DR195=$D195,DU195=$E195),100,IF(DR195=$D195,50,IF(DU195=$E195,50,IF(AND(DR195<>$D195,DU195<>$E195),0)))))","v":0},{"$f":"IF(COUNTIF($D$45:$E$45,DU195),100,0)+IF(COUNTIF($D$45:$E$45,DR195),100,0)","v":0},{"$f":"IF(OR(DR195=\"\",DU195=\"\"),0,IF(AND(DR195=$D195,DU195=$E195,DS195=$F195,DT195=$G195),150,0))","v":0},"Spanien",2,3,"Argentinien",{"$f":"IF(OR(DY195=\"\",EB195=\"\"),0,IF(AND(DY195=$D195,EB195=$E195),100,IF(DY195=$D195,50,IF(EB195=$E195,50,IF(AND(DY195<>$D195,EB195<>$E195),0)))))","v":0},{"$f":"IF(COUNTIF($D$45:$E$45,EB195),100,0)+IF(COUNTIF($D$45:$E$45,DY195),100,0)","v":0},{"$f":"IF(OR(DY195=\"\",EB195=\"\"),0,IF(AND(DY195=$D195,EB195=$E195,DZ195=$F195,EA195=$G195),150,0))","v":0},"Spanien",3,1,"Portugal",{"$f":"IF(OR(EF195=\"\",EI195=\"\"),0,IF(AND(EF195=$D195,EI195=$E195),100,IF(EF195=$D195,50,IF(EI195=$E195,50,IF(AND(EF195<>$D195,EI195<>$E195),0)))))","v":0},{"$f":"IF(COUNTIF($D$45:$E$45,EI195),100,0)+IF(COUNTIF($D$45:$E$45,EF195),100,0)","v":0},{"$f":"IF(OR(EF195=\"\",EI195=\"\"),0,IF(AND(EF195=$D195,EI195=$E195,EG195=$F195,EH195=$G195),150,0))","v":0},"Frankreich",1,0,"Brasilien",{"$f":"IF(OR(EM195=\"\",EP195=\"\"),0,IF(AND(EM195=$D195,EP195=$E195),100,IF(EM195=$D195,50,IF(EP195=$E195,50,IF(AND(EM195<>$D195,EP195<>$E195),0)))))","v":50},{"$f":"IF(COUNTIF($D$45:$E$45,EP195),100,0)+IF(COUNTIF($D$45:$E$45,EM195),100,0)","v":100},{"$f":"IF(OR(EM195=\"\",EP195=\"\"),0,IF(AND(EM195=$D195,EP195=$E195,EN195=$F195,EO195=$G195),150,0))","v":0},null,{"$f":"_xlfn.TEXTJOIN(\", \",TRUE,_xlfn._xlws.FILTER(INDEX($J$154:$EM$154,1,_xlfn.SEQUENCE(1,(COLUMNS($J$154:$EM$154)-1)/7+1,1,7))&\" \"&INDEX($J$155:$EM$155,1,_xlfn.SEQUENCE(1,(COLUMNS($J$155:$EM$155)-1)/7+1,1,7)),INDEX($P195:$ES195,1,_xlfn.SEQUENCE(1,(COLUMNS($P195:$ES195)-1)/7+1,1,7))>0,\"\"))","v":""}]
["Endspiel",null,null,null,null,null,null,null,null,null,null,null,null,null,null,null,null,null,null,null,null,null,null,null,null,null,null,null,null,null,null,null,null,null,null,null,null,null,null,null,null,null,null,null,null,null,null,null,null,null,null,null,null,null,null,null,null,null,null,null,null,null,null,null,null,null,null,null,null,null,null,null,null,null,null,null,null,null,null,null,null,null,null,null,null,null,null,null,null,null,null,null,null,null,null,null,null,null,null,null,null,null,null,null,null,null,null,null,null,null,null,null,null,null,null,null,null,null,null,null,null,null,null,null,null,null,null,null,null,null,null,null,null,null,null,null,null,null,null,null,null,null,null,null,null,null,null,null,null,null,{"$f":"_xlfn.TEXTJOIN(\", \",TRUE,_xlfn._xlws.FILTER(INDEX($J$154:$EM$154,1,_xlfn.SEQUENCE(1,(COLUMNS($J$154:$EM$154)-1)/7+1,1,7))&\" \"&INDEX($J$155:$EM$155,1,_xlfn.SEQUENCE(1,(COLUMNS($J$155:$EM$155)-1)/7+1,1,7)),INDEX($P196:$ES196,1,_xlfn.SEQUENCE(1,(COLUMNS($P196:$ES196)-1)/7+1,1,7))>0,\"\"))","v":""}]
[{"$f":"A147","v":"So. 19. Jul"},{"$f":"B147","v":"21:00:00"},{"$f":"C147","v":104},{"$f":"D147","v":"Spanien"},{"$f":"E147","v":"Argentinien"},{"$f":"IF(F147=\"\",\"\",F147)","v":""},{"$f":"IF(G147=\"\",\"\",G147)","v":""},null,null,"Frankreich",4,2,"Brasilien",{"$f":"IF(OR(J197=\"\",M197=\"\"),0,IF(AND(J197=$D197,M197=$E197),120,IF(J197=$D197,60,IF(M197=$E197,60,IF(AND(J197<>$D197,M197<>$E197),0)))))","v":0},{"$f":"IF(COUNTIF($D$47:$E$47,M197),120,0)+IF(COUNTIF($D$47:$E$47,J197),120,0)","v":0},{"$f":"IF(OR(J197=\"\",M197=\"\"),0,IF(AND(J197=$D197,M197=$E197,K197=$F197,L197=$G197),200,0))","v":0},"Spanien",1,0,"Argentinien",{"$f":"IF(OR(Q197=\"\",T197=\"\"),0,IF(AND(Q197=$D197,T197=$E197),120,IF(Q197=$D197,60,IF(T197=$E197,60,IF(AND(Q197<>$D197,T197<>$E197),0)))))","v":120},{"$f":"IF(COUNTIF($D$47:$E$47,T197),120,0)+IF(COUNTIF($D$47:$E$47,Q197),120,0)","v":240},{"$f":"IF(OR(Q197=\"\",T197=\"\"),0,IF(AND(Q197=$D197,T197=$E197,R197=$F197,S197=$G197),200,0))","v":0},"Frankreich",2,1,"Brasilien",{"$f":"IF(OR(X197=\"\",AA197=\"\"),0,IF(AND(X197=$D197,AA197=$E197),120,IF(X197=$D197,60,IF(AA197=$E197,60,IF(AND(X197<>$D197,AA197<>$E197),0)))))","v":0},{"$f":"IF(COUNTIF($D$47:$E$47,AA197),120,0)+IF(COUNTIF($D$47:$E$47,X197),120,0)","v":0},{"$f":"IF(OR(X197=\"\",AA197=\"\"),0,IF(AND(X197=$D197,AA197=$E197,Y197=$F197,Z197=$G197),200,0))","v":0},"Spanien",2,1,"Argentinien",{"$f":"IF(OR(AE197=\"\",AH197=\"\"),0,IF(AND(AE197=$D197,AH197=$E197),120,IF(AE197=$D197,60,IF(AH197=$E197,60,IF(AND(AE197<>$D197,AH197<>$E197),0)))))","v":120},{"$f":"IF(COUNTIF($D$47:$E$47,AH197),120,0)+IF(COUNTIF($D$47:$E$47,AE197),120,0)","v":240},{"$f":"IF(OR(AE197=\"\",AH197=\"\"),0,IF(AND(AE197=$D197,AH197=$E197,AF197=$F197,AG197=$G197),200,0))","v":0},"Spanien",2,1,"Brasilien",{"$f":"IF(OR(AL197=\"\",AO197=\"\"),0,IF(AND(AL197=$D197,AO197=$E197),120,IF(AL197=$D197,60,IF(AO197=$E197,60,IF(AND(AL197<>$D197,AO197<>$E197),0)))))","v":60},{"$f":"IF(COUNTIF($D$47:$E$47,AO197),120,0)+IF(COUNTIF($D$47:$E$47,AL197),120,0)","v":120},{"$f":"IF(OR(AL197=\"\",AO197=\"\"),0,IF(AND(AL197=$D197,AO197=$E197,AM197=$F197,AN197=$G197),200,0))","v":0},"Spanien",3,4,"Portugal",{"$f":"IF(OR(AS197=\"\",AV197=\"\"),0,IF(AND(AS197=$D197,AV197=$E197),120,IF(AS197=$D197,60,IF(AV197=$E197,60,IF(AND(AS197<>$D197,AV197<>$E197),0)))))","v":60},{"$f":"IF(COUNTIF($D$47:$E$47,AV197),120,0)+IF(COUNTIF($D$47:$E$47,AS197),120,0)","v":120},{"$f":"IF(OR(AS197=\"\",AV197=\"\"),0,IF(AND(AS197=$D197,AV197=$E197,AT197=$F197,AU197=$G197),200,0))","v":0},"Spanien",1,2,"England",{"$f":"IF(OR(AZ197=\"\",BC197=\"\"),0,IF(AND(AZ197=$D197,BC197=$E197),120,IF(AZ197=$D197,60,IF(BC197=$E197,60,IF(AND(AZ197<>$D197,BC197<>$E197),0)))))","v":60},{"$f":"IF(COUNTIF($D$47:$E$47,BC197),120,0)+IF(COUNTIF($D$47:$E$47,AZ197),120,0)","v":120},{"$f":"IF(OR(AZ197=\"\",BC197=\"\"),0,IF(AND(AZ197=$D197,BC197=$E197,BA197=$F197,BB197=$G197),200,0))","v":0},"Spanien",2,1,"England",{"$f":"IF(OR(BG197=\"\",BJ197=\"\"),0,IF(AND(BG197=$D197,BJ197=$E197),120,IF(BG197=$D197,60,IF(BJ197=$E197,60,IF(AND(BG197<>$D197,BJ197<>$E197),0)))))","v":60},{"$f":"IF(COUNTIF($D$47:$E$47,BJ197),120,0)+IF(COUNTIF($D$47:$E$47,BG197),120,0)","v":120},{"$f":"IF(OR(BG197=\"\",BJ197=\"\"),0,IF(AND(BG197=$D197,BJ197=$E197,BH197=$F197,BI197=$G197),200,0))","v":0},"Spanien",2,1,"Argentinien",{"$f":"IF(OR(BN197=\"\",BQ197=\"\"),0,IF(AND(BN197=$D197,BQ197=$E197),120,IF(BN197=$D197,60,IF(BQ197=$E197,60,IF(AND(BN197<>$D197,BQ197<>$E197),0)))))","v":120},{"$f":"IF(COUNTIF($D$47:$E$47,BQ197),120,0)+IF(COUNTIF($D$47:$E$47,BN197),120,0)","v":240},{"$f":"IF(OR(BN197=\"\",BQ197=\"\"),0,IF(AND(BN197=$D197,BQ197=$E197,BO197=$F197,BP197=$G197),200,0))","v":0},"Spanien",2,1,"Brasilien",{"$f":"IF(OR(BU197=\"\",BX197=\"\"),0,IF(AND(BU197=$D197,BX197=$E197),120,IF(BU197=$D197,60,IF(BX197=$E197,60,IF(AND(BU197<>$D197,BX197<>$E197),0)))))","v":60},{"$f":"IF(COUNTIF($D$47:$E$47,BX197),120,0)+IF(COUNTIF($D$47:$E$47,BU197),120,0)","v":120},{"$f":"IF(OR(BU197=\"\",BX197=\"\"),0,IF(AND(BU197=$D197,BX197=$E197,BV197=$F197,BW197=$G197),200,0))","v":0},"Spanien",0,1,"England",{"$f":"IF(OR(CB197=\"\",CE197=\"\"),0,IF(AND(CB197=$D197,CE197=$E197),120,IF(CB197=$D197,60,IF(CE197=$E197,60,IF(AND(CB197<>$D197,CE197<>$E197),0)))))","v":60},{"$f":"IF(COUNTIF($D$47:$E$47,CE197),120,0)+IF(COUNTIF($D$47:$E$47,CB197),120,0)","v":120},{"$f":"IF(OR(CB197=\"\",CE197=\"\"),0,IF(AND(CB197=$D197,CE197=$E197,CC197=$F197,CD197=$G197),200,0))","v":0},"Deutschland",2,1,"England",{"$f":"IF(OR(CI197=\"\",CL197=\"\"),0,IF(AND(CI197=$D197,CL197=$E197),120,IF(CI197=$D197,60,IF(CL197=$E197,60,IF(AND(CI197<>$D197,CL197<>$E197),0)))))","v":0},{"$f":"IF(COUNTIF($D$47:$E$47,CL197),120,0)+IF(COUNTIF($D$47:$E$47,CI197),120,0)","v":0},{"$f":"IF(OR(CI197=\"\",CL197=\"\"),0,IF(AND(CI197=$D197,CL197=$E197,CJ197=$F197,CK197=$G197),200,0))","v":0},"Deutschland",2,4,"Argentinien",{"$f":"IF(OR(CP197=\"\",CS197=\"\"),0,IF(AND(CP197=$D197,CS197=$E197),120,IF(CP197=$D197,60,IF(CS197=$E197,60,IF(AND(CP197<>$D197,CS197<>$E197),0)))))","v":60},{"$f":"IF(COUNTIF($D$47:$E$47,CS197),120,0)+IF(COUNTIF($D$47:$E$47,CP197),120,0)","v":120},{"$f":"IF(OR(CP197=\"\",CS197=\"\"),0,IF(AND(CP197=$D197,CS197=$E197,CQ197=$F197,CR197=$G197),200,0))","v":0},"Frankreich",1,2,"Portugal",{"$f":"IF(OR(CW197=\"\",CZ197=\"\"),0,IF(AND(CW197=$D197,CZ197=$E197),120,IF(CW197=$D197,60,IF(CZ197=$E197,60,IF(AND(CW197<>$D197,CZ197<>$E197),0)))))","v":0},{"$f":"IF(COUNTIF($D$47:$E$47,CZ197),120,0)+IF(COUNTIF($D$47:$E$47,CW197),120,0)","v":0},{"$f":"IF(OR(CW197=\"\",CZ197=\"\"),0,IF(AND(CW197=$D197,CZ197=$E197,CX197=$F197,CY197=$G197),200,0))","v":0},"Spanien",2,1,"Brasilien",{"$f":"IF(OR(DD197=\"\",DG197=\"\"),0,IF(AND(DD197=$D197,DG197=$E197),120,IF(DD197=$D197,60,IF(DG197=$E197,60,IF(AND(DD197<>$D197,DG197<>$E197),0)))))","v":60},{"$f":"IF(COUNTIF($D$47:$E$47,DG197),120,0)+IF(COUNTIF($D$47:$E$47,DD197),120,0)","v":120},{"$f":"IF(OR(DD197=\"\",DG197=\"\"),0,IF(AND(DD197=$D197,DG197=$E197,DE197=$F197,DF197=$G197),200,0))","v":0},"Frankreich",2,1,"England",{"$f":"IF(OR(DK197=\"\",DN197=\"\"),0,IF(AND(DK197=$D197,DN197=$E197),120,IF(DK197=$D197,60,IF(DN197=$E197,60,IF(AND(DK197<>$D197,DN197<>$E197),0)))))","v":0},{"$f":"IF(COUNTIF($D$47:$E$47,DN197),120,0)+IF(COUNTIF($D$47:$E$47,DK197),120,0)","v":0},{"$f":"IF(OR(DK197=\"\",DN197=\"\"),0,IF(AND(DK197=$D197,DN197=$E197,DL197=$F197,DM197=$G197),200,0))","v":0},"Spanien",1,2,"Portugal",{"$f":"IF(OR(DR197=\"\",DU197=\"\"),0,IF(AND(DR197=$D197,DU197=$E197),120,IF(DR197=$D197,60,IF(DU197=$E197,60,IF(AND(DR197<>$D197,DU197<>$E197),0)))))","v":60},{"$f":"IF(COUNTIF($D$47:$E$47,DU197),120,0)+IF(COUNTIF($D$47:$E$47,DR197),120,0)","v":120},{"$f":"IF(OR(DR197=\"\",DU197=\"\"),0,IF(AND(DR197=$D197,DU197=$E197,DS197=$F197,DT197=$G197),200,0))","v":0},"Frankreich",2,1,"Brasilien",{"$f":"IF(OR(DY197=\"\",EB197=\"\"),0,IF(AND(DY197=$D197,EB197=$E197),120,IF(DY197=$D197,60,IF(EB197=$E197,60,IF(AND(DY197<>$D197,EB197<>$E197),0)))))","v":0},{"$f":"IF(COUNTIF($D$47:$E$47,EB197),120,0)+IF(COUNTIF($D$47:$E$47,DY197),120,0)","v":0},{"$f":"IF(OR(DY197=\"\",EB197=\"\"),0,IF(AND(DY197=$D197,EB197=$E197,DZ197=$F197,EA197=$G197),200,0))","v":0},"Frankreich",2,1,"Brasilien",{"$f":"IF(OR(EF197=\"\",EI197=\"\"),0,IF(AND(EF197=$D197,EI197=$E197),120,IF(EF197=$D197,60,IF(EI197=$E197,60,IF(AND(EF197<>$D197,EI197<>$E197),0)))))","v":0},{"$f":"IF(COUNTIF($D$47:$E$47,EI197),120,0)+IF(COUNTIF($D$47:$E$47,EF197),120,0)","v":0},{"$f":"IF(OR(EF197=\"\",EI197=\"\"),0,IF(AND(EF197=$D197,EI197=$E197,EG197=$F197,EH197=$G197),200,0))","v":0},"Spanien",1,0,"Argentinien",{"$f":"IF(OR(EM197=\"\",EP197=\"\"),0,IF(AND(EM197=$D197,EP197=$E197),120,IF(EM197=$D197,60,IF(EP197=$E197,60,IF(AND(EM197<>$D197,EP197<>$E197),0)))))","v":120},{"$f":"IF(COUNTIF($D$47:$E$47,EP197),120,0)+IF(COUNTIF($D$47:$E$47,EM197),120,0)","v":240},{"$f":"IF(OR(EM197=\"\",EP197=\"\"),0,IF(AND(EM197=$D197,EP197=$E197,EN197=$F197,EO197=$G197),200,0))","v":0},null,{"$f":"_xlfn.TEXTJOIN(\", \",TRUE,_xlfn._xlws.FILTER(INDEX($J$154:$EM$154,1,_xlfn.SEQUENCE(1,(COLUMNS($J$154:$EM$154)-1)/7+1,1,7))&\" \"&INDEX($J$155:$EM$155,1,_xlfn.SEQUENCE(1,(COLUMNS($J$155:$EM$155)-1)/7+1,1,7)),INDEX($P197:$ES197,1,_xlfn.SEQUENCE(1,(COLUMNS($P197:$ES197)-1)/7+1,1,7))>0,\"\"))","v":""}]
["Weltmeister"]
[null,null,null,{"$f":"D149","v":"???"},null,null,null,null,null,"Weltmeister:",null,null,{"$f":"IF(K197=L197,\"\",IF(K197>L197,J197,M197))","v":"Frankreich"},null,null,{"$f":"IF(OR(M199=\"\"),0,IF(M199=$D199,350,0))","v":0},"Weltmeister:",null,null,{"$f":"IF(R197=S197,\"\",IF(R197>S197,Q197,T197))","v":"Spanien"},null,null,{"$f":"IF(OR(T199=\"\"),0,IF(T199=$D199,350,0))","v":0},"Weltmeister:",null,null,{"$f":"IF(Y197=Z197,\"\",IF(Y197>Z197,X197,AA197))","v":"Frankreich"},null,null,{"$f":"IF(OR(AA199=\"\"),0,IF(AA199=$D199,350,0))","v":0},"Weltmeister:",null,null,{"$f":"IF(AF197=AG197,\"\",IF(AF197>AG197,AE197,AH197))","v":"Spanien"},null,null,{"$f":"IF(OR(AH199=\"\"),0,IF(AH199=$D199,350,0))","v":0},"Weltmeister:",null,null,{"$f":"IF(AM197=AN197,\"\",IF(AM197>AN197,AL197,AO197))","v":"Spanien"},null,null,{"$f":"IF(OR(AO199=\"\"),0,IF(AO199=$D199,350,0))","v":0},"Weltmeister:",null,null,{"$f":"IF(AT197=AU197,\"\",IF(AT197>AU197,AS197,AV197))","v":"Portugal"},null,null,{"$f":"IF(OR(AV199=\"\"),0,IF(AV199=$D199,350,0))","v":0},"Weltmeister:",null,null,{"$f":"IF(BA197=BB197,\"\",IF(BA197>BB197,AZ197,BC197))","v":"England"},null,null,{"$f":"IF(OR(BC199=\"\"),0,IF(BC199=$D199,350,0))","v":0},"Weltmeister:",null,null,{"$f":"IF(BH197=BI197,\"\",IF(BH197>BI197,BG197,BJ197))","v":"Spanien"},null,null,{"$f":"IF(OR(BJ199=\"\"),0,IF(BJ199=$D199,350,0))","v":0},"Weltmeister:",null,null,{"$f":"IF(BO197=BP197,\"\",IF(BO197>BP197,BN197,BQ197))","v":"Spanien"},null,null,{"$f":"IF(OR(BQ199=\"\"),0,IF(BQ199=$D199,350,0))","v":0},"Weltmeister:",null,null,{"$f":"IF(BV197=BW197,\"\",IF(BV197>BW197,BU197,BX197))","v":"Spanien"},null,null,{"$f":"IF(OR(BX199=\"\"),0,IF(BX199=$D199,350,0))","v":0},"Weltmeister:",null,null,{"$f":"IF(CC197=CD197,\"\",IF(CC197>CD197,CB197,CE197))","v":"England"},null,null,{"$f":"IF(OR(CE199=\"\"),0,IF(CE199=$D199,350,0))","v":0},"Weltmeister:",null,null,{"$f":"IF(CJ197=CK197,\"\",IF(CJ197>CK197,CI197,CL197))","v":"Deutschland"},null,null,{"$f":"IF(OR(CL199=\"\"),0,IF(CL199=$D199,350,0))","v":0},"Weltmeister:",null,null,{"$f":"IF(CQ197=CR197,\"\",IF(CQ197>CR197,CP197,CS197))","v":"Argentinien"},null,null,{"$f":"IF(OR(CS199=\"\"),0,IF(CS199=$D199,350,0))","v":0},"Weltmeister:",null,null,{"$f":"IF(CX197=CY197,\"\",IF(CX197>CY197,CW197,CZ197))","v":"Portugal"},null,null,{"$f":"IF(OR(CZ199=\"\"),0,IF(CZ199=$D199,350,0))","v":0},"Weltmeister:",null,null,{"$f":"IF(DE197=DF197,\"\",IF(DE197>DF197,DD197,DG197))","v":"Spanien"},null,null,{"$f":"IF(OR(DG199=\"\"),0,IF(DG199=$D199,350,0))","v":0},"Weltmeister:",null,null,{"$f":"IF(DL197=DM197,\"\",IF(DL197>DM197,DK197,DN197))","v":"Frankreich"},null,null,{"$f":"IF(OR(DN199=\"\"),0,IF(DN199=$D199,350,0))","v":0},"Weltmeister:",null,null,{"$f":"IF(DS197=DT197,\"\",IF(DS197>DT197,DR197,DU197))","v":"Portugal"},null,null,{"$f":"IF(OR(DU199=\"\"),0,IF(DU199=$D199,350,0))","v":0},"Weltmeister:",null,null,{"$f":"IF(DZ197=EA197,\"\",IF(DZ197>EA197,DY197,EB197))","v":"Frankreich"},null,null,{"$f":"IF(OR(EB199=\"\"),0,IF(EB199=$D199,350,0))","v":0},"Weltmeister:",null,null,{"$f":"IF(EG197=EH197,\"\",IF(EG197>EH197,EF197,EI197))","v":"Frankreich"},null,null,{"$f":"IF(OR(EI199=\"\"),0,IF(EI199=$D199,350,0))","v":0},"Weltmeister:",null,null,{"$f":"IF(EN197=EO197,\"\",IF(EN197>EO197,EM197,EP197))","v":"Spanien"},null,null,{"$f":"IF(OR(EP199=\"\"),0,IF(EP199=$D199,350,0))","v":0}]
[null,null,null,null,null,null,null,null,null,{"$f":"Teilnehmerliste!$C66","v":"Principe"},null,null,null,{"$f":"SUM(N161:P199)","v":2280},null,null,{"$f":"Teilnehmerliste!$C67","v":"Prucha"},null,null,null,{"$f":"SUM(U161:W199)","v":2830},null,null,{"$f":"Teilnehmerliste!$C68","v":"Rauscher"},null,null,null,{"$f":"SUM(AB161:AD199)","v":2250},null,null,{"$f":"Teilnehmerliste!$C69","v":"Rohner"},null,null,null,{"$f":"SUM(AI161:AK199)","v":3170},null,null,{"$f":"Teilnehmerliste!$C70","v":"Rüdemann"},null,null,null,{"$f":"SUM(AP161:AR199)","v":2670},null,null,{"$f":"Teilnehmerliste!$C71","v":"Rüegg"},null,null,null,{"$f":"SUM(AW161:AY199)","v":2260},null,null,{"$f":"Teilnehmerliste!$C72","v":"Rüegg"},null,null,null,{"$f":"SUM(BD161:BF199)","v":2450},null,null,{"$f":"Teilnehmerliste!$C73","v":"Rüegg"},null,null,null,{"$f":"SUM(BK161:BM199)","v":2920},null,null,{"$f":"Teilnehmerliste!$C74","v":"Schawalder"},null,null,null,{"$f":"SUM(BR161:BT199)","v":2760},null,null,{"$f":"Teilnehmerliste!$C75","v":"Schenk"},null,null,null,{"$f":"SUM(BY161:CA199)","v":2380},null,null,{"$f":"Teilnehmerliste!$C76","v":"Schilliger"},null,null,null,{"$f":"SUM(CF161:CH199)","v":2830},null,null,{"$f":"Teilnehmerliste!$C77","v":"Schommarz"},null,null,null,{"$f":"SUM(CM161:CO199)","v":2250},null,null,{"$f":"Teilnehmerliste!$C78","v":"Schuster"},null,null,null,{"$f":"SUM(CT161:CV199)","v":1960},null,null,{"$f":"Teilnehmerliste!$C79","v":"Silva"},null,null,null,{"$f":"SUM(DA161:DC199)","v":2590},null,null,{"$f":"Teilnehmerliste!$C80","v":"Silvestri"},null,null,null,{"$f":"SUM(DH161:DJ199)","v":2650},null,null,{"$f":"Teilnehmerliste!$C81","v":"Thormann"},null,null,null,{"$f":"SUM(DO161:DQ199)","v":2880},null,null,{"$f":"Teilnehmerliste!$C82","v":"Treichler"},null,null,null,{"$f":"SUM(DV161:DX199)","v":2000},null,null,{"$f":"Teilnehmerliste!$C83","v":"Treichler"},null,null,null,{"$f":"SUM(EC161:EE199)","v":2300},null,null,{"$f":"Teilnehmerliste!$C84","v":"Wälti"},null,null,null,{"$f":"SUM(EJ161:EL199)","v":2290},null,null,{"$f":"Teilnehmerliste!$C85","v":"Wagner"},null,null,null,{"$f":"SUM(EQ161:ES199)","v":2850}]
[]
[]
["Finalrunde",null,null,"Spieler 81 - 100"]
[{"$f":"A4","v":"Pro richtige Mannschaft:"},null,null,null,null,null,null,null,null,{"$f":"Teilnehmerliste!$B86","v":"Marc"},null,null,null,null,null,null,{"$f":"Teilnehmerliste!$B87","v":"Jingwen"},null,null,null,null,null,null,{"$f":"Teilnehmerliste!$B88","v":"Stefan"},null,null,null,null,null,null,{"$f":"Teilnehmerliste!$B89","v":"Stefan"},null,null,null,null,null,null,{"$f":"Teilnehmerliste!$B90","v":0},null,null,null,null,null,null,{"$f":"Teilnehmerliste!$B91","v":0},null,null,null,null,null,null,{"$f":"Teilnehmerliste!$B92","v":0},null,null,null,null,null,null,{"$f":"Teilnehmerliste!$B93","v":0},null,null,null,null,null,null,{"$f":"Teilnehmerliste!$B94","v":0},null,null,null,null,null,null,{"$f":"Teilnehmerliste!$B95","v":0},null,null,null,null,null,null,{"$f":"Teilnehmerliste!$B96","v":0},null,null,null,null,null,null,{"$f":"Teilnehmerliste!$B97","v":0},null,null,null,null,null,null,{"$f":"Teilnehmerliste!$B98","v":0},null,null,null,null,null,null,{"$f":"Teilnehmerliste!$B99","v":0},null,null,null,null,null,null,{"$f":"Teilnehmerliste!$B100","v":0},null,null,null,null,null,null,{"$f":"Teilnehmerliste!$B101","v":0},null,null,null,null,null,null,{"$f":"Teilnehmerliste!$B102","v":0},null,null,null,null,null,null,{"$f":"Teilnehmerliste!$B103","v":0},null,null,null,null,null,null,{"$f":"Teilnehmerliste!$B104","v":0},null,null,null,null,null,null,{"$f":"Teilnehmerliste!$B105","v":0}]
[{"$f":"A5","v":"... am richtigen Ort: 1/16= 10, 1/8=20, 1/4=30, 1/2=40, 3Pl.=50, Finale=60"},null,null,null,null,null,null,null,null,{"$f":"Teilnehmerliste!$C86","v":"Walthard"},null,null,null,null,null,null,{"$f":"Teilnehmerliste!$C87","v":"Wang"},null,null,null,null,null,null,{"$f":"Teilnehmerliste!$C88","v":"Wullschleger"},null,null,null,null,null,null,{"$f":"Teilnehmerliste!$C89","v":"Zachmann"},null,null,null,null,null,null,{"$f":"Teilnehmerliste!$C90","v":0},null,null,null,null,null,null,{"$f":"Teilnehmerliste!$C91","v":0},null,null,null,null,null,null,{"$f":"Teilnehmerliste!$C92","v":0},null,null,null,null,null,null,{"$f":"Teilnehmerliste!$C93","v":0},null,null,null,null,null,null,{"$f":"Teilnehmerliste!$C94","v":0},null,null,null,null,null,null,{"$f":"Teilnehmerliste!$C95","v":0},null,null,null,null,null,null,{"$f":"Teilnehmerliste!$C96","v":0},null,null,null,null,null,null,{"$f":"Teilnehmerliste!$C97","v":0},null,null,null,null,null,null,{"$f":"Teilnehmerliste!$C98","v":0},null,null,null,null,null,null,{"$f":"Teilnehmerliste!$C99","v":0},null,null,null,null,null,null,{"$f":"Teilnehmerliste!$C100","v":0},null,null,null,null,null,null,{"$f":"Teilnehmerliste!$C101","v":0},null,null,null,null,null,null,{"$f":"Teilnehmerliste!$C102","v":0},null,null,null,null,null,null,{"$f":"Teilnehmerliste!$C103","v":0},null,null,null,null,null,null,{"$f":"Teilnehmerliste!$C104","v":0},null,null,null,null,null,null,{"$f":"Teilnehmerliste!$C105","v":0}]
["... im x-Finale: 1/16=20, 1/8=40, 1/4=80, 1/2=100, 3Pl.=100, Finale=120",null,null,null,null,null,null,null,null,null,null,null,null,null,null,{"$f":"Teilnehmerliste!$A86","v":81},null,null,null,null,null,null,{"$f":"Teilnehmerliste!$A87","v":82},null,null,null,null,null,null,{"$f":"Teilnehmerliste!$A88","v":83},null,null,null,null,null,null,{"$f":"Teilnehmerliste!$A89","v":84},null,null,null,null,null,null,{"$f":"Teilnehmerliste!$A90","v":85},null,null,null,null,null,null,{"$f":"Teilnehmerliste!$A91","v":86},null,null,null,null,null,null,{"$f":"Teilnehmerliste!$A92","v":87},null,null,null,null,null,null,{"$f":"Teilnehmerliste!$A93","v":88},null,null,null,null,null,null,{"$f":"Teilnehmerliste!$A94","v":89},null,null,null,null,null,null,{"$f":"Teilnehmerliste!$A95","v":90},null,null,null,null,null,null,{"$f":"Teilnehmerliste!$A96","v":91},null,null,null,null,null,null,{"$f":"Teilnehmerliste!$A97","v":92},null,null,null,null,null,null,{"$f":"Teilnehmerliste!$A98","v":93},null,null,null,null,null,null,{"$f":"Teilnehmerliste!$A99","v":94},null,null,null,null,null,null,{"$f":"Teilnehmerliste!$A100","v":95},null,null,null,null,null,null,{"$f":"Teilnehmerliste!$A101","v":96},null,null,null,null,null,null,{"$f":"Teilnehmerliste!$A102","v":97},null,null,null,null,null,null,{"$f":"Teilnehmerliste!$A103","v":98},null,null,null,null,null,null,{"$f":"Teilnehmerliste!$A104","v":99},null,null,null,null,null,null,{"$f":"Teilnehmerliste!$A105","v":100}]
["Richtiges Resultat: 1/16=30, 1/8=50, 1/4=70, 1/2=100, 3Pl.=150, Finale=200"]
["Richtiger Weltmeister = 350"]
["Datum","Zeit","Nr.","Spiel",null,"Resultat"]
["Sechzehntelfinale",null,null,null,null,null,null,null,null,"Tipp",null,null,null,"Pkt",null,null,"Tipp",null,null,null,"Pkt",null,null,"Tipp",null,null,null,"Pkt",null,null,"Tipp",null,null,null,"Pkt",null,null,"Tipp",null,null,null,"Pkt",null,null,"Tipp",null,null,null,"Pkt",null,null,"Tipp",null,null,null,"Pkt",null,null,"Tipp",null,null,null,"Pkt",null,null,"Tipp",null,null,null,"Pkt",null,null,"Tipp",null,null,null,"Pkt",null,null,"Tipp",null,null,null,"Pkt",null,null,"Tipp",null,null,null,"Pkt",null,null,"Tipp",null,null,null,"Pkt",null,null,"Tipp",null,null,null,"Pkt",null,null,"Tipp",null,null,null,"Pkt",null,null,"Tipp",null,null,null,"Pkt",null,null,"Tipp",null,null,null,"Pkt",null,null,"Tipp",null,null,null,"Pkt",null,null,"Tipp",null,null,null,"Pkt",null,null,"Tipp",null,null,null,"Pkt"]
[{"$f":"A161","v":"So. 28. Jun"},"21:00:00",73,"Südafrika","Kanada",{"$f":"IF(F161=\"\",\"\",F161)","v":0},1,null,null,"Südafrika",2,1,"Kanada",{"$f":"IF(OR(J211=\"\",M211=\"\"),0,IF(AND(J211=$D211,M211=$E211),20,IF(J211=$D211,10,IF(M211=$E211,10,IF(AND(J211<>$D211,M211<>$E211),0)))))","v":20},{"$f":"IF(COUNTIF($D$11:$E$26,M211),20,0)+IF(COUNTIF($D$11:$E$26,J211),20,0)","v":40},{"$f":"IF(OR(J211=\"\",M211=\"\"),0,IF(AND(J211=$D211,M211=$E211,K211=$F211,L211=$G211),30,0))","v":0},"Tschechien",2,1,"Bosnien-Herz.",{"$f":"IF(OR(Q211=\"\",T211=\"\"),0,IF(AND(Q211=$D211,T211=$E211),20,IF(Q211=$D211,10,IF(T211=$E211,10,IF(AND(Q211<>$D211,T211<>$E211),0)))))","v":0},{"$f":"IF(COUNTIF($D$11:$E$26,T211),20,0)+IF(COUNTIF($D$11:$E$26,Q211),20,0)","v":20},{"$f":"IF(OR(Q211=\"\",T211=\"\"),0,IF(AND(Q211=$D211,T211=$E211,R211=$F211,S211=$G211),30,0))","v":0},"Tschechien",2,1,"Kanada",{"$f":"IF(OR(X211=\"\",AA211=\"\"),0,IF(AND(X211=$D211,AA211=$E211),20,IF(X211=$D211,10,IF(AA211=$E211,10,IF(AND(X211<>$D211,AA211<>$E211),0)))))","v":10},{"$f":"IF(COUNTIF($D$11:$E$26,AA211),20,0)+IF(COUNTIF($D$11:$E$26,X211),20,0)","v":20},{"$f":"IF(OR(X211=\"\",AA211=\"\"),0,IF(AND(X211=$D211,AA211=$E211,Y211=$F211,Z211=$G211),30,0))","v":0},"Tschechien",1,2,"Bosnien-Herz.",{"$f":"IF(OR(AE211=\"\",AH211=\"\"),0,IF(AND(AE211=$D211,AH211=$E211),20,IF(AE211=$D211,10,IF(AH211=$E211,10,IF(AND(AE211<>$D211,AH211<>$E211),0)))))","v":0},{"$f":"IF(COUNTIF($D$11:$E$26,AH211),20,0)+IF(COUNTIF($D$11:$E$26,AE211),20,0)","v":20},{"$f":"IF(OR(AE211=\"\",AH211=\"\"),0,IF(AND(AE211=$D211,AH211=$E211,AF211=$F211,AG211=$G211),30,0))","v":0},null,null,null,null,{"$f":"IF(OR(AL211=\"\",AO211=\"\"),0,IF(AND(AL211=$D211,AO211=$E211),20,IF(AL211=$D211,10,IF(AO211=$E211,10,IF(AND(AL211<>$D211,AO211<>$E211),0)))))","v":0},{"$f":"IF(COUNTIF($D$11:$E$26,AO211),20,0)+IF(COUNTIF($D$11:$E$26,AL211),20,0)","v":0},{"$f":"IF(OR(AL211=\"\",AO211=\"\"),0,IF(AND(AL211=$D211,AO211=$E211,AM211=$F211,AN211=$G211),30,0))","v":0},null,null,null,null,{"$f":"IF(OR(AS211=\"\",AV211=\"\"),0,IF(AND(AS211=$D211,AV211=$E211),20,IF(AS211=$D211,10,IF(AV211=$E211,10,IF(AND(AS211<>$D211,AV211<>$E211),0)))))","v":0},{"$f":"IF(COUNTIF($D$11:$E$26,AV211),20,0)+IF(COUNTIF($D$11:$E$26,AS211),20,0)","v":0},{"$f":"IF(OR(AS211=\"\",AV211=\"\"),0,IF(AND(AS211=$D211,AV211=$E211,AT211=$F211,AU211=$G211),30,0))","v":0},null,null,null,null,{"$f":"IF(OR(AZ211=\"\",BC211=\"\"),0,IF(AND(AZ211=$D211,BC211=$E211),20,IF(AZ211=$D211,10,IF(BC211=$E211,10,IF(AND(AZ211<>$D211,BC211<>$E211),0)))))","v":0},{"$f":"IF(COUNTIF($D$11:$E$26,BC211),20,0)+IF(COUNTIF($D$11:$E$26,AZ211),20,0)","v":0},{"$f":"IF(OR(AZ211=\"\",BC211=\"\"),0,IF(AND(AZ211=$D211,BC211=$E211,BA211=$F211,BB211=$G211),30,0))","v":0},null,null,null,null,{"$f":"IF(OR(BG211=\"\",BJ211=\"\"),0,IF(AND(BG211=$D211,BJ211=$E211),20,IF(BG211=$D211,10,IF(BJ211=$E211,10,IF(AND(BG211<>$D211,BJ211<>$E211),0)))))","v":0},{"$f":"IF(COUNTIF($D$11:$E$26,BJ211),20,0)+IF(COUNTIF($D$11:$E$26,BG211),20,0)","v":0},{"$f":"IF(OR(BG211=\"\",BJ211=\"\"),0,IF(AND(BG211=$D211,BJ211=$E211,BH211=$F211,BI211=$G211),30,0))","v":0},null,null,null,null,{"$f":"IF(OR(BN211=\"\",BQ211=\"\"),0,IF(AND(BN211=$D211,BQ211=$E211),20,IF(BN211=$D211,10,IF(BQ211=$E211,10,IF(AND(BN211<>$D211,BQ211<>$E211),0)))))","v":0},{"$f":"IF(COUNTIF($D$11:$E$26,BQ211),20,0)+IF(COUNTIF($D$11:$E$26,BN211),20,0)","v":0},{"$f":"IF(OR(BN211=\"\",BQ211=\"\"),0,IF(AND(BN211=$D211,BQ211=$E211,BO211=$F211,BP211=$G211),30,0))","v":0},null,null,null,null,{"$f":"IF(OR(BU211=\"\",BX211=\"\"),0,IF(AND(BU211=$D211,BX211=$E211),20,IF(BU211=$D211,10,IF(BX211=$E211,10,IF(AND(BU211<>$D211,BX211<>$E211),0)))))","v":0},{"$f":"IF(COUNTIF($D$11:$E$26,BX211),20,0)+IF(COUNTIF($D$11:$E$26,BU211),20,0)","v":0},{"$f":"IF(OR(BU211=\"\",BX211=\"\"),0,IF(AND(BU211=$D211,BX211=$E211,BV211=$F211,BW211=$G211),30,0))","v":0},null,null,null,null,{"$f":"IF(OR(CB211=\"\",CE211=\"\"),0,IF(AND(CB211=$D211,CE211=$E211),20,IF(CB211=$D211,10,IF(CE211=$E211,10,IF(AND(CB211<>$D211,CE211<>$E211),0)))))","v":0},{"$f":"IF(COUNTIF($D$11:$E$26,CE211),20,0)+IF(COUNTIF($D$11:$E$26,CB211),20,0)","v":0},{"$f":"IF(OR(CB211=\"\",CE211=\"\"),0,IF(AND(CB211=$D211,CE211=$E211,CC211=$F211,CD211=$G211),30,0))","v":0},null,null,null,null,{"$f":"IF(OR(CI211=\"\",CL211=\"\"),0,IF(AND(CI211=$D211,CL211=$E211),20,IF(CI211=$D211,10,IF(CL211=$E211,10,IF(AND(CI211<>$D211,CL211<>$E211),0)))))","v":0},{"$f":"IF(COUNTIF($D$11:$E$26,CL211),20,0)+IF(COUNTIF($D$11:$E$26,CI211),20,0)","v":0},{"$f":"IF(OR(CI211=\"\",CL211=\"\"),0,IF(AND(CI211=$D211,CL211=$E211,CJ211=$F211,CK211=$G211),30,0))","v":0},null,null,null,null,{"$f":"IF(OR(CP211=\"\",CS211=\"\"),0,IF(AND(CP211=$D211,CS211=$E211),20,IF(CP211=$D211,10,IF(CS211=$E211,10,IF(AND(CP211<>$D211,CS211<>$E211),0)))))","v":0},{"$f":"IF(COUNTIF($D$11:$E$26,CS211),20,0)+IF(COUNTIF($D$11:$E$26,CP211),20,0)","v":0},{"$f":"IF(OR(CP211=\"\",CS211=\"\"),0,IF(AND(CP211=$D211,CS211=$E211,CQ211=$F211,CR211=$G211),30,0))","v":0},null,null,null,null,{"$f":"IF(OR(CW211=\"\",CZ211=\"\"),0,IF(AND(CW211=$D211,CZ211=$E211),20,IF(CW211=$D211,10,IF(CZ211=$E211,10,IF(AND(CW211<>$D211,CZ211<>$E211),0)))))","v":0},{"$f":"IF(COUNTIF($D$11:$E$26,CZ211),20,0)+IF(COUNTIF($D$11:$E$26,CW211),20,0)","v":0},{"$f":"IF(OR(CW211=\"\",CZ211=\"\"),0,IF(AND(CW211=$D211,CZ211=$E211,CX211=$F211,CY211=$G211),30,0))","v":0},null,null,null,null,{"$f":"IF(OR(DD211=\"\",DG211=\"\"),0,IF(AND(DD211=$D211,DG211=$E211),20,IF(DD211=$D211,10,IF(DG211=$E211,10,IF(AND(DD211<>$D211,DG211<>$E211),0)))))","v":0},{"$f":"IF(COUNTIF($D$11:$E$26,DG211),20,0)+IF(COUNTIF($D$11:$E$26,DD211),20,0)","v":0},{"$f":"IF(OR(DD211=\"\",DG211=\"\"),0,IF(AND(DD211=$D211,DG211=$E211,DE211=$F211,DF211=$G211),30,0))","v":0},null,null,null,null,{"$f":"IF(OR(DK211=\"\",DN211=\"\"),0,IF(AND(DK211=$D211,DN211=$E211),20,IF(DK211=$D211,10,IF(DN211=$E211,10,IF(AND(DK211<>$D211,DN211<>$E211),0)))))","v":0},{"$f":"IF(COUNTIF($D$11:$E$26,DN211),20,0)+IF(COUNTIF($D$11:$E$26,DK211),20,0)","v":0},{"$f":"IF(OR(DK211=\"\",DN211=\"\"),0,IF(AND(DK211=$D211,DN211=$E211,DL211=$F211,DM211=$G211),30,0))","v":0},null,null,null,null,{"$f":"IF(OR(DR211=\"\",DU211=\"\"),0,IF(AND(DR211=$D211,DU211=$E211),20,IF(DR211=$D211,10,IF(DU211=$E211,10,IF(AND(DR211<>$D211,DU211<>$E211),0)))))","v":0},{"$f":"IF(COUNTIF($D$11:$E$26,DU211),20,0)+IF(COUNTIF($D$11:$E$26,DR211),20,0)","v":0},{"$f":"IF(OR(DR211=\"\",DU211=\"\"),0,IF(AND(DR211=$D211,DU211=$E211,DS211=$F211,DT211=$G211),30,0))","v":0},null,null,null,null,{"$f":"IF(OR(DY211=\"\",EB211=\"\"),0,IF(AND(DY211=$D211,EB211=$E211),20,IF(DY211=$D211,10,IF(EB211=$E211,10,IF(AND(DY211<>$D211,EB211<>$E211),0)))))","v":0},{"$f":"IF(COUNTIF($D$11:$E$26,EB211),20,0)+IF(COUNTIF($D$11:$E$26,DY211),20,0)","v":0},{"$f":"IF(OR(DY211=\"\",EB211=\"\"),0,IF(AND(DY211=$D211,EB211=$E211,DZ211=$F211,EA211=$G211),30,0))","v":0},null,null,null,null,{"$f":"IF(OR(EF211=\"\",EI211=\"\"),0,IF(AND(EF211=$D211,EI211=$E211),20,IF(EF211=$D211,10,IF(EI211=$E211,10,IF(AND(EF211<>$D211,EI211<>$E211),0)))))","v":0},{"$f":"IF(COUNTIF($D$11:$E$26,EI211),20,0)+IF(COUNTIF($D$11:$E$26,EF211),20,0)","v":0},{"$f":"IF(OR(EF211=\"\",EI211=\"\"),0,IF(AND(EF211=$D211,EI211=$E211,EG211=$F211,EH211=$G211),30,0))","v":0},null,null,null,null,{"$f":"IF(OR(EM211=\"\",EP211=\"\"),0,IF(AND(EM211=$D211,EP211=$E211),20,IF(EM211=$D211,10,IF(EP211=$E211,10,IF(AND(EM211<>$D211,EP211<>$E211),0)))))","v":0},{"$f":"IF(COUNTIF($D$11:$E$26,EP211),20,0)+IF(COUNTIF($D$11:$E$26,EM211),20,0)","v":0},{"$f":"IF(OR(EM211=\"\",EP211=\"\"),0,IF(AND(EM211=$D211,EP211=$E211,EN211=$F211,EO211=$G211),30,0))","v":0},null,{"$f":"_xlfn.TEXTJOIN(\", \",TRUE,_xlfn._xlws.FILTER(INDEX($J$204:$EM$204,1,_xlfn.SEQUENCE(1,(COLUMNS($J$204:$EM$204)-1)/7+1,1,7))&\" \"&INDEX($J$205:$EM$205,1,_xlfn.SEQUENCE(1,(COLUMNS($J$205:$EM$205)-1)/7+1,1,7)),INDEX($P211:$ES211,1,_xlfn.SEQUENCE(1,(COLUMNS($P211:$ES211)-1)/7+1,1,7))>0,\"\"))","v":""}]
[{"$f":"A162","v":"Mo. 29. Jun"},"22:30:00",74,"Deutschland","Paraguay",{"$f":"IF(F162=\"\",\"\",F162)","v":3},4,null,null,"Deutschland",2,0,"Schottland",{"$f":"IF(OR(J212=\"\",M212=\"\"),0,IF(AND(J212=$D212,M212=$E212),20,IF(J212=$D212,10,IF(M212=$E212,10,IF(AND(J212<>$D212,M212<>$E212),0)))))","v":10},{"$f":"IF(COUNTIF($D$11:$E$26,M212),20,0)+IF(COUNTIF($D$11:$E$26,J212),20,0)","v":20},{"$f":"IF(OR(J212=\"\",M212=\"\"),0,IF(AND(J212=$D212,M212=$E212,K212=$F212,L212=$G212),30,0))","v":0},"Deutschland",3,2,"USA",{"$f":"IF(OR(Q212=\"\",T212=\"\"),0,IF(AND(Q212=$D212,T212=$E212),20,IF(Q212=$D212,10,IF(T212=$E212,10,IF(AND(Q212<>$D212,T212<>$E212),0)))))","v":10},{"$f":"IF(COUNTIF($D$11:$E$26,T212),20,0)+IF(COUNTIF($D$11:$E$26,Q212),20,0)","v":40},{"$f":"IF(OR(Q212=\"\",T212=\"\"),0,IF(AND(Q212=$D212,T212=$E212,R212=$F212,S212=$G212),30,0))","v":0},"Deutschland",2,1,"Paraguay",{"$f":"IF(OR(X212=\"\",AA212=\"\"),0,IF(AND(X212=$D212,AA212=$E212),20,IF(X212=$D212,10,IF(AA212=$E212,10,IF(AND(X212<>$D212,AA212<>$E212),0)))))","v":20},{"$f":"IF(COUNTIF($D$11:$E$26,AA212),20,0)+IF(COUNTIF($D$11:$E$26,X212),20,0)","v":40},{"$f":"IF(OR(X212=\"\",AA212=\"\"),0,IF(AND(X212=$D212,AA212=$E212,Y212=$F212,Z212=$G212),30,0))","v":0},"Deutschland",3,1,"Paraguay",{"$f":"IF(OR(AE212=\"\",AH212=\"\"),0,IF(AND(AE212=$D212,AH212=$E212),20,IF(AE212=$D212,10,IF(AH212=$E212,10,IF(AND(AE212<>$D212,AH212<>$E212),0)))))","v":20},{"$f":"IF(COUNTIF($D$11:$E$26,AH212),20,0)+IF(COUNTIF($D$11:$E$26,AE212),20,0)","v":40},{"$f":"IF(OR(AE212=\"\",AH212=\"\"),0,IF(AND(AE212=$D212,AH212=$E212,AF212=$F212,AG212=$G212),30,0))","v":0},null,null,null,null,{"$f":"IF(OR(AL212=\"\",AO212=\"\"),0,IF(AND(AL212=$D212,AO212=$E212),20,IF(AL212=$D212,10,IF(AO212=$E212,10,IF(AND(AL212<>$D212,AO212<>$E212),0)))))","v":0},{"$f":"IF(COUNTIF($D$11:$E$26,AO212),20,0)+IF(COUNTIF($D$11:$E$26,AL212),20,0)","v":0},{"$f":"IF(OR(AL212=\"\",AO212=\"\"),0,IF(AND(AL212=$D212,AO212=$E212,AM212=$F212,AN212=$G212),30,0))","v":0},null,null,null,null,{"$f":"IF(OR(AS212=\"\",AV212=\"\"),0,IF(AND(AS212=$D212,AV212=$E212),20,IF(AS212=$D212,10,IF(AV212=$E212,10,IF(AND(AS212<>$D212,AV212<>$E212),0)))))","v":0},{"$f":"IF(COUNTIF($D$11:$E$26,AV212),20,0)+IF(COUNTIF($D$11:$E$26,AS212),20,0)","v":0},{"$f":"IF(OR(AS212=\"\",AV212=\"\"),0,IF(AND(AS212=$D212,AV212=$E212,AT212=$F212,AU212=$G212),30,0))","v":0},null,null,null,null,{"$f":"IF(OR(AZ212=\"\",BC212=\"\"),0,IF(AND(AZ212=$D212,BC212=$E212),20,IF(AZ212=$D212,10,IF(BC212=$E212,10,IF(AND(AZ212<>$D212,BC212<>$E212),0)))))","v":0},{"$f":"IF(COUNTIF($D$11:$E$26,BC212),20,0)+IF(COUNTIF($D$11:$E$26,AZ212),20,0)","v":0},{"$f":"IF(OR(AZ212=\"\",BC212=\"\"),0,IF(AND(AZ212=$D212,BC212=$E212,BA212=$F212,BB212=$G212),30,0))","v":0},null,null,null,null,{"$f":"IF(OR(BG212=\"\",BJ212=\"\"),0,IF(AND(BG212=$D212,BJ212=$E212),20,IF(BG212=$D212,10,IF(BJ212=$E212,10,IF(AND(BG212<>$D212,BJ212<>$E212),0)))))","v":0},{"$f":"IF(COUNTIF($D$11:$E$26,BJ212),20,0)+IF(COUNTIF($D$11:$E$26,BG212),20,0)","v":0},{"$f":"IF(OR(BG212=\"\",BJ212=\"\"),0,IF(AND(BG212=$D212,BJ212=$E212,BH212=$F212,BI212=$G212),30,0))","v":0},null,null,null,null,{"$f":"IF(OR(BN212=\"\",BQ212=\"\"),0,IF(AND(BN212=$D212,BQ212=$E212),20,IF(BN212=$D212,10,IF(BQ212=$E212,10,IF(AND(BN212<>$D212,BQ212<>$E212),0)))))","v":0},{"$f":"IF(COUNTIF($D$11:$E$26,BQ212),20,0)+IF(COUNTIF($D$11:$E$26,BN212),20,0)","v":0},{"$f":"IF(OR(BN212=\"\",BQ212=\"\"),0,IF(AND(BN212=$D212,BQ212=$E212,BO212=$F212,BP212=$G212),30,0))","v":0},null,null,null,null,{"$f":"IF(OR(BU212=\"\",BX212=\"\"),0,IF(AND(BU212=$D212,BX212=$E212),20,IF(BU212=$D212,10,IF(BX212=$E212,10,IF(AND(BU212<>$D212,BX212<>$E212),0)))))","v":0},{"$f":"IF(COUNTIF($D$11:$E$26,BX212),20,0)+IF(COUNTIF($D$11:$E$26,BU212),20,0)","v":0},{"$f":"IF(OR(BU212=\"\",BX212=\"\"),0,IF(AND(BU212=$D212,BX212=$E212,BV212=$F212,BW212=$G212),30,0))","v":0},null,null,null,null,{"$f":"IF(OR(CB212=\"\",CE212=\"\"),0,IF(AND(CB212=$D212,CE212=$E212),20,IF(CB212=$D212,10,IF(CE212=$E212,10,IF(AND(CB212<>$D212,CE212<>$E212),0)))))","v":0},{"$f":"IF(COUNTIF($D$11:$E$26,CE212),20,0)+IF(COUNTIF($D$11:$E$26,CB212),20,0)","v":0},{"$f":"IF(OR(CB212=\"\",CE212=\"\"),0,IF(AND(CB212=$D212,CE212=$E212,CC212=$F212,CD212=$G212),30,0))","v":0},null,null,null,null,{"$f":"IF(OR(CI212=\"\",CL212=\"\"),0,IF(AND(CI212=$D212,CL212=$E212),20,IF(CI212=$D212,10,IF(CL212=$E212,10,IF(AND(CI212<>$D212,CL212<>$E212),0)))))","v":0},{"$f":"IF(COUNTIF($D$11:$E$26,CL212),20,0)+IF(COUNTIF($D$11:$E$26,CI212),20,0)","v":0},{"$f":"IF(OR(CI212=\"\",CL212=\"\"),0,IF(AND(CI212=$D212,CL212=$E212,CJ212=$F212,CK212=$G212),30,0))","v":0},null,null,null,null,{"$f":"IF(OR(CP212=\"\",CS212=\"\"),0,IF(AND(CP212=$D212,CS212=$E212),20,IF(CP212=$D212,10,IF(CS212=$E212,10,IF(AND(CP212<>$D212,CS212<>$E212),0)))))","v":0},{"$f":"IF(COUNTIF($D$11:$E$26,CS212),20,0)+IF(COUNTIF($D$11:$E$26,CP212),20,0)","v":0},{"$f":"IF(OR(CP212=\"\",CS212=\"\"),0,IF(AND(CP212=$D212,CS212=$E212,CQ212=$F212,CR212=$G212),30,0))","v":0},null,null,null,null,{"$f":"IF(OR(CW212=\"\",CZ212=\"\"),0,IF(AND(CW212=$D212,CZ212=$E212),20,IF(CW212=$D212,10,IF(CZ212=$E212,10,IF(AND(CW212<>$D212,CZ212<>$E212),0)))))","v":0},{"$f":"IF(COUNTIF($D$11:$E$26,CZ212),20,0)+IF(COUNTIF($D$11:$E$26,CW212),20,0)","v":0},{"$f":"IF(OR(CW212=\"\",CZ212=\"\"),0,IF(AND(CW212=$D212,CZ212=$E212,CX212=$F212,CY212=$G212),30,0))","v":0},null,null,null,null,{"$f":"IF(OR(DD212=\"\",DG212=\"\"),0,IF(AND(DD212=$D212,DG212=$E212),20,IF(DD212=$D212,10,IF(DG212=$E212,10,IF(AND(DD212<>$D212,DG212<>$E212),0)))))","v":0},{"$f":"IF(COUNTIF($D$11:$E$26,DG212),20,0)+IF(COUNTIF($D$11:$E$26,DD212),20,0)","v":0},{"$f":"IF(OR(DD212=\"\",DG212=\"\"),0,IF(AND(DD212=$D212,DG212=$E212,DE212=$F212,DF212=$G212),30,0))","v":0},null,null,null,null,{"$f":"IF(OR(DK212=\"\",DN212=\"\"),0,IF(AND(DK212=$D212,DN212=$E212),20,IF(DK212=$D212,10,IF(DN212=$E212,10,IF(AND(DK212<>$D212,DN212<>$E212),0)))))","v":0},{"$f":"IF(COUNTIF($D$11:$E$26,DN212),20,0)+IF(COUNTIF($D$11:$E$26,DK212),20,0)","v":0},{"$f":"IF(OR(DK212=\"\",DN212=\"\"),0,IF(AND(DK212=$D212,DN212=$E212,DL212=$F212,DM212=$G212),30,0))","v":0},null,null,null,null,{"$f":"IF(OR(DR212=\"\",DU212=\"\"),0,IF(AND(DR212=$D212,DU212=$E212),20,IF(DR212=$D212,10,IF(DU212=$E212,10,IF(AND(DR212<>$D212,DU212<>$E212),0)))))","v":0},{"$f":"IF(COUNTIF($D$11:$E$26,DU212),20,0)+IF(COUNTIF($D$11:$E$26,DR212),20,0)","v":0},{"$f":"IF(OR(DR212=\"\",DU212=\"\"),0,IF(AND(DR212=$D212,DU212=$E212,DS212=$F212,DT212=$G212),30,0))","v":0},null,null,null,null,{"$f":"IF(OR(DY212=\"\",EB212=\"\"),0,IF(AND(DY212=$D212,EB212=$E212),20,IF(DY212=$D212,10,IF(EB212=$E212,10,IF(AND(DY212<>$D212,EB212<>$E212),0)))))","v":0},{"$f":"IF(COUNTIF($D$11:$E$26,EB212),20,0)+IF(COUNTIF($D$11:$E$26,DY212),20,0)","v":0},{"$f":"IF(OR(DY212=\"\",EB212=\"\"),0,IF(AND(DY212=$D212,EB212=$E212,DZ212=$F212,EA212=$G212),30,0))","v":0},null,null,null,null,{"$f":"IF(OR(EF212=\"\",EI212=\"\"),0,IF(AND(EF212=$D212,EI212=$E212),20,IF(EF212=$D212,10,IF(EI212=$E212,10,IF(AND(EF212<>$D212,EI212<>$E212),0)))))","v":0},{"$f":"IF(COUNTIF($D$11:$E$26,EI212),20,0)+IF(COUNTIF($D$11:$E$26,EF212),20,0)","v":0},{"$f":"IF(OR(EF212=\"\",EI212=\"\"),0,IF(AND(EF212=$D212,EI212=$E212,EG212=$F212,EH212=$G212),30,0))","v":0},null,null,null,null,{"$f":"IF(OR(EM212=\"\",EP212=\"\"),0,IF(AND(EM212=$D212,EP212=$E212),20,IF(EM212=$D212,10,IF(EP212=$E212,10,IF(AND(EM212<>$D212,EP212<>$E212),0)))))","v":0},{"$f":"IF(COUNTIF($D$11:$E$26,EP212),20,0)+IF(COUNTIF($D$11:$E$26,EM212),20,0)","v":0},{"$f":"IF(OR(EM212=\"\",EP212=\"\"),0,IF(AND(EM212=$D212,EP212=$E212,EN212=$F212,EO212=$G212),30,0))","v":0},null,{"$f":"_xlfn.TEXTJOIN(\", \",TRUE,_xlfn._xlws.FILTER(INDEX($J$204:$EM$204,1,_xlfn.SEQUENCE(1,(COLUMNS($J$204:$EM$204)-1)/7+1,1,7))&\" \"&INDEX($J$205:$EM$205,1,_xlfn.SEQUENCE(1,(COLUMNS($J$205:$EM$205)-1)/7+1,1,7)),INDEX($P212:$ES212,1,_xlfn.SEQUENCE(1,(COLUMNS($P212:$ES212)-1)/7+1,1,7))>0,\"\"))","v":""}]
[{"$f":"A163","v":"Di. 30. Jun"},"03:00:00",75,"Holland","Marokko",{"$f":"IF(F163=\"\",\"\",F163)","v":2},3,null,null,"Holland",1,2,"Marokko",20,40,0,"Holland",2,1,"Schottland",10,20,0,"Holland",2,1,"Marokko",20,40,0,"Holland",4,2,"Schottland",10,20,0,null,null,null,null,0,0,0,null,null,null,null,0,0,0,null,null,null,null,0,0,0,null,null,null,null,0,0,0,null,null,null,null,0,0,0,null,null,null,null,0,0,0,null,null,null,null,0,0,0,null,null,null,null,0,0,0,null,null,null,null,0,0,0,null,null,null,null,0,0,0,null,null,null,null,0,0,0,null,null,null,null,0,0,0,null,null,null,null,0,0,0,null,null,null,null,0,0,0,null,null,null,null,0,0,0,null,null,null,null,0,0,0,null,{"$f":"_xlfn.TEXTJOIN(\", \",TRUE,_xlfn._xlws.FILTER(INDEX($J$204:$EM$204,1,_xlfn.SEQUENCE(1,(COLUMNS($J$204:$EM$204)-1)/7+1,1,7))&\" \"&INDEX($J$205:$EM$205,1,_xlfn.SEQUENCE(1,(COLUMNS($J$205:$EM$205)-1)/7+1,1,7)),INDEX($P213:$ES213,1,_xlfn.SEQUENCE(1,(COLUMNS($P213:$ES213)-1)/7+1,1,7))>0,\"\"))","v":""}]
[{"$f":"A164","v":"Mo. 29. Jun"},"19:00:00",76,"Brasilien","Japan",{"$f":"IF(F164=\"\",\"\",F164)","v":2},1,null,null,"Brasilien",1,2,"Schweden",10,40,0,"Brasilien",3,1,"Schweden",10,40,0,"Brasilien",2,1,"Japan",20,40,30,"Brasilien",3,1,"Japan",20,40,0,null,null,null,null,0,0,0,null,null,null,null,0,0,0,null,null,null,null,0,0,0,null,null,null,null,0,0,0,null,null,null,null,0,0,0,null,null,null,null,0,0,0,null,null,null,null,0,0,0,null,null,null,null,0,0,0,null,null,null,null,0,0,0,null,null,null,null,0,0,0,null,null,null,null,0,0,0,null,null,null,null,0,0,0,null,null,null,null,0,0,0,null,null,null,null,0,0,0,null,null,null,null,0,0,0,null,null,null,null,0,0,0,null,{"$f":"_xlfn.TEXTJOIN(\", \",TRUE,_xlfn._xlws.FILTER(INDEX($J$204:$EM$204,1,_xlfn.SEQUENCE(1,(COLUMNS($J$204:$EM$204)-1)/7+1,1,7))&\" \"&INDEX($J$205:$EM$205,1,_xlfn.SEQUENCE(1,(COLUMNS($J$205:$EM$205)-1)/7+1,1,7)),INDEX($P214:$ES214,1,_xlfn.SEQUENCE(1,(COLUMNS($P214:$ES214)-1)/7+1,1,7))>0,\"\"))","v":"Stefan Wullschleger"}]
[{"$f":"A165","v":"Di. 30. Jun"},"23:00:00",77,"Frankreich","Schweden",{"$f":"IF(F165=\"\",\"\",F165)","v":3},0,null,null,"Frankreich",2,1,"Australien",10,40,0,"Frankreich",3,1,"Japan",10,40,0,"Frankreich",2,1,"Schweden",20,40,0,"Frankreich",3,1,"Schweden",20,40,0,null,null,null,null,0,0,0,null,null,null,null,0,0,0,null,null,null,null,0,0,0,null,null,null,null,0,0,0,null,null,null,null,0,0,0,null,null,null,null,0,0,0,null,null,null,null,0,0,0,null,null,null,null,0,0,0,null,null,null,null,0,0,0,null,null,null,null,0,0,0,null,null,null,null,0,0,0,null,null,null,null,0,0,0,null,null,null,null,0,0,0,null,null,null,null,0,0,0,null,null,null,null,0,0,0,null,null,null,null,0,0,0,null,{"$f":"_xlfn.TEXTJOIN(\", \",TRUE,_xlfn._xlws.FILTER(INDEX($J$204:$EM$204,1,_xlfn.SEQUENCE(1,(COLUMNS($J$204:$EM$204)-1)/7+1,1,7))&\" \"&INDEX($J$205:$EM$205,1,_xlfn.SEQUENCE(1,(COLUMNS($J$205:$EM$205)-1)/7+1,1,7)),INDEX($P215:$ES215,1,_xlfn.SEQUENCE(1,(COLUMNS($P215:$ES215)-1)/7+1,1,7))>0,\"\"))","v":""}]
[{"$f":"A166","v":"Di. 30. Jun"},"19:00:00",78,"Elfenbeinküste","Norwegen",{"$f":"IF(F166=\"\",\"\",F166)","v":1},2,null,null,"Ecuador",1,0,"Senegal",0,40,0,"Ecuador",2,1,"Norwegen",10,40,0,"Ecuador",1,2,"Norwegen",10,40,0,"Curacao",3,2,"Norwegen",10,20,0,null,null,null,null,0,0,0,null,null,null,null,0,0,0,null,null,null,null,0,0,0,null,null,null,null,0,0,0,null,null,null,null,0,0,0,null,null,null,null,0,0,0,null,null,null,null,0,0,0,null,null,null,null,0,0,0,null,null,null,null,0,0,0,null,null,null,null,0,0,0,null,null,null,null,0,0,0,null,null,null,null,0,0,0,null,null,null,null,0,0,0,null,null,null,null,0,0,0,null,null,null,null,0,0,0,null,null,null,null,0,0,0,null,{"$f":"_xlfn.TEXTJOIN(\", \",TRUE,_xlfn._xlws.FILTER(INDEX($J$204:$EM$204,1,_xlfn.SEQUENCE(1,(COLUMNS($J$204:$EM$204)-1)/7+1,1,7))&\" \"&INDEX($J$205:$EM$205,1,_xlfn.SEQUENCE(1,(COLUMNS($J$205:$EM$205)-1)/7+1,1,7)),INDEX($P216:$ES216,1,_xlfn.SEQUENCE(1,(COLUMNS($P216:$ES216)-1)/7+1,1,7))>0,\"\"))","v":""}]
[{"$f":"A167","v":"Mi. 01. Jul"},"03:00:00",79,"Mexiko","Ecuador",{"$f":"IF(F167=\"\",\"\",F167)","v":2},0,null,null,"Mexiko",2,1,"Saudi-Arabien",10,20,0,"Mexiko",3,0,"Marokko",10,40,0,"Mexiko",2,1,"Schottland",10,20,0,"Mexiko",2,0,"Marokko",10,40,0,null,null,null,null,0,0,0,null,null,null,null,0,0,0,null,null,null,null,0,0,0,null,null,null,null,0,0,0,null,null,null,null,0,0,0,null,null,null,null,0,0,0,null,null,null,null,0,0,0,null,null,null,null,0,0,0,null,null,null,null,0,0,0,null,null,null,null,0,0,0,null,null,null,null,0,0,0,null,null,null,null,0,0,0,null,null,null,null,0,0,0,null,null,null,null,0,0,0,null,null,null,null,0,0,0,null,null,null,null,0,0,0,null,{"$f":"_xlfn.TEXTJOIN(\", \",TRUE,_xlfn._xlws.FILTER(INDEX($J$204:$EM$204,1,_xlfn.SEQUENCE(1,(COLUMNS($J$204:$EM$204)-1)/7+1,1,7))&\" \"&INDEX($J$205:$EM$205,1,_xlfn.SEQUENCE(1,(COLUMNS($J$205:$EM$205)-1)/7+1,1,7)),INDEX($P217:$ES217,1,_xlfn.SEQUENCE(1,(COLUMNS($P217:$ES217)-1)/7+1,1,7))>0,\"\"))","v":""}]
[{"$f":"A168","v":"Mi. 01. Jul"},"18:00:00",80,"England","DR Kongo",{"$f":"IF(F168=\"\",\"\",F168)","v":2},1,null,null,"England",3,1,"Kolumbien",10,40,0,"Kroatien",3,0,"Irak",0,20,0,"England",2,1,"Senegal",10,40,0,"England",4,0,"Saudi-Arabien",10,20,0,null,null,null,null,0,0,0,null,null,null,null,0,0,0,null,null,null,null,0,0,0,null,null,null,null,0,0,0,null,null,null,null,0,0,0,null,null,null,null,0,0,0,null,null,null,null,0,0,0,null,null,null,null,0,0,0,null,null,null,null,0,0,0,null,null,null,null,0,0,0,null,null,null,null,0,0,0,null,null,null,null,0,0,0,null,null,null,null,0,0,0,null,null,null,null,0,0,0,null,null,null,null,0,0,0,null,null,null,null,0,0,0,null,{"$f":"_xlfn.TEXTJOIN(\", \",TRUE,_xlfn._xlws.FILTER(INDEX($J$204:$EM$204,1,_xlfn.SEQUENCE(1,(COLUMNS($J$204:$EM$204)-1)/7+1,1,7))&\" \"&INDEX($J$205:$EM$205,1,_xlfn.SEQUENCE(1,(COLUMNS($J$205:$EM$205)-1)/7+1,1,7)),INDEX($P218:$ES218,1,_xlfn.SEQUENCE(1,(COLUMNS($P218:$ES218)-1)/7+1,1,7))>0,\"\"))","v":""}]
[{"$f":"A169","v":"Do. 02. Jul"},"02:00:00",81,"USA","Bosnien-Herz.",{"$f":"IF(F169=\"\",\"\",F169)","v":2},0,null,null,"USA",2,1,"Japan",10,40,0,"Paraguay",2,0,"Kanada",0,40,0,"USA",2,1,"Bosnien-Herz.",20,40,0,"USA",7,6,"Kanada",10,40,0,null,null,null,null,0,0,0,null,null,null,null,0,0,0,null,null,null,null,0,0,0,null,null,null,null,0,0,0,null,null,null,null,0,0,0,null,null,null,null,0,0,0,null,null,null,null,0,0,0,null,null,null,null,0,0,0,null,null,null,null,0,0,0,null,null,null,null,0,0,0,null,null,null,null,0,0,0,null,null,null,null,0,0,0,null,null,null,null,0,0,0,null,null,null,null,0,0,0,null,null,null,null,0,0,0,null,null,null,null,0,0,0,null,{"$f":"_xlfn.TEXTJOIN(\", \",TRUE,_xlfn._xlws.FILTER(INDEX($J$204:$EM$204,1,_xlfn.SEQUENCE(1,(COLUMNS($J$204:$EM$204)-1)/7+1,1,7))&\" \"&INDEX($J$205:$EM$205,1,_xlfn.SEQUENCE(1,(COLUMNS($J$205:$EM$205)-1)/7+1,1,7)),INDEX($P219:$ES219,1,_xlfn.SEQUENCE(1,(COLUMNS($P219:$ES219)-1)/7+1,1,7))>0,\"\"))","v":""}]
[{"$f":"A170","v":"Mi. 01. Jul"},"22:00:00",82,"Belgien","Senegal",{"$f":"IF(F170=\"\",\"\",F170)","v":3},2,null,null,"Belgien",2,1,"Tschechien",10,20,0,"Belgien",2,1,"Südkorea",10,20,0,"Belgien",2,1,"Südkorea",10,20,0,"Belgien",3,1,"Südkorea",10,20,0,null,null,null,null,0,0,0,null,null,null,null,0,0,0,null,null,null,null,0,0,0,null,null,null,null,0,0,0,null,null,null,null,0,0,0,null,null,null,null,0,0,0,null,null,null,null,0,0,0,null,null,null,null,0,0,0,null,null,null,null,0,0,0,null,null,null,null,0,0,0,null,null,null,null,0,0,0,null,null,null,null,0,0,0,null,null,null,null,0,0,0,null,null,null,null,0,0,0,null,null,null,null,0,0,0,null,null,null,null,0,0,0,null,{"$f":"_xlfn.TEXTJOIN(\", \",TRUE,_xlfn._xlws.FILTER(INDEX($J$204:$EM$204,1,_xlfn.SEQUENCE(1,(COLUMNS($J$204:$EM$204)-1)/7+1,1,7))&\" \"&INDEX($J$205:$EM$205,1,_xlfn.SEQUENCE(1,(COLUMNS($J$205:$EM$205)-1)/7+1,1,7)),INDEX($P220:$ES220,1,_xlfn.SEQUENCE(1,(COLUMNS($P220:$ES220)-1)/7+1,1,7))>0,\"\"))","v":""}]
[{"$f":"A171","v":"Fr. 03. Jul"},"01:00:00",83,"Portugal","Kroatien",{"$f":"IF(F171=\"\",\"\",F171)","v":2},1,null,null,"DR Kongo",2,0,"Kroatien",10,40,0,"Kolumbien",2,1,"England",0,40,0,"Kolumbien",2,1,"Kroatien",10,40,0,"Kolumbien",1,2,"Kroatien",10,40,0,null,null,null,null,0,0,0,null,null,null,null,0,0,0,null,null,null,null,0,0,0,null,null,null,null,0,0,0,null,null,null,null,0,0,0,null,null,null,null,0,0,0,null,null,null,null,0,0,0,null,null,null,null,0,0,0,null,null,null,null,0,0,0,null,null,null,null,0,0,0,null,null,null,null,0,0,0,null,null,null,null,0,0,0,null,null,null,null,0,0,0,null,null,null,null,0,0,0,null,null,null,null,0,0,0,null,null,null,null,0,0,0,null,{"$f":"_xlfn.TEXTJOIN(\", \",TRUE,_xlfn._xlws.FILTER(INDEX($J$204:$EM$204,1,_xlfn.SEQUENCE(1,(COLUMNS($J$204:$EM$204)-1)/7+1,1,7))&\" \"&INDEX($J$205:$EM$205,1,_xlfn.SEQUENCE(1,(COLUMNS($J$205:$EM$205)-1)/7+1,1,7)),INDEX($P221:$ES221,1,_xlfn.SEQUENCE(1,(COLUMNS($P221:$ES221)-1)/7+1,1,7))>0,\"\"))","v":""}]
[{"$f":"A172","v":"Do. 02. Jul"},"21:00:00",84,"Spanien","Österreich",{"$f":"IF(F172=\"\",\"\",F172)","v":3},0,null,null,"Spanien",2,1,"Österreich",20,40,0,"Spanien",3,0,"Österreich",20,40,30,"Spanien",2,1,"Österreich",20,40,0,"Spanien",3,2,"Österreich",20,40,0,null,null,null,null,0,0,0,null,null,null,null,0,0,0,null,null,null,null,0,0,0,null,null,null,null,0,0,0,null,null,null,null,0,0,0,null,null,null,null,0,0,0,null,null,null,null,0,0,0,null,null,null,null,0,0,0,null,null,null,null,0,0,0,null,null,null,null,0,0,0,null,null,null,null,0,0,0,null,null,null,null,0,0,0,null,null,null,null,0,0,0,null,null,null,null,0,0,0,null,null,null,null,0,0,0,null,null,null,null,0,0,0,null,{"$f":"_xlfn.TEXTJOIN(\", \",TRUE,_xlfn._xlws.FILTER(INDEX($J$204:$EM$204,1,_xlfn.SEQUENCE(1,(COLUMNS($J$204:$EM$204)-1)/7+1,1,7))&\" \"&INDEX($J$205:$EM$205,1,_xlfn.SEQUENCE(1,(COLUMNS($J$205:$EM$205)-1)/7+1,1,7)),INDEX($P222:$ES222,1,_xlfn.SEQUENCE(1,(COLUMNS($P222:$ES222)-1)/7+1,1,7))>0,\"\"))","v":"Jingwen Wang"}]
[{"$f":"A173","v":"Fr. 03. Jul"},"05:00:00",85,"Schweiz","Algerien",{"$f":"IF(F173=\"\",\"\",F173)","v":2},0,null,null,"Schweiz",2,1,"Elfenbeinküste",10,40,0,"Schweiz",1,0,"Neuseeland",10,20,0,"Schweiz",2,1,"Iran",10,20,0,"Schweiz",3,1,"Ägypten",10,40,0,null,null,null,null,0,0,0,null,null,null,null,0,0,0,null,null,null,null,0,0,0,null,null,null,null,0,0,0,null,null,null,null,0,0,0,null,null,null,null,0,0,0,null,null,null,null,0,0,0,null,null,null,null,0,0,0,null,null,null,null,0,0,0,null,null,null,null,0,0,0,null,null,null,null,0,0,0,null,null,null,null,0,0,0,null,null,null,null,0,0,0,null,null,null,null,0,0,0,null,null,null,null,0,0,0,null,null,null,null,0,0,0,null,{"$f":"_xlfn.TEXTJOIN(\", \",TRUE,_xlfn._xlws.FILTER(INDEX($J$204:$EM$204,1,_xlfn.SEQUENCE(1,(COLUMNS($J$204:$EM$204)-1)/7+1,1,7))&\" \"&INDEX($J$205:$EM$205,1,_xlfn.SEQUENCE(1,(COLUMNS($J$205:$EM$205)-1)/7+1,1,7)),INDEX($P223:$ES223,1,_xlfn.SEQUENCE(1,(COLUMNS($P223:$ES223)-1)/7+1,1,7))>0,\"\"))","v":""}]
[{"$f":"A174","v":"Sa. 04. Jul"},"00:00:00",86,"Argentinien","Kap Verde",{"$f":"IF(F174=\"\",\"\",F174)","v":3},2,null,null,"Argentinien",1,2,"Uruguay",10,20,0,"Argentinien",3,2,"Uruguay",10,20,0,"Argentinien",2,1,"Uruguay",10,20,0,"Argentinien",2,1,"Uruguay",10,20,0,null,null,null,null,0,0,0,null,null,null,null,0,0,0,null,null,null,null,0,0,0,null,null,null,null,0,0,0,null,null,null,null,0,0,0,null,null,null,null,0,0,0,null,null,null,null,0,0,0,null,null,null,null,0,0,0,null,null,null,null,0,0,0,null,null,null,null,0,0,0,null,null,null,null,0,0,0,null,null,null,null,0,0,0,null,null,null,null,0,0,0,null,null,null,null,0,0,0,null,null,null,null,0,0,0,null,null,null,null,0,0,0,null,{"$f":"_xlfn.TEXTJOIN(\", \",TRUE,_xlfn._xlws.FILTER(INDEX($J$204:$EM$204,1,_xlfn.SEQUENCE(1,(COLUMNS($J$204:$EM$204)-1)/7+1,1,7))&\" \"&INDEX($J$205:$EM$205,1,_xlfn.SEQUENCE(1,(COLUMNS($J$205:$EM$205)-1)/7+1,1,7)),INDEX($P224:$ES224,1,_xlfn.SEQUENCE(1,(COLUMNS($P224:$ES224)-1)/7+1,1,7))>0,\"\"))","v":""}]
[{"$f":"A175","v":"Sa. 04. Jul"},"03:30:00",87,"Kolumbien","Ghana",{"$f":"IF(F175=\"\",\"\",F175)","v":1},0,null,null,"Portugal",2,1,"Norwegen",0,40,0,"Portugal",3,0,"Panama",0,20,0,"Portugal",2,1,"Elfenbeinküste",0,40,0,"Portugal",5,1,"Panama",0,20,0,null,null,null,null,0,0,0,null,null,null,null,0,0,0,null,null,null,null,0,0,0,null,null,null,null,0,0,0,null,null,null,null,0,0,0,null,null,null,null,0,0,0,null,null,null,null,0,0,0,null,null,null,null,0,0,0,null,null,null,null,0,0,0,null,null,null,null,0,0,0,null,null,null,null,0,0,0,null,null,null,null,0,0,0,null,null,null,null,0,0,0,null,null,null,null,0,0,0,null,null,null,null,0,0,0,null,null,null,null,0,0,0,null,{"$f":"_xlfn.TEXTJOIN(\", \",TRUE,_xlfn._xlws.FILTER(INDEX($J$204:$EM$204,1,_xlfn.SEQUENCE(1,(COLUMNS($J$204:$EM$204)-1)/7+1,1,7))&\" \"&INDEX($J$205:$EM$205,1,_xlfn.SEQUENCE(1,(COLUMNS($J$205:$EM$205)-1)/7+1,1,7)),INDEX($P225:$ES225,1,_xlfn.SEQUENCE(1,(COLUMNS($P225:$ES225)-1)/7+1,1,7))>0,\"\"))","v":""}]
[{"$f":"A176","v":"Fr. 03. Jul"},"20:00:00",88,"Australien","Ägypten",{"$f":"IF(F176=\"\",\"\",F176)","v":2},4,null,null,"Türkei",1,2,"Ägypten",10,20,0,"Australien",1,0,"Iran",10,20,0,"Türkei",2,1,"Ägypten",10,20,0,"Türkei",2,1,"Iran",0,0,0,null,null,null,null,0,0,0,null,null,null,null,0,0,0,null,null,null,null,0,0,0,null,null,null,null,0,0,0,null,null,null,null,0,0,0,null,null,null,null,0,0,0,null,null,null,null,0,0,0,null,null,null,null,0,0,0,null,null,null,null,0,0,0,null,null,null,null,0,0,0,null,null,null,null,0,0,0,null,null,null,null,0,0,0,null,null,null,null,0,0,0,null,null,null,null,0,0,0,null,null,null,null,0,0,0,null,null,null,null,0,0,0,null,{"$f":"_xlfn.TEXTJOIN(\", \",TRUE,_xlfn._xlws.FILTER(INDEX($J$204:$EM$204,1,_xlfn.SEQUENCE(1,(COLUMNS($J$204:$EM$204)-1)/7+1,1,7))&\" \"&INDEX($J$205:$EM$205,1,_xlfn.SEQUENCE(1,(COLUMNS($J$205:$EM$205)-1)/7+1,1,7)),INDEX($P226:$ES226,1,_xlfn.SEQUENCE(1,(COLUMNS($P226:$ES226)-1)/7+1,1,7))>0,\"\"))","v":""}]
["Achtelfinale",null,null,null,null,null,null,null,null,null,null,null,null,null,null,null,null,null,null,null,null,null,null,null,null,null,null,null,null,null,null,null,null,null,null,null,null,null,null,null,null,null,null,null,null,null,null,null,null,null,null,null,null,null,null,null,null,null,null,null,null,null,null,null,null,null,null,null,null,null,null,null,null,null,null,null,null,null,null,null,null,null,null,null,null,null,null,null,null,null,null,null,null,null,null,null,null,null,null,null,null,null,null,null,null,null,null,null,null,null,null,null,null,null,null,null,null,null,null,null,null,null,null,null,null,null,null,null,null,null,null,null,null,null,null,null,null,null,null,null,null,null,null,null,null,null,null,null,null,null,{"$f":"_xlfn.TEXTJOIN(\", \",TRUE,_xlfn._xlws.FILTER(INDEX($J$204:$EM$204,1,_xlfn.SEQUENCE(1,(COLUMNS($J$204:$EM$204)-1)/7+1,1,7))&\" \"&INDEX($J$205:$EM$205,1,_xlfn.SEQUENCE(1,(COLUMNS($J$205:$EM$205)-1)/7+1,1,7)),INDEX($P227:$ES227,1,_xlfn.SEQUENCE(1,(COLUMNS($P227:$ES227)-1)/7+1,1,7))>0,\"\"))","v":""}]
[{"$f":"A178","v":"Sa. 04. Jul"},"23:00:00",89,"Paraguay","Frankreich",{"$f":"IF(F178=\"\",\"\",F178)","v":0},1,null,null,"Deutschland",2,1,"Frankreich",{"$f":"IF(OR(J228=\"\",M228=\"\"),0,IF(AND(J228=$D228,M228=$E228),40,IF(J228=$D228,20,IF(M228=$E228,20,IF(AND(J228<>$D228,M228<>$E228),0)))))","v":20},{"$f":"IF(COUNTIF($D$28:$E$35,M228),40,0)+IF(COUNTIF($D$28:$E$35,J228),40,0)","v":40},{"$f":"IF(OR(J228=\"\",M228=\"\"),0,IF(AND(J228=$D228,M228=$E228,K228=$F228,L228=$G228),50,0))","v":0},"Deutschland",3,4,"Frankreich",{"$f":"IF(OR(Q228=\"\",T228=\"\"),0,IF(AND(Q228=$D228,T228=$E228),40,IF(Q228=$D228,20,IF(T228=$E228,20,IF(AND(Q228<>$D228,T228<>$E228),0)))))","v":20},{"$f":"IF(COUNTIF($D$28:$E$35,T228),40,0)+IF(COUNTIF($D$28:$E$35,Q228),40,0)","v":40},{"$f":"IF(OR(Q228=\"\",T228=\"\"),0,IF(AND(Q228=$D228,T228=$E228,R228=$F228,S228=$G228),50,0))","v":0},"Deutschland",1,2,"Frankreich",{"$f":"IF(OR(X228=\"\",AA228=\"\"),0,IF(AND(X228=$D228,AA228=$E228),40,IF(X228=$D228,20,IF(AA228=$E228,20,IF(AND(X228<>$D228,AA228<>$E228),0)))))","v":20},{"$f":"IF(COUNTIF($D$28:$E$35,AA228),40,0)+IF(COUNTIF($D$28:$E$35,X228),40,0)","v":40},{"$f":"IF(OR(X228=\"\",AA228=\"\"),0,IF(AND(X228=$D228,AA228=$E228,Y228=$F228,Z228=$G228),50,0))","v":0},"Deutschland",2,1,"Frankreich",{"$f":"IF(OR(AE228=\"\",AH228=\"\"),0,IF(AND(AE228=$D228,AH228=$E228),40,IF(AE228=$D228,20,IF(AH228=$E228,20,IF(AND(AE228<>$D228,AH228<>$E228),0)))))","v":20},{"$f":"IF(COUNTIF($D$28:$E$35,AH228),40,0)+IF(COUNTIF($D$28:$E$35,AE228),40,0)","v":40},{"$f":"IF(OR(AE228=\"\",AH228=\"\"),0,IF(AND(AE228=$D228,AH228=$E228,AF228=$F228,AG228=$G228),50,0))","v":0},null,null,null,null,{"$f":"IF(OR(AL228=\"\",AO228=\"\"),0,IF(AND(AL228=$D228,AO228=$E228),40,IF(AL228=$D228,20,IF(AO228=$E228,20,IF(AND(AL228<>$D228,AO228<>$E228),0)))))","v":0},{"$f":"IF(COUNTIF($D$28:$E$35,AO228),40,0)+IF(COUNTIF($D$28:$E$35,AL228),40,0)","v":0},{"$f":"IF(OR(AL228=\"\",AO228=\"\"),0,IF(AND(AL228=$D228,AO228=$E228,AM228=$F228,AN228=$G228),50,0))","v":0},null,null,null,null,{"$f":"IF(OR(AS228=\"\",AV228=\"\"),0,IF(AND(AS228=$D228,AV228=$E228),40,IF(AS228=$D228,20,IF(AV228=$E228,20,IF(AND(AS228<>$D228,AV228<>$E228),0)))))","v":0},{"$f":"IF(COUNTIF($D$28:$E$35,AV228),40,0)+IF(COUNTIF($D$28:$E$35,AS228),40,0)","v":0},{"$f":"IF(OR(AS228=\"\",AV228=\"\"),0,IF(AND(AS228=$D228,AV228=$E228,AT228=$F228,AU228=$G228),50,0))","v":0},null,null,null,null,{"$f":"IF(OR(AZ228=\"\",BC228=\"\"),0,IF(AND(AZ228=$D228,BC228=$E228),40,IF(AZ228=$D228,20,IF(BC228=$E228,20,IF(AND(AZ228<>$D228,BC228<>$E228),0)))))","v":0},{"$f":"IF(COUNTIF($D$28:$E$35,BC228),40,0)+IF(COUNTIF($D$28:$E$35,AZ228),40,0)","v":0},{"$f":"IF(OR(AZ228=\"\",BC228=\"\"),0,IF(AND(AZ228=$D228,BC228=$E228,BA228=$F228,BB228=$G228),50,0))","v":0},null,null,null,null,{"$f":"IF(OR(BG228=\"\",BJ228=\"\"),0,IF(AND(BG228=$D228,BJ228=$E228),40,IF(BG228=$D228,20,IF(BJ228=$E228,20,IF(AND(BG228<>$D228,BJ228<>$E228),0)))))","v":0},{"$f":"IF(COUNTIF($D$28:$E$35,BJ228),40,0)+IF(COUNTIF($D$28:$E$35,BG228),40,0)","v":0},{"$f":"IF(OR(BG228=\"\",BJ228=\"\"),0,IF(AND(BG228=$D228,BJ228=$E228,BH228=$F228,BI228=$G228),50,0))","v":0},null,null,null,null,{"$f":"IF(OR(BN228=\"\",BQ228=\"\"),0,IF(AND(BN228=$D228,BQ228=$E228),40,IF(BN228=$D228,20,IF(BQ228=$E228,20,IF(AND(BN228<>$D228,BQ228<>$E228),0)))))","v":0},{"$f":"IF(COUNTIF($D$28:$E$35,BQ228),40,0)+IF(COUNTIF($D$28:$E$35,BN228),40,0)","v":0},{"$f":"IF(OR(BN228=\"\",BQ228=\"\"),0,IF(AND(BN228=$D228,BQ228=$E228,BO228=$F228,BP228=$G228),50,0))","v":0},null,null,null,null,{"$f":"IF(OR(BU228=\"\",BX228=\"\"),0,IF(AND(BU228=$D228,BX228=$E228),40,IF(BU228=$D228,20,IF(BX228=$E228,20,IF(AND(BU228<>$D228,BX228<>$E228),0)))))","v":0},{"$f":"IF(COUNTIF($D$28:$E$35,BX228),40,0)+IF(COUNTIF($D$28:$E$35,BU228),40,0)","v":0},{"$f":"IF(OR(BU228=\"\",BX228=\"\"),0,IF(AND(BU228=$D228,BX228=$E228,BV228=$F228,BW228=$G228),50,0))","v":0},null,null,null,null,{"$f":"IF(OR(CB228=\"\",CE228=\"\"),0,IF(AND(CB228=$D228,CE228=$E228),40,IF(CB228=$D228,20,IF(CE228=$E228,20,IF(AND(CB228<>$D228,CE228<>$E228),0)))))","v":0},{"$f":"IF(COUNTIF($D$28:$E$35,CE228),40,0)+IF(COUNTIF($D$28:$E$35,CB228),40,0)","v":0},{"$f":"IF(OR(CB228=\"\",CE228=\"\"),0,IF(AND(CB228=$D228,CE228=$E228,CC228=$F228,CD228=$G228),50,0))","v":0},null,null,null,null,{"$f":"IF(OR(CI228=\"\",CL228=\"\"),0,IF(AND(CI228=$D228,CL228=$E228),40,IF(CI228=$D228,20,IF(CL228=$E228,20,IF(AND(CI228<>$D228,CL228<>$E228),0)))))","v":0},{"$f":"IF(COUNTIF($D$28:$E$35,CL228),40,0)+IF(COUNTIF($D$28:$E$35,CI228),40,0)","v":0},{"$f":"IF(OR(CI228=\"\",CL228=\"\"),0,IF(AND(CI228=$D228,CL228=$E228,CJ228=$F228,CK228=$G228),50,0))","v":0},null,null,null,null,{"$f":"IF(OR(CP228=\"\",CS228=\"\"),0,IF(AND(CP228=$D228,CS228=$E228),40,IF(CP228=$D228,20,IF(CS228=$E228,20,IF(AND(CP228<>$D228,CS228<>$E228),0)))))","v":0},{"$f":"IF(COUNTIF($D$28:$E$35,CS228),40,0)+IF(COUNTIF($D$28:$E$35,CP228),40,0)","v":0},{"$f":"IF(OR(CP228=\"\",CS228=\"\"),0,IF(AND(CP228=$D228,CS228=$E228,CQ228=$F228,CR228=$G228),50,0))","v":0},null,null,null,null,{"$f":"IF(OR(CW228=\"\",CZ228=\"\"),0,IF(AND(CW228=$D228,CZ228=$E228),40,IF(CW228=$D228,20,IF(CZ228=$E228,20,IF(AND(CW228<>$D228,CZ228<>$E228),0)))))","v":0},{"$f":"IF(COUNTIF($D$28:$E$35,CZ228),40,0)+IF(COUNTIF($D$28:$E$35,CW228),40,0)","v":0},{"$f":"IF(OR(CW228=\"\",CZ228=\"\"),0,IF(AND(CW228=$D228,CZ228=$E228,CX228=$F228,CY228=$G228),50,0))","v":0},null,null,null,null,{"$f":"IF(OR(DD228=\"\",DG228=\"\"),0,IF(AND(DD228=$D228,DG228=$E228),40,IF(DD228=$D228,20,IF(DG228=$E228,20,IF(AND(DD228<>$D228,DG228<>$E228),0)))))","v":0},{"$f":"IF(COUNTIF($D$28:$E$35,DG228),40,0)+IF(COUNTIF($D$28:$E$35,DD228),40,0)","v":0},{"$f":"IF(OR(DD228=\"\",DG228=\"\"),0,IF(AND(DD228=$D228,DG228=$E228,DE228=$F228,DF228=$G228),50,0))","v":0},null,null,null,null,{"$f":"IF(OR(DK228=\"\",DN228=\"\"),0,IF(AND(DK228=$D228,DN228=$E228),40,IF(DK228=$D228,20,IF(DN228=$E228,20,IF(AND(DK228<>$D228,DN228<>$E228),0)))))","v":0},{"$f":"IF(COUNTIF($D$28:$E$35,DN228),40,0)+IF(COUNTIF($D$28:$E$35,DK228),40,0)","v":0},{"$f":"IF(OR(DK228=\"\",DN228=\"\"),0,IF(AND(DK228=$D228,DN228=$E228,DL228=$F228,DM228=$G228),50,0))","v":0},null,null,null,null,{"$f":"IF(OR(DR228=\"\",DU228=\"\"),0,IF(AND(DR228=$D228,DU228=$E228),40,IF(DR228=$D228,20,IF(DU228=$E228,20,IF(AND(DR228<>$D228,DU228<>$E228),0)))))","v":0},{"$f":"IF(COUNTIF($D$28:$E$35,DU228),40,0)+IF(COUNTIF($D$28:$E$35,DR228),40,0)","v":0},{"$f":"IF(OR(DR228=\"\",DU228=\"\"),0,IF(AND(DR228=$D228,DU228=$E228,DS228=$F228,DT228=$G228),50,0))","v":0},null,null,null,null,{"$f":"IF(OR(DY228=\"\",EB228=\"\"),0,IF(AND(DY228=$D228,EB228=$E228),40,IF(DY228=$D228,20,IF(EB228=$E228,20,IF(AND(DY228<>$D228,EB228<>$E228),0)))))","v":0},{"$f":"IF(COUNTIF($D$28:$E$35,EB228),40,0)+IF(COUNTIF($D$28:$E$35,DY228),40,0)","v":0},{"$f":"IF(OR(DY228=\"\",EB228=\"\"),0,IF(AND(DY228=$D228,EB228=$E228,DZ228=$F228,EA228=$G228),50,0))","v":0},null,null,null,null,{"$f":"IF(OR(EF228=\"\",EI228=\"\"),0,IF(AND(EF228=$D228,EI228=$E228),40,IF(EF228=$D228,20,IF(EI228=$E228,20,IF(AND(EF228<>$D228,EI228<>$E228),0)))))","v":0},{"$f":"IF(COUNTIF($D$28:$E$35,EI228),40,0)+IF(COUNTIF($D$28:$E$35,EF228),40,0)","v":0},{"$f":"IF(OR(EF228=\"\",EI228=\"\"),0,IF(AND(EF228=$D228,EI228=$E228,EG228=$F228,EH228=$G228),50,0))","v":0},null,null,null,null,{"$f":"IF(OR(EM228=\"\",EP228=\"\"),0,IF(AND(EM228=$D228,EP228=$E228),40,IF(EM228=$D228,20,IF(EP228=$E228,20,IF(AND(EM228<>$D228,EP228<>$E228),0)))))","v":0},{"$f":"IF(COUNTIF($D$28:$E$35,EP228),40,0)+IF(COUNTIF($D$28:$E$35,EM228),40,0)","v":0},{"$f":"IF(OR(EM228=\"\",EP228=\"\"),0,IF(AND(EM228=$D228,EP228=$E228,EN228=$F228,EO228=$G228),50,0))","v":0},null,{"$f":"_xlfn.TEXTJOIN(\", \",TRUE,_xlfn._xlws.FILTER(INDEX($J$204:$EM$204,1,_xlfn.SEQUENCE(1,(COLUMNS($J$204:$EM$204)-1)/7+1,1,7))&\" \"&INDEX($J$205:$EM$205,1,_xlfn.SEQUENCE(1,(COLUMNS($J$205:$EM$205)-1)/7+1,1,7)),INDEX($P228:$ES228,1,_xlfn.SEQUENCE(1,(COLUMNS($P228:$ES228)-1)/7+1,1,7))>0,\"\"))","v":""}]
["Sa. 04. Jul","19:00:00",90,"Kanada","Marokko",0,3,null,null,"Südafrika",1,2,"Marokko",{"$f":"IF(OR(J229=\"\",M229=\"\"),0,IF(AND(J229=$D229,M229=$E229),40,IF(J229=$D229,20,IF(M229=$E229,20,IF(AND(J229<>$D229,M229<>$E229),0)))))","v":20},{"$f":"IF(COUNTIF($D$28:$E$35,M229),40,0)+IF(COUNTIF($D$28:$E$35,J229),40,0)","v":40},{"$f":"IF(OR(J229=\"\",M229=\"\"),0,IF(AND(J229=$D229,M229=$E229,K229=$F229,L229=$G229),50,0))","v":0},"Tschechien",2,3,"Holland",{"$f":"IF(OR(Q229=\"\",T229=\"\"),0,IF(AND(Q229=$D229,T229=$E229),40,IF(Q229=$D229,20,IF(T229=$E229,20,IF(AND(Q229<>$D229,T229<>$E229),0)))))","v":0},{"$f":"IF(COUNTIF($D$28:$E$35,T229),40,0)+IF(COUNTIF($D$28:$E$35,Q229),40,0)","v":0},{"$f":"IF(OR(Q229=\"\",T229=\"\"),0,IF(AND(Q229=$D229,T229=$E229,R229=$F229,S229=$G229),50,0))","v":0},"Tschechien",1,2,"Holland",{"$f":"IF(OR(X229=\"\",AA229=\"\"),0,IF(AND(X229=$D229,AA229=$E229),40,IF(X229=$D229,20,IF(AA229=$E229,20,IF(AND(X229<>$D229,AA229<>$E229),0)))))","v":0},{"$f":"IF(COUNTIF($D$28:$E$35,AA229),40,0)+IF(COUNTIF($D$28:$E$35,X229),40,0)","v":0},{"$f":"IF(OR(X229=\"\",AA229=\"\"),0,IF(AND(X229=$D229,AA229=$E229,Y229=$F229,Z229=$G229),50,0))","v":0},"Bosnien-Herz.",1,2,"Holland",{"$f":"IF(OR(AE229=\"\",AH229=\"\"),0,IF(AND(AE229=$D229,AH229=$E229),40,IF(AE229=$D229,20,IF(AH229=$E229,20,IF(AND(AE229<>$D229,AH229<>$E229),0)))))","v":0},{"$f":"IF(COUNTIF($D$28:$E$35,AH229),40,0)+IF(COUNTIF($D$28:$E$35,AE229),40,0)","v":0},{"$f":"IF(OR(AE229=\"\",AH229=\"\"),0,IF(AND(AE229=$D229,AH229=$E229,AF229=$F229,AG229=$G229),50,0))","v":0},null,null,null,null,{"$f":"IF(OR(AL229=\"\",AO229=\"\"),0,IF(AND(AL229=$D229,AO229=$E229),40,IF(AL229=$D229,20,IF(AO229=$E229,20,IF(AND(AL229<>$D229,AO229<>$E229),0)))))","v":0},{"$f":"IF(COUNTIF($D$28:$E$35,AO229),40,0)+IF(COUNTIF($D$28:$E$35,AL229),40,0)","v":0},{"$f":"IF(OR(AL229=\"\",AO229=\"\"),0,IF(AND(AL229=$D229,AO229=$E229,AM229=$F229,AN229=$G229),50,0))","v":0},null,null,null,null,{"$f":"IF(OR(AS229=\"\",AV229=\"\"),0,IF(AND(AS229=$D229,AV229=$E229),40,IF(AS229=$D229,20,IF(AV229=$E229,20,IF(AND(AS229<>$D229,AV229<>$E229),0)))))","v":0},{"$f":"IF(COUNTIF($D$28:$E$35,AV229),40,0)+IF(COUNTIF($D$28:$E$35,AS229),40,0)","v":0},{"$f":"IF(OR(AS229=\"\",AV229=\"\"),0,IF(AND(AS229=$D229,AV229=$E229,AT229=$F229,AU229=$G229),50,0))","v":0},null,null,null,null,{"$f":"IF(OR(AZ229=\"\",BC229=\"\"),0,IF(AND(AZ229=$D229,BC229=$E229),40,IF(AZ229=$D229,20,IF(BC229=$E229,20,IF(AND(AZ229<>$D229,BC229<>$E229),0)))))","v":0},{"$f":"IF(COUNTIF($D$28:$E$35,BC229),40,0)+IF(COUNTIF($D$28:$E$35,AZ229),40,0)","v":0},{"$f":"IF(OR(AZ229=\"\",BC229=\"\"),0,IF(AND(AZ229=$D229,BC229=$E229,BA229=$F229,BB229=$G229),50,0))","v":0},null,null,null,null,{"$f":"IF(OR(BG229=\"\",BJ229=\"\"),0,IF(AND(BG229=$D229,BJ229=$E229),40,IF(BG229=$D229,20,IF(BJ229=$E229,20,IF(AND(BG229<>$D229,BJ229<>$E229),0)))))","v":0},{"$f":"IF(COUNTIF($D$28:$E$35,BJ229),40,0)+IF(COUNTIF($D$28:$E$35,BG229),40,0)","v":0},{"$f":"IF(OR(BG229=\"\",BJ229=\"\"),0,IF(AND(BG229=$D229,BJ229=$E229,BH229=$F229,BI229=$G229),50,0))","v":0},null,null,null,null,{"$f":"IF(OR(BN229=\"\",BQ229=\"\"),0,IF(AND(BN229=$D229,BQ229=$E229),40,IF(BN229=$D229,20,IF(BQ229=$E229,20,IF(AND(BN229<>$D229,BQ229<>$E229),0)))))","v":0},{"$f":"IF(COUNTIF($D$28:$E$35,BQ229),40,0)+IF(COUNTIF($D$28:$E$35,BN229),40,0)","v":0},{"$f":"IF(OR(BN229=\"\",BQ229=\"\"),0,IF(AND(BN229=$D229,BQ229=$E229,BO229=$F229,BP229=$G229),50,0))","v":0},null,null,null,null,{"$f":"IF(OR(BU229=\"\",BX229=\"\"),0,IF(AND(BU229=$D229,BX229=$E229),40,IF(BU229=$D229,20,IF(BX229=$E229,20,IF(AND(BU229<>$D229,BX229<>$E229),0)))))","v":0},{"$f":"IF(COUNTIF($D$28:$E$35,BX229),40,0)+IF(COUNTIF($D$28:$E$35,BU229),40,0)","v":0},{"$f":"IF(OR(BU229=\"\",BX229=\"\"),0,IF(AND(BU229=$D229,BX229=$E229,BV229=$F229,BW229=$G229),50,0))","v":0},null,null,null,null,{"$f":"IF(OR(CB229=\"\",CE229=\"\"),0,IF(AND(CB229=$D229,CE229=$E229),40,IF(CB229=$D229,20,IF(CE229=$E229,20,IF(AND(CB229<>$D229,CE229<>$E229),0)))))","v":0},{"$f":"IF(COUNTIF($D$28:$E$35,CE229),40,0)+IF(COUNTIF($D$28:$E$35,CB229),40,0)","v":0},{"$f":"IF(OR(CB229=\"\",CE229=\"\"),0,IF(AND(CB229=$D229,CE229=$E229,CC229=$F229,CD229=$G229),50,0))","v":0},null,null,null,null,{"$f":"IF(OR(CI229=\"\",CL229=\"\"),0,IF(AND(CI229=$D229,CL229=$E229),40,IF(CI229=$D229,20,IF(CL229=$E229,20,IF(AND(CI229<>$D229,CL229<>$E229),0)))))","v":0},{"$f":"IF(COUNTIF($D$28:$E$35,CL229),40,0)+IF(COUNTIF($D$28:$E$35,CI229),40,0)","v":0},{"$f":"IF(OR(CI229=\"\",CL229=\"\"),0,IF(AND(CI229=$D229,CL229=$E229,CJ229=$F229,CK229=$G229),50,0))","v":0},null,null,null,null,{"$f":"IF(OR(CP229=\"\",CS229=\"\"),0,IF(AND(CP229=$D229,CS229=$E229),40,IF(CP229=$D229,20,IF(CS229=$E229,20,IF(AND(CP229<>$D229,CS229<>$E229),0)))))","v":0},{"$f":"IF(COUNTIF($D$28:$E$35,CS229),40,0)+IF(COUNTIF($D$28:$E$35,CP229),40,0)","v":0},{"$f":"IF(OR(CP229=\"\",CS229=\"\"),0,IF(AND(CP229=$D229,CS229=$E229,CQ229=$F229,CR229=$G229),50,0))","v":0},null,null,null,null,{"$f":"IF(OR(CW229=\"\",CZ229=\"\"),0,IF(AND(CW229=$D229,CZ229=$E229),40,IF(CW229=$D229,20,IF(CZ229=$E229,20,IF(AND(CW229<>$D229,CZ229<>$E229),0)))))","v":0},{"$f":"IF(COUNTIF($D$28:$E$35,CZ229),40,0)+IF(COUNTIF($D$28:$E$35,CW229),40,0)","v":0},{"$f":"IF(OR(CW229=\"\",CZ229=\"\"),0,IF(AND(CW229=$D229,CZ229=$E229,CX229=$F229,CY229=$G229),50,0))","v":0},null,null,null,null,{"$f":"IF(OR(DD229=\"\",DG229=\"\"),0,IF(AND(DD229=$D229,DG229=$E229),40,IF(DD229=$D229,20,IF(DG229=$E229,20,IF(AND(DD229<>$D229,DG229<>$E229),0)))))","v":0},{"$f":"IF(COUNTIF($D$28:$E$35,DG229),40,0)+IF(COUNTIF($D$28:$E$35,DD229),40,0)","v":0},{"$f":"IF(OR(DD229=\"\",DG229=\"\"),0,IF(AND(DD229=$D229,DG229=$E229,DE229=$F229,DF229=$G229),50,0))","v":0},null,null,null,null,{"$f":"IF(OR(DK229=\"\",DN229=\"\"),0,IF(AND(DK229=$D229,DN229=$E229),40,IF(DK229=$D229,20,IF(DN229=$E229,20,IF(AND(DK229<>$D229,DN229<>$E229),0)))))","v":0},{"$f":"IF(COUNTIF($D$28:$E$35,DN229),40,0)+IF(COUNTIF($D$28:$E$35,DK229),40,0)","v":0},{"$f":"IF(OR(DK229=\"\",DN229=\"\"),0,IF(AND(DK229=$D229,DN229=$E229,DL229=$F229,DM229=$G229),50,0))","v":0},null,null,null,null,{"$f":"IF(OR(DR229=\"\",DU229=\"\"),0,IF(AND(DR229=$D229,DU229=$E229),40,IF(DR229=$D229,20,IF(DU229=$E229,20,IF(AND(DR229<>$D229,DU229<>$E229),0)))))","v":0},{"$f":"IF(COUNTIF($D$28:$E$35,DU229),40,0)+IF(COUNTIF($D$28:$E$35,DR229),40,0)","v":0},{"$f":"IF(OR(DR229=\"\",DU229=\"\"),0,IF(AND(DR229=$D229,DU229=$E229,DS229=$F229,DT229=$G229),50,0))","v":0},null,null,null,null,{"$f":"IF(OR(DY229=\"\",EB229=\"\"),0,IF(AND(DY229=$D229,EB229=$E229),40,IF(DY229=$D229,20,IF(EB229=$E229,20,IF(AND(DY229<>$D229,EB229<>$E229),0)))))","v":0},{"$f":"IF(COUNTIF($D$28:$E$35,EB229),40,0)+IF(COUNTIF($D$28:$E$35,DY229),40,0)","v":0},{"$f":"IF(OR(DY229=\"\",EB229=\"\"),0,IF(AND(DY229=$D229,EB229=$E229,DZ229=$F229,EA229=$G229),50,0))","v":0},null,null,null,null,{"$f":"IF(OR(EF229=\"\",EI229=\"\"),0,IF(AND(EF229=$D229,EI229=$E229),40,IF(EF229=$D229,20,IF(EI229=$E229,20,IF(AND(EF229<>$D229,EI229<>$E229),0)))))","v":0},{"$f":"IF(COUNTIF($D$28:$E$35,EI229),40,0)+IF(COUNTIF($D$28:$E$35,EF229),40,0)","v":0},{"$f":"IF(OR(EF229=\"\",EI229=\"\"),0,IF(AND(EF229=$D229,EI229=$E229,EG229=$F229,EH229=$G229),50,0))","v":0},null,null,null,null,{"$f":"IF(OR(EM229=\"\",EP229=\"\"),0,IF(AND(EM229=$D229,EP229=$E229),40,IF(EM229=$D229,20,IF(EP229=$E229,20,IF(AND(EM229<>$D229,EP229<>$E229),0)))))","v":0},{"$f":"IF(COUNTIF($D$28:$E$35,EP229),40,0)+IF(COUNTIF($D$28:$E$35,EM229),40,0)","v":0},{"$f":"IF(OR(EM229=\"\",EP229=\"\"),0,IF(AND(EM229=$D229,EP229=$E229,EN229=$F229,EO229=$G229),50,0))","v":0},null,{"$f":"_xlfn.TEXTJOIN(\", \",TRUE,_xlfn._xlws.FILTER(INDEX($J$204:$EM$204,1,_xlfn.SEQUENCE(1,(COLUMNS($J$204:$EM$204)-1)/7+1,1,7))&\" \"&INDEX($J$205:$EM$205,1,_xlfn.SEQUENCE(1,(COLUMNS($J$205:$EM$205)-1)/7+1,1,7)),INDEX($P229:$ES229,1,_xlfn.SEQUENCE(1,(COLUMNS($P229:$ES229)-1)/7+1,1,7))>0,\"\"))","v":""}]
["So. 05. Jul","22:00:00",91,"Brasilien","Norwegen",1,2,null,null,"Schweden",2,1,"Ecuador",0,0,0,"Brasilien",3,1,"Ecuador",20,40,0,"Brasilien",2,1,"Norwegen",40,80,0,"Brasilien",3,1,"Curacao",20,40,0,null,null,null,null,0,0,0,null,null,null,null,0,0,0,null,null,null,null,0,0,0,null,null,null,null,0,0,0,null,null,null,null,0,0,0,null,null,null,null,0,0,0,null,null,null,null,0,0,0,null,null,null,null,0,0,0,null,null,null,null,0,0,0,null,null,null,null,0,0,0,null,null,null,null,0,0,0,null,null,null,null,0,0,0,null,null,null,null,0,0,0,null,null,null,null,0,0,0,null,null,null,null,0,0,0,null,null,null,null,0,0,0,null,{"$f":"_xlfn.TEXTJOIN(\", \",TRUE,_xlfn._xlws.FILTER(INDEX($J$204:$EM$204,1,_xlfn.SEQUENCE(1,(COLUMNS($J$204:$EM$204)-1)/7+1,1,7))&\" \"&INDEX($J$205:$EM$205,1,_xlfn.SEQUENCE(1,(COLUMNS($J$205:$EM$205)-1)/7+1,1,7)),INDEX($P230:$ES230,1,_xlfn.SEQUENCE(1,(COLUMNS($P230:$ES230)-1)/7+1,1,7))>0,\"\"))","v":""}]
["Mo. 06. Jul","02:00:00",92,"Mexiko","England",2,3,null,null,"Mexiko",2,1,"England",40,80,0,"Mexiko",3,2,"Kroatien",20,40,0,"Mexiko",1,2,"England",40,80,0,"Mexiko",1,2,"England",40,80,0,null,null,null,null,0,0,0,null,null,null,null,0,0,0,null,null,null,null,0,0,0,null,null,null,null,0,0,0,null,null,null,null,0,0,0,null,null,null,null,0,0,0,null,null,null,null,0,0,0,null,null,null,null,0,0,0,null,null,null,null,0,0,0,null,null,null,null,0,0,0,null,null,null,null,0,0,0,null,null,null,null,0,0,0,null,null,null,null,0,0,0,null,null,null,null,0,0,0,null,null,null,null,0,0,0,null,null,null,null,0,0,0,null,{"$f":"_xlfn.TEXTJOIN(\", \",TRUE,_xlfn._xlws.FILTER(INDEX($J$204:$EM$204,1,_xlfn.SEQUENCE(1,(COLUMNS($J$204:$EM$204)-1)/7+1,1,7))&\" \"&INDEX($J$205:$EM$205,1,_xlfn.SEQUENCE(1,(COLUMNS($J$205:$EM$205)-1)/7+1,1,7)),INDEX($P231:$ES231,1,_xlfn.SEQUENCE(1,(COLUMNS($P231:$ES231)-1)/7+1,1,7))>0,\"\"))","v":""}]
["Mo. 06. Jul","21:00:00",93,"Portugal","Spanien",0,1,null,null,"DR Kongo",1,2,"Spanien",20,40,0,"Kolumbien",2,3,"Spanien",20,80,0,"Kolumbien",1,2,"Spanien",20,80,0,"Kroatien",1,3,"Spanien",20,40,0,null,null,null,null,0,0,0,null,null,null,null,0,0,0,null,null,null,null,0,0,0,null,null,null,null,0,0,0,null,null,null,null,0,0,0,null,null,null,null,0,0,0,null,null,null,null,0,0,0,null,null,null,null,0,0,0,null,null,null,null,0,0,0,null,null,null,null,0,0,0,null,null,null,null,0,0,0,null,null,null,null,0,0,0,null,null,null,null,0,0,0,null,null,null,null,0,0,0,null,null,null,null,0,0,0,null,null,null,null,0,0,0,null,{"$f":"_xlfn.TEXTJOIN(\", \",TRUE,_xlfn._xlws.FILTER(INDEX($J$204:$EM$204,1,_xlfn.SEQUENCE(1,(COLUMNS($J$204:$EM$204)-1)/7+1,1,7))&\" \"&INDEX($J$205:$EM$205,1,_xlfn.SEQUENCE(1,(COLUMNS($J$205:$EM$205)-1)/7+1,1,7)),INDEX($P232:$ES232,1,_xlfn.SEQUENCE(1,(COLUMNS($P232:$ES232)-1)/7+1,1,7))>0,\"\"))","v":""}]
["Di. 07. Jul","02:00:00",94,"USA","Belgien",1,4,null,null,"USA",2,1,"Belgien",40,80,0,"Paraguay",1,0,"Belgien",20,80,0,"USA",1,2,"Belgien",40,80,0,"USA",2,3,"Belgien",40,80,0,null,null,null,null,0,0,0,null,null,null,null,0,0,0,null,null,null,null,0,0,0,null,null,null,null,0,0,0,null,null,null,null,0,0,0,null,null,null,null,0,0,0,null,null,null,null,0,0,0,null,null,null,null,0,0,0,null,null,null,null,0,0,0,null,null,null,null,0,0,0,null,null,null,null,0,0,0,null,null,null,null,0,0,0,null,null,null,null,0,0,0,null,null,null,null,0,0,0,null,null,null,null,0,0,0,null,null,null,null,0,0,0,null,{"$f":"_xlfn.TEXTJOIN(\", \",TRUE,_xlfn._xlws.FILTER(INDEX($J$204:$EM$204,1,_xlfn.SEQUENCE(1,(COLUMNS($J$204:$EM$204)-1)/7+1,1,7))&\" \"&INDEX($J$205:$EM$205,1,_xlfn.SEQUENCE(1,(COLUMNS($J$205:$EM$205)-1)/7+1,1,7)),INDEX($P233:$ES233,1,_xlfn.SEQUENCE(1,(COLUMNS($P233:$ES233)-1)/7+1,1,7))>0,\"\"))","v":""}]
["Di. 07. Jul","18:00:00",95,"Argentinien","Ägypten",3,2,null,null,"Uruguay",1,2,"Ägypten",20,40,0,"Argentinien",3,0,"Australien",20,40,0,"Argentinien",2,1,"Türkei",20,40,0,"Argentinien",3,2,"Türkei",20,40,0,null,null,null,null,0,0,0,null,null,null,null,0,0,0,null,null,null,null,0,0,0,null,null,null,null,0,0,0,null,null,null,null,0,0,0,null,null,null,null,0,0,0,null,null,null,null,0,0,0,null,null,null,null,0,0,0,null,null,null,null,0,0,0,null,null,null,null,0,0,0,null,null,null,null,0,0,0,null,null,null,null,0,0,0,null,null,null,null,0,0,0,null,null,null,null,0,0,0,null,null,null,null,0,0,0,null,null,null,null,0,0,0,null,{"$f":"_xlfn.TEXTJOIN(\", \",TRUE,_xlfn._xlws.FILTER(INDEX($J$204:$EM$204,1,_xlfn.SEQUENCE(1,(COLUMNS($J$204:$EM$204)-1)/7+1,1,7))&\" \"&INDEX($J$205:$EM$205,1,_xlfn.SEQUENCE(1,(COLUMNS($J$205:$EM$205)-1)/7+1,1,7)),INDEX($P234:$ES234,1,_xlfn.SEQUENCE(1,(COLUMNS($P234:$ES234)-1)/7+1,1,7))>0,\"\"))","v":""}]
["Di. 07. Jul","22:00:00",96,"Schweiz","Kolumbien",4,3,null,null,"Schweiz",2,1,"Portugal",20,80,0,"Schweiz",1,4,"Portugal",20,80,0,"Schweiz",1,2,"Portugal",20,80,0,"Schweiz",1,2,"Portugal",20,80,0,null,null,null,null,0,0,0,null,null,null,null,0,0,0,null,null,null,null,0,0,0,null,null,null,null,0,0,0,null,null,null,null,0,0,0,null,null,null,null,0,0,0,null,null,null,null,0,0,0,null,null,null,null,0,0,0,null,null,null,null,0,0,0,null,null,null,null,0,0,0,null,null,null,null,0,0,0,null,null,null,null,0,0,0,null,null,null,null,0,0,0,null,null,null,null,0,0,0,null,null,null,null,0,0,0,null,null,null,null,0,0,0,null,{"$f":"_xlfn.TEXTJOIN(\", \",TRUE,_xlfn._xlws.FILTER(INDEX($J$204:$EM$204,1,_xlfn.SEQUENCE(1,(COLUMNS($J$204:$EM$204)-1)/7+1,1,7))&\" \"&INDEX($J$205:$EM$205,1,_xlfn.SEQUENCE(1,(COLUMNS($J$205:$EM$205)-1)/7+1,1,7)),INDEX($P235:$ES235,1,_xlfn.SEQUENCE(1,(COLUMNS($P235:$ES235)-1)/7+1,1,7))>0,\"\"))","v":""}]
["Viertelfinale",null,null,null,null,null,null,null,null,null,null,null,null,null,null,null,null,null,null,null,null,null,null,null,null,null,null,null,null,null,null,null,null,null,null,null,null,null,null,null,null,null,null,null,null,null,null,null,null,null,null,null,null,null,null,null,null,null,null,null,null,null,null,null,null,null,null,null,null,null,null,null,null,null,null,null,null,null,null,null,null,null,null,null,null,null,null,null,null,null,null,null,null,null,null,null,null,null,null,null,null,null,null,null,null,null,null,null,null,null,null,null,null,null,null,null,null,null,null,null,null,null,null,null,null,null,null,null,null,null,null,null,null,null,null,null,null,null,null,null,null,null,null,null,null,null,null,null,null,null,{"$f":"_xlfn.TEXTJOIN(\", \",TRUE,_xlfn._xlws.FILTER(INDEX($J$204:$EM$204,1,_xlfn.SEQUENCE(1,(COLUMNS($J$204:$EM$204)-1)/7+1,1,7))&\" \"&INDEX($J$205:$EM$205,1,_xlfn.SEQUENCE(1,(COLUMNS($J$205:$EM$205)-1)/7+1,1,7)),INDEX($P236:$ES236,1,_xlfn.SEQUENCE(1,(COLUMNS($P236:$ES236)-1)/7+1,1,7))>0,\"\"))","v":""}]
[{"$f":"A187","v":"Do. 09. Jul"},"22:00:00",97,"Frankreich","Marokko",{"$f":"IF(F187=\"\",\"\",F187)","v":2},0,null,null,"Deutschland",2,1,"Marokko",{"$f":"IF(OR(J237=\"\",M237=\"\"),0,IF(AND(J237=$D237,M237=$E237),60,IF(J237=$D237,30,IF(M237=$E237,30,IF(AND(J237<>$D237,M237<>$E237),0)))))","v":30},{"$f":"IF(COUNTIF($D$37:$E$40,M237),80,0)+IF(COUNTIF($D$37:$E$40,J237),80,0)","v":80},{"$f":"IF(OR(J237=\"\",M237=\"\"),0,IF(AND(J237=$D237,M237=$E237,K237=$F237,L237=$G237),70,0))","v":0},"Frankreich",3,2,"Holland",{"$f":"IF(OR(Q237=\"\",T237=\"\"),0,IF(AND(Q237=$D237,T237=$E237),60,IF(Q237=$D237,30,IF(T237=$E237,30,IF(AND(Q237<>$D237,T237<>$E237),0)))))","v":30},{"$f":"IF(COUNTIF($D$37:$E$40,T237),80,0)+IF(COUNTIF($D$37:$E$40,Q237),80,0)","v":80},{"$f":"IF(OR(Q237=\"\",T237=\"\"),0,IF(AND(Q237=$D237,T237=$E237,R237=$F237,S237=$G237),70,0))","v":0},"Frankreich",2,1,"Holland",{"$f":"IF(OR(X237=\"\",AA237=\"\"),0,IF(AND(X237=$D237,AA237=$E237),60,IF(X237=$D237,30,IF(AA237=$E237,30,IF(AND(X237<>$D237,AA237<>$E237),0)))))","v":30},{"$f":"IF(COUNTIF($D$37:$E$40,AA237),80,0)+IF(COUNTIF($D$37:$E$40,X237),80,0)","v":80},{"$f":"IF(OR(X237=\"\",AA237=\"\"),0,IF(AND(X237=$D237,AA237=$E237,Y237=$F237,Z237=$G237),70,0))","v":0},"Deutschland",3,1,"Holland",{"$f":"IF(OR(AE237=\"\",AH237=\"\"),0,IF(AND(AE237=$D237,AH237=$E237),60,IF(AE237=$D237,30,IF(AH237=$E237,30,IF(AND(AE237<>$D237,AH237<>$E237),0)))))","v":0},{"$f":"IF(COUNTIF($D$37:$E$40,AH237),80,0)+IF(COUNTIF($D$37:$E$40,AE237),80,0)","v":0},{"$f":"IF(OR(AE237=\"\",AH237=\"\"),0,IF(AND(AE237=$D237,AH237=$E237,AF237=$F237,AG237=$G237),70,0))","v":0},null,null,null,null,{"$f":"IF(OR(AL237=\"\",AO237=\"\"),0,IF(AND(AL237=$D237,AO237=$E237),60,IF(AL237=$D237,30,IF(AO237=$E237,30,IF(AND(AL237<>$D237,AO237<>$E237),0)))))","v":0},{"$f":"IF(COUNTIF($D$37:$E$40,AO237),80,0)+IF(COUNTIF($D$37:$E$40,AL237),80,0)","v":0},{"$f":"IF(OR(AL237=\"\",AO237=\"\"),0,IF(AND(AL237=$D237,AO237=$E237,AM237=$F237,AN237=$G237),70,0))","v":0},null,null,null,null,{"$f":"IF(OR(AS237=\"\",AV237=\"\"),0,IF(AND(AS237=$D237,AV237=$E237),60,IF(AS237=$D237,30,IF(AV237=$E237,30,IF(AND(AS237<>$D237,AV237<>$E237),0)))))","v":0},{"$f":"IF(COUNTIF($D$37:$E$40,AV237),80,0)+IF(COUNTIF($D$37:$E$40,AS237),80,0)","v":0},{"$f":"IF(OR(AS237=\"\",AV237=\"\"),0,IF(AND(AS237=$D237,AV237=$E237,AT237=$F237,AU237=$G237),70,0))","v":0},null,null,null,null,{"$f":"IF(OR(AZ237=\"\",BC237=\"\"),0,IF(AND(AZ237=$D237,BC237=$E237),60,IF(AZ237=$D237,30,IF(BC237=$E237,30,IF(AND(AZ237<>$D237,BC237<>$E237),0)))))","v":0},{"$f":"IF(COUNTIF($D$37:$E$40,BC237),80,0)+IF(COUNTIF($D$37:$E$40,AZ237),80,0)","v":0},{"$f":"IF(OR(AZ237=\"\",BC237=\"\"),0,IF(AND(AZ237=$D237,BC237=$E237,BA237=$F237,BB237=$G237),70,0))","v":0},null,null,null,null,{"$f":"IF(OR(BG237=\"\",BJ237=\"\"),0,IF(AND(BG237=$D237,BJ237=$E237),60,IF(BG237=$D237,30,IF(BJ237=$E237,30,IF(AND(BG237<>$D237,BJ237<>$E237),0)))))","v":0},{"$f":"IF(COUNTIF($D$37:$E$40,BJ237),80,0)+IF(COUNTIF($D$37:$E$40,BG237),80,0)","v":0},{"$f":"IF(OR(BG237=\"\",BJ237=\"\"),0,IF(AND(BG237=$D237,BJ237=$E237,BH237=$F237,BI237=$G237),70,0))","v":0},null,null,null,null,{"$f":"IF(OR(BN237=\"\",BQ237=\"\"),0,IF(AND(BN237=$D237,BQ237=$E237),60,IF(BN237=$D237,30,IF(BQ237=$E237,30,IF(AND(BN237<>$D237,BQ237<>$E237),0)))))","v":0},{"$f":"IF(COUNTIF($D$37:$E$40,BQ237),80,0)+IF(COUNTIF($D$37:$E$40,BN237),80,0)","v":0},{"$f":"IF(OR(BN237=\"\",BQ237=\"\"),0,IF(AND(BN237=$D237,BQ237=$E237,BO237=$F237,BP237=$G237),70,0))","v":0},null,null,null,null,{"$f":"IF(OR(BU237=\"\",BX237=\"\"),0,IF(AND(BU237=$D237,BX237=$E237),60,IF(BU237=$D237,30,IF(BX237=$E237,30,IF(AND(BU237<>$D237,BX237<>$E237),0)))))","v":0},{"$f":"IF(COUNTIF($D$37:$E$40,BX237),80,0)+IF(COUNTIF($D$37:$E$40,BU237),80,0)","v":0},{"$f":"IF(OR(BU237=\"\",BX237=\"\"),0,IF(AND(BU237=$D237,BX237=$E237,BV237=$F237,BW237=$G237),70,0))","v":0},null,null,null,null,{"$f":"IF(OR(CB237=\"\",CE237=\"\"),0,IF(AND(CB237=$D237,CE237=$E237),60,IF(CB237=$D237,30,IF(CE237=$E237,30,IF(AND(CB237<>$D237,CE237<>$E237),0)))))","v":0},{"$f":"IF(COUNTIF($D$37:$E$40,CE237),80,0)+IF(COUNTIF($D$37:$E$40,CB237),80,0)","v":0},{"$f":"IF(OR(CB237=\"\",CE237=\"\"),0,IF(AND(CB237=$D237,CE237=$E237,CC237=$F237,CD237=$G237),70,0))","v":0},null,null,null,null,{"$f":"IF(OR(CI237=\"\",CL237=\"\"),0,IF(AND(CI237=$D237,CL237=$E237),60,IF(CI237=$D237,30,IF(CL237=$E237,30,IF(AND(CI237<>$D237,CL237<>$E237),0)))))","v":0},{"$f":"IF(COUNTIF($D$37:$E$40,CL237),80,0)+IF(COUNTIF($D$37:$E$40,CI237),80,0)","v":0},{"$f":"IF(OR(CI237=\"\",CL237=\"\"),0,IF(AND(CI237=$D237,CL237=$E237,CJ237=$F237,CK237=$G237),70,0))","v":0},null,null,null,null,{"$f":"IF(OR(CP237=\"\",CS237=\"\"),0,IF(AND(CP237=$D237,CS237=$E237),60,IF(CP237=$D237,30,IF(CS237=$E237,30,IF(AND(CP237<>$D237,CS237<>$E237),0)))))","v":0},{"$f":"IF(COUNTIF($D$37:$E$40,CS237),80,0)+IF(COUNTIF($D$37:$E$40,CP237),80,0)","v":0},{"$f":"IF(OR(CP237=\"\",CS237=\"\"),0,IF(AND(CP237=$D237,CS237=$E237,CQ237=$F237,CR237=$G237),70,0))","v":0},null,null,null,null,{"$f":"IF(OR(CW237=\"\",CZ237=\"\"),0,IF(AND(CW237=$D237,CZ237=$E237),60,IF(CW237=$D237,30,IF(CZ237=$E237,30,IF(AND(CW237<>$D237,CZ237<>$E237),0)))))","v":0},{"$f":"IF(COUNTIF($D$37:$E$40,CZ237),80,0)+IF(COUNTIF($D$37:$E$40,CW237),80,0)","v":0},{"$f":"IF(OR(CW237=\"\",CZ237=\"\"),0,IF(AND(CW237=$D237,CZ237=$E237,CX237=$F237,CY237=$G237),70,0))","v":0},null,null,null,null,{"$f":"IF(OR(DD237=\"\",DG237=\"\"),0,IF(AND(DD237=$D237,DG237=$E237),60,IF(DD237=$D237,30,IF(DG237=$E237,30,IF(AND(DD237<>$D237,DG237<>$E237),0)))))","v":0},{"$f":"IF(COUNTIF($D$37:$E$40,DG237),80,0)+IF(COUNTIF($D$37:$E$40,DD237),80,0)","v":0},{"$f":"IF(OR(DD237=\"\",DG237=\"\"),0,IF(AND(DD237=$D237,DG237=$E237,DE237=$F237,DF237=$G237),70,0))","v":0},null,null,null,null,{"$f":"IF(OR(DK237=\"\",DN237=\"\"),0,IF(AND(DK237=$D237,DN237=$E237),60,IF(DK237=$D237,30,IF(DN237=$E237,30,IF(AND(DK237<>$D237,DN237<>$E237),0)))))","v":0},{"$f":"IF(COUNTIF($D$37:$E$40,DN237),80,0)+IF(COUNTIF($D$37:$E$40,DK237),80,0)","v":0},{"$f":"IF(OR(DK237=\"\",DN237=\"\"),0,IF(AND(DK237=$D237,DN237=$E237,DL237=$F237,DM237=$G237),70,0))","v":0},null,null,null,null,{"$f":"IF(OR(DR237=\"\",DU237=\"\"),0,IF(AND(DR237=$D237,DU237=$E237),60,IF(DR237=$D237,30,IF(DU237=$E237,30,IF(AND(DR237<>$D237,DU237<>$E237),0)))))","v":0},{"$f":"IF(COUNTIF($D$37:$E$40,DU237),80,0)+IF(COUNTIF($D$37:$E$40,DR237),80,0)","v":0},{"$f":"IF(OR(DR237=\"\",DU237=\"\"),0,IF(AND(DR237=$D237,DU237=$E237,DS237=$F237,DT237=$G237),70,0))","v":0},null,null,null,null,{"$f":"IF(OR(DY237=\"\",EB237=\"\"),0,IF(AND(DY237=$D237,EB237=$E237),60,IF(DY237=$D237,30,IF(EB237=$E237,30,IF(AND(DY237<>$D237,EB237<>$E237),0)))))","v":0},{"$f":"IF(COUNTIF($D$37:$E$40,EB237),80,0)+IF(COUNTIF($D$37:$E$40,DY237),80,0)","v":0},{"$f":"IF(OR(DY237=\"\",EB237=\"\"),0,IF(AND(DY237=$D237,EB237=$E237,DZ237=$F237,EA237=$G237),70,0))","v":0},null,null,null,null,{"$f":"IF(OR(EF237=\"\",EI237=\"\"),0,IF(AND(EF237=$D237,EI237=$E237),60,IF(EF237=$D237,30,IF(EI237=$E237,30,IF(AND(EF237<>$D237,EI237<>$E237),0)))))","v":0},{"$f":"IF(COUNTIF($D$37:$E$40,EI237),80,0)+IF(COUNTIF($D$37:$E$40,EF237),80,0)","v":0},{"$f":"IF(OR(EF237=\"\",EI237=\"\"),0,IF(AND(EF237=$D237,EI237=$E237,EG237=$F237,EH237=$G237),70,0))","v":0},null,null,null,null,{"$f":"IF(OR(EM237=\"\",EP237=\"\"),0,IF(AND(EM237=$D237,EP237=$E237),60,IF(EM237=$D237,30,IF(EP237=$E237,30,IF(AND(EM237<>$D237,EP237<>$E237),0)))))","v":0},{"$f":"IF(COUNTIF($D$37:$E$40,EP237),80,0)+IF(COUNTIF($D$37:$E$40,EM237),80,0)","v":0},{"$f":"IF(OR(EM237=\"\",EP237=\"\"),0,IF(AND(EM237=$D237,EP237=$E237,EN237=$F237,EO237=$G237),70,0))","v":0},null,{"$f":"_xlfn.TEXTJOIN(\", \",TRUE,_xlfn._xlws.FILTER(INDEX($J$204:$EM$204,1,_xlfn.SEQUENCE(1,(COLUMNS($J$204:$EM$204)-1)/7+1,1,7))&\" \"&INDEX($J$205:$EM$205,1,_xlfn.SEQUENCE(1,(COLUMNS($J$205:$EM$205)-1)/7+1,1,7)),INDEX($P237:$ES237,1,_xlfn.SEQUENCE(1,(COLUMNS($P237:$ES237)-1)/7+1,1,7))>0,\"\"))","v":""}]
["Fr. 10. Jul","21:00:00",98,"Spanien","Belgien",2,1,null,null,"Spanien",3,1,"USA",{"$f":"IF(OR(J238=\"\",M238=\"\"),0,IF(AND(J238=$D238,M238=$E238),60,IF(J238=$D238,30,IF(M238=$E238,30,IF(AND(J238<>$D238,M238<>$E238),0)))))","v":30},{"$f":"IF(COUNTIF($D$37:$E$40,M238),80,0)+IF(COUNTIF($D$37:$E$40,J238),80,0)","v":80},{"$f":"IF(OR(J238=\"\",M238=\"\"),0,IF(AND(J238=$D238,M238=$E238,K238=$F238,L238=$G238),70,0))","v":0},"Spanien",3,1,"Paraguay",{"$f":"IF(OR(Q238=\"\",T238=\"\"),0,IF(AND(Q238=$D238,T238=$E238),60,IF(Q238=$D238,30,IF(T238=$E238,30,IF(AND(Q238<>$D238,T238<>$E238),0)))))","v":30},{"$f":"IF(COUNTIF($D$37:$E$40,T238),80,0)+IF(COUNTIF($D$37:$E$40,Q238),80,0)","v":80},{"$f":"IF(OR(Q238=\"\",T238=\"\"),0,IF(AND(Q238=$D238,T238=$E238,R238=$F238,S238=$G238),70,0))","v":0},"Spanien",2,1,"Belgien",{"$f":"IF(OR(X238=\"\",AA238=\"\"),0,IF(AND(X238=$D238,AA238=$E238),60,IF(X238=$D238,30,IF(AA238=$E238,30,IF(AND(X238<>$D238,AA238<>$E238),0)))))","v":60},{"$f":"IF(COUNTIF($D$37:$E$40,AA238),80,0)+IF(COUNTIF($D$37:$E$40,X238),80,0)","v":160},{"$f":"IF(OR(X238=\"\",AA238=\"\"),0,IF(AND(X238=$D238,AA238=$E238,Y238=$F238,Z238=$G238),70,0))","v":70},"Spanien",3,1,"Belgien",{"$f":"IF(OR(AE238=\"\",AH238=\"\"),0,IF(AND(AE238=$D238,AH238=$E238),60,IF(AE238=$D238,30,IF(AH238=$E238,30,IF(AND(AE238<>$D238,AH238<>$E238),0)))))","v":60},{"$f":"IF(COUNTIF($D$37:$E$40,AH238),80,0)+IF(COUNTIF($D$37:$E$40,AE238),80,0)","v":160},{"$f":"IF(OR(AE238=\"\",AH238=\"\"),0,IF(AND(AE238=$D238,AH238=$E238,AF238=$F238,AG238=$G238),70,0))","v":0},null,null,null,null,{"$f":"IF(OR(AL238=\"\",AO238=\"\"),0,IF(AND(AL238=$D238,AO238=$E238),60,IF(AL238=$D238,30,IF(AO238=$E238,30,IF(AND(AL238<>$D238,AO238<>$E238),0)))))","v":0},{"$f":"IF(COUNTIF($D$37:$E$40,AO238),80,0)+IF(COUNTIF($D$37:$E$40,AL238),80,0)","v":0},{"$f":"IF(OR(AL238=\"\",AO238=\"\"),0,IF(AND(AL238=$D238,AO238=$E238,AM238=$F238,AN238=$G238),70,0))","v":0},null,null,null,null,{"$f":"IF(OR(AS238=\"\",AV238=\"\"),0,IF(AND(AS238=$D238,AV238=$E238),60,IF(AS238=$D238,30,IF(AV238=$E238,30,IF(AND(AS238<>$D238,AV238<>$E238),0)))))","v":0},{"$f":"IF(COUNTIF($D$37:$E$40,AV238),80,0)+IF(COUNTIF($D$37:$E$40,AS238),80,0)","v":0},{"$f":"IF(OR(AS238=\"\",AV238=\"\"),0,IF(AND(AS238=$D238,AV238=$E238,AT238=$F238,AU238=$G238),70,0))","v":0},null,null,null,null,{"$f":"IF(OR(AZ238=\"\",BC238=\"\"),0,IF(AND(AZ238=$D238,BC238=$E238),60,IF(AZ238=$D238,30,IF(BC238=$E238,30,IF(AND(AZ238<>$D238,BC238<>$E238),0)))))","v":0},{"$f":"IF(COUNTIF($D$37:$E$40,BC238),80,0)+IF(COUNTIF($D$37:$E$40,AZ238),80,0)","v":0},{"$f":"IF(OR(AZ238=\"\",BC238=\"\"),0,IF(AND(AZ238=$D238,BC238=$E238,BA238=$F238,BB238=$G238),70,0))","v":0},null,null,null,null,{"$f":"IF(OR(BG238=\"\",BJ238=\"\"),0,IF(AND(BG238=$D238,BJ238=$E238),60,IF(BG238=$D238,30,IF(BJ238=$E238,30,IF(AND(BG238<>$D238,BJ238<>$E238),0)))))","v":0},{"$f":"IF(COUNTIF($D$37:$E$40,BJ238),80,0)+IF(COUNTIF($D$37:$E$40,BG238),80,0)","v":0},{"$f":"IF(OR(BG238=\"\",BJ238=\"\"),0,IF(AND(BG238=$D238,BJ238=$E238,BH238=$F238,BI238=$G238),70,0))","v":0},null,null,null,null,{"$f":"IF(OR(BN238=\"\",BQ238=\"\"),0,IF(AND(BN238=$D238,BQ238=$E238),60,IF(BN238=$D238,30,IF(BQ238=$E238,30,IF(AND(BN238<>$D238,BQ238<>$E238),0)))))","v":0},{"$f":"IF(COUNTIF($D$37:$E$40,BQ238),80,0)+IF(COUNTIF($D$37:$E$40,BN238),80,0)","v":0},{"$f":"IF(OR(BN238=\"\",BQ238=\"\"),0,IF(AND(BN238=$D238,BQ238=$E238,BO238=$F238,BP238=$G238),70,0))","v":0},null,null,null,null,{"$f":"IF(OR(BU238=\"\",BX238=\"\"),0,IF(AND(BU238=$D238,BX238=$E238),60,IF(BU238=$D238,30,IF(BX238=$E238,30,IF(AND(BU238<>$D238,BX238<>$E238),0)))))","v":0},{"$f":"IF(COUNTIF($D$37:$E$40,BX238),80,0)+IF(COUNTIF($D$37:$E$40,BU238),80,0)","v":0},{"$f":"IF(OR(BU238=\"\",BX238=\"\"),0,IF(AND(BU238=$D238,BX238=$E238,BV238=$F238,BW238=$G238),70,0))","v":0},null,null,null,null,{"$f":"IF(OR(CB238=\"\",CE238=\"\"),0,IF(AND(CB238=$D238,CE238=$E238),60,IF(CB238=$D238,30,IF(CE238=$E238,30,IF(AND(CB238<>$D238,CE238<>$E238),0)))))","v":0},{"$f":"IF(COUNTIF($D$37:$E$40,CE238),80,0)+IF(COUNTIF($D$37:$E$40,CB238),80,0)","v":0},{"$f":"IF(OR(CB238=\"\",CE238=\"\"),0,IF(AND(CB238=$D238,CE238=$E238,CC238=$F238,CD238=$G238),70,0))","v":0},null,null,null,null,{"$f":"IF(OR(CI238=\"\",CL238=\"\"),0,IF(AND(CI238=$D238,CL238=$E238),60,IF(CI238=$D238,30,IF(CL238=$E238,30,IF(AND(CI238<>$D238,CL238<>$E238),0)))))","v":0},{"$f":"IF(COUNTIF($D$37:$E$40,CL238),80,0)+IF(COUNTIF($D$37:$E$40,CI238),80,0)","v":0},{"$f":"IF(OR(CI238=\"\",CL238=\"\"),0,IF(AND(CI238=$D238,CL238=$E238,CJ238=$F238,CK238=$G238),70,0))","v":0},null,null,null,null,{"$f":"IF(OR(CP238=\"\",CS238=\"\"),0,IF(AND(CP238=$D238,CS238=$E238),60,IF(CP238=$D238,30,IF(CS238=$E238,30,IF(AND(CP238<>$D238,CS238<>$E238),0)))))","v":0},{"$f":"IF(COUNTIF($D$37:$E$40,CS238),80,0)+IF(COUNTIF($D$37:$E$40,CP238),80,0)","v":0},{"$f":"IF(OR(CP238=\"\",CS238=\"\"),0,IF(AND(CP238=$D238,CS238=$E238,CQ238=$F238,CR238=$G238),70,0))","v":0},null,null,null,null,{"$f":"IF(OR(CW238=\"\",CZ238=\"\"),0,IF(AND(CW238=$D238,CZ238=$E238),60,IF(CW238=$D238,30,IF(CZ238=$E238,30,IF(AND(CW238<>$D238,CZ238<>$E238),0)))))","v":0},{"$f":"IF(COUNTIF($D$37:$E$40,CZ238),80,0)+IF(COUNTIF($D$37:$E$40,CW238),80,0)","v":0},{"$f":"IF(OR(CW238=\"\",CZ238=\"\"),0,IF(AND(CW238=$D238,CZ238=$E238,CX238=$F238,CY238=$G238),70,0))","v":0},null,null,null,null,{"$f":"IF(OR(DD238=\"\",DG238=\"\"),0,IF(AND(DD238=$D238,DG238=$E238),60,IF(DD238=$D238,30,IF(DG238=$E238,30,IF(AND(DD238<>$D238,DG238<>$E238),0)))))","v":0},{"$f":"IF(COUNTIF($D$37:$E$40,DG238),80,0)+IF(COUNTIF($D$37:$E$40,DD238),80,0)","v":0},{"$f":"IF(OR(DD238=\"\",DG238=\"\"),0,IF(AND(DD238=$D238,DG238=$E238,DE238=$F238,DF238=$G238),70,0))","v":0},null,null,null,null,{"$f":"IF(OR(DK238=\"\",DN238=\"\"),0,IF(AND(DK238=$D238,DN238=$E238),60,IF(DK238=$D238,30,IF(DN238=$E238,30,IF(AND(DK238<>$D238,DN238<>$E238),0)))))","v":0},{"$f":"IF(COUNTIF($D$37:$E$40,DN238),80,0)+IF(COUNTIF($D$37:$E$40,DK238),80,0)","v":0},{"$f":"IF(OR(DK238=\"\",DN238=\"\"),0,IF(AND(DK238=$D238,DN238=$E238,DL238=$F238,DM238=$G238),70,0))","v":0},null,null,null,null,{"$f":"IF(OR(DR238=\"\",DU238=\"\"),0,IF(AND(DR238=$D238,DU238=$E238),60,IF(DR238=$D238,30,IF(DU238=$E238,30,IF(AND(DR238<>$D238,DU238<>$E238),0)))))","v":0},{"$f":"IF(COUNTIF($D$37:$E$40,DU238),80,0)+IF(COUNTIF($D$37:$E$40,DR238),80,0)","v":0},{"$f":"IF(OR(DR238=\"\",DU238=\"\"),0,IF(AND(DR238=$D238,DU238=$E238,DS238=$F238,DT238=$G238),70,0))","v":0},null,null,null,null,{"$f":"IF(OR(DY238=\"\",EB238=\"\"),0,IF(AND(DY238=$D238,EB238=$E238),60,IF(DY238=$D238,30,IF(EB238=$E238,30,IF(AND(DY238<>$D238,EB238<>$E238),0)))))","v":0},{"$f":"IF(COUNTIF($D$37:$E$40,EB238),80,0)+IF(COUNTIF($D$37:$E$40,DY238),80,0)","v":0},{"$f":"IF(OR(DY238=\"\",EB238=\"\"),0,IF(AND(DY238=$D238,EB238=$E238,DZ238=$F238,EA238=$G238),70,0))","v":0},null,null,null,null,{"$f":"IF(OR(EF238=\"\",EI238=\"\"),0,IF(AND(EF238=$D238,EI238=$E238),60,IF(EF238=$D238,30,IF(EI238=$E238,30,IF(AND(EF238<>$D238,EI238<>$E238),0)))))","v":0},{"$f":"IF(COUNTIF($D$37:$E$40,EI238),80,0)+IF(COUNTIF($D$37:$E$40,EF238),80,0)","v":0},{"$f":"IF(OR(EF238=\"\",EI238=\"\"),0,IF(AND(EF238=$D238,EI238=$E238,EG238=$F238,EH238=$G238),70,0))","v":0},null,null,null,null,{"$f":"IF(OR(EM238=\"\",EP238=\"\"),0,IF(AND(EM238=$D238,EP238=$E238),60,IF(EM238=$D238,30,IF(EP238=$E238,30,IF(AND(EM238<>$D238,EP238<>$E238),0)))))","v":0},{"$f":"IF(COUNTIF($D$37:$E$40,EP238),80,0)+IF(COUNTIF($D$37:$E$40,EM238),80,0)","v":0},{"$f":"IF(OR(EM238=\"\",EP238=\"\"),0,IF(AND(EM238=$D238,EP238=$E238,EN238=$F238,EO238=$G238),70,0))","v":0},null,{"$f":"_xlfn.TEXTJOIN(\", \",TRUE,_xlfn._xlws.FILTER(INDEX($J$204:$EM$204,1,_xlfn.SEQUENCE(1,(COLUMNS($J$204:$EM$204)-1)/7+1,1,7))&\" \"&INDEX($J$205:$EM$205,1,_xlfn.SEQUENCE(1,(COLUMNS($J$205:$EM$205)-1)/7+1,1,7)),INDEX($P238:$ES238,1,_xlfn.SEQUENCE(1,(COLUMNS($P238:$ES238)-1)/7+1,1,7))>0,\"\"))","v":"Stefan Wullschleger"}]
["Sa. 11. Jul","23:00:00",99,"Norwegen","England",1,2,null,null,"Schweden",2,0,"Mexiko",0,0,0,"Brasilien",3,2,"Mexiko",0,0,0,"Brasilien",1,2,"England",30,80,0,"Brasilien",3,4,"England",30,80,0,null,null,null,null,0,0,0,null,null,null,null,0,0,0,null,null,null,null,0,0,0,null,null,null,null,0,0,0,null,null,null,null,0,0,0,null,null,null,null,0,0,0,null,null,null,null,0,0,0,null,null,null,null,0,0,0,null,null,null,null,0,0,0,null,null,null,null,0,0,0,null,null,null,null,0,0,0,null,null,null,null,0,0,0,null,null,null,null,0,0,0,null,null,null,null,0,0,0,null,null,null,null,0,0,0,null,null,null,null,0,0,0,null,{"$f":"_xlfn.TEXTJOIN(\", \",TRUE,_xlfn._xlws.FILTER(INDEX($J$204:$EM$204,1,_xlfn.SEQUENCE(1,(COLUMNS($J$204:$EM$204)-1)/7+1,1,7))&\" \"&INDEX($J$205:$EM$205,1,_xlfn.SEQUENCE(1,(COLUMNS($J$205:$EM$205)-1)/7+1,1,7)),INDEX($P239:$ES239,1,_xlfn.SEQUENCE(1,(COLUMNS($P239:$ES239)-1)/7+1,1,7))>0,\"\"))","v":""}]
["So. 12. Jul","03:00:00",100,"Argentinien","Schweiz",3,1,null,null,"Ägypten",1,2,"Schweiz",30,80,0,"Argentinien",3,2,"Portugal",30,80,0,"Argentinien",2,1,"Portugal",30,80,0,"Argentinien",1,2,"Portugal",30,80,0,null,null,null,null,0,0,0,null,null,null,null,0,0,0,null,null,null,null,0,0,0,null,null,null,null,0,0,0,null,null,null,null,0,0,0,null,null,null,null,0,0,0,null,null,null,null,0,0,0,null,null,null,null,0,0,0,null,null,null,null,0,0,0,null,null,null,null,0,0,0,null,null,null,null,0,0,0,null,null,null,null,0,0,0,null,null,null,null,0,0,0,null,null,null,null,0,0,0,null,null,null,null,0,0,0,null,null,null,null,0,0,0,null,{"$f":"_xlfn.TEXTJOIN(\", \",TRUE,_xlfn._xlws.FILTER(INDEX($J$204:$EM$204,1,_xlfn.SEQUENCE(1,(COLUMNS($J$204:$EM$204)-1)/7+1,1,7))&\" \"&INDEX($J$205:$EM$205,1,_xlfn.SEQUENCE(1,(COLUMNS($J$205:$EM$205)-1)/7+1,1,7)),INDEX($P240:$ES240,1,_xlfn.SEQUENCE(1,(COLUMNS($P240:$ES240)-1)/7+1,1,7))>0,\"\"))","v":""}]
["Halbfinale",null,null,null,null,null,null,null,null,null,null,null,null,null,null,null,null,null,null,null,null,null,null,null,null,null,null,null,null,null,null,null,null,null,null,null,null,null,null,null,null,null,null,null,null,null,null,null,null,null,null,null,null,null,null,null,null,null,null,null,null,null,null,null,null,null,null,null,null,null,null,null,null,null,null,null,null,null,null,null,null,null,null,null,null,null,null,null,null,null,null,null,null,null,null,null,null,null,null,null,null,null,null,null,null,null,null,null,null,null,null,null,null,null,null,null,null,null,null,null,null,null,null,null,null,null,null,null,null,null,null,null,null,null,null,null,null,null,null,null,null,null,null,null,null,null,null,null,null,null,{"$f":"_xlfn.TEXTJOIN(\", \",TRUE,_xlfn._xlws.FILTER(INDEX($J$204:$EM$204,1,_xlfn.SEQUENCE(1,(COLUMNS($J$204:$EM$204)-1)/7+1,1,7))&\" \"&INDEX($J$205:$EM$205,1,_xlfn.SEQUENCE(1,(COLUMNS($J$205:$EM$205)-1)/7+1,1,7)),INDEX($P241:$ES241,1,_xlfn.SEQUENCE(1,(COLUMNS($P241:$ES241)-1)/7+1,1,7))>0,\"\"))","v":""}]
[{"$f":"A192","v":"Di. 14. Jul"},"21:00:00",101,{"$f":"D192","v":"Frankreich"},{"$f":"E192","v":"Spanien"},{"$f":"IF(F192=\"\",\"\",F192)","v":0},2,null,null,"Deutschland",1,2,"Spanien",{"$f":"IF(OR(J242=\"\",M242=\"\"),0,IF(AND(J242=$D242,M242=$E242),80,IF(J242=$D242,40,IF(M242=$E242,40,IF(AND(J242<>$D242,M242<>$E242),0)))))","v":40},{"$f":"IF(COUNTIF($D$42:$E$43,M242),100,0)+IF(COUNTIF($D$42:$E$43,J242),100,0)","v":100},{"$f":"IF(OR(J242=\"\",M242=\"\"),0,IF(AND(J242=$D242,M242=$E242,K242=$F242,L242=$G242),100,0))","v":0},"Frankreich",1,2,"Spanien",{"$f":"IF(OR(Q242=\"\",T242=\"\"),0,IF(AND(Q242=$D242,T242=$E242),80,IF(Q242=$D242,40,IF(T242=$E242,40,IF(AND(Q242<>$D242,T242<>$E242),0)))))","v":80},{"$f":"IF(COUNTIF($D$42:$E$43,T242),100,0)+IF(COUNTIF($D$42:$E$43,Q242),100,0)","v":200},{"$f":"IF(OR(Q242=\"\",T242=\"\"),0,IF(AND(Q242=$D242,T242=$E242,R242=$F242,S242=$G242),100,0))","v":0},"Frankreich",1,2,"Spanien",{"$f":"IF(OR(X242=\"\",AA242=\"\"),0,IF(AND(X242=$D242,AA242=$E242),80,IF(X242=$D242,40,IF(AA242=$E242,40,IF(AND(X242<>$D242,AA242<>$E242),0)))))","v":80},{"$f":"IF(COUNTIF($D$42:$E$43,AA242),100,0)+IF(COUNTIF($D$42:$E$43,X242),100,0)","v":200},{"$f":"IF(OR(X242=\"\",AA242=\"\"),0,IF(AND(X242=$D242,AA242=$E242,Y242=$F242,Z242=$G242),100,0))","v":0},"Deutschland",5,4,"Spanien",{"$f":"IF(OR(AE242=\"\",AH242=\"\"),0,IF(AND(AE242=$D242,AH242=$E242),80,IF(AE242=$D242,40,IF(AH242=$E242,40,IF(AND(AE242<>$D242,AH242<>$E242),0)))))","v":40},{"$f":"IF(COUNTIF($D$42:$E$43,AH242),100,0)+IF(COUNTIF($D$42:$E$43,AE242),100,0)","v":100},{"$f":"IF(OR(AE242=\"\",AH242=\"\"),0,IF(AND(AE242=$D242,AH242=$E242,AF242=$F242,AG242=$G242),100,0))","v":0},null,null,null,null,{"$f":"IF(OR(AL242=\"\",AO242=\"\"),0,IF(AND(AL242=$D242,AO242=$E242),80,IF(AL242=$D242,40,IF(AO242=$E242,40,IF(AND(AL242<>$D242,AO242<>$E242),0)))))","v":0},{"$f":"IF(COUNTIF($D$42:$E$43,AO242),100,0)+IF(COUNTIF($D$42:$E$43,AL242),100,0)","v":0},{"$f":"IF(OR(AL242=\"\",AO242=\"\"),0,IF(AND(AL242=$D242,AO242=$E242,AM242=$F242,AN242=$G242),100,0))","v":0},null,null,null,null,{"$f":"IF(OR(AS242=\"\",AV242=\"\"),0,IF(AND(AS242=$D242,AV242=$E242),80,IF(AS242=$D242,40,IF(AV242=$E242,40,IF(AND(AS242<>$D242,AV242<>$E242),0)))))","v":0},{"$f":"IF(COUNTIF($D$42:$E$43,AV242),100,0)+IF(COUNTIF($D$42:$E$43,AS242),100,0)","v":0},{"$f":"IF(OR(AS242=\"\",AV242=\"\"),0,IF(AND(AS242=$D242,AV242=$E242,AT242=$F242,AU242=$G242),100,0))","v":0},null,null,null,null,{"$f":"IF(OR(AZ242=\"\",BC242=\"\"),0,IF(AND(AZ242=$D242,BC242=$E242),80,IF(AZ242=$D242,40,IF(BC242=$E242,40,IF(AND(AZ242<>$D242,BC242<>$E242),0)))))","v":0},{"$f":"IF(COUNTIF($D$42:$E$43,BC242),100,0)+IF(COUNTIF($D$42:$E$43,AZ242),100,0)","v":0},{"$f":"IF(OR(AZ242=\"\",BC242=\"\"),0,IF(AND(AZ242=$D242,BC242=$E242,BA242=$F242,BB242=$G242),100,0))","v":0},null,null,null,null,{"$f":"IF(OR(BG242=\"\",BJ242=\"\"),0,IF(AND(BG242=$D242,BJ242=$E242),80,IF(BG242=$D242,40,IF(BJ242=$E242,40,IF(AND(BG242<>$D242,BJ242<>$E242),0)))))","v":0},{"$f":"IF(COUNTIF($D$42:$E$43,BJ242),100,0)+IF(COUNTIF($D$42:$E$43,BG242),100,0)","v":0},{"$f":"IF(OR(BG242=\"\",BJ242=\"\"),0,IF(AND(BG242=$D242,BJ242=$E242,BH242=$F242,BI242=$G242),100,0))","v":0},null,null,null,null,{"$f":"IF(OR(BN242=\"\",BQ242=\"\"),0,IF(AND(BN242=$D242,BQ242=$E242),80,IF(BN242=$D242,40,IF(BQ242=$E242,40,IF(AND(BN242<>$D242,BQ242<>$E242),0)))))","v":0},{"$f":"IF(COUNTIF($D$42:$E$43,BQ242),100,0)+IF(COUNTIF($D$42:$E$43,BN242),100,0)","v":0},{"$f":"IF(OR(BN242=\"\",BQ242=\"\"),0,IF(AND(BN242=$D242,BQ242=$E242,BO242=$F242,BP242=$G242),100,0))","v":0},null,null,null,null,{"$f":"IF(OR(BU242=\"\",BX242=\"\"),0,IF(AND(BU242=$D242,BX242=$E242),80,IF(BU242=$D242,40,IF(BX242=$E242,40,IF(AND(BU242<>$D242,BX242<>$E242),0)))))","v":0},{"$f":"IF(COUNTIF($D$42:$E$43,BX242),100,0)+IF(COUNTIF($D$42:$E$43,BU242),100,0)","v":0},{"$f":"IF(OR(BU242=\"\",BX242=\"\"),0,IF(AND(BU242=$D242,BX242=$E242,BV242=$F242,BW242=$G242),100,0))","v":0},null,null,null,null,{"$f":"IF(OR(CB242=\"\",CE242=\"\"),0,IF(AND(CB242=$D242,CE242=$E242),80,IF(CB242=$D242,40,IF(CE242=$E242,40,IF(AND(CB242<>$D242,CE242<>$E242),0)))))","v":0},{"$f":"IF(COUNTIF($D$42:$E$43,CE242),100,0)+IF(COUNTIF($D$42:$E$43,CB242),100,0)","v":0},{"$f":"IF(OR(CB242=\"\",CE242=\"\"),0,IF(AND(CB242=$D242,CE242=$E242,CC242=$F242,CD242=$G242),100,0))","v":0},null,null,null,null,{"$f":"IF(OR(CI242=\"\",CL242=\"\"),0,IF(AND(CI242=$D242,CL242=$E242),80,IF(CI242=$D242,40,IF(CL242=$E242,40,IF(AND(CI242<>$D242,CL242<>$E242),0)))))","v":0},{"$f":"IF(COUNTIF($D$42:$E$43,CL242),100,0)+IF(COUNTIF($D$42:$E$43,CI242),100,0)","v":0},{"$f":"IF(OR(CI242=\"\",CL242=\"\"),0,IF(AND(CI242=$D242,CL242=$E242,CJ242=$F242,CK242=$G242),100,0))","v":0},null,null,null,null,{"$f":"IF(OR(CP242=\"\",CS242=\"\"),0,IF(AND(CP242=$D242,CS242=$E242),80,IF(CP242=$D242,40,IF(CS242=$E242,40,IF(AND(CP242<>$D242,CS242<>$E242),0)))))","v":0},{"$f":"IF(COUNTIF($D$42:$E$43,CS242),100,0)+IF(COUNTIF($D$42:$E$43,CP242),100,0)","v":0},{"$f":"IF(OR(CP242=\"\",CS242=\"\"),0,IF(AND(CP242=$D242,CS242=$E242,CQ242=$F242,CR242=$G242),100,0))","v":0},null,null,null,null,{"$f":"IF(OR(CW242=\"\",CZ242=\"\"),0,IF(AND(CW242=$D242,CZ242=$E242),80,IF(CW242=$D242,40,IF(CZ242=$E242,40,IF(AND(CW242<>$D242,CZ242<>$E242),0)))))","v":0},{"$f":"IF(COUNTIF($D$42:$E$43,CZ242),100,0)+IF(COUNTIF($D$42:$E$43,CW242),100,0)","v":0},{"$f":"IF(OR(CW242=\"\",CZ242=\"\"),0,IF(AND(CW242=$D242,CZ242=$E242,CX242=$F242,CY242=$G242),100,0))","v":0},null,null,null,null,{"$f":"IF(OR(DD242=\"\",DG242=\"\"),0,IF(AND(DD242=$D242,DG242=$E242),80,IF(DD242=$D242,40,IF(DG242=$E242,40,IF(AND(DD242<>$D242,DG242<>$E242),0)))))","v":0},{"$f":"IF(COUNTIF($D$42:$E$43,DG242),100,0)+IF(COUNTIF($D$42:$E$43,DD242),100,0)","v":0},{"$f":"IF(OR(DD242=\"\",DG242=\"\"),0,IF(AND(DD242=$D242,DG242=$E242,DE242=$F242,DF242=$G242),100,0))","v":0},null,null,null,null,{"$f":"IF(OR(DK242=\"\",DN242=\"\"),0,IF(AND(DK242=$D242,DN242=$E242),80,IF(DK242=$D242,40,IF(DN242=$E242,40,IF(AND(DK242<>$D242,DN242<>$E242),0)))))","v":0},{"$f":"IF(COUNTIF($D$42:$E$43,DN242),100,0)+IF(COUNTIF($D$42:$E$43,DK242),100,0)","v":0},{"$f":"IF(OR(DK242=\"\",DN242=\"\"),0,IF(AND(DK242=$D242,DN242=$E242,DL242=$F242,DM242=$G242),100,0))","v":0},null,null,null,null,{"$f":"IF(OR(DR242=\"\",DU242=\"\"),0,IF(AND(DR242=$D242,DU242=$E242),80,IF(DR242=$D242,40,IF(DU242=$E242,40,IF(AND(DR242<>$D242,DU242<>$E242),0)))))","v":0},{"$f":"IF(COUNTIF($D$42:$E$43,DU242),100,0)+IF(COUNTIF($D$42:$E$43,DR242),100,0)","v":0},{"$f":"IF(OR(DR242=\"\",DU242=\"\"),0,IF(AND(DR242=$D242,DU242=$E242,DS242=$F242,DT242=$G242),100,0))","v":0},null,null,null,null,{"$f":"IF(OR(DY242=\"\",EB242=\"\"),0,IF(AND(DY242=$D242,EB242=$E242),80,IF(DY242=$D242,40,IF(EB242=$E242,40,IF(AND(DY242<>$D242,EB242<>$E242),0)))))","v":0},{"$f":"IF(COUNTIF($D$42:$E$43,EB242),100,0)+IF(COUNTIF($D$42:$E$43,DY242),100,0)","v":0},{"$f":"IF(OR(DY242=\"\",EB242=\"\"),0,IF(AND(DY242=$D242,EB242=$E242,DZ242=$F242,EA242=$G242),100,0))","v":0},null,null,null,null,{"$f":"IF(OR(EF242=\"\",EI242=\"\"),0,IF(AND(EF242=$D242,EI242=$E242),80,IF(EF242=$D242,40,IF(EI242=$E242,40,IF(AND(EF242<>$D242,EI242<>$E242),0)))))","v":0},{"$f":"IF(COUNTIF($D$42:$E$43,EI242),100,0)+IF(COUNTIF($D$42:$E$43,EF242),100,0)","v":0},{"$f":"IF(OR(EF242=\"\",EI242=\"\"),0,IF(AND(EF242=$D242,EI242=$E242,EG242=$F242,EH242=$G242),100,0))","v":0},null,null,null,null,{"$f":"IF(OR(EM242=\"\",EP242=\"\"),0,IF(AND(EM242=$D242,EP242=$E242),80,IF(EM242=$D242,40,IF(EP242=$E242,40,IF(AND(EM242<>$D242,EP242<>$E242),0)))))","v":0},{"$f":"IF(COUNTIF($D$42:$E$43,EP242),100,0)+IF(COUNTIF($D$42:$E$43,EM242),100,0)","v":0},{"$f":"IF(OR(EM242=\"\",EP242=\"\"),0,IF(AND(EM242=$D242,EP242=$E242,EN242=$F242,EO242=$G242),100,0))","v":0},null,{"$f":"_xlfn.TEXTJOIN(\", \",TRUE,_xlfn._xlws.FILTER(INDEX($J$204:$EM$204,1,_xlfn.SEQUENCE(1,(COLUMNS($J$204:$EM$204)-1)/7+1,1,7))&\" \"&INDEX($J$205:$EM$205,1,_xlfn.SEQUENCE(1,(COLUMNS($J$205:$EM$205)-1)/7+1,1,7)),INDEX($P242:$ES242,1,_xlfn.SEQUENCE(1,(COLUMNS($P242:$ES242)-1)/7+1,1,7))>0,\"\"))","v":""}]
["Mi. 15. Jul","21:00:00",102,{"$f":"D193","v":"England"},{"$f":"E193","v":"Argentinien"},1,2,null,null,"Schweden",2,1,"Schweiz",{"$f":"IF(OR(J243=\"\",M243=\"\"),0,IF(AND(J243=$D243,M243=$E243),80,IF(J243=$D243,40,IF(M243=$E243,40,IF(AND(J243<>$D243,M243<>$E243),0)))))","v":0},{"$f":"IF(COUNTIF($D$42:$E$43,M243),100,0)+IF(COUNTIF($D$42:$E$43,J243),100,0)","v":0},{"$f":"IF(OR(J243=\"\",M243=\"\"),0,IF(AND(J243=$D243,M243=$E243,K243=$F243,L243=$G243),100,0))","v":0},"Brasilien",3,2,"Argentinien",{"$f":"IF(OR(Q243=\"\",T243=\"\"),0,IF(AND(Q243=$D243,T243=$E243),80,IF(Q243=$D243,40,IF(T243=$E243,40,IF(AND(Q243<>$D243,T243<>$E243),0)))))","v":40},{"$f":"IF(COUNTIF($D$42:$E$43,T243),100,0)+IF(COUNTIF($D$42:$E$43,Q243),100,0)","v":100},{"$f":"IF(OR(Q243=\"\",T243=\"\"),0,IF(AND(Q243=$D243,T243=$E243,R243=$F243,S243=$G243),100,0))","v":0},"England",1,2,"Argentinien",{"$f":"IF(OR(X243=\"\",AA243=\"\"),0,IF(AND(X243=$D243,AA243=$E243),80,IF(X243=$D243,40,IF(AA243=$E243,40,IF(AND(X243<>$D243,AA243<>$E243),0)))))","v":80},{"$f":"IF(COUNTIF($D$42:$E$43,AA243),100,0)+IF(COUNTIF($D$42:$E$43,X243),100,0)","v":200},{"$f":"IF(OR(X243=\"\",AA243=\"\"),0,IF(AND(X243=$D243,AA243=$E243,Y243=$F243,Z243=$G243),100,0))","v":100},"England",3,2,"Portugal",{"$f":"IF(OR(AE243=\"\",AH243=\"\"),0,IF(AND(AE243=$D243,AH243=$E243),80,IF(AE243=$D243,40,IF(AH243=$E243,40,IF(AND(AE243<>$D243,AH243<>$E243),0)))))","v":40},{"$f":"IF(COUNTIF($D$42:$E$43,AH243),100,0)+IF(COUNTIF($D$42:$E$43,AE243),100,0)","v":100},{"$f":"IF(OR(AE243=\"\",AH243=\"\"),0,IF(AND(AE243=$D243,AH243=$E243,AF243=$F243,AG243=$G243),100,0))","v":0},null,null,null,null,{"$f":"IF(OR(AL243=\"\",AO243=\"\"),0,IF(AND(AL243=$D243,AO243=$E243),80,IF(AL243=$D243,40,IF(AO243=$E243,40,IF(AND(AL243<>$D243,AO243<>$E243),0)))))","v":0},{"$f":"IF(COUNTIF($D$42:$E$43,AO243),100,0)+IF(COUNTIF($D$42:$E$43,AL243),100,0)","v":0},{"$f":"IF(OR(AL243=\"\",AO243=\"\"),0,IF(AND(AL243=$D243,AO243=$E243,AM243=$F243,AN243=$G243),100,0))","v":0},null,null,null,null,{"$f":"IF(OR(AS243=\"\",AV243=\"\"),0,IF(AND(AS243=$D243,AV243=$E243),80,IF(AS243=$D243,40,IF(AV243=$E243,40,IF(AND(AS243<>$D243,AV243<>$E243),0)))))","v":0},{"$f":"IF(COUNTIF($D$42:$E$43,AV243),100,0)+IF(COUNTIF($D$42:$E$43,AS243),100,0)","v":0},{"$f":"IF(OR(AS243=\"\",AV243=\"\"),0,IF(AND(AS243=$D243,AV243=$E243,AT243=$F243,AU243=$G243),100,0))","v":0},null,null,null,null,{"$f":"IF(OR(AZ243=\"\",BC243=\"\"),0,IF(AND(AZ243=$D243,BC243=$E243),80,IF(AZ243=$D243,40,IF(BC243=$E243,40,IF(AND(AZ243<>$D243,BC243<>$E243),0)))))","v":0},{"$f":"IF(COUNTIF($D$42:$E$43,BC243),100,0)+IF(COUNTIF($D$42:$E$43,AZ243),100,0)","v":0},{"$f":"IF(OR(AZ243=\"\",BC243=\"\"),0,IF(AND(AZ243=$D243,BC243=$E243,BA243=$F243,BB243=$G243),100,0))","v":0},null,null,null,null,{"$f":"IF(OR(BG243=\"\",BJ243=\"\"),0,IF(AND(BG243=$D243,BJ243=$E243),80,IF(BG243=$D243,40,IF(BJ243=$E243,40,IF(AND(BG243<>$D243,BJ243<>$E243),0)))))","v":0},{"$f":"IF(COUNTIF($D$42:$E$43,BJ243),100,0)+IF(COUNTIF($D$42:$E$43,BG243),100,0)","v":0},{"$f":"IF(OR(BG243=\"\",BJ243=\"\"),0,IF(AND(BG243=$D243,BJ243=$E243,BH243=$F243,BI243=$G243),100,0))","v":0},null,null,null,null,{"$f":"IF(OR(BN243=\"\",BQ243=\"\"),0,IF(AND(BN243=$D243,BQ243=$E243),80,IF(BN243=$D243,40,IF(BQ243=$E243,40,IF(AND(BN243<>$D243,BQ243<>$E243),0)))))","v":0},{"$f":"IF(COUNTIF($D$42:$E$43,BQ243),100,0)+IF(COUNTIF($D$42:$E$43,BN243),100,0)","v":0},{"$f":"IF(OR(BN243=\"\",BQ243=\"\"),0,IF(AND(BN243=$D243,BQ243=$E243,BO243=$F243,BP243=$G243),100,0))","v":0},null,null,null,null,{"$f":"IF(OR(BU243=\"\",BX243=\"\"),0,IF(AND(BU243=$D243,BX243=$E243),80,IF(BU243=$D243,40,IF(BX243=$E243,40,IF(AND(BU243<>$D243,BX243<>$E243),0)))))","v":0},{"$f":"IF(COUNTIF($D$42:$E$43,BX243),100,0)+IF(COUNTIF($D$42:$E$43,BU243),100,0)","v":0},{"$f":"IF(OR(BU243=\"\",BX243=\"\"),0,IF(AND(BU243=$D243,BX243=$E243,BV243=$F243,BW243=$G243),100,0))","v":0},null,null,null,null,{"$f":"IF(OR(CB243=\"\",CE243=\"\"),0,IF(AND(CB243=$D243,CE243=$E243),80,IF(CB243=$D243,40,IF(CE243=$E243,40,IF(AND(CB243<>$D243,CE243<>$E243),0)))))","v":0},{"$f":"IF(COUNTIF($D$42:$E$43,CE243),100,0)+IF(COUNTIF($D$42:$E$43,CB243),100,0)","v":0},{"$f":"IF(OR(CB243=\"\",CE243=\"\"),0,IF(AND(CB243=$D243,CE243=$E243,CC243=$F243,CD243=$G243),100,0))","v":0},null,null,null,null,{"$f":"IF(OR(CI243=\"\",CL243=\"\"),0,IF(AND(CI243=$D243,CL243=$E243),80,IF(CI243=$D243,40,IF(CL243=$E243,40,IF(AND(CI243<>$D243,CL243<>$E243),0)))))","v":0},{"$f":"IF(COUNTIF($D$42:$E$43,CL243),100,0)+IF(COUNTIF($D$42:$E$43,CI243),100,0)","v":0},{"$f":"IF(OR(CI243=\"\",CL243=\"\"),0,IF(AND(CI243=$D243,CL243=$E243,CJ243=$F243,CK243=$G243),100,0))","v":0},null,null,null,null,{"$f":"IF(OR(CP243=\"\",CS243=\"\"),0,IF(AND(CP243=$D243,CS243=$E243),80,IF(CP243=$D243,40,IF(CS243=$E243,40,IF(AND(CP243<>$D243,CS243<>$E243),0)))))","v":0},{"$f":"IF(COUNTIF($D$42:$E$43,CS243),100,0)+IF(COUNTIF($D$42:$E$43,CP243),100,0)","v":0},{"$f":"IF(OR(CP243=\"\",CS243=\"\"),0,IF(AND(CP243=$D243,CS243=$E243,CQ243=$F243,CR243=$G243),100,0))","v":0},null,null,null,null,{"$f":"IF(OR(CW243=\"\",CZ243=\"\"),0,IF(AND(CW243=$D243,CZ243=$E243),80,IF(CW243=$D243,40,IF(CZ243=$E243,40,IF(AND(CW243<>$D243,CZ243<>$E243),0)))))","v":0},{"$f":"IF(COUNTIF($D$42:$E$43,CZ243),100,0)+IF(COUNTIF($D$42:$E$43,CW243),100,0)","v":0},{"$f":"IF(OR(CW243=\"\",CZ243=\"\"),0,IF(AND(CW243=$D243,CZ243=$E243,CX243=$F243,CY243=$G243),100,0))","v":0},null,null,null,null,{"$f":"IF(OR(DD243=\"\",DG243=\"\"),0,IF(AND(DD243=$D243,DG243=$E243),80,IF(DD243=$D243,40,IF(DG243=$E243,40,IF(AND(DD243<>$D243,DG243<>$E243),0)))))","v":0},{"$f":"IF(COUNTIF($D$42:$E$43,DG243),100,0)+IF(COUNTIF($D$42:$E$43,DD243),100,0)","v":0},{"$f":"IF(OR(DD243=\"\",DG243=\"\"),0,IF(AND(DD243=$D243,DG243=$E243,DE243=$F243,DF243=$G243),100,0))","v":0},null,null,null,null,{"$f":"IF(OR(DK243=\"\",DN243=\"\"),0,IF(AND(DK243=$D243,DN243=$E243),80,IF(DK243=$D243,40,IF(DN243=$E243,40,IF(AND(DK243<>$D243,DN243<>$E243),0)))))","v":0},{"$f":"IF(COUNTIF($D$42:$E$43,DN243),100,0)+IF(COUNTIF($D$42:$E$43,DK243),100,0)","v":0},{"$f":"IF(OR(DK243=\"\",DN243=\"\"),0,IF(AND(DK243=$D243,DN243=$E243,DL243=$F243,DM243=$G243),100,0))","v":0},null,null,null,null,{"$f":"IF(OR(DR243=\"\",DU243=\"\"),0,IF(AND(DR243=$D243,DU243=$E243),80,IF(DR243=$D243,40,IF(DU243=$E243,40,IF(AND(DR243<>$D243,DU243<>$E243),0)))))","v":0},{"$f":"IF(COUNTIF($D$42:$E$43,DU243),100,0)+IF(COUNTIF($D$42:$E$43,DR243),100,0)","v":0},{"$f":"IF(OR(DR243=\"\",DU243=\"\"),0,IF(AND(DR243=$D243,DU243=$E243,DS243=$F243,DT243=$G243),100,0))","v":0},null,null,null,null,{"$f":"IF(OR(DY243=\"\",EB243=\"\"),0,IF(AND(DY243=$D243,EB243=$E243),80,IF(DY243=$D243,40,IF(EB243=$E243,40,IF(AND(DY243<>$D243,EB243<>$E243),0)))))","v":0},{"$f":"IF(COUNTIF($D$42:$E$43,EB243),100,0)+IF(COUNTIF($D$42:$E$43,DY243),100,0)","v":0},{"$f":"IF(OR(DY243=\"\",EB243=\"\"),0,IF(AND(DY243=$D243,EB243=$E243,DZ243=$F243,EA243=$G243),100,0))","v":0},null,null,null,null,{"$f":"IF(OR(EF243=\"\",EI243=\"\"),0,IF(AND(EF243=$D243,EI243=$E243),80,IF(EF243=$D243,40,IF(EI243=$E243,40,IF(AND(EF243<>$D243,EI243<>$E243),0)))))","v":0},{"$f":"IF(COUNTIF($D$42:$E$43,EI243),100,0)+IF(COUNTIF($D$42:$E$43,EF243),100,0)","v":0},{"$f":"IF(OR(EF243=\"\",EI243=\"\"),0,IF(AND(EF243=$D243,EI243=$E243,EG243=$F243,EH243=$G243),100,0))","v":0},null,null,null,null,{"$f":"IF(OR(EM243=\"\",EP243=\"\"),0,IF(AND(EM243=$D243,EP243=$E243),80,IF(EM243=$D243,40,IF(EP243=$E243,40,IF(AND(EM243<>$D243,EP243<>$E243),0)))))","v":0},{"$f":"IF(COUNTIF($D$42:$E$43,EP243),100,0)+IF(COUNTIF($D$42:$E$43,EM243),100,0)","v":0},{"$f":"IF(OR(EM243=\"\",EP243=\"\"),0,IF(AND(EM243=$D243,EP243=$E243,EN243=$F243,EO243=$G243),100,0))","v":0},null,{"$f":"_xlfn.TEXTJOIN(\", \",TRUE,_xlfn._xlws.FILTER(INDEX($J$204:$EM$204,1,_xlfn.SEQUENCE(1,(COLUMNS($J$204:$EM$204)-1)/7+1,1,7))&\" \"&INDEX($J$205:$EM$205,1,_xlfn.SEQUENCE(1,(COLUMNS($J$205:$EM$205)-1)/7+1,1,7)),INDEX($P243:$ES243,1,_xlfn.SEQUENCE(1,(COLUMNS($P243:$ES243)-1)/7+1,1,7))>0,\"\"))","v":"Stefan Wullschleger"}]
["Spiel um den 3. Platz",null,null,null,null,null,null,null,null,null,null,null,null,null,null,null,null,null,null,null,null,null,null,null,null,null,null,null,null,null,null,null,null,null,null,null,null,null,null,null,null,null,null,null,null,null,null,null,null,null,null,null,null,null,null,null,null,null,null,null,null,null,null,null,null,null,null,null,null,null,null,null,null,null,null,null,null,null,null,null,null,null,null,null,null,null,null,null,null,null,null,null,null,null,null,null,null,null,null,null,null,null,null,null,null,null,null,null,null,null,null,null,null,null,null,null,null,null,null,null,null,null,null,null,null,null,null,null,null,null,null,null,null,null,null,null,null,null,null,null,null,null,null,null,null,null,null,null,null,null,{"$f":"_xlfn.TEXTJOIN(\", \",TRUE,_xlfn._xlws.FILTER(INDEX($J$204:$EM$204,1,_xlfn.SEQUENCE(1,(COLUMNS($J$204:$EM$204)-1)/7+1,1,7))&\" \"&INDEX($J$205:$EM$205,1,_xlfn.SEQUENCE(1,(COLUMNS($J$205:$EM$205)-1)/7+1,1,7)),INDEX($P244:$ES244,1,_xlfn.SEQUENCE(1,(COLUMNS($P244:$ES244)-1)/7+1,1,7))>0,\"\"))","v":""}]
[{"$f":"A195","v":"Sa. 18. Jul"},{"$f":"B195","v":"23:00:00"},{"$f":"C195","v":103},{"$f":"D195","v":"Frankreich"},{"$f":"E195","v":"England"},{"$f":"IF(F195=\"\",\"\",F195)","v":""},{"$f":"IF(G195=\"\",\"\",G195)","v":""},null,null,"Deutschland",2,1,"Schweiz",{"$f":"IF(OR(J245=\"\",M245=\"\"),0,IF(AND(J245=$D245,M245=$E245),100,IF(J245=$D245,50,IF(M245=$E245,50,IF(AND(J245<>$D245,M245<>$E245),0)))))","v":0},{"$f":"IF(COUNTIF($D$45:$E$45,M245),100,0)+IF(COUNTIF($D$45:$E$45,J245),100,0)","v":0},{"$f":"IF(OR(J245=\"\",M245=\"\"),0,IF(AND(J245=$D245,M245=$E245,K245=$F245,L245=$G245),150,0))","v":0},"Frankreich",1,2,"Argentinien",{"$f":"IF(OR(Q245=\"\",T245=\"\"),0,IF(AND(Q245=$D245,T245=$E245),100,IF(Q245=$D245,50,IF(T245=$E245,50,IF(AND(Q245<>$D245,T245<>$E245),0)))))","v":50},{"$f":"IF(COUNTIF($D$45:$E$45,T245),100,0)+IF(COUNTIF($D$45:$E$45,Q245),100,0)","v":100},{"$f":"IF(OR(Q245=\"\",T245=\"\"),0,IF(AND(Q245=$D245,T245=$E245,R245=$F245,S245=$G245),150,0))","v":0},"Frankreich",2,1,"England",{"$f":"IF(OR(X245=\"\",AA245=\"\"),0,IF(AND(X245=$D245,AA245=$E245),100,IF(X245=$D245,50,IF(AA245=$E245,50,IF(AND(X245<>$D245,AA245<>$E245),0)))))","v":100},{"$f":"IF(COUNTIF($D$45:$E$45,AA245),100,0)+IF(COUNTIF($D$45:$E$45,X245),100,0)","v":200},{"$f":"IF(OR(X245=\"\",AA245=\"\"),0,IF(AND(X245=$D245,AA245=$E245,Y245=$F245,Z245=$G245),150,0))","v":0},"Spanien",3,1,"Portugal",{"$f":"IF(OR(AE245=\"\",AH245=\"\"),0,IF(AND(AE245=$D245,AH245=$E245),100,IF(AE245=$D245,50,IF(AH245=$E245,50,IF(AND(AE245<>$D245,AH245<>$E245),0)))))","v":0},{"$f":"IF(COUNTIF($D$45:$E$45,AH245),100,0)+IF(COUNTIF($D$45:$E$45,AE245),100,0)","v":0},{"$f":"IF(OR(AE245=\"\",AH245=\"\"),0,IF(AND(AE245=$D245,AH245=$E245,AF245=$F245,AG245=$G245),150,0))","v":0},null,null,null,null,{"$f":"IF(OR(AL245=\"\",AO245=\"\"),0,IF(AND(AL245=$D245,AO245=$E245),100,IF(AL245=$D245,50,IF(AO245=$E245,50,IF(AND(AL245<>$D245,AO245<>$E245),0)))))","v":0},{"$f":"IF(COUNTIF($D$45:$E$45,AO245),100,0)+IF(COUNTIF($D$45:$E$45,AL245),100,0)","v":0},{"$f":"IF(OR(AL245=\"\",AO245=\"\"),0,IF(AND(AL245=$D245,AO245=$E245,AM245=$F245,AN245=$G245),150,0))","v":0},null,null,null,null,{"$f":"IF(OR(AS245=\"\",AV245=\"\"),0,IF(AND(AS245=$D245,AV245=$E245),100,IF(AS245=$D245,50,IF(AV245=$E245,50,IF(AND(AS245<>$D245,AV245<>$E245),0)))))","v":0},{"$f":"IF(COUNTIF($D$45:$E$45,AV245),100,0)+IF(COUNTIF($D$45:$E$45,AS245),100,0)","v":0},{"$f":"IF(OR(AS245=\"\",AV245=\"\"),0,IF(AND(AS245=$D245,AV245=$E245,AT245=$F245,AU245=$G245),150,0))","v":0},null,null,null,null,{"$f":"IF(OR(AZ245=\"\",BC245=\"\"),0,IF(AND(AZ245=$D245,BC245=$E245),100,IF(AZ245=$D245,50,IF(BC245=$E245,50,IF(AND(AZ245<>$D245,BC245<>$E245),0)))))","v":0},{"$f":"IF(COUNTIF($D$45:$E$45,BC245),100,0)+IF(COUNTIF($D$45:$E$45,AZ245),100,0)","v":0},{"$f":"IF(OR(AZ245=\"\",BC245=\"\"),0,IF(AND(AZ245=$D245,BC245=$E245,BA245=$F245,BB245=$G245),150,0))","v":0},null,null,null,null,{"$f":"IF(OR(BG245=\"\",BJ245=\"\"),0,IF(AND(BG245=$D245,BJ245=$E245),100,IF(BG245=$D245,50,IF(BJ245=$E245,50,IF(AND(BG245<>$D245,BJ245<>$E245),0)))))","v":0},{"$f":"IF(COUNTIF($D$45:$E$45,BJ245),100,0)+IF(COUNTIF($D$45:$E$45,BG245),100,0)","v":0},{"$f":"IF(OR(BG245=\"\",BJ245=\"\"),0,IF(AND(BG245=$D245,BJ245=$E245,BH245=$F245,BI245=$G245),150,0))","v":0},null,null,null,null,{"$f":"IF(OR(BN245=\"\",BQ245=\"\"),0,IF(AND(BN245=$D245,BQ245=$E245),100,IF(BN245=$D245,50,IF(BQ245=$E245,50,IF(AND(BN245<>$D245,BQ245<>$E245),0)))))","v":0},{"$f":"IF(COUNTIF($D$45:$E$45,BQ245),100,0)+IF(COUNTIF($D$45:$E$45,BN245),100,0)","v":0},{"$f":"IF(OR(BN245=\"\",BQ245=\"\"),0,IF(AND(BN245=$D245,BQ245=$E245,BO245=$F245,BP245=$G245),150,0))","v":0},null,null,null,null,{"$f":"IF(OR(BU245=\"\",BX245=\"\"),0,IF(AND(BU245=$D245,BX245=$E245),100,IF(BU245=$D245,50,IF(BX245=$E245,50,IF(AND(BU245<>$D245,BX245<>$E245),0)))))","v":0},{"$f":"IF(COUNTIF($D$45:$E$45,BX245),100,0)+IF(COUNTIF($D$45:$E$45,BU245),100,0)","v":0},{"$f":"IF(OR(BU245=\"\",BX245=\"\"),0,IF(AND(BU245=$D245,BX245=$E245,BV245=$F245,BW245=$G245),150,0))","v":0},null,null,null,null,{"$f":"IF(OR(CB245=\"\",CE245=\"\"),0,IF(AND(CB245=$D245,CE245=$E245),100,IF(CB245=$D245,50,IF(CE245=$E245,50,IF(AND(CB245<>$D245,CE245<>$E245),0)))))","v":0},{"$f":"IF(COUNTIF($D$45:$E$45,CE245),100,0)+IF(COUNTIF($D$45:$E$45,CB245),100,0)","v":0},{"$f":"IF(OR(CB245=\"\",CE245=\"\"),0,IF(AND(CB245=$D245,CE245=$E245,CC245=$F245,CD245=$G245),150,0))","v":0},null,null,null,null,{"$f":"IF(OR(CI245=\"\",CL245=\"\"),0,IF(AND(CI245=$D245,CL245=$E245),100,IF(CI245=$D245,50,IF(CL245=$E245,50,IF(AND(CI245<>$D245,CL245<>$E245),0)))))","v":0},{"$f":"IF(COUNTIF($D$45:$E$45,CL245),100,0)+IF(COUNTIF($D$45:$E$45,CI245),100,0)","v":0},{"$f":"IF(OR(CI245=\"\",CL245=\"\"),0,IF(AND(CI245=$D245,CL245=$E245,CJ245=$F245,CK245=$G245),150,0))","v":0},null,null,null,null,{"$f":"IF(OR(CP245=\"\",CS245=\"\"),0,IF(AND(CP245=$D245,CS245=$E245),100,IF(CP245=$D245,50,IF(CS245=$E245,50,IF(AND(CP245<>$D245,CS245<>$E245),0)))))","v":0},{"$f":"IF(COUNTIF($D$45:$E$45,CS245),100,0)+IF(COUNTIF($D$45:$E$45,CP245),100,0)","v":0},{"$f":"IF(OR(CP245=\"\",CS245=\"\"),0,IF(AND(CP245=$D245,CS245=$E245,CQ245=$F245,CR245=$G245),150,0))","v":0},null,null,null,null,{"$f":"IF(OR(CW245=\"\",CZ245=\"\"),0,IF(AND(CW245=$D245,CZ245=$E245),100,IF(CW245=$D245,50,IF(CZ245=$E245,50,IF(AND(CW245<>$D245,CZ245<>$E245),0)))))","v":0},{"$f":"IF(COUNTIF($D$45:$E$45,CZ245),100,0)+IF(COUNTIF($D$45:$E$45,CW245),100,0)","v":0},{"$f":"IF(OR(CW245=\"\",CZ245=\"\"),0,IF(AND(CW245=$D245,CZ245=$E245,CX245=$F245,CY245=$G245),150,0))","v":0},null,null,null,null,{"$f":"IF(OR(DD245=\"\",DG245=\"\"),0,IF(AND(DD245=$D245,DG245=$E245),100,IF(DD245=$D245,50,IF(DG245=$E245,50,IF(AND(DD245<>$D245,DG245<>$E245),0)))))","v":0},{"$f":"IF(COUNTIF($D$45:$E$45,DG245),100,0)+IF(COUNTIF($D$45:$E$45,DD245),100,0)","v":0},{"$f":"IF(OR(DD245=\"\",DG245=\"\"),0,IF(AND(DD245=$D245,DG245=$E245,DE245=$F245,DF245=$G245),150,0))","v":0},null,null,null,null,{"$f":"IF(OR(DK245=\"\",DN245=\"\"),0,IF(AND(DK245=$D245,DN245=$E245),100,IF(DK245=$D245,50,IF(DN245=$E245,50,IF(AND(DK245<>$D245,DN245<>$E245),0)))))","v":0},{"$f":"IF(COUNTIF($D$45:$E$45,DN245),100,0)+IF(COUNTIF($D$45:$E$45,DK245),100,0)","v":0},{"$f":"IF(OR(DK245=\"\",DN245=\"\"),0,IF(AND(DK245=$D245,DN245=$E245,DL245=$F245,DM245=$G245),150,0))","v":0},null,null,null,null,{"$f":"IF(OR(DR245=\"\",DU245=\"\"),0,IF(AND(DR245=$D245,DU245=$E245),100,IF(DR245=$D245,50,IF(DU245=$E245,50,IF(AND(DR245<>$D245,DU245<>$E245),0)))))","v":0},{"$f":"IF(COUNTIF($D$45:$E$45,DU245),100,0)+IF(COUNTIF($D$45:$E$45,DR245),100,0)","v":0},{"$f":"IF(OR(DR245=\"\",DU245=\"\"),0,IF(AND(DR245=$D245,DU245=$E245,DS245=$F245,DT245=$G245),150,0))","v":0},null,null,null,null,{"$f":"IF(OR(DY245=\"\",EB245=\"\"),0,IF(AND(DY245=$D245,EB245=$E245),100,IF(DY245=$D245,50,IF(EB245=$E245,50,IF(AND(DY245<>$D245,EB245<>$E245),0)))))","v":0},{"$f":"IF(COUNTIF($D$45:$E$45,EB245),100,0)+IF(COUNTIF($D$45:$E$45,DY245),100,0)","v":0},{"$f":"IF(OR(DY245=\"\",EB245=\"\"),0,IF(AND(DY245=$D245,EB245=$E245,DZ245=$F245,EA245=$G245),150,0))","v":0},null,null,null,null,{"$f":"IF(OR(EF245=\"\",EI245=\"\"),0,IF(AND(EF245=$D245,EI245=$E245),100,IF(EF245=$D245,50,IF(EI245=$E245,50,IF(AND(EF245<>$D245,EI245<>$E245),0)))))","v":0},{"$f":"IF(COUNTIF($D$45:$E$45,EI245),100,0)+IF(COUNTIF($D$45:$E$45,EF245),100,0)","v":0},{"$f":"IF(OR(EF245=\"\",EI245=\"\"),0,IF(AND(EF245=$D245,EI245=$E245,EG245=$F245,EH245=$G245),150,0))","v":0},null,null,null,null,{"$f":"IF(OR(EM245=\"\",EP245=\"\"),0,IF(AND(EM245=$D245,EP245=$E245),100,IF(EM245=$D245,50,IF(EP245=$E245,50,IF(AND(EM245<>$D245,EP245<>$E245),0)))))","v":0},{"$f":"IF(COUNTIF($D$45:$E$45,EP245),100,0)+IF(COUNTIF($D$45:$E$45,EM245),100,0)","v":0},{"$f":"IF(OR(EM245=\"\",EP245=\"\"),0,IF(AND(EM245=$D245,EP245=$E245,EN245=$F245,EO245=$G245),150,0))","v":0},null,{"$f":"_xlfn.TEXTJOIN(\", \",TRUE,_xlfn._xlws.FILTER(INDEX($J$204:$EM$204,1,_xlfn.SEQUENCE(1,(COLUMNS($J$204:$EM$204)-1)/7+1,1,7))&\" \"&INDEX($J$205:$EM$205,1,_xlfn.SEQUENCE(1,(COLUMNS($J$205:$EM$205)-1)/7+1,1,7)),INDEX($P245:$ES245,1,_xlfn.SEQUENCE(1,(COLUMNS($P245:$ES245)-1)/7+1,1,7))>0,\"\"))","v":""}]
["Endspiel",null,null,null,null,null,null,null,null,null,null,null,null,null,null,null,null,null,null,null,null,null,null,null,null,null,null,null,null,null,null,null,null,null,null,null,null,null,null,null,null,null,null,null,null,null,null,null,null,null,null,null,null,null,null,null,null,null,null,null,null,null,null,null,null,null,null,null,null,null,null,null,null,null,null,null,null,null,null,null,null,null,null,null,null,null,null,null,null,null,null,null,null,null,null,null,null,null,null,null,null,null,null,null,null,null,null,null,null,null,null,null,null,null,null,null,null,null,null,null,null,null,null,null,null,null,null,null,null,null,null,null,null,null,null,null,null,null,null,null,null,null,null,null,null,null,null,null,null,null,{"$f":"_xlfn.TEXTJOIN(\", \",TRUE,_xlfn._xlws.FILTER(INDEX($J$204:$EM$204,1,_xlfn.SEQUENCE(1,(COLUMNS($J$204:$EM$204)-1)/7+1,1,7))&\" \"&INDEX($J$205:$EM$205,1,_xlfn.SEQUENCE(1,(COLUMNS($J$205:$EM$205)-1)/7+1,1,7)),INDEX($P246:$ES246,1,_xlfn.SEQUENCE(1,(COLUMNS($P246:$ES246)-1)/7+1,1,7))>0,\"\"))","v":""}]
[{"$f":"A197","v":"So. 19. Jul"},{"$f":"B197","v":"21:00:00"},{"$f":"C197","v":104},{"$f":"D197","v":"Spanien"},{"$f":"E197","v":"Argentinien"},{"$f":"IF(F197=\"\",\"\",F197)","v":""},{"$f":"IF(G197=\"\",\"\",G197)","v":""},null,null,"Spanien",3,1,"Schweden",{"$f":"IF(OR(J247=\"\",M247=\"\"),0,IF(AND(J247=$D247,M247=$E247),120,IF(J247=$D247,60,IF(M247=$E247,60,IF(AND(J247<>$D247,M247<>$E247),0)))))","v":60},{"$f":"IF(COUNTIF($D$47:$E$47,M247),120,0)+IF(COUNTIF($D$47:$E$47,J247),120,0)","v":120},{"$f":"IF(OR(J247=\"\",M247=\"\"),0,IF(AND(J247=$D247,M247=$E247,K247=$F247,L247=$G247),200,0))","v":0},"Spanien",2,3,"Brasilien",{"$f":"IF(OR(Q247=\"\",T247=\"\"),0,IF(AND(Q247=$D247,T247=$E247),120,IF(Q247=$D247,60,IF(T247=$E247,60,IF(AND(Q247<>$D247,T247<>$E247),0)))))","v":60},{"$f":"IF(COUNTIF($D$47:$E$47,T247),120,0)+IF(COUNTIF($D$47:$E$47,Q247),120,0)","v":120},{"$f":"IF(OR(Q247=\"\",T247=\"\"),0,IF(AND(Q247=$D247,T247=$E247,R247=$F247,S247=$G247),200,0))","v":0},"Spanien",2,1,"Argentinien",{"$f":"IF(OR(X247=\"\",AA247=\"\"),0,IF(AND(X247=$D247,AA247=$E247),120,IF(X247=$D247,60,IF(AA247=$E247,60,IF(AND(X247<>$D247,AA247<>$E247),0)))))","v":120},{"$f":"IF(COUNTIF($D$47:$E$47,AA247),120,0)+IF(COUNTIF($D$47:$E$47,X247),120,0)","v":240},{"$f":"IF(OR(X247=\"\",AA247=\"\"),0,IF(AND(X247=$D247,AA247=$E247,Y247=$F247,Z247=$G247),200,0))","v":0},"Deutschland",3,1,"England",{"$f":"IF(OR(AE247=\"\",AH247=\"\"),0,IF(AND(AE247=$D247,AH247=$E247),120,IF(AE247=$D247,60,IF(AH247=$E247,60,IF(AND(AE247<>$D247,AH247<>$E247),0)))))","v":0},{"$f":"IF(COUNTIF($D$47:$E$47,AH247),120,0)+IF(COUNTIF($D$47:$E$47,AE247),120,0)","v":0},{"$f":"IF(OR(AE247=\"\",AH247=\"\"),0,IF(AND(AE247=$D247,AH247=$E247,AF247=$F247,AG247=$G247),200,0))","v":0},null,null,null,null,{"$f":"IF(OR(AL247=\"\",AO247=\"\"),0,IF(AND(AL247=$D247,AO247=$E247),120,IF(AL247=$D247,60,IF(AO247=$E247,60,IF(AND(AL247<>$D247,AO247<>$E247),0)))))","v":0},{"$f":"IF(COUNTIF($D$47:$E$47,AO247),120,0)+IF(COUNTIF($D$47:$E$47,AL247),120,0)","v":0},{"$f":"IF(OR(AL247=\"\",AO247=\"\"),0,IF(AND(AL247=$D247,AO247=$E247,AM247=$F247,AN247=$G247),200,0))","v":0},null,null,null,null,{"$f":"IF(OR(AS247=\"\",AV247=\"\"),0,IF(AND(AS247=$D247,AV247=$E247),120,IF(AS247=$D247,60,IF(AV247=$E247,60,IF(AND(AS247<>$D247,AV247<>$E247),0)))))","v":0},{"$f":"IF(COUNTIF($D$47:$E$47,AV247),120,0)+IF(COUNTIF($D$47:$E$47,AS247),120,0)","v":0},{"$f":"IF(OR(AS247=\"\",AV247=\"\"),0,IF(AND(AS247=$D247,AV247=$E247,AT247=$F247,AU247=$G247),200,0))","v":0},null,null,null,null,{"$f":"IF(OR(AZ247=\"\",BC247=\"\"),0,IF(AND(AZ247=$D247,BC247=$E247),120,IF(AZ247=$D247,60,IF(BC247=$E247,60,IF(AND(AZ247<>$D247,BC247<>$E247),0)))))","v":0},{"$f":"IF(COUNTIF($D$47:$E$47,BC247),120,0)+IF(COUNTIF($D$47:$E$47,AZ247),120,0)","v":0},{"$f":"IF(OR(AZ247=\"\",BC247=\"\"),0,IF(AND(AZ247=$D247,BC247=$E247,BA247=$F247,BB247=$G247),200,0))","v":0},null,null,null,null,{"$f":"IF(OR(BG247=\"\",BJ247=\"\"),0,IF(AND(BG247=$D247,BJ247=$E247),120,IF(BG247=$D247,60,IF(BJ247=$E247,60,IF(AND(BG247<>$D247,BJ247<>$E247),0)))))","v":0},{"$f":"IF(COUNTIF($D$47:$E$47,BJ247),120,0)+IF(COUNTIF($D$47:$E$47,BG247),120,0)","v":0},{"$f":"IF(OR(BG247=\"\",BJ247=\"\"),0,IF(AND(BG247=$D247,BJ247=$E247,BH247=$F247,BI247=$G247),200,0))","v":0},null,null,null,null,{"$f":"IF(OR(BN247=\"\",BQ247=\"\"),0,IF(AND(BN247=$D247,BQ247=$E247),120,IF(BN247=$D247,60,IF(BQ247=$E247,60,IF(AND(BN247<>$D247,BQ247<>$E247),0)))))","v":0},{"$f":"IF(COUNTIF($D$47:$E$47,BQ247),120,0)+IF(COUNTIF($D$47:$E$47,BN247),120,0)","v":0},{"$f":"IF(OR(BN247=\"\",BQ247=\"\"),0,IF(AND(BN247=$D247,BQ247=$E247,BO247=$F247,BP247=$G247),200,0))","v":0},null,null,null,null,{"$f":"IF(OR(BU247=\"\",BX247=\"\"),0,IF(AND(BU247=$D247,BX247=$E247),120,IF(BU247=$D247,60,IF(BX247=$E247,60,IF(AND(BU247<>$D247,BX247<>$E247),0)))))","v":0},{"$f":"IF(COUNTIF($D$47:$E$47,BX247),120,0)+IF(COUNTIF($D$47:$E$47,BU247),120,0)","v":0},{"$f":"IF(OR(BU247=\"\",BX247=\"\"),0,IF(AND(BU247=$D247,BX247=$E247,BV247=$F247,BW247=$G247),200,0))","v":0},null,null,null,null,{"$f":"IF(OR(CB247=\"\",CE247=\"\"),0,IF(AND(CB247=$D247,CE247=$E247),120,IF(CB247=$D247,60,IF(CE247=$E247,60,IF(AND(CB247<>$D247,CE247<>$E247),0)))))","v":0},{"$f":"IF(COUNTIF($D$47:$E$47,CE247),120,0)+IF(COUNTIF($D$47:$E$47,CB247),120,0)","v":0},{"$f":"IF(OR(CB247=\"\",CE247=\"\"),0,IF(AND(CB247=$D247,CE247=$E247,CC247=$F247,CD247=$G247),200,0))","v":0},null,null,null,null,{"$f":"IF(OR(CI247=\"\",CL247=\"\"),0,IF(AND(CI247=$D247,CL247=$E247),120,IF(CI247=$D247,60,IF(CL247=$E247,60,IF(AND(CI247<>$D247,CL247<>$E247),0)))))","v":0},{"$f":"IF(COUNTIF($D$47:$E$47,CL247),120,0)+IF(COUNTIF($D$47:$E$47,CI247),120,0)","v":0},{"$f":"IF(OR(CI247=\"\",CL247=\"\"),0,IF(AND(CI247=$D247,CL247=$E247,CJ247=$F247,CK247=$G247),200,0))","v":0},null,null,null,null,{"$f":"IF(OR(CP247=\"\",CS247=\"\"),0,IF(AND(CP247=$D247,CS247=$E247),120,IF(CP247=$D247,60,IF(CS247=$E247,60,IF(AND(CP247<>$D247,CS247<>$E247),0)))))","v":0},{"$f":"IF(COUNTIF($D$47:$E$47,CS247),120,0)+IF(COUNTIF($D$47:$E$47,CP247),120,0)","v":0},{"$f":"IF(OR(CP247=\"\",CS247=\"\"),0,IF(AND(CP247=$D247,CS247=$E247,CQ247=$F247,CR247=$G247),200,0))","v":0},null,null,null,null,{"$f":"IF(OR(CW247=\"\",CZ247=\"\"),0,IF(AND(CW247=$D247,CZ247=$E247),120,IF(CW247=$D247,60,IF(CZ247=$E247,60,IF(AND(CW247<>$D247,CZ247<>$E247),0)))))","v":0},{"$f":"IF(COUNTIF($D$47:$E$47,CZ247),120,0)+IF(COUNTIF($D$47:$E$47,CW247),120,0)","v":0},{"$f":"IF(OR(CW247=\"\",CZ247=\"\"),0,IF(AND(CW247=$D247,CZ247=$E247,CX247=$F247,CY247=$G247),200,0))","v":0},null,null,null,null,{"$f":"IF(OR(DD247=\"\",DG247=\"\"),0,IF(AND(DD247=$D247,DG247=$E247),120,IF(DD247=$D247,60,IF(DG247=$E247,60,IF(AND(DD247<>$D247,DG247<>$E247),0)))))","v":0},{"$f":"IF(COUNTIF($D$47:$E$47,DG247),120,0)+IF(COUNTIF($D$47:$E$47,DD247),120,0)","v":0},{"$f":"IF(OR(DD247=\"\",DG247=\"\"),0,IF(AND(DD247=$D247,DG247=$E247,DE247=$F247,DF247=$G247),200,0))","v":0},null,null,null,null,{"$f":"IF(OR(DK247=\"\",DN247=\"\"),0,IF(AND(DK247=$D247,DN247=$E247),120,IF(DK247=$D247,60,IF(DN247=$E247,60,IF(AND(DK247<>$D247,DN247<>$E247),0)))))","v":0},{"$f":"IF(COUNTIF($D$47:$E$47,DN247),120,0)+IF(COUNTIF($D$47:$E$47,DK247),120,0)","v":0},{"$f":"IF(OR(DK247=\"\",DN247=\"\"),0,IF(AND(DK247=$D247,DN247=$E247,DL247=$F247,DM247=$G247),200,0))","v":0},null,null,null,null,{"$f":"IF(OR(DR247=\"\",DU247=\"\"),0,IF(AND(DR247=$D247,DU247=$E247),120,IF(DR247=$D247,60,IF(DU247=$E247,60,IF(AND(DR247<>$D247,DU247<>$E247),0)))))","v":0},{"$f":"IF(COUNTIF($D$47:$E$47,DU247),120,0)+IF(COUNTIF($D$47:$E$47,DR247),120,0)","v":0},{"$f":"IF(OR(DR247=\"\",DU247=\"\"),0,IF(AND(DR247=$D247,DU247=$E247,DS247=$F247,DT247=$G247),200,0))","v":0},null,null,null,null,{"$f":"IF(OR(DY247=\"\",EB247=\"\"),0,IF(AND(DY247=$D247,EB247=$E247),120,IF(DY247=$D247,60,IF(EB247=$E247,60,IF(AND(DY247<>$D247,EB247<>$E247),0)))))","v":0},{"$f":"IF(COUNTIF($D$47:$E$47,EB247),120,0)+IF(COUNTIF($D$47:$E$47,DY247),120,0)","v":0},{"$f":"IF(OR(DY247=\"\",EB247=\"\"),0,IF(AND(DY247=$D247,EB247=$E247,DZ247=$F247,EA247=$G247),200,0))","v":0},null,null,null,null,{"$f":"IF(OR(EF247=\"\",EI247=\"\"),0,IF(AND(EF247=$D247,EI247=$E247),120,IF(EF247=$D247,60,IF(EI247=$E247,60,IF(AND(EF247<>$D247,EI247<>$E247),0)))))","v":0},{"$f":"IF(COUNTIF($D$47:$E$47,EI247),120,0)+IF(COUNTIF($D$47:$E$47,EF247),120,0)","v":0},{"$f":"IF(OR(EF247=\"\",EI247=\"\"),0,IF(AND(EF247=$D247,EI247=$E247,EG247=$F247,EH247=$G247),200,0))","v":0},null,null,null,null,{"$f":"IF(OR(EM247=\"\",EP247=\"\"),0,IF(AND(EM247=$D247,EP247=$E247),120,IF(EM247=$D247,60,IF(EP247=$E247,60,IF(AND(EM247<>$D247,EP247<>$E247),0)))))","v":0},{"$f":"IF(COUNTIF($D$47:$E$47,EP247),120,0)+IF(COUNTIF($D$47:$E$47,EM247),120,0)","v":0},{"$f":"IF(OR(EM247=\"\",EP247=\"\"),0,IF(AND(EM247=$D247,EP247=$E247,EN247=$F247,EO247=$G247),200,0))","v":0},null,{"$f":"_xlfn.TEXTJOIN(\", \",TRUE,_xlfn._xlws.FILTER(INDEX($J$204:$EM$204,1,_xlfn.SEQUENCE(1,(COLUMNS($J$204:$EM$204)-1)/7+1,1,7))&\" \"&INDEX($J$205:$EM$205,1,_xlfn.SEQUENCE(1,(COLUMNS($J$205:$EM$205)-1)/7+1,1,7)),INDEX($P247:$ES247,1,_xlfn.SEQUENCE(1,(COLUMNS($P247:$ES247)-1)/7+1,1,7))>0,\"\"))","v":""}]
["Weltmeister"]
[null,null,null,{"$f":"D199","v":"???"},null,null,null,null,null,"Weltmeister:",null,null,{"$f":"IF(K247=L247,\"\",IF(K247>L247,J247,M247))","v":"Spanien"},null,null,{"$f":"IF(OR(M249=\"\"),0,IF(M249=$D249,350,0))","v":0},"Weltmeister:",null,null,{"$f":"IF(R247=S247,\"\",IF(R247>S247,Q247,T247))","v":"Brasilien"},null,null,{"$f":"IF(OR(T249=\"\"),0,IF(T249=$D249,350,0))","v":0},"Weltmeister:",null,null,{"$f":"IF(Y247=Z247,\"\",IF(Y247>Z247,X247,AA247))","v":"Spanien"},null,null,{"$f":"IF(OR(AA249=\"\"),0,IF(AA249=$D249,350,0))","v":0},"Weltmeister:",null,null,{"$f":"IF(AF247=AG247,\"\",IF(AF247>AG247,AE247,AH247))","v":"Deutschland"},null,null,{"$f":"IF(OR(AH249=\"\"),0,IF(AH249=$D249,350,0))","v":0},"Weltmeister:",null,null,{"$f":"IF(AM247=AN247,\"\",IF(AM247>AN247,AL247,AO247))","v":""},null,null,{"$f":"IF(OR(AO249=\"\"),0,IF(AO249=$D249,350,0))","v":0},"Weltmeister:",null,null,{"$f":"IF(AT247=AU247,\"\",IF(AT247>AU247,AS247,AV247))","v":""},null,null,{"$f":"IF(OR(AV249=\"\"),0,IF(AV249=$D249,350,0))","v":0},"Weltmeister:",null,null,{"$f":"IF(BA247=BB247,\"\",IF(BA247>BB247,AZ247,BC247))","v":""},null,null,{"$f":"IF(OR(BC249=\"\"),0,IF(BC249=$D249,350,0))","v":0},"Weltmeister:",null,null,{"$f":"IF(BH247=BI247,\"\",IF(BH247>BI247,BG247,BJ247))","v":""},null,null,{"$f":"IF(OR(BJ249=\"\"),0,IF(BJ249=$D249,350,0))","v":0},"Weltmeister:",null,null,{"$f":"IF(BO247=BP247,\"\",IF(BO247>BP247,BN247,BQ247))","v":""},null,null,{"$f":"IF(OR(BQ249=\"\"),0,IF(BQ249=$D249,350,0))","v":0},"Weltmeister:",null,null,{"$f":"IF(BV247=BW247,\"\",IF(BV247>BW247,BU247,BX247))","v":""},null,null,{"$f":"IF(OR(BX249=\"\"),0,IF(BX249=$D249,350,0))","v":0},"Weltmeister:",null,null,{"$f":"IF(CC247=CD247,\"\",IF(CC247>CD247,CB247,CE247))","v":""},null,null,{"$f":"IF(OR(CE249=\"\"),0,IF(CE249=$D249,350,0))","v":0},"Weltmeister:",null,null,{"$f":"IF(CJ247=CK247,\"\",IF(CJ247>CK247,CI247,CL247))","v":""},null,null,{"$f":"IF(OR(CL249=\"\"),0,IF(CL249=$D249,350,0))","v":0},"Weltmeister:",null,null,{"$f":"IF(CQ247=CR247,\"\",IF(CQ247>CR247,CP247,CS247))","v":""},null,null,{"$f":"IF(OR(CS249=\"\"),0,IF(CS249=$D249,350,0))","v":0},"Weltmeister:",null,null,{"$f":"IF(CX247=CY247,\"\",IF(CX247>CY247,CW247,CZ247))","v":""},null,null,{"$f":"IF(OR(CZ249=\"\"),0,IF(CZ249=$D249,350,0))","v":0},"Weltmeister:",null,null,{"$f":"IF(DE247=DF247,\"\",IF(DE247>DF247,DD247,DG247))","v":""},null,null,{"$f":"IF(OR(DG249=\"\"),0,IF(DG249=$D249,350,0))","v":0},"Weltmeister:",null,null,{"$f":"IF(DL247=DM247,\"\",IF(DL247>DM247,DK247,DN247))","v":""},null,null,{"$f":"IF(OR(DN249=\"\"),0,IF(DN249=$D249,350,0))","v":0},"Weltmeister:",null,null,{"$f":"IF(DS247=DT247,\"\",IF(DS247>DT247,DR247,DU247))","v":""},null,null,{"$f":"IF(OR(DU249=\"\"),0,IF(DU249=$D249,350,0))","v":0},"Weltmeister:",null,null,{"$f":"IF(DZ247=EA247,\"\",IF(DZ247>EA247,DY247,EB247))","v":""},null,null,{"$f":"IF(OR(EB249=\"\"),0,IF(EB249=$D249,350,0))","v":0},"Weltmeister:",null,null,{"$f":"IF(EG247=EH247,\"\",IF(EG247>EH247,EF247,EI247))","v":""},null,null,{"$f":"IF(OR(EI249=\"\"),0,IF(EI249=$D249,350,0))","v":0},"Weltmeister:",null,null,{"$f":"IF(EN247=EO247,\"\",IF(EN247>EO247,EM247,EP247))","v":""},null,null,{"$f":"IF(OR(EP249=\"\"),0,IF(EP249=$D249,350,0))","v":0}]
[null,null,null,null,null,null,null,null,null,{"$f":"Teilnehmerliste!$C86","v":"Walthard"},null,null,null,{"$f":"SUM(N211:P249)","v":1940},null,null,{"$f":"Teilnehmerliste!$C87","v":"Wang"},null,null,null,{"$f":"SUM(U211:W249)","v":2250},null,null,{"$f":"Teilnehmerliste!$C88","v":"Wullschleger"},null,null,null,{"$f":"SUM(AB211:AD249)","v":3380},null,null,{"$f":"Teilnehmerliste!$C89","v":"Zachmann"},null,null,null,{"$f":"SUM(AI211:AK249)","v":1930},null,null,{"$f":"Teilnehmerliste!$C90","v":0},null,null,null,{"$f":"SUM(AP211:AR249)","v":0},null,null,{"$f":"Teilnehmerliste!$C91","v":0},null,null,null,{"$f":"SUM(AW211:AY249)","v":0},null,null,{"$f":"Teilnehmerliste!$C92","v":0},null,null,null,{"$f":"SUM(BD211:BF249)","v":0},null,null,{"$f":"Teilnehmerliste!$C93","v":0},null,null,null,{"$f":"SUM(BK211:BM249)","v":0},null,null,{"$f":"Teilnehmerliste!$C94","v":0},null,null,null,{"$f":"SUM(BR211:BT249)","v":0},null,null,{"$f":"Teilnehmerliste!$C95","v":0},null,null,null,{"$f":"SUM(BY211:CA249)","v":0},null,null,{"$f":"Teilnehmerliste!$C96","v":0},null,null,null,{"$f":"SUM(CF211:CH249)","v":0},null,null,{"$f":"Teilnehmerliste!$C97","v":0},null,null,null,{"$f":"SUM(CM211:CO249)","v":0},null,null,{"$f":"Teilnehmerliste!$C98","v":0},null,null,null,{"$f":"SUM(CT211:CV249)","v":0},null,null,{"$f":"Teilnehmerliste!$C99","v":0},null,null,null,{"$f":"SUM(DA211:DC249)","v":0},null,null,{"$f":"Teilnehmerliste!$C100","v":0},null,null,null,{"$f":"SUM(DH211:DJ249)","v":0},null,null,{"$f":"Teilnehmerliste!$C101","v":0},null,null,null,{"$f":"SUM(DO211:DQ249)","v":0},null,null,{"$f":"Teilnehmerliste!$C102","v":0},null,null,null,{"$f":"SUM(DV211:DX249)","v":0},null,null,{"$f":"Teilnehmerliste!$C103","v":0},null,null,null,{"$f":"SUM(EC211:EE249)","v":0},null,null,{"$f":"Teilnehmerliste!$C104","v":0},null,null,null,{"$f":"SUM(EJ211:EL249)","v":0},null,null,{"$f":"Teilnehmerliste!$C105","v":0},null,null,null,{"$f":"SUM(EQ211:ES249)","v":0}]

{"sheet":"Teilnehmerliste","index":5,"n_rows":105,"n_cols":3,"rows_kept":105,"cut":false,"hidden":false,"merged":[[2,0,2,1]]}
[{"$f":"Teams!$B$54","v":"WM 2026 by Rogerinho (www.fcbouncer.ch)"}]
[]
["Teilnehmerliste",null,"Spieler 1 - 100"]
[]
["Nr.","Vorname","Name"]
[1,"Panos","Agorastos"]
[2,"Yiannis","Agorastos"]
[3,"Ambra","Antonelli"]
[4,"Marco","Antonelli"]
[5,"Ruben","Antonelli"]
[6,"Peter","Balazs"]
[7,"André","Bartholet"]
[8,"Aya","Bartholet"]
[9,"Philippe","Bartholet"]
[10,"Roger","Bartholet"]
[11,"Mara","Beck"]
[12,"Pongsapat Nott","Boonaek"]
[13,"Michael","Bosshart"]
[14,"Manfred","Brunner"]
[15,"Manuel","Brunner"]
[16,"Nicolas","Brunner"]
[17,"Philip","Brunner"]
[18,"André","Burkart"]
[19,"Oli","Christiansen"]
[20,"Javier","Cruz"]
[21,"Leo","Rodrigues da Costa"]
[22,"Lisa","D'Acunto"]
[23,"Niva","D'Acunto"]
[24,"Vinci","D'Acunto"]
[25,"Rafael","Derungs"]
[26,"Goran","Djukic"]
[27,"Armin","Duvnjak"]
[28,"Dino","Duvnjak"]
[29,"Djuma","Duvnjak"]
[30,"Andreia","Gomes"]
[31,"Rui","Gomes"]
[32,"Deliz","González"]
[33,"Florian","González"]
[34,"Laurent","Grosse"]
[35,"Reto","Gygli"]
[36,"Robin","Gygli"]
[37,"Sarina","Gygli"]
[38,"Selina","Gygli"]
[39,"Stefan","Gygli"]
[40,"Timothy","Gygli"]
[41,"Florian","Haab"]
[42,"Agnes","Isenschmid"]
[43,"Andreas","Isenschmid"]
[44,"Michael","Isenschmid"]
[45,"Aiden","Jones"]
[46,"Pascal","Keller"]
[47,"Tanja","Kistler"]
[48,"André","Lanz"]
[49,"Franz","Lischer"]
[50,"Marc","Lütolf"]
[51,"Nicolas","Mack"]
[52,"Mauro","Marini"]
[53,"Ben","Marthaler"]
[54,"Martin","Marthaler"]
[55,"Elias","Marty"]
[56,"Julian","Merkli"]
[57,"Philipp","Meyer"]
[58,"Telmo","Oliveira"]
[59,"Martin","Oroshi"]
[60,"Lechena","Pek"]
[61,"Stefan","Principe"]
[62,"Michael","Prucha"]
[63,"Petra","Rauscher"]
[64,"Martin","Rohner"]
[65,"Ivo und Brigitte","Rüdemann"]
[66,"Lynn","Rüegg"]
[67,"Michael","Rüegg"]
[68,"Sabine","Rüegg"]
[69,"Martin","Schawalder"]
[70,"Evelyne","Schenk"]
[71,"Yannick","Schilliger"]
[72,"Erich","Schommarz"]
[73,"Ralph","Schuster"]
[74,"Bruno","Silva"]
[75,"Aleandro","Silvestri"]
[76,"Armando","Thormann"]
[77,"Lea","Treichler"]
[78,"Reto","Treichler"]
[79,"Christoph","Wälti"]
[80,"Markus","Wagner"]
[81,"Marc","Walthard"]
[82,"Jingwen","Wang"]
[83,"Stefan","Wullschleger"]
[84,"Stefan","Zachmann"]
[85]
[86]
[87]
[88]
[89]
[90]
[91]
[92]
[93]
[94]
[95]
[96]
[97]
[98]
[99]
[100]

{"sheet":"Teams","index":6,"n_rows":54,"n_cols":2,"rows_kept":54,"cut":false,"hidden":false,"merged":[[0,0,0,3],[15,0,18,0],[19,0,22,0],[23,0,26,0],[3,0,6,0],[7,0,10,0],[11,0,14,0],[35,0,38,0],[39,0,42,0],[43,0,46,0],[47,0,50,0],[27,0,30,0],[31,0,34,0]]}
[{"$f":"B54","v":"WM 2026 by Rogerinho (www.fcbouncer.ch)"}]
[]
[null,"Teams"]
["Gruppe A","Mexiko"]
[null,"Südkorea"]
[null,"Tschechien"]
[null,"Südafrika"]
["Gruppe B","Schweiz"]
[null,"Kanada"]
[null,"Katar"]
[null,"Bosnien-Herz."]
["Gruppe C","Brasilien"]
[null,"Marokko"]
[null,"Schottland"]
[null,"Haiti"]
["Gruppe D","USA"]
[null,"Türkei"]
[null,"Australien"]
[null,"Paraguay"]
["Gruppe E","Deutschland"]
[null,"Ecuador"]
[null,"Elfenbeinküste"]
[null,"Curacao"]
["Gruppe F","Holland"]
[null,"Japan"]
[null,"Schweden"]
[null,"Tunesien"]
["Gruppe G","Belgien"]
[null,"Iran"]
[null,"Ägypten"]
[null,"Neuseeland"]
["Gruppe H","Spanien"]
[null,"Uruguay"]
[null,"Saudi-Arabien"]
[null,"Kap Verde"]
["Gruppe I","Frankreich"]
[null,"Senegal"]
[null,"Norwegen"]
[null,"Irak"]
["Gruppe J","Argentinien"]
[null,"Österreich"]
[null,"Algerien"]
[null,"Jordanien"]
["Gruppe K","Portugal"]
[null,"Kolumbien"]
[null,"DR Kongo"]
[null,"Usbekistan"]
["Gruppe L","England"]
[null,"Kroatien"]
[null,"Panama"]
[null,"Ghana"]
[]
[]
["Turnier:","WM 2026 by Rogerinho (www.fcbouncer.ch)"]

{"sheet":"Stat_05710","index":7,"n_rows":106,"n_cols":7,"rows_kept":106,"cut":false,"hidden":false,"merged":[[2,3,2,6],[0,0,0,6]]}
[{"$f":"Teams!$B$54","v":"WM 2026 by Rogerinho (www.fcbouncer.ch)"}]
[]
["Wie gut haben alle getippt?",null,null,"Punkte"]
[{"$f":"CONCATENATE(Punktestand!Q7,Punktestand!P7,\" Spielen\")","v":"nach 102 Spielen"},null,null,0,5,7,10]
[{"$f":"Teilnehmerliste!A6","v":1},null,{"$f":"Teilnehmerliste!B6 &\" \"&Teilnehmerliste!C6","v":"Panos Agorastos"},{"$f":"IF($C$5=\" \",\"\",COUNTIF(Vorrunde!$K$9:$K$80,0))","v":26},{"$f":"IF($C$5=\" \",\"\",COUNTIF(Vorrunde!$K$9:$K$80,5))","v":28},{"$f":"IF($C$5=\" \",\"\",COUNTIF(Vorrunde!$K$9:$K$80,7))","v":10},{"$f":"IF($C$5=\" \",\"\",COUNTIF(Vorrunde!$K$9:$K$80,10))","v":8}]
[{"$f":"Teilnehmerliste!A7","v":2},null,{"$f":"Teilnehmerliste!B7 &\" \"&Teilnehmerliste!C7","v":"Yiannis Agorastos"},{"$f":"IF($C$6=\" \",\"\",COUNTIF(Vorrunde!$O$9:$O$80,0))","v":35},{"$f":"IF($C$6=\" \",\"\",COUNTIF(Vorrunde!$O$9:$O$80,5))","v":29},{"$f":"IF($C$6=\" \",\"\",COUNTIF(Vorrunde!$O$9:$O$80,7))","v":5},{"$f":"IF($C$6=\" \",\"\",COUNTIF(Vorrunde!$O$9:$O$80,10))","v":3}]
[{"$f":"Teilnehmerliste!A8","v":3},null,{"$f":"Teilnehmerliste!B8 &\" \"&Teilnehmerliste!C8","v":"Ambra Antonelli"},{"$f":"IF($C$7=\" \",\"\",COUNTIF(Vorrunde!$S$9:$S$80,0))","v":38},{"$f":"IF($C$7=\" \",\"\",COUNTIF(Vorrunde!$S$9:$S$80,5))","v":16},{"$f":"IF($C$7=\" \",\"\",COUNTIF(Vorrunde!$S$9:$S$80,7))","v":12},{"$f":"IF($C$7=\" \",\"\",COUNTIF(Vorrunde!$S$9:$S$80,10))","v":6}]
[{"$f":"Teilnehmerliste!A9","v":4},null,{"$f":"Teilnehmerliste!B9 &\" \"&Teilnehmerliste!C9","v":"Marco Antonelli"},{"$f":"IF($C$8=\" \",\"\",COUNTIF(Vorrunde!$W$9:$W$80,0))","v":30},{"$f":"IF($C$8=\" \",\"\",COUNTIF(Vorrunde!$W$9:$W$80,5))","v":32},{"$f":"IF($C$8=\" \",\"\",COUNTIF(Vorrunde!$W$9:$W$80,7))","v":7},{"$f":"IF($C$8=\" \",\"\",COUNTIF(Vorrunde!$W$9:$W$80,10))","v":3}]
[{"$f":"Teilnehmerliste!A10","v":5},null,{"$f":"Teilnehmerliste!B10 &\" \"&Teilnehmerliste!C10","v":"Ruben Antonelli"},{"$f":"IF($C$9=\" \",\"\",COUNTIF(Vorrunde!$AA$9:$AA$80,0))","v":24},{"$f":"IF($C$9=\" \",\"\",COUNTIF(Vorrunde!$AA$9:$AA$80,5))","v":32},{"$f":"IF($C$9=\" \",\"\",COUNTIF(Vorrunde!$AA$9:$AA$80,7))","v":8},{"$f":"IF($C$9=\" \",\"\",COUNTIF(Vorrunde!$AA$9:$AA$80,10))","v":8}]
[{"$f":"Teilnehmerliste!A11","v":6},null,{"$f":"Teilnehmerliste!B11 &\" \"&Teilnehmerliste!C11","v":"Peter Balazs"},{"$f":"IF($C$10=\" \",\"\",COUNTIF(Vorrunde!$AE$9:$AE$80,0))","v":26},{"$f":"IF($C$10=\" \",\"\",COUNTIF(Vorrunde!$AE$9:$AE$80,5))","v":27},{"$f":"IF($C$10=\" \",\"\",COUNTIF(Vorrunde!$AE$9:$AE$80,7))","v":11},{"$f":"IF($C$10=\" \",\"\",COUNTIF(Vorrunde!$AE$9:$AE$80,10))","v":8}]
[{"$f":"Teilnehmerliste!A12","v":7},null,{"$f":"Teilnehmerliste!B12 &\" \"&Teilnehmerliste!C12","v":"André Bartholet"},{"$f":"IF($C$11=\" \",\"\",COUNTIF(Vorrunde!$AI$9:$AI$80,0))","v":32},{"$f":"IF($C$11=\" \",\"\",COUNTIF(Vorrunde!$AI$9:$AI$80,5))","v":21},{"$f":"IF($C$11=\" \",\"\",COUNTIF(Vorrunde!$AI$9:$AI$80,7))","v":10},{"$f":"IF($C$11=\" \",\"\",COUNTIF(Vorrunde!$AI$9:$AI$80,10))","v":9}]
[{"$f":"Teilnehmerliste!A13","v":8},null,{"$f":"Teilnehmerliste!B13 &\" \"&Teilnehmerliste!C13","v":"Aya Bartholet"},{"$f":"IF($C$12=\" \",\"\",COUNTIF(Vorrunde!$AM$9:$AM$80,0))","v":39},{"$f":"IF($C$12=\" \",\"\",COUNTIF(Vorrunde!$AM$9:$AM$80,5))","v":21},{"$f":"IF($C$12=\" \",\"\",COUNTIF(Vorrunde!$AM$9:$AM$80,7))","v":4},{"$f":"IF($C$12=\" \",\"\",COUNTIF(Vorrunde!$AM$9:$AM$80,10))","v":8}]
[{"$f":"Teilnehmerliste!A14","v":9},null,{"$f":"Teilnehmerliste!B14 &\" \"&Teilnehmerliste!C14","v":"Philippe Bartholet"},{"$f":"IF($C$13=\" \",\"\",COUNTIF(Vorrunde!$AQ$9:$AQ$80,0))","v":30},{"$f":"IF($C$13=\" \",\"\",COUNTIF(Vorrunde!$AQ$9:$AQ$80,5))","v":22},{"$f":"IF($C$13=\" \",\"\",COUNTIF(Vorrunde!$AQ$9:$AQ$80,7))","v":13},{"$f":"IF($C$13=\" \",\"\",COUNTIF(Vorrunde!$AQ$9:$AQ$80,10))","v":7}]
[{"$f":"Teilnehmerliste!A15","v":10},null,{"$f":"Teilnehmerliste!B15 &\" \"&Teilnehmerliste!C15","v":"Roger Bartholet"},{"$f":"IF($C$14=\" \",\"\",COUNTIF(Vorrunde!$AU$9:$AU$80,0))","v":29},{"$f":"IF($C$14=\" \",\"\",COUNTIF(Vorrunde!$AU$9:$AU$80,5))","v":27},{"$f":"IF($C$14=\" \",\"\",COUNTIF(Vorrunde!$AU$9:$AU$80,7))","v":8},{"$f":"IF($C$14=\" \",\"\",COUNTIF(Vorrunde!$AU$9:$AU$80,10))","v":8}]
[{"$f":"Teilnehmerliste!A16","v":11},null,{"$f":"Teilnehmerliste!B16 &\" \"&Teilnehmerliste!C16","v":"Mara Beck"},{"$f":"IF($C$15=\" \",\"\",COUNTIF(Vorrunde!$AY$9:$AY$80,0))","v":24},{"$f":"IF($C$15=\" \",\"\",COUNTIF(Vorrunde!$AY$9:$AY$80,5))","v":32},{"$f":"IF($C$15=\" \",\"\",COUNTIF(Vorrunde!$AY$9:$AY$80,7))","v":8},{"$f":"IF($C$15=\" \",\"\",COUNTIF(Vorrunde!$AY$9:$AY$80,10))","v":8}]
[{"$f":"Teilnehmerliste!A17","v":12},null,{"$f":"Teilnehmerliste!B17 &\" \"&Teilnehmerliste!C17","v":"Pongsapat Nott Boonaek"},{"$f":"IF($C$16=\" \",\"\",COUNTIF(Vorrunde!$BC$9:$BC$80,0))","v":27},{"$f":"IF($C$16=\" \",\"\",COUNTIF(Vorrunde!$BC$9:$BC$80,5))","v":30},{"$f":"IF($C$16=\" \",\"\",COUNTIF(Vorrunde!$BC$9:$BC$80,7))","v":10},{"$f":"IF($C$16=\" \",\"\",COUNTIF(Vorrunde!$BC$9:$BC$80,10))","v":5}]
[{"$f":"Teilnehmerliste!A18","v":13},null,{"$f":"Teilnehmerliste!B18 &\" \"&Teilnehmerliste!C18","v":"Michael Bosshart"},{"$f":"IF($C$17=\" \",\"\",COUNTIF(Vorrunde!$BG$9:$BG$80,0))","v":28},{"$f":"IF($C$17=\" \",\"\",COUNTIF(Vorrunde!$BG$9:$BG$80,5))","v":28},{"$f":"IF($C$17=\" \",\"\",COUNTIF(Vorrunde!$BG$9:$BG$80,7))","v":10},{"$f":"IF($C$17=\" \",\"\",COUNTIF(Vorrunde!$BG$9:$BG$80,10))","v":6}]
[{"$f":"Teilnehmerliste!A19","v":14},null,{"$f":"Teilnehmerliste!B19 &\" \"&Teilnehmerliste!C19","v":"Manfred Brunner"},{"$f":"IF($C$18=\" \",\"\",COUNTIF(Vorrunde!$BK$9:$BK$80,0))","v":27},{"$f":"IF($C$18=\" \",\"\",COUNTIF(Vorrunde!$BK$9:$BK$80,5))","v":26},{"$f":"IF($C$18=\" \",\"\",COUNTIF(Vorrunde!$BK$9:$BK$80,7))","v":11},{"$f":"IF($C$18=\" \",\"\",COUNTIF(Vorrunde!$BK$9:$BK$80,10))","v":8}]
[{"$f":"Teilnehmerliste!A20","v":15},null,{"$f":"Teilnehmerliste!B20 &\" \"&Teilnehmerliste!C20","v":"Manuel Brunner"},{"$f":"IF($C$19=\" \",\"\",COUNTIF(Vorrunde!$BO$9:$BO$80,0))","v":32},{"$f":"IF($C$19=\" \",\"\",COUNTIF(Vorrunde!$BO$9:$BO$80,5))","v":25},{"$f":"IF($C$19=\" \",\"\",COUNTIF(Vorrunde!$BO$9:$BO$80,7))","v":9},{"$f":"IF($C$19=\" \",\"\",COUNTIF(Vorrunde!$BO$9:$BO$80,10))","v":6}]
[{"$f":"Teilnehmerliste!A21","v":16},null,{"$f":"Teilnehmerliste!B21 &\" \"&Teilnehmerliste!C21","v":"Nicolas Brunner"},{"$f":"IF($C$20=\" \",\"\",COUNTIF(Vorrunde!$BS$9:$BS$80,0))","v":26},{"$f":"IF($C$20=\" \",\"\",COUNTIF(Vorrunde!$BS$9:$BS$80,5))","v":27},{"$f":"IF($C$20=\" \",\"\",COUNTIF(Vorrunde!$BS$9:$BS$80,7))","v":11},{"$f":"IF($C$20=\" \",\"\",COUNTIF(Vorrunde!$BS$9:$BS$80,10))","v":8}]
[{"$f":"Teilnehmerliste!A22","v":17},null,{"$f":"Teilnehmerliste!B22 &\" \"&Teilnehmerliste!C22","v":"Philip Brunner"},{"$f":"IF($C$21=\" \",\"\",COUNTIF(Vorrunde!$BW$9:$BW$80,0))","v":31},{"$f":"IF($C$21=\" \",\"\",COUNTIF(Vorrunde!$BW$9:$BW$80,5))","v":17},{"$f":"IF($C$21=\" \",\"\",COUNTIF(Vorrunde!$BW$9:$BW$80,7))","v":13},{"$f":"IF($C$21=\" \",\"\",COUNTIF(Vorrunde!$BW$9:$BW$80,10))","v":11}]
[{"$f":"Teilnehmerliste!A23","v":18},null,{"$f":"Teilnehmerliste!B23 &\" \"&Teilnehmerliste!C23","v":"André Burkart"},{"$f":"IF($C$22=\" \",\"\",COUNTIF(Vorrunde!$CA$9:$CA$80,0))","v":30},{"$f":"IF($C$22=\" \",\"\",COUNTIF(Vorrunde!$CA$9:$CA$80,5))","v":23},{"$f":"IF($C$22=\" \",\"\",COUNTIF(Vorrunde!$CA$9:$CA$80,7))","v":11},{"$f":"IF($C$22=\" \",\"\",COUNTIF(Vorrunde!$CA$9:$CA$80,10))","v":8}]
[{"$f":"Teilnehmerliste!A24","v":19},null,{"$f":"Teilnehmerliste!B24 &\" \"&Teilnehmerliste!C24","v":"Oli Christiansen"},{"$f":"IF($C$23=\" \",\"\",COUNTIF(Vorrunde!$CE$9:$CE$80,0))","v":33},{"$f":"IF($C$23=\" \",\"\",COUNTIF(Vorrunde!$CE$9:$CE$80,5))","v":23},{"$f":"IF($C$23=\" \",\"\",COUNTIF(Vorrunde!$CE$9:$CE$80,7))","v":7},{"$f":"IF($C$23=\" \",\"\",COUNTIF(Vorrunde!$CE$9:$CE$80,10))","v":9}]
[{"$f":"Teilnehmerliste!A25","v":20},null,{"$f":"Teilnehmerliste!B25 &\" \"&Teilnehmerliste!C25","v":"Javier Cruz"},{"$f":"IF($C$24=\" \",\"\",COUNTIF(Vorrunde!$CI$9:$CI$80,0))","v":28},{"$f":"IF($C$24=\" \",\"\",COUNTIF(Vorrunde!$CI$9:$CI$80,5))","v":31},{"$f":"IF($C$24=\" \",\"\",COUNTIF(Vorrunde!$CI$9:$CI$80,7))","v":9},{"$f":"IF($C$24=\" \",\"\",COUNTIF(Vorrunde!$CI$9:$CI$80,10))","v":4}]
[{"$f":"Teilnehmerliste!A26","v":21},null,{"$f":"Teilnehmerliste!B26 &\" \"&Teilnehmerliste!C26","v":"Leo Rodrigues da Costa"},{"$f":"IF($C$25=\" \",\"\",COUNTIF(Vorrunde!$CM$9:$CM$80,0))","v":28},{"$f":"IF($C$25=\" \",\"\",COUNTIF(Vorrunde!$CM$9:$CM$80,5))","v":23},{"$f":"IF($C$25=\" \",\"\",COUNTIF(Vorrunde!$CM$9:$CM$80,7))","v":12},{"$f":"IF($C$25=\" \",\"\",COUNTIF(Vorrunde!$CM$9:$CM$80,10))","v":9}]
[{"$f":"Teilnehmerliste!A27","v":22},null,{"$f":"Teilnehmerliste!B27 &\" \"&Teilnehmerliste!C27","v":"Lisa D'Acunto"},{"$f":"IF($C$26=\" \",\"\",COUNTIF(Vorrunde!$CQ$9:$CQ$80,0))","v":30},{"$f":"IF($C$26=\" \",\"\",COUNTIF(Vorrunde!$CQ$9:$CQ$80,5))","v":30},{"$f":"IF($C$26=\" \",\"\",COUNTIF(Vorrunde!$CQ$9:$CQ$80,7))","v":6},{"$f":"IF($C$26=\" \",\"\",COUNTIF(Vorrunde!$CQ$9:$CQ$80,10))","v":6}]
[{"$f":"Teilnehmerliste!A28","v":23},null,{"$f":"Teilnehmerliste!B28 &\" \"&Teilnehmerliste!C28","v":"Niva D'Acunto"},{"$f":"IF($C$27=\" \",\"\",COUNTIF(Vorrunde!$CU$9:$CU$80,0))","v":29},{"$f":"IF($C$27=\" \",\"\",COUNTIF(Vorrunde!$CU$9:$CU$80,5))","v":27},{"$f":"IF($C$27=\" \",\"\",COUNTIF(Vorrunde!$CU$9:$CU$80,7))","v":9},{"$f":"IF($C$27=\" \",\"\",COUNTIF(Vorrunde!$CU$9:$CU$80,10))","v":7}]
[{"$f":"Teilnehmerliste!A29","v":24},null,{"$f":"Teilnehmerliste!B29 &\" \"&Teilnehmerliste!C29","v":"Vinci D'Acunto"},{"$f":"IF($C$28=\" \",\"\",COUNTIF(Vorrunde!$CY$9:$CY$80,0))","v":28},{"$f":"IF($C$28=\" \",\"\",COUNTIF(Vorrunde!$CY$9:$CY$80,5))","v":25},{"$f":"IF($C$28=\" \",\"\",COUNTIF(Vorrunde!$CY$9:$CY$80,7))","v":12},{"$f":"IF($C$28=\" \",\"\",COUNTIF(Vorrunde!$CY$9:$CY$80,10))","v":7}]
[{"$f":"Teilnehmerliste!A30","v":25},null,{"$f":"Teilnehmerliste!B30 &\" \"&Teilnehmerliste!C30","v":"Rafael Derungs"},{"$f":"IF($C$29=\" \",\"\",COUNTIF(Vorrunde!$DC$9:$DC$80,0))","v":31},{"$f":"IF($C$29=\" \",\"\",COUNTIF(Vorrunde!$DC$9:$DC$80,5))","v":20},{"$f":"IF($C$29=\" \",\"\",COUNTIF(Vorrunde!$DC$9:$DC$80,7))","v":12},{"$f":"IF($C$29=\" \",\"\",COUNTIF(Vorrunde!$DC$9:$DC$80,10))","v":9}]
[{"$f":"Teilnehmerliste!A31","v":26},null,{"$f":"Teilnehmerliste!B31 &\" \"&Teilnehmerliste!C31","v":"Goran Djukic"},{"$f":"IF($C$30=\" \",\"\",COUNTIF(Vorrunde!$DG$9:$DG$80,0))","v":29},{"$f":"IF($C$30=\" \",\"\",COUNTIF(Vorrunde!$DG$9:$DG$80,5))","v":27},{"$f":"IF($C$30=\" \",\"\",COUNTIF(Vorrunde!$DG$9:$DG$80,7))","v":9},{"$f":"IF($C$30=\" \",\"\",COUNTIF(Vorrunde!$DG$9:$DG$80,10))","v":7}]
[{"$f":"Teilnehmerliste!A32","v":27},null,{"$f":"Teilnehmerliste!B32 &\" \"&Teilnehmerliste!C32","v":"Armin Duvnjak"},{"$f":"IF($C$31=\" \",\"\",COUNTIF(Vorrunde!$DK$9:$DK$80,0))","v":31},{"$f":"IF($C$31=\" \",\"\",COUNTIF(Vorrunde!$DK$9:$DK$80,5))","v":28},{"$f":"IF($C$31=\" \",\"\",COUNTIF(Vorrunde!$DK$9:$DK$80,7))","v":7},{"$f":"IF($C$31=\" \",\"\",COUNTIF(Vorrunde!$DK$9:$DK$80,10))","v":6}]
[{"$f":"Teilnehmerliste!A33","v":28},null,{"$f":"Teilnehmerliste!B33 &\" \"&Teilnehmerliste!C33","v":"Dino Duvnjak"},{"$f":"IF($C$32=\" \",\"\",COUNTIF(Vorrunde!$DO$9:$DO$80,0))","v":29},{"$f":"IF($C$32=\" \",\"\",COUNTIF(Vorrunde!$DO$9:$DO$80,5))","v":24},{"$f":"IF($C$32=\" \",\"\",COUNTIF(Vorrunde!$DO$9:$DO$80,7))","v":10},{"$f":"IF($C$32=\" \",\"\",COUNTIF(Vorrunde!$DO$9:$DO$80,10))","v":9}]
[{"$f":"Teilnehmerliste!A34","v":29},null,{"$f":"Teilnehmerliste!B34 &\" \"&Teilnehmerliste!C34","v":"Djuma Duvnjak"},{"$f":"IF($C$33=\" \",\"\",COUNTIF(Vorrunde!$DS$9:$DS$80,0))","v":26},{"$f":"IF($C$33=\" \",\"\",COUNTIF(Vorrunde!$DS$9:$DS$80,5))","v":30},{"$f":"IF($C$33=\" \",\"\",COUNTIF(Vorrunde!$DS$9:$DS$80,7))","v":10},{"$f":"IF($C$33=\" \",\"\",COUNTIF(Vorrunde!$DS$9:$DS$80,10))","v":6}]
[{"$f":"Teilnehmerliste!A35","v":30},null,{"$f":"Teilnehmerliste!B35 &\" \"&Teilnehmerliste!C35","v":"Andreia Gomes"},{"$f":"IF($C$34=\" \",\"\",COUNTIF(Vorrunde!$DW$9:$DW$80,0))","v":35},{"$f":"IF($C$34=\" \",\"\",COUNTIF(Vorrunde!$DW$9:$DW$80,5))","v":20},{"$f":"IF($C$34=\" \",\"\",COUNTIF(Vorrunde!$DW$9:$DW$80,7))","v":9},{"$f":"IF($C$34=\" \",\"\",COUNTIF(Vorrunde!$DW$9:$DW$80,10))","v":8}]
[{"$f":"Teilnehmerliste!A36","v":31},null,{"$f":"Teilnehmerliste!B36 &\" \"&Teilnehmerliste!C36","v":"Rui Gomes"},{"$f":"IF($C$35=\" \",\"\",COUNTIF(Vorrunde!$EA$9:$EA$80,0))","v":27},{"$f":"IF($C$35=\" \",\"\",COUNTIF(Vorrunde!$EA$9:$EA$80,5))","v":28},{"$f":"IF($C$35=\" \",\"\",COUNTIF(Vorrunde!$EA$9:$EA$80,7))","v":9},{"$f":"IF($C$35=\" \",\"\",COUNTIF(Vorrunde!$EA$9:$EA$80,10))","v":8}]
[{"$f":"Teilnehmerliste!A37","v":32},null,{"$f":"Teilnehmerliste!B37 &\" \"&Teilnehmerliste!C37","v":"Deliz González"},{"$f":"IF($C$36=\" \",\"\",COUNTIF(Vorrunde!$EE$9:$EE$80,0))","v":34},{"$f":"IF($C$36=\" \",\"\",COUNTIF(Vorrunde!$EE$9:$EE$80,5))","v":19},{"$f":"IF($C$36=\" \",\"\",COUNTIF(Vorrunde!$EE$9:$EE$80,7))","v":13},{"$f":"IF($C$36=\" \",\"\",COUNTIF(Vorrunde!$EE$9:$EE$80,10))","v":6}]
[{"$f":"Teilnehmerliste!A38","v":33},null,{"$f":"Teilnehmerliste!B38 &\" \"&Teilnehmerliste!C38","v":"Florian González"},{"$f":"IF($C$37=\" \",\"\",COUNTIF(Vorrunde!$EI$9:$EI$80,0))","v":31},{"$f":"IF($C$37=\" \",\"\",COUNTIF(Vorrunde!$EI$9:$EI$80,5))","v":29},{"$f":"IF($C$37=\" \",\"\",COUNTIF(Vorrunde!$EI$9:$EI$80,7))","v":2},{"$f":"IF($C$37=\" \",\"\",COUNTIF(Vorrunde!$EI$9:$EI$80,10))","v":10}]
[{"$f":"Teilnehmerliste!A39","v":34},null,{"$f":"Teilnehmerliste!B39 &\" \"&Teilnehmerliste!C39","v":"Laurent Grosse"},{"$f":"IF($C$38=\" \",\"\",COUNTIF(Vorrunde!$EM$9:$EM$80,0))","v":34},{"$f":"IF($C$38=\" \",\"\",COUNTIF(Vorrunde!$EM$9:$EM$80,5))","v":25},{"$f":"IF($C$38=\" \",\"\",COUNTIF(Vorrunde!$EM$9:$EM$80,7))","v":4},{"$f":"IF($C$38=\" \",\"\",COUNTIF(Vorrunde!$EM$9:$EM$80,10))","v":9}]
[{"$f":"Teilnehmerliste!A40","v":35},null,{"$f":"Teilnehmerliste!B40 &\" \"&Teilnehmerliste!C40","v":"Reto Gygli"},{"$f":"IF($C$39=\" \",\"\",COUNTIF(Vorrunde!$EQ$9:$EQ$80,0))","v":29},{"$f":"IF($C$39=\" \",\"\",COUNTIF(Vorrunde!$EQ$9:$EQ$80,5))","v":32},{"$f":"IF($C$39=\" \",\"\",COUNTIF(Vorrunde!$EQ$9:$EQ$80,7))","v":7},{"$f":"IF($C$39=\" \",\"\",COUNTIF(Vorrunde!$EQ$9:$EQ$80,10))","v":4}]
[{"$f":"Teilnehmerliste!A41","v":36},null,{"$f":"Teilnehmerliste!B41 &\" \"&Teilnehmerliste!C41","v":"Robin Gygli"},{"$f":"IF($C$40=\" \",\"\",COUNTIF(Vorrunde!$EU$9:$EU$80,0))","v":27},{"$f":"IF($C$40=\" \",\"\",COUNTIF(Vorrunde!$EU$9:$EU$80,5))","v":27},{"$f":"IF($C$40=\" \",\"\",COUNTIF(Vorrunde!$EU$9:$EU$80,7))","v":11},{"$f":"IF($C$40=\" \",\"\",COUNTIF(Vorrunde!$EU$9:$EU$80,10))","v":7}]
[{"$f":"Teilnehmerliste!A42","v":37},null,{"$f":"Teilnehmerliste!B42 &\" \"&Teilnehmerliste!C42","v":"Sarina Gygli"},{"$f":"IF($C$41=\" \",\"\",COUNTIF(Vorrunde!$EY$9:$EY$80,0))","v":31},{"$f":"IF($C$41=\" \",\"\",COUNTIF(Vorrunde!$EY$9:$EY$80,5))","v":27},{"$f":"IF($C$41=\" \",\"\",COUNTIF(Vorrunde!$EY$9:$EY$80,7))","v":10},{"$f":"IF($C$41=\" \",\"\",COUNTIF(Vorrunde!$EY$9:$EY$80,10))","v":4}]
[{"$f":"Teilnehmerliste!A43","v":38},null,{"$f":"Teilnehmerliste!B43 &\" \"&Teilnehmerliste!C43","v":"Selina Gygli"},{"$f":"IF($C$42=\" \",\"\",COUNTIF(Vorrunde!$FC$9:$FC$80,0))","v":36},{"$f":"IF($C$42=\" \",\"\",COUNTIF(Vorrunde!$FC$9:$FC$80,5))","v":26},{"$f":"IF($C$42=\" \",\"\",COUNTIF(Vorrunde!$FC$9:$FC$80,7))","v":6},{"$f":"IF($C$42=\" \",\"\",COUNTIF(Vorrunde!$FC$9:$FC$80,10))","v":4}]
[{"$f":"Teilnehmerliste!A44","v":39},null,{"$f":"Teilnehmerliste!B44 &\" \"&Teilnehmerliste!C44","v":"Stefan Gygli"},{"$f":"IF($C$43=\" \",\"\",COUNTIF(Vorrunde!$FG$9:$FG$80,0))","v":34},{"$f":"IF($C$43=\" \",\"\",COUNTIF(Vorrunde!$FG$9:$FG$80,5))","v":21},{"$f":"IF($C$43=\" \",\"\",COUNTIF(Vorrunde!$FG$9:$FG$80,7))","v":8},{"$f":"IF($C$43=\" \",\"\",COUNTIF(Vorrunde!$FG$9:$FG$80,10))","v":9}]
[{"$f":"Teilnehmerliste!A45","v":40},null,{"$f":"Teilnehmerliste!B45 &\" \"&Teilnehmerliste!C45","v":"Timothy Gygli"},{"$f":"IF($C$44=\" \",\"\",COUNTIF(Vorrunde!$FK$9:$FK$80,0))","v":28},{"$f":"IF($C$44=\" \",\"\",COUNTIF(Vorrunde!$FK$9:$FK$80,5))","v":26},{"$f":"IF($C$44=\" \",\"\",COUNTIF(Vorrunde!$FK$9:$FK$80,7))","v":12},{"$f":"IF($C$44=\" \",\"\",COUNTIF(Vorrunde!$FK$9:$FK$80,10))","v":6}]
[{"$f":"Teilnehmerliste!A46","v":41},null,{"$f":"Teilnehmerliste!B46 &\" \"&Teilnehmerliste!C46","v":"Florian Haab"},{"$f":"IF($C$45=\" \",\"\",COUNTIF(Vorrunde!$FO$9:$FO$80,0))","v":25},{"$f":"IF($C$45=\" \",\"\",COUNTIF(Vorrunde!$FO$9:$FO$80,5))","v":28},{"$f":"IF($C$45=\" \",\"\",COUNTIF(Vorrunde!$FO$9:$FO$80,7))","v":8},{"$f":"IF($C$45=\" \",\"\",COUNTIF(Vorrunde!$FO$9:$FO$80,10))","v":11}]
[{"$f":"Teilnehmerliste!A47","v":42},null,{"$f":"Teilnehmerliste!B47 &\" \"&Teilnehmerliste!C47","v":"Agnes Isenschmid"},{"$f":"IF($C$46=\" \",\"\",COUNTIF(Vorrunde!$FS$9:$FS$80,0))","v":31},{"$f":"IF($C$46=\" \",\"\",COUNTIF(Vorrunde!$FS$9:$FS$80,5))","v":25},{"$f":"IF($C$46=\" \",\"\",COUNTIF(Vorrunde!$FS$9:$FS$80,7))","v":4},{"$f":"IF($C$46=\" \",\"\",COUNTIF(Vorrunde!$FS$9:$FS$80,10))","v":12}]
[{"$f":"Teilnehmerliste!A48","v":43},null,{"$f":"Teilnehmerliste!B48 &\" \"&Teilnehmerliste!C48","v":"Andreas Isenschmid"},{"$f":"IF($C$47=\" \",\"\",COUNTIF(Vorrunde!$FW$9:$FW$80,0))","v":30},{"$f":"IF($C$47=\" \",\"\",COUNTIF(Vorrunde!$FW$9:$FW$80,5))","v":25},{"$f":"IF($C$47=\" \",\"\",COUNTIF(Vorrunde!$FW$9:$FW$80,7))","v":8},{"$f":"IF($C$47=\" \",\"\",COUNTIF(Vorrunde!$FW$9:$FW$80,10))","v":9}]
[{"$f":"Teilnehmerliste!A49","v":44},null,{"$f":"Teilnehmerliste!B49 &\" \"&Teilnehmerliste!C49","v":"Michael Isenschmid"},{"$f":"IF($C$48=\" \",\"\",COUNTIF(Vorrunde!$GA$9:$GA$80,0))","v":26},{"$f":"IF($C$48=\" \",\"\",COUNTIF(Vorrunde!$GA$9:$GA$80,5))","v":31},{"$f":"IF($C$48=\" \",\"\",COUNTIF(Vorrunde!$GA$9:$GA$80,7))","v":7},{"$f":"IF($C$48=\" \",\"\",COUNTIF(Vorrunde!$GA$9:$GA$80,10))","v":8}]
[{"$f":"Teilnehmerliste!A50","v":45},null,{"$f":"Teilnehmerliste!B50 &\" \"&Teilnehmerliste!C50","v":"Aiden Jones"},{"$f":"IF($C$49=\" \",\"\",COUNTIF(Vorrunde!$GE$9:$GE$80,0))","v":32},{"$f":"IF($C$49=\" \",\"\",COUNTIF(Vorrunde!$GE$9:$GE$80,5))","v":25},{"$f":"IF($C$49=\" \",\"\",COUNTIF(Vorrunde!$GE$9:$GE$80,7))","v":8},{"$f":"IF($C$49=\" \",\"\",COUNTIF(Vorrunde!$GE$9:$GE$80,10))","v":7}]
[{"$f":"Teilnehmerliste!A51","v":46},null,{"$f":"Teilnehmerliste!B51 &\" \"&Teilnehmerliste!C51","v":"Pascal Keller"},{"$f":"IF($C$50=\" \",\"\",COUNTIF(Vorrunde!$GI$9:$GI$80,0))","v":26},{"$f":"IF($C$50=\" \",\"\",COUNTIF(Vorrunde!$GI$9:$GI$80,5))","v":32},{"$f":"IF($C$50=\" \",\"\",COUNTIF(Vorrunde!$GI$9:$GI$80,7))","v":5},{"$f":"IF($C$50=\" \",\"\",COUNTIF(Vorrunde!$GI$9:$GI$80,10))","v":9}]
[{"$f":"Teilnehmerliste!A52","v":47},null,{"$f":"Teilnehmerliste!B52 &\" \"&Teilnehmerliste!C52","v":"Tanja Kistler"},{"$f":"IF($C$51=\" \",\"\",COUNTIF(Vorrunde!$GM$9:$GM$80,0))","v":27},{"$f":"IF($C$51=\" \",\"\",COUNTIF(Vorrunde!$GM$9:$GM$80,5))","v":32},{"$f":"IF($C$51=\" \",\"\",COUNTIF(Vorrunde!$GM$9:$GM$80,7))","v":9},{"$f":"IF($C$51=\" \",\"\",COUNTIF(Vorrunde!$GM$9:$GM$80,10))","v":4}]
[{"$f":"Teilnehmerliste!A53","v":48},null,{"$f":"Teilnehmerliste!B53 &\" \"&Teilnehmerliste!C53","v":"André Lanz"},{"$f":"IF($C$52=\" \",\"\",COUNTIF(Vorrunde!$GQ$9:$GQ$80,0))","v":25},{"$f":"IF($C$52=\" \",\"\",COUNTIF(Vorrunde!$GQ$9:$GQ$80,5))","v":25},{"$f":"IF($C$52=\" \",\"\",COUNTIF(Vorrunde!$GQ$9:$GQ$80,7))","v":11},{"$f":"IF($C$52=\" \",\"\",COUNTIF(Vorrunde!$GQ$9:$GQ$80,10))","v":11}]
[{"$f":"Teilnehmerliste!A54","v":49},null,{"$f":"Teilnehmerliste!B54 &\" \"&Teilnehmerliste!C54","v":"Franz Lischer"},{"$f":"IF($C$53=\" \",\"\",COUNTIF(Vorrunde!$GU$9:$GU$80,0))","v":24},{"$f":"IF($C$53=\" \",\"\",COUNTIF(Vorrunde!$GU$9:$GU$80,5))","v":27},{"$f":"IF($C$53=\" \",\"\",COUNTIF(Vorrunde!$GU$9:$GU$80,7))","v":11},{"$f":"IF($C$53=\" \",\"\",COUNTIF(Vorrunde!$GU$9:$GU$80,10))","v":10}]
[{"$f":"Teilnehmerliste!A55","v":50},null,{"$f":"Teilnehmerliste!B55 &\" \"&Teilnehmerliste!C55","v":"Marc Lütolf"},{"$f":"IF($C$54=\" \",\"\",COUNTIF(Vorrunde!$GY$9:$GY$80,0))","v":29},{"$f":"IF($C$54=\" \",\"\",COUNTIF(Vorrunde!$GY$9:$GY$80,5))","v":25},{"$f":"IF($C$54=\" \",\"\",COUNTIF(Vorrunde!$GY$9:$GY$80,7))","v":12},{"$f":"IF($C$54=\" \",\"\",COUNTIF(Vorrunde!$GY$9:$GY$80,10))","v":6}]
[{"$f":"Teilnehmerliste!A56","v":51},null,{"$f":"Teilnehmerliste!B56 &\" \"&Teilnehmerliste!C56","v":"Nicolas Mack"},{"$f":"IF($C$55=\" \",\"\",COUNTIF(Vorrunde!$K$90:$K$161,0))","v":29},{"$f":"IF($C$55=\" \",\"\",COUNTIF(Vorrunde!$K$90:$K$161,5))","v":24},{"$f":"IF($C$55=\" \",\"\",COUNTIF(Vorrunde!$K$90:$K$161,7))","v":9},{"$f":"IF($C$55=\" \",\"\",COUNTIF(Vorrunde!$K$90:$K$161,10))","v":10}]
[{"$f":"Teilnehmerliste!A57","v":52},null,{"$f":"Teilnehmerliste!B57 &\" \"&Teilnehmerliste!C57","v":"Mauro Marini"},{"$f":"IF($C$56=\" \",\"\",COUNTIF(Vorrunde!$O$90:$O$161,0))","v":29},{"$f":"IF($C$56=\" \",\"\",COUNTIF(Vorrunde!$O$90:$O$161,5))","v":31},{"$f":"IF($C$56=\" \",\"\",COUNTIF(Vorrunde!$O$90:$O$161,7))","v":10},{"$f":"IF($C$56=\" \",\"\",COUNTIF(Vorrunde!$O$90:$O$161,10))","v":2}]
[{"$f":"Teilnehmerliste!A58","v":53},null,{"$f":"Teilnehmerliste!B58 &\" \"&Teilnehmerliste!C58","v":"Ben Marthaler"},{"$f":"IF($C$57=\" \",\"\",COUNTIF(Vorrunde!$S$90:$S$161,0))","v":38},{"$f":"IF($C$57=\" \",\"\",COUNTIF(Vorrunde!$S$90:$S$161,5))","v":22},{"$f":"IF($C$57=\" \",\"\",COUNTIF(Vorrunde!$S$90:$S$161,7))","v":8},{"$f":"IF($C$57=\" \",\"\",COUNTIF(Vorrunde!$S$90:$S$161,10))","v":4}]
[{"$f":"Teilnehmerliste!A59","v":54},null,{"$f":"Teilnehmerliste!B59 &\" \"&Teilnehmerliste!C59","v":"Martin Marthaler"},{"$f":"IF($C$58=\" \",\"\",COUNTIF(Vorrunde!$W$90:$W$161,0))","v":36},{"$f":"IF($C$58=\" \",\"\",COUNTIF(Vorrunde!$W$90:$W$161,5))","v":26},{"$f":"IF($C$58=\" \",\"\",COUNTIF(Vorrunde!$W$90:$W$161,7))","v":2},{"$f":"IF($C$58=\" \",\"\",COUNTIF(Vorrunde!$W$90:$W$161,10))","v":8}]
[{"$f":"Teilnehmerliste!A60","v":55},null,{"$f":"Teilnehmerliste!B60 &\" \"&Teilnehmerliste!C60","v":"Elias Marty"},{"$f":"IF($C$59=\" \",\"\",COUNTIF(Vorrunde!$AA$90:$AA$161,0))","v":35},{"$f":"IF($C$59=\" \",\"\",COUNTIF(Vorrunde!$AA$90:$AA$161,5))","v":21},{"$f":"IF($C$59=\" \",\"\",COUNTIF(Vorrunde!$AA$90:$AA$161,7))","v":9},{"$f":"IF($C$59=\" \",\"\",COUNTIF(Vorrunde!$AA$90:$AA$161,10))","v":7}]
[{"$f":"Teilnehmerliste!A61","v":56},null,{"$f":"Teilnehmerliste!B61 &\" \"&Teilnehmerliste!C61","v":"Julian Merkli"},{"$f":"IF($C$60=\" \",\"\",COUNTIF(Vorrunde!$AE$90:$AE$161,0))","v":35},{"$f":"IF($C$60=\" \",\"\",COUNTIF(Vorrunde!$AE$90:$AE$161,5))","v":22},{"$f":"IF($C$60=\" \",\"\",COUNTIF(Vorrunde!$AE$90:$AE$161,7))","v":6},{"$f":"IF($C$60=\" \",\"\",COUNTIF(Vorrunde!$AE$90:$AE$161,10))","v":9}]
[{"$f":"Teilnehmerliste!A62","v":57},null,{"$f":"Teilnehmerliste!B62 &\" \"&Teilnehmerliste!C62","v":"Philipp Meyer"},{"$f":"IF($C$61=\" \",\"\",COUNTIF(Vorrunde!$AI$90:$AI$161,0))","v":30},{"$f":"IF($C$61=\" \",\"\",COUNTIF(Vorrunde!$AI$90:$AI$161,5))","v":28},{"$f":"IF($C$61=\" \",\"\",COUNTIF(Vorrunde!$AI$90:$AI$161,7))","v":8},{"$f":"IF($C$61=\" \",\"\",COUNTIF(Vorrunde!$AI$90:$AI$161,10))","v":6}]
[{"$f":"Teilnehmerliste!A63","v":58},null,{"$f":"Teilnehmerliste!B63 &\" \"&Teilnehmerliste!C63","v":"Telmo Oliveira"},{"$f":"IF($C$62=\" \",\"\",COUNTIF(Vorrunde!$AM$90:$AM$161,0))","v":28},{"$f":"IF($C$62=\" \",\"\",COUNTIF(Vorrunde!$AM$90:$AM$161,5))","v":29},{"$f":"IF($C$62=\" \",\"\",COUNTIF(Vorrunde!$AM$90:$AM$161,7))","v":11},{"$f":"IF($C$62=\" \",\"\",COUNTIF(Vorrunde!$AM$90:$AM$161,10))","v":4}]
[{"$f":"Teilnehmerliste!A64","v":59},null,{"$f":"Teilnehmerliste!B64 &\" \"&Teilnehmerliste!C64","v":"Martin Oroshi"},{"$f":"IF($C$63=\" \",\"\",COUNTIF(Vorrunde!$AQ$90:$AQ$161,0))","v":29},{"$f":"IF($C$63=\" \",\"\",COUNTIF(Vorrunde!$AQ$90:$AQ$161,5))","v":25},{"$f":"IF($C$63=\" \",\"\",COUNTIF(Vorrunde!$AQ$90:$AQ$161,7))","v":10},{"$f":"IF($C$63=\" \",\"\",COUNTIF(Vorrunde!$AQ$90:$AQ$161,10))","v":8}]
[{"$f":"Teilnehmerliste!A65","v":60},null,{"$f":"Teilnehmerliste!B65 &\" \"&Teilnehmerliste!C65","v":"Lechena Pek"},{"$f":"IF($C$64=\" \",\"\",COUNTIF(Vorrunde!$AU$90:$AU$161,0))","v":32},{"$f":"IF($C$64=\" \",\"\",COUNTIF(Vorrunde!$AU$90:$AU$161,5))","v":25},{"$f":"IF($C$64=\" \",\"\",COUNTIF(Vorrunde!$AU$90:$AU$161,7))","v":11},{"$f":"IF($C$64=\" \",\"\",COUNTIF(Vorrunde!$AU$90:$AU$161,10))","v":4}]
[{"$f":"Teilnehmerliste!A66","v":61},null,{"$f":"Teilnehmerliste!B66 &\" \"&Teilnehmerliste!C66","v":"Stefan Principe"},{"$f":"IF($C$65=\" \",\"\",COUNTIF(Vorrunde!$AY$90:$AY$161,0))","v":29},{"$f":"IF($C$65=\" \",\"\",COUNTIF(Vorrunde!$AY$90:$AY$161,5))","v":27},{"$f":"IF($C$65=\" \",\"\",COUNTIF(Vorrunde!$AY$90:$AY$161,7))","v":12},{"$f":"IF($C$65=\" \",\"\",COUNTIF(Vorrunde!$AY$90:$AY$161,10))","v":4}]
[{"$f":"Teilnehmerliste!A67","v":62},null,{"$f":"Teilnehmerliste!B67 &\" \"&Teilnehmerliste!C67","v":"Michael Prucha"},{"$f":"IF($C$66=\" \",\"\",COUNTIF(Vorrunde!$BC$90:$BC$161,0))","v":30},{"$f":"IF($C$66=\" \",\"\",COUNTIF(Vorrunde!$BC$90:$BC$161,5))","v":29},{"$f":"IF($C$66=\" \",\"\",COUNTIF(Vorrunde!$BC$90:$BC$161,7))","v":9},{"$f":"IF($C$66=\" \",\"\",COUNTIF(Vorrunde!$BC$90:$BC$161,10))","v":4}]
[{"$f":"Teilnehmerliste!A68","v":63},null,{"$f":"Teilnehmerliste!B68 &\" \"&Teilnehmerliste!C68","v":"Petra Rauscher"},{"$f":"IF($C$67=\" \",\"\",COUNTIF(Vorrunde!$BG$90:$BG$161,0))","v":32},{"$f":"IF($C$67=\" \",\"\",COUNTIF(Vorrunde!$BG$90:$BG$161,5))","v":24},{"$f":"IF($C$67=\" \",\"\",COUNTIF(Vorrunde!$BG$90:$BG$161,7))","v":9},{"$f":"IF($C$67=\" \",\"\",COUNTIF(Vorrunde!$BG$90:$BG$161,10))","v":7}]
[{"$f":"Teilnehmerliste!A69","v":64},null,{"$f":"Teilnehmerliste!B69 &\" \"&Teilnehmerliste!C69","v":"Martin Rohner"},{"$f":"IF($C$68=\" \",\"\",COUNTIF(Vorrunde!$BK$90:$BK$161,0))","v":36},{"$f":"IF($C$68=\" \",\"\",COUNTIF(Vorrunde!$BK$90:$BK$161,5))","v":20},{"$f":"IF($C$68=\" \",\"\",COUNTIF(Vorrunde!$BK$90:$BK$161,7))","v":11},{"$f":"IF($C$68=\" \",\"\",COUNTIF(Vorrunde!$BK$90:$BK$161,10))","v":5}]
[{"$f":"Teilnehmerliste!A70","v":65},null,{"$f":"Teilnehmerliste!B70 &\" \"&Teilnehmerliste!C70","v":"Ivo und Brigitte Rüdemann"},{"$f":"IF($C$69=\" \",\"\",COUNTIF(Vorrunde!$BO$90:$BO$161,0))","v":32},{"$f":"IF($C$69=\" \",\"\",COUNTIF(Vorrunde!$BO$90:$BO$161,5))","v":22},{"$f":"IF($C$69=\" \",\"\",COUNTIF(Vorrunde!$BO$90:$BO$161,7))","v":10},{"$f":"IF($C$69=\" \",\"\",COUNTIF(Vorrunde!$BO$90:$BO$161,10))","v":8}]
[{"$f":"Teilnehmerliste!A71","v":66},null,{"$f":"Teilnehmerliste!B71 &\" \"&Teilnehmerliste!C71","v":"Lynn Rüegg"},{"$f":"IF($C$70=\" \",\"\",COUNTIF(Vorrunde!$BS$90:$BS$161,0))","v":32},{"$f":"IF($C$70=\" \",\"\",COUNTIF(Vorrunde!$BS$90:$BS$161,5))","v":26},{"$f":"IF($C$70=\" \",\"\",COUNTIF(Vorrunde!$BS$90:$BS$161,7))","v":6},{"$f":"IF($C$70=\" \",\"\",COUNTIF(Vorrunde!$BS$90:$BS$161,10))","v":8}]
[{"$f":"Teilnehmerliste!A72","v":67},null,{"$f":"Teilnehmerliste!B72 &\" \"&Teilnehmerliste!C72","v":"Michael Rüegg"},{"$f":"IF($C$71=\" \",\"\",COUNTIF(Vorrunde!$BW$90:$BW$161,0))","v":32},{"$f":"IF($C$71=\" \",\"\",COUNTIF(Vorrunde!$BW$90:$BW$161,5))","v":24},{"$f":"IF($C$71=\" \",\"\",COUNTIF(Vorrunde!$BW$90:$BW$161,7))","v":6},{"$f":"IF($C$71=\" \",\"\",COUNTIF(Vorrunde!$BW$90:$BW$161,10))","v":10}]
[{"$f":"Teilnehmerliste!A73","v":68},null,{"$f":"Teilnehmerliste!B73 &\" \"&Teilnehmerliste!C73","v":"Sabine Rüegg"},{"$f":"IF($C$72=\" \",\"\",COUNTIF(Vorrunde!$CA$90:$CA$161,0))","v":26},{"$f":"IF($C$72=\" \",\"\",COUNTIF(Vorrunde!$CA$90:$CA$161,5))","v":31},{"$f":"IF($C$72=\" \",\"\",COUNTIF(Vorrunde!$CA$90:$CA$161,7))","v":11},{"$f":"IF($C$72=\" \",\"\",COUNTIF(Vorrunde!$CA$90:$CA$161,10))","v":4}]
[{"$f":"Teilnehmerliste!A74","v":69},null,{"$f":"Teilnehmerliste!B74 &\" \"&Teilnehmerliste!C74","v":"Martin Schawalder"},{"$f":"IF($C$73=\" \",\"\",COUNTIF(Vorrunde!$CE$90:$CE$161,0))","v":28},{"$f":"IF($C$73=\" \",\"\",COUNTIF(Vorrunde!$CE$90:$CE$161,5))","v":26},{"$f":"IF($C$73=\" \",\"\",COUNTIF(Vorrunde!$CE$90:$CE$161,7))","v":9},{"$f":"IF($C$73=\" \",\"\",COUNTIF(Vorrunde!$CE$90:$CE$161,10))","v":9}]
[{"$f":"Teilnehmerliste!A75","v":70},null,{"$f":"Teilnehmerliste!B75 &\" \"&Teilnehmerliste!C75","v":"Evelyne Schenk"},{"$f":"IF($C$74=\" \",\"\",COUNTIF(Vorrunde!$CI$90:$CI$161,0))","v":32},{"$f":"IF($C$74=\" \",\"\",COUNTIF(Vorrunde!$CI$90:$CI$161,5))","v":25},{"$f":"IF($C$74=\" \",\"\",COUNTIF(Vorrunde!$CI$90:$CI$161,7))","v":10},{"$f":"IF($C$74=\" \",\"\",COUNTIF(Vorrunde!$CI$90:$CI$161,10))","v":5}]
[{"$f":"Teilnehmerliste!A76","v":71},null,{"$f":"Teilnehmerliste!B76 &\" \"&Teilnehmerliste!C76","v":"Yannick Schilliger"},{"$f":"IF($C$75=\" \",\"\",COUNTIF(Vorrunde!$CM$90:$CM$161,0))","v":29},{"$f":"IF($C$75=\" \",\"\",COUNTIF(Vorrunde!$CM$90:$CM$161,5))","v":24},{"$f":"IF($C$75=\" \",\"\",COUNTIF(Vorrunde!$CM$90:$CM$161,7))","v":9},{"$f":"IF($C$75=\" \",\"\",COUNTIF(Vorrunde!$CM$90:$CM$161,10))","v":10}]
[{"$f":"Teilnehmerliste!A77","v":72},null,{"$f":"Teilnehmerliste!B77 &\" \"&Teilnehmerliste!C77","v":"Erich Schommarz"},{"$f":"IF($C$76=\" \",\"\",COUNTIF(Vorrunde!$CQ$90:$CQ$161,0))","v":29},{"$f":"IF($C$76=\" \",\"\",COUNTIF(Vorrunde!$CQ$90:$CQ$161,5))","v":28},{"$f":"IF($C$76=\" \",\"\",COUNTIF(Vorrunde!$CQ$90:$CQ$161,7))","v":9},{"$f":"IF($C$76=\" \",\"\",COUNTIF(Vorrunde!$CQ$90:$CQ$161,10))","v":6}]
[{"$f":"Teilnehmerliste!A78","v":73},null,{"$f":"Teilnehmerliste!B78 &\" \"&Teilnehmerliste!C78","v":"Ralph Schuster"},{"$f":"IF($C$77=\" \",\"\",COUNTIF(Vorrunde!$CU$90:$CU$161,0))","v":33},{"$f":"IF($C$77=\" \",\"\",COUNTIF(Vorrunde!$CU$90:$CU$161,5))","v":25},{"$f":"IF($C$77=\" \",\"\",COUNTIF(Vorrunde!$CU$90:$CU$161,7))","v":8},{"$f":"IF($C$77=\" \",\"\",COUNTIF(Vorrunde!$CU$90:$CU$161,10))","v":6}]
[{"$f":"Teilnehmerliste!A79","v":74},null,{"$f":"Teilnehmerliste!B79 &\" \"&Teilnehmerliste!C79","v":"Bruno Silva"},{"$f":"IF($C$78=\" \",\"\",COUNTIF(Vorrunde!$CY$90:$CY$161,0))","v":28},{"$f":"IF($C$78=\" \",\"\",COUNTIF(Vorrunde!$CY$90:$CY$161,5))","v":29},{"$f":"IF($C$78=\" \",\"\",COUNTIF(Vorrunde!$CY$90:$CY$161,7))","v":9},{"$f":"IF($C$78=\" \",\"\",COUNTIF(Vorrunde!$CY$90:$CY$161,10))","v":6}]
[{"$f":"Teilnehmerliste!A80","v":75},null,{"$f":"Teilnehmerliste!B80 &\" \"&Teilnehmerliste!C80","v":"Aleandro Silvestri"},{"$f":"IF($C$79=\" \",\"\",COUNTIF(Vorrunde!$DC$90:$DC$161,0))","v":23},{"$f":"IF($C$79=\" \",\"\",COUNTIF(Vorrunde!$DC$90:$DC$161,5))","v":29},{"$f":"IF($C$79=\" \",\"\",COUNTIF(Vorrunde!$DC$90:$DC$161,7))","v":13},{"$f":"IF($C$79=\" \",\"\",COUNTIF(Vorrunde!$DC$90:$DC$161,10))","v":7}]
[{"$f":"Teilnehmerliste!A81","v":76},null,{"$f":"Teilnehmerliste!B81 &\" \"&Teilnehmerliste!C81","v":"Armando Thormann"},{"$f":"IF($C$80=\" \",\"\",COUNTIF(Vorrunde!$DG$90:$DG$161,0))","v":27},{"$f":"IF($C$80=\" \",\"\",COUNTIF(Vorrunde!$DG$90:$DG$161,5))","v":28},{"$f":"IF($C$80=\" \",\"\",COUNTIF(Vorrunde!$DG$90:$DG$161,7))","v":13},{"$f":"IF($C$80=\" \",\"\",COUNTIF(Vorrunde!$DG$90:$DG$161,10))","v":4}]
[{"$f":"Teilnehmerliste!A82","v":77},null,{"$f":"Teilnehmerliste!B82 &\" \"&Teilnehmerliste!C82","v":"Lea Treichler"},{"$f":"IF($C$81=\" \",\"\",COUNTIF(Vorrunde!$DK$90:$DK$161,0))","v":26},{"$f":"IF($C$81=\" \",\"\",COUNTIF(Vorrunde!$DK$90:$DK$161,5))","v":33},{"$f":"IF($C$81=\" \",\"\",COUNTIF(Vorrunde!$DK$90:$DK$161,7))","v":7},{"$f":"IF($C$81=\" \",\"\",COUNTIF(Vorrunde!$DK$90:$DK$161,10))","v":6}]
[{"$f":"Teilnehmerliste!A83","v":78},null,{"$f":"Teilnehmerliste!B83 &\" \"&Teilnehmerliste!C83","v":"Reto Treichler"},{"$f":"IF($C$82=\" \",\"\",COUNTIF(Vorrunde!$DO$90:$DO$161,0))","v":28},{"$f":"IF($C$82=\" \",\"\",COUNTIF(Vorrunde!$DO$90:$DO$161,5))","v":27},{"$f":"IF($C$82=\" \",\"\",COUNTIF(Vorrunde!$DO$90:$DO$161,7))","v":9},{"$f":"IF($C$82=\" \",\"\",COUNTIF(Vorrunde!$DO$90:$DO$161,10))","v":8}]
[{"$f":"Teilnehmerliste!A84","v":79},null,{"$f":"Teilnehmerliste!B84 &\" \"&Teilnehmerliste!C84","v":"Christoph Wälti"},{"$f":"IF($C$83=\" \",\"\",COUNTIF(Vorrunde!$DS$90:$DS$161,0))","v":24},{"$f":"IF($C$83=\" \",\"\",COUNTIF(Vorrunde!$DS$90:$DS$161,5))","v":28},{"$f":"IF($C$83=\" \",\"\",COUNTIF(Vorrunde!$DS$90:$DS$161,7))","v":9},{"$f":"IF($C$83=\" \",\"\",COUNTIF(Vorrunde!$DS$90:$DS$161,10))","v":11}]
[{"$f":"Teilnehmerliste!A85","v":80},null,{"$f":"Teilnehmerliste!B85 &\" \"&Teilnehmerliste!C85","v":"Markus Wagner"},{"$f":"IF($C$84=\" \",\"\",COUNTIF(Vorrunde!$DW$90:$DW$161,0))","v":28},{"$f":"IF($C$84=\" \",\"\",COUNTIF(Vorrunde!$DW$90:$DW$161,5))","v":26},{"$f":"IF($C$84=\" \",\"\",COUNTIF(Vorrunde!$DW$90:$DW$161,7))","v":9},{"$f":"IF($C$84=\" \",\"\",COUNTIF(Vorrunde!$DW$90:$DW$161,10))","v":9}]
[{"$f":"Teilnehmerliste!A86","v":81},null,{"$f":"Teilnehmerliste!B86 &\" \"&Teilnehmerliste!C86","v":"Marc Walthard"},{"$f":"IF($C$85=\" \",\"\",COUNTIF(Vorrunde!$EA$90:$EA$161,0))","v":31},{"$f":"IF($C$85=\" \",\"\",COUNTIF(Vorrunde!$EA$90:$EA$161,5))","v":21},{"$f":"IF($C$85=\" \",\"\",COUNTIF(Vorrunde!$EA$90:$EA$161,7))","v":13},{"$f":"IF($C$85=\" \",\"\",COUNTIF(Vorrunde!$EA$90:$EA$161,10))","v":7}]
[{"$f":"Teilnehmerliste!A87","v":82},null,{"$f":"Teilnehmerliste!B87 &\" \"&Teilnehmerliste!C87","v":"Jingwen Wang"},{"$f":"IF($C$86=\" \",\"\",COUNTIF(Vorrunde!$EE$90:$EE$161,0))","v":35},{"$f":"IF($C$86=\" \",\"\",COUNTIF(Vorrunde!$EE$90:$EE$161,5))","v":30},{"$f":"IF($C$86=\" \",\"\",COUNTIF(Vorrunde!$EE$90:$EE$161,7))","v":4},{"$f":"IF($C$86=\" \",\"\",COUNTIF(Vorrunde!$EE$90:$EE$161,10))","v":3}]
[{"$f":"Teilnehmerliste!A88","v":83},null,{"$f":"Teilnehmerliste!B88 &\" \"&Teilnehmerliste!C88","v":"Stefan Wullschleger"},{"$f":"IF($C$87=\" \",\"\",COUNTIF(Vorrunde!$EI$90:$EI$161,0))","v":27},{"$f":"IF($C$87=\" \",\"\",COUNTIF(Vorrunde!$EI$90:$EI$161,5))","v":30},{"$f":"IF($C$87=\" \",\"\",COUNTIF(Vorrunde!$EI$90:$EI$161,7))","v":9},{"$f":"IF($C$87=\" \",\"\",COUNTIF(Vorrunde!$EI$90:$EI$161,10))","v":6}]
[{"$f":"Teilnehmerliste!A89","v":84},null,{"$f":"Teilnehmerliste!B89 &\" \"&Teilnehmerliste!C89","v":"Stefan Zachmann"},{"$f":"IF($C$88=\" \",\"\",COUNTIF(Vorrunde!$EM$90:$EM$161,0))","v":37},{"$f":"IF($C$88=\" \",\"\",COUNTIF(Vorrunde!$EM$90:$EM$161,5))","v":24},{"$f":"IF($C$88=\" \",\"\",COUNTIF(Vorrunde!$EM$90:$EM$161,7))","v":7},{"$f":"IF($C$88=\" \",\"\",COUNTIF(Vorrunde!$EM$90:$EM$161,10))","v":4}]
[{"$f":"Teilnehmerliste!A90","v":85},null,{"$f":"Teilnehmerliste!B90 &\" \"&Teilnehmerliste!C90","v":" "},{"$f":"IF($C$89=\" \",\"\",COUNTIF(Vorrunde!$EQ$90:$EQ$161,0))","v":""},{"$f":"IF($C$89=\" \",\"\",COUNTIF(Vorrunde!$EQ$90:$EQ$161,5))","v":""},{"$f":"IF($C$89=\" \",\"\",COUNTIF(Vorrunde!$EQ$90:$EQ$161,7))","v":""},{"$f":"IF($C$89=\" \",\"\",COUNTIF(Vorrunde!$EQ$90:$EQ$161,10))","v":""}]
[{"$f":"Teilnehmerliste!A91","v":86},null,{"$f":"Teilnehmerliste!B91 &\" \"&Teilnehmerliste!C91","v":" "},{"$f":"IF($C$90=\" \",\"\",COUNTIF(Vorrunde!$EU$90:$EU$161,0))","v":""},{"$f":"IF($C$90=\" \",\"\",COUNTIF(Vorrunde!$EU$90:$EU$161,5))","v":""},{"$f":"IF($C$90=\" \",\"\",COUNTIF(Vorrunde!$EU$90:$EU$161,7))","v":""},{"$f":"IF($C$90=\" \",\"\",COUNTIF(Vorrunde!$EU$90:$EU$161,10))","v":""}]
[{"$f":"Teilnehmerliste!A92","v":87},null,{"$f":"Teilnehmerliste!B92 &\" \"&Teilnehmerliste!C92","v":" "},{"$f":"IF($C$91=\" \",\"\",COUNTIF(Vorrunde!$EY$90:$EY$161,0))","v":""},{"$f":"IF($C$91=\" \",\"\",COUNTIF(Vorrunde!$EY$90:$EY$161,5))","v":""},{"$f":"IF($C$91=\" \",\"\",COUNTIF(Vorrunde!$EY$90:$EY$161,7))","v":""},{"$f":"IF($C$91=\" \",\"\",COUNTIF(Vorrunde!$EY$90:$EY$161,10))","v":""}]
[{"$f":"Teilnehmerliste!A93","v":88},null,{"$f":"Teilnehmerliste!B93 &\" \"&Teilnehmerliste!C93","v":" "},{"$f":"IF($C$92=\" \",\"\",COUNTIF(Vorrunde!$FC$90:$FC$161,0))","v":""},{"$f":"IF($C$92=\" \",\"\",COUNTIF(Vorrunde!$FC$90:$FC$161,5))","v":""},{"$f":"IF($C$92=\" \",\"\",COUNTIF(Vorrunde!$FC$90:$FC$161,7))","v":""},{"$f":"IF($C$92=\" \",\"\",COUNTIF(Vorrunde!$FC$90:$FC$161,10))","v":""}]
[{"$f":"Teilnehmerliste!A94","v":89},null,{"$f":"Teilnehmerliste!B94 &\" \"&Teilnehmerliste!C94","v":" "},{"$f":"IF($C$93=\" \",\"\",COUNTIF(Vorrunde!$FG$90:$FG$161,0))","v":""},{"$f":"IF($C$93=\" \",\"\",COUNTIF(Vorrunde!$FG$90:$FG$161,5))","v":""},{"$f":"IF($C$93=\" \",\"\",COUNTIF(Vorrunde!$FG$90:$FG$161,7))","v":""},{"$f":"IF($C$93=\" \",\"\",COUNTIF(Vorrunde!$FG$90:$FG$161,10))","v":""}]
[{"$f":"Teilnehmerliste!A95","v":90},null,{"$f":"Teilnehmerliste!B95 &\" \"&Teilnehmerliste!C95","v":" "},{"$f":"IF($C$94=\" \",\"\",COUNTIF(Vorrunde!$FK$90:$FK$161,0))","v":""},{"$f":"IF($C$94=\" \",\"\",COUNTIF(Vorrunde!$FK$90:$FK$161,5))","v":""},{"$f":"IF($C$94=\" \",\"\",COUNTIF(Vorrunde!$FK$90:$FK$161,7))","v":""},{"$f":"IF($C$94=\" \",\"\",COUNTIF(Vorrunde!$FK$90:$FK$161,10))","v":""}]
[{"$f":"Teilnehmerliste!A96","v":91},null,{"$f":"Teilnehmerliste!B96 &\" \"&Teilnehmerliste!C96","v":" "},{"$f":"IF($C$95=\" \",\"\",COUNTIF(Vorrunde!$FO$90:$FO$161,0))","v":""},{"$f":"IF($C$95=\" \",\"\",COUNTIF(Vorrunde!$FO$90:$FO$161,5))","v":""},{"$f":"IF($C$95=\" \",\"\",COUNTIF(Vorrunde!$FO$90:$FO$161,7))","v":""},{"$f":"IF($C$95=\" \",\"\",COUNTIF(Vorrunde!$FO$90:$FO$161,10))","v":""}]
[{"$f":"Teilnehmerliste!A97","v":92},null,{"$f":"Teilnehmerliste!B97 &\" \"&Teilnehmerliste!C97","v":" "},{"$f":"IF($C$96=\" \",\"\",COUNTIF(Vorrunde!$FS$90:$FS$161,0))","v":""},{"$f":"IF($C$96=\" \",\"\",COUNTIF(Vorrunde!$FS$90:$FS$161,5))","v":""},{"$f":"IF($C$96=\" \",\"\",COUNTIF(Vorrunde!$FS$90:$FS$161,7))","v":""},{"$f":"IF($C$96=\" \",\"\",COUNTIF(Vorrunde!$FS$90:$FS$161,10))","v":""}]
[{"$f":"Teilnehmerliste!A98","v":93},null,{"$f":"Teilnehmerliste!B98 &\" \"&Teilnehmerliste!C98","v":" "},{"$f":"IF($C$97=\" \",\"\",COUNTIF(Vorrunde!$FW$90:$FW$161,0))","v":""},{"$f":"IF($C$97=\" \",\"\",COUNTIF(Vorrunde!$FW$90:$FW$161,5))","v":""},{"$f":"IF($C$97=\" \",\"\",COUNTIF(Vorrunde!$FW$90:$FW$161,7))","v":""},{"$f":"IF($C$97=\" \",\"\",COUNTIF(Vorrunde!$FW$90:$FW$161,10))","v":""}]
[{"$f":"Teilnehmerliste!A99","v":94},null,{"$f":"Teilnehmerliste!B99 &\" \"&Teilnehmerliste!C99","v":" "},{"$f":"IF($C$98=\" \",\"\",COUNTIF(Vorrunde!$GA$90:$GA$161,0))","v":""},{"$f":"IF($C$98=\" \",\"\",COUNTIF(Vorrunde!$GA$90:$GA$161,5))","v":""},{"$f":"IF($C$98=\" \",\"\",COUNTIF(Vorrunde!$GA$90:$GA$161,7))","v":""},{"$f":"IF($C$98=\" \",\"\",COUNTIF(Vorrunde!$GA$90:$GA$161,10))","v":""}]
[{"$f":"Teilnehmerliste!A100","v":95},null,{"$f":"Teilnehmerliste!B100 &\" \"&Teilnehmerliste!C100","v":" "},{"$f":"IF($C$99=\" \",\"\",COUNTIF(Vorrunde!$GE$90:$GE$161,0))","v":""},{"$f":"IF($C$99=\" \",\"\",COUNTIF(Vorrunde!$GE$90:$GE$161,5))","v":""},{"$f":"IF($C$99=\" \",\"\",COUNTIF(Vorrunde!$GE$90:$GE$161,7))","v":""},{"$f":"IF($C$99=\" \",\"\",COUNTIF(Vorrunde!$GE$90:$GE$161,10))","v":""}]
[{"$f":"Teilnehmerliste!A101","v":96},null,{"$f":"Teilnehmerliste!B101 &\" \"&Teilnehmerliste!C101","v":" "},{"$f":"IF($C$100=\" \",\"\",COUNTIF(Vorrunde!$GI$90:$GI$161,0))","v":""},{"$f":"IF($C$100=\" \",\"\",COUNTIF(Vorrunde!$GI$90:$GI$161,5))","v":""},{"$f":"IF($C$100=\" \",\"\",COUNTIF(Vorrunde!$GI$90:$GI$161,7))","v":""},{"$f":"IF($C$100=\" \",\"\",COUNTIF(Vorrunde!$GI$90:$GI$161,10))","v":""}]
[{"$f":"Teilnehmerliste!A102","v":97},null,{"$f":"Teilnehmerliste!B102 &\" \"&Teilnehmerliste!C102","v":" "},{"$f":"IF($C$101=\" \",\"\",COUNTIF(Vorrunde!$GM$90:$GM$161,0))","v":""},{"$f":"IF($C$101=\" \",\"\",COUNTIF(Vorrunde!$GM$90:$GM$161,5))","v":""},{"$f":"IF($C$101=\" \",\"\",COUNTIF(Vorrunde!$GM$90:$GM$161,7))","v":""},{"$f":"IF($C$101=\" \",\"\",COUNTIF(Vorrunde!$GM$90:$GM$161,10))","v":""}]
[{"$f":"Teilnehmerliste!A103","v":98},null,{"$f":"Teilnehmerliste!B103 &\" \"&Teilnehmerliste!C103","v":" "},{"$f":"IF($C$102=\" \",\"\",COUNTIF(Vorrunde!$GQ$90:$GQ$161,0))","v":""},{"$f":"IF($C$102=\" \",\"\",COUNTIF(Vorrunde!$GQ$90:$GQ$161,5))","v":""},{"$f":"IF($C$102=\" \",\"\",COUNTIF(Vorrunde!$GQ$90:$GQ$161,7))","v":""},{"$f":"IF($C$102=\" \",\"\",COUNTIF(Vorrunde!$GQ$90:$GQ$161,10))","v":""}]
[{"$f":"Teilnehmerliste!A104","v":99},null,{"$f":"Teilnehmerliste!B104 &\" \"&Teilnehmerliste!C104","v":" "},{"$f":"IF($C$103=\" \",\"\",COUNTIF(Vorrunde!$GU$90:$GU$161,0))","v":""},{"$f":"IF($C$103=\" \",\"\",COUNTIF(Vorrunde!$GU$90:$GU$161,5))","v":""},{"$f":"IF($C$103=\" \",\"\",COUNTIF(Vorrunde!$GU$90:$GU$161,7))","v":""},{"$f":"IF($C$103=\" \",\"\",COUNTIF(Vorrunde!$GU$90:$GU$161,10))","v":""}]
[{"$f":"Teilnehmerliste!A105","v":100},null,{"$f":"Teilnehmerliste!B105 &\" \"&Teilnehmerliste!C105","v":" "},{"$f":"IF($C$104=\" \",\"\",COUNTIF(Vorrunde!$GY$90:$GY$161,0))","v":""},{"$f":"IF($C$104=\" \",\"\",COUNTIF(Vorrunde!$GY$90:$GY$161,5))","v":""},{"$f":"IF($C$104=\" \",\"\",COUNTIF(Vorrunde!$GY$90:$GY$161,7))","v":""},{"$f":"IF($C$104=\" \",\"\",COUNTIF(Vorrunde!$GY$90:$GY$161,10))","v":""}]
[null,null,"Summe:",{"$f":"SUM(D5:D104)","v":2512},{"$f":"SUM(E5:E104)","v":2195},{"$f":"SUM(F5:F104)","v":753},{"$f":"SUM(G5:G104)","v":588}]
[null,null,null,"0 Punkte","5 Punkte","7 Punkte","10 Punkte"]

{"sheet":"Stat_Final","index":8,"n_rows":104,"n_cols":5,"rows_kept":104,"cut":false,"hidden":false,"merged":[[2,2,2,3],[0,0,0,4]]}
[{"$f":"Teams!$B$54","v":"WM 2026 by Rogerinho (www.fcbouncer.ch)"}]
[]
[null,null,"Team",null,"Weltmeister"]
[null,null,1,2]
[{"$f":"Teilnehmerliste!A6","v":1},{"$f":"Teilnehmerliste!B6 &\" \"&Teilnehmerliste!C6","v":"Panos Agorastos"},{"$f":"Finalrunde!J$47","v":"Frankreich"},{"$f":"Finalrunde!M$47","v":"Portugal"},{"$f":"Finalrunde!M$49","v":"Portugal"}]
[{"$f":"Teilnehmerliste!A7","v":2},{"$f":"Teilnehmerliste!B7 &\" \"&Teilnehmerliste!C7","v":"Yiannis Agorastos"},{"$f":"Finalrunde!Q$47","v":"Portugal"},{"$f":"Finalrunde!T$47","v":"Brasilien"},{"$f":"Finalrunde!T$49","v":"Brasilien"}]
[{"$f":"Teilnehmerliste!A8","v":3},{"$f":"Teilnehmerliste!B8 &\" \"&Teilnehmerliste!C8","v":"Ambra Antonelli"},{"$f":"Finalrunde!X$47","v":"Marokko"},{"$f":"Finalrunde!AA$47","v":"Brasilien"},{"$f":"Finalrunde!AA$49","v":"Marokko"}]
[{"$f":"Teilnehmerliste!A9","v":4},{"$f":"Teilnehmerliste!B9 &\" \"&Teilnehmerliste!C9","v":"Marco Antonelli"},{"$f":"Finalrunde!AE$47","v":"Spanien"},{"$f":"Finalrunde!AH$47","v":"Brasilien"},{"$f":"Finalrunde!AH$49","v":"Spanien"}]
[{"$f":"Teilnehmerliste!A10","v":5},{"$f":"Teilnehmerliste!B10 &\" \"&Teilnehmerliste!C10","v":"Ruben Antonelli"},{"$f":"Finalrunde!AL$47","v":"Frankreich"},{"$f":"Finalrunde!AO$47","v":"Portugal"},{"$f":"Finalrunde!AO$49","v":"Portugal"}]
[{"$f":"Teilnehmerliste!A11","v":6},{"$f":"Teilnehmerliste!B11 &\" \"&Teilnehmerliste!C11","v":"Peter Balazs"},{"$f":"Finalrunde!AS$47","v":"Frankreich"},{"$f":"Finalrunde!AV$47","v":"Argentinien"},{"$f":"Finalrunde!AV$49","v":"Frankreich"}]
[{"$f":"Teilnehmerliste!A12","v":7},{"$f":"Teilnehmerliste!B12 &\" \"&Teilnehmerliste!C12","v":"André Bartholet"},{"$f":"Finalrunde!AZ$47","v":"Spanien"},{"$f":"Finalrunde!BC$47","v":"Frankreich"},{"$f":"Finalrunde!BC$49","v":"Frankreich"}]
[{"$f":"Teilnehmerliste!A13","v":8},{"$f":"Teilnehmerliste!B13 &\" \"&Teilnehmerliste!C13","v":"Aya Bartholet"},{"$f":"Finalrunde!BG$47","v":"Spanien"},{"$f":"Finalrunde!BJ$47","v":"Argentinien"},{"$f":"Finalrunde!BJ$49","v":"Spanien"}]
[{"$f":"Teilnehmerliste!A14","v":9},{"$f":"Teilnehmerliste!B14 &\" \"&Teilnehmerliste!C14","v":"Philippe Bartholet"},{"$f":"Finalrunde!BN$47","v":"Holland"},{"$f":"Finalrunde!BQ$47","v":"Brasilien"},{"$f":"Finalrunde!BQ$49","v":"Brasilien"}]
[{"$f":"Teilnehmerliste!A15","v":10},{"$f":"Teilnehmerliste!B15 &\" \"&Teilnehmerliste!C15","v":"Roger Bartholet"},{"$f":"Finalrunde!BU$47","v":"Türkei"},{"$f":"Finalrunde!BX$47","v":"Schweiz"},{"$f":"Finalrunde!BX$49","v":"Schweiz"}]
[{"$f":"Teilnehmerliste!A16","v":11},{"$f":"Teilnehmerliste!B16 &\" \"&Teilnehmerliste!C16","v":"Mara Beck"},{"$f":"Finalrunde!CB$47","v":"Spanien"},{"$f":"Finalrunde!CE$47","v":"England"},{"$f":"Finalrunde!CE$49","v":"Spanien"}]
[{"$f":"Teilnehmerliste!A17","v":12},{"$f":"Teilnehmerliste!B17 &\" \"&Teilnehmerliste!C17","v":"Pongsapat Nott Boonaek"},{"$f":"Finalrunde!CI$47","v":"Frankreich"},{"$f":"Finalrunde!CL$47","v":"Argentinien"},{"$f":"Finalrunde!CL$49","v":"Frankreich"}]
[{"$f":"Teilnehmerliste!A18","v":13},{"$f":"Teilnehmerliste!B18 &\" \"&Teilnehmerliste!C18","v":"Michael Bosshart"},{"$f":"Finalrunde!CP$47","v":"Spanien"},{"$f":"Finalrunde!CS$47","v":"England"},{"$f":"Finalrunde!CS$49","v":"Spanien"}]
[{"$f":"Teilnehmerliste!A19","v":14},{"$f":"Teilnehmerliste!B19 &\" \"&Teilnehmerliste!C19","v":"Manfred Brunner"},{"$f":"Finalrunde!CW$47","v":"Deutschland"},{"$f":"Finalrunde!CZ$47","v":"Japan"},{"$f":"Finalrunde!CZ$49","v":"Deutschland"}]
[{"$f":"Teilnehmerliste!A20","v":15},{"$f":"Teilnehmerliste!B20 &\" \"&Teilnehmerliste!C20","v":"Manuel Brunner"},{"$f":"Finalrunde!DD$47","v":"Frankreich"},{"$f":"Finalrunde!DG$47","v":"Brasilien"},{"$f":"Finalrunde!DG$49","v":"Frankreich"}]
[{"$f":"Teilnehmerliste!A21","v":16},{"$f":"Teilnehmerliste!B21 &\" \"&Teilnehmerliste!C21","v":"Nicolas Brunner"},{"$f":"Finalrunde!DK$47","v":"Frankreich"},{"$f":"Finalrunde!DN$47","v":"Argentinien"},{"$f":"Finalrunde!DN$49","v":"Frankreich"}]
[{"$f":"Teilnehmerliste!A22","v":17},{"$f":"Teilnehmerliste!B22 &\" \"&Teilnehmerliste!C22","v":"Philip Brunner"},{"$f":"Finalrunde!DR$47","v":"Kolumbien"},{"$f":"Finalrunde!DU$47","v":"England"},{"$f":"Finalrunde!DU$49","v":"Kolumbien"}]
[{"$f":"Teilnehmerliste!A23","v":18},{"$f":"Teilnehmerliste!B23 &\" \"&Teilnehmerliste!C23","v":"André Burkart"},{"$f":"Finalrunde!DY$47","v":"Frankreich"},{"$f":"Finalrunde!EB$47","v":"Brasilien"},{"$f":"Finalrunde!EB$49","v":"Frankreich"}]
[{"$f":"Teilnehmerliste!A24","v":19},{"$f":"Teilnehmerliste!B24 &\" \"&Teilnehmerliste!C24","v":"Oli Christiansen"},{"$f":"Finalrunde!EF$47","v":"England"},{"$f":"Finalrunde!EI$47","v":"Argentinien"},{"$f":"Finalrunde!EI$49","v":"England"}]
[{"$f":"Teilnehmerliste!A25","v":20},{"$f":"Teilnehmerliste!B25 &\" \"&Teilnehmerliste!C25","v":"Javier Cruz"},{"$f":"Finalrunde!EM$47","v":"Spanien"},{"$f":"Finalrunde!EP$47","v":"Portugal"},{"$f":"Finalrunde!EP$49","v":"Spanien"}]
[{"$f":"Teilnehmerliste!A26","v":21},{"$f":"Teilnehmerliste!B26 &\" \"&Teilnehmerliste!C26","v":"Leo Rodrigues da Costa"},{"$f":"Finalrunde!J$97","v":"Frankreich"},{"$f":"Finalrunde!M$97","v":"Portugal"},{"$f":"Finalrunde!M$99","v":"Portugal"}]
[{"$f":"Teilnehmerliste!A27","v":22},{"$f":"Teilnehmerliste!B27 &\" \"&Teilnehmerliste!C27","v":"Lisa D'Acunto"},{"$f":"Finalrunde!Q$97","v":"Frankreich"},{"$f":"Finalrunde!T$97","v":"England"},{"$f":"Finalrunde!T$99","v":"Frankreich"}]
[{"$f":"Teilnehmerliste!A28","v":23},{"$f":"Teilnehmerliste!B28 &\" \"&Teilnehmerliste!C28","v":"Niva D'Acunto"},{"$f":"Finalrunde!X$97","v":"Spanien"},{"$f":"Finalrunde!AA$97","v":"Frankreich"},{"$f":"Finalrunde!AA$99","v":"Spanien"}]
[{"$f":"Teilnehmerliste!A29","v":24},{"$f":"Teilnehmerliste!B29 &\" \"&Teilnehmerliste!C29","v":"Vinci D'Acunto"},{"$f":"Finalrunde!AE$97","v":"Deutschland"},{"$f":"Finalrunde!AH$97","v":"Brasilien"},{"$f":"Finalrunde!AH$99","v":"Deutschland"}]
[{"$f":"Teilnehmerliste!A30","v":25},{"$f":"Teilnehmerliste!B30 &\" \"&Teilnehmerliste!C30","v":"Rafael Derungs"},{"$f":"Finalrunde!AL$97","v":"Frankreich"},{"$f":"Finalrunde!AO$97","v":"Brasilien"},{"$f":"Finalrunde!AO$99","v":"Brasilien"}]
[{"$f":"Teilnehmerliste!A31","v":26},{"$f":"Teilnehmerliste!B31 &\" \"&Teilnehmerliste!C31","v":"Goran Djukic"},{"$f":"Finalrunde!AS$97","v":"Frankreich"},{"$f":"Finalrunde!AV$97","v":"Portugal"},{"$f":"Finalrunde!AV$99","v":"Frankreich"}]
[{"$f":"Teilnehmerliste!A32","v":27},{"$f":"Teilnehmerliste!B32 &\" \"&Teilnehmerliste!C32","v":"Armin Duvnjak"},{"$f":"Finalrunde!AZ$97","v":"Frankreich"},{"$f":"Finalrunde!BC$97","v":"Portugal"},{"$f":"Finalrunde!BC$99","v":"Portugal"}]
[{"$f":"Teilnehmerliste!A33","v":28},{"$f":"Teilnehmerliste!B33 &\" \"&Teilnehmerliste!C33","v":"Dino Duvnjak"},{"$f":"Finalrunde!BG$97","v":"Spanien"},{"$f":"Finalrunde!BJ$97","v":"England"},{"$f":"Finalrunde!BJ$99","v":"England"}]
[{"$f":"Teilnehmerliste!A34","v":29},{"$f":"Teilnehmerliste!B34 &\" \"&Teilnehmerliste!C34","v":"Djuma Duvnjak"},{"$f":"Finalrunde!BN$97","v":"Spanien"},{"$f":"Finalrunde!BQ$97","v":"England"},{"$f":"Finalrunde!BQ$99","v":"Spanien"}]
[{"$f":"Teilnehmerliste!A35","v":30},{"$f":"Teilnehmerliste!B35 &\" \"&Teilnehmerliste!C35","v":"Andreia Gomes"},{"$f":"Finalrunde!BU$97","v":"Mexiko"},{"$f":"Finalrunde!BX$97","v":"Portugal"},{"$f":"Finalrunde!BX$99","v":"Portugal"}]
[{"$f":"Teilnehmerliste!A36","v":31},{"$f":"Teilnehmerliste!B36 &\" \"&Teilnehmerliste!C36","v":"Rui Gomes"},{"$f":"Finalrunde!CB$97","v":"Kolumbien"},{"$f":"Finalrunde!CE$97","v":"Portugal"},{"$f":"Finalrunde!CE$99","v":"Portugal"}]
[{"$f":"Teilnehmerliste!A37","v":32},{"$f":"Teilnehmerliste!B37 &\" \"&Teilnehmerliste!C37","v":"Deliz González"},{"$f":"Finalrunde!CI$97","v":"Spanien"},{"$f":"Finalrunde!CL$97","v":"Brasilien"},{"$f":"Finalrunde!CL$99","v":"Spanien"}]
[{"$f":"Teilnehmerliste!A38","v":33},{"$f":"Teilnehmerliste!B38 &\" \"&Teilnehmerliste!C38","v":"Florian González"},{"$f":"Finalrunde!CP$97","v":"Spanien"},{"$f":"Finalrunde!CS$97","v":"Brasilien"},{"$f":"Finalrunde!CS$99","v":"Brasilien"}]
[{"$f":"Teilnehmerliste!A39","v":34},{"$f":"Teilnehmerliste!B39 &\" \"&Teilnehmerliste!C39","v":"Laurent Grosse"},{"$f":"Finalrunde!CW$97","v":"Spanien"},{"$f":"Finalrunde!CZ$97","v":"Portugal"},{"$f":"Finalrunde!CZ$99","v":"Spanien"}]
[{"$f":"Teilnehmerliste!A40","v":35},{"$f":"Teilnehmerliste!B40 &\" \"&Teilnehmerliste!C40","v":"Reto Gygli"},{"$f":"Finalrunde!DD$97","v":"Frankreich"},{"$f":"Finalrunde!DG$97","v":"England"},{"$f":"Finalrunde!DG$99","v":"England"}]
[{"$f":"Teilnehmerliste!A41","v":36},{"$f":"Teilnehmerliste!B41 &\" \"&Teilnehmerliste!C41","v":"Robin Gygli"},{"$f":"Finalrunde!DK$97","v":"Frankreich"},{"$f":"Finalrunde!DN$97","v":"England"},{"$f":"Finalrunde!DN$99","v":"Frankreich"}]
[{"$f":"Teilnehmerliste!A42","v":37},{"$f":"Teilnehmerliste!B42 &\" \"&Teilnehmerliste!C42","v":"Sarina Gygli"},{"$f":"Finalrunde!DR$97","v":"Spanien"},{"$f":"Finalrunde!DU$97","v":"Argentinien"},{"$f":"Finalrunde!DU$99","v":"Argentinien"}]
[{"$f":"Teilnehmerliste!A43","v":38},{"$f":"Teilnehmerliste!B43 &\" \"&Teilnehmerliste!C43","v":"Selina Gygli"},{"$f":"Finalrunde!DY$97","v":"Frankreich"},{"$f":"Finalrunde!EB$97","v":"Portugal"},{"$f":"Finalrunde!EB$99","v":"Portugal"}]
[{"$f":"Teilnehmerliste!A44","v":39},{"$f":"Teilnehmerliste!B44 &\" \"&Teilnehmerliste!C44","v":"Stefan Gygli"},{"$f":"Finalrunde!EF$97","v":"Spanien"},{"$f":"Finalrunde!EI$97","v":"England"},{"$f":"Finalrunde!EI$99","v":"England"}]
[{"$f":"Teilnehmerliste!A45","v":40},{"$f":"Teilnehmerliste!B45 &\" \"&Teilnehmerliste!C45","v":"Timothy Gygli"},{"$f":"Finalrunde!EM$97","v":"Frankreich"},{"$f":"Finalrunde!EP$97","v":"England"},{"$f":"Finalrunde!EP$99","v":"Frankreich"}]
[{"$f":"Teilnehmerliste!A46","v":41},{"$f":"Teilnehmerliste!B46 &\" \"&Teilnehmerliste!C46","v":"Florian Haab"},{"$f":"Finalrunde!J$147","v":"Spanien"},{"$f":"Finalrunde!M$147","v":"England"},{"$f":"Finalrunde!M$149","v":"Spanien"}]
[{"$f":"Teilnehmerliste!A47","v":42},{"$f":"Teilnehmerliste!B47 &\" \"&Teilnehmerliste!C47","v":"Agnes Isenschmid"},{"$f":"Finalrunde!Q$147","v":"Spanien"},{"$f":"Finalrunde!T$147","v":"Argentinien"},{"$f":"Finalrunde!T$149","v":"Spanien"}]
[{"$f":"Teilnehmerliste!A48","v":43},{"$f":"Teilnehmerliste!B48 &\" \"&Teilnehmerliste!C48","v":"Andreas Isenschmid"},{"$f":"Finalrunde!X$147","v":"Spanien"},{"$f":"Finalrunde!AA$147","v":"England"},{"$f":"Finalrunde!AA$149","v":"Spanien"}]
[{"$f":"Teilnehmerliste!A49","v":44},{"$f":"Teilnehmerliste!B49 &\" \"&Teilnehmerliste!C49","v":"Michael Isenschmid"},{"$f":"Finalrunde!AE$147","v":"Spanien"},{"$f":"Finalrunde!AH$147","v":"England"},{"$f":"Finalrunde!AH$149","v":"England"}]
[{"$f":"Teilnehmerliste!A50","v":45},{"$f":"Teilnehmerliste!B50 &\" \"&Teilnehmerliste!C50","v":"Aiden Jones"},{"$f":"Finalrunde!AL$147","v":"Frankreich"},{"$f":"Finalrunde!AO$147","v":"Portugal"},{"$f":"Finalrunde!AO$149","v":"Frankreich"}]
[{"$f":"Teilnehmerliste!A51","v":46},{"$f":"Teilnehmerliste!B51 &\" \"&Teilnehmerliste!C51","v":"Pascal Keller"},{"$f":"Finalrunde!AS$147","v":"Frankreich"},{"$f":"Finalrunde!AV$147","v":"England"},{"$f":"Finalrunde!AV$149","v":"Frankreich"}]
[{"$f":"Teilnehmerliste!A52","v":47},{"$f":"Teilnehmerliste!B52 &\" \"&Teilnehmerliste!C52","v":"Tanja Kistler"},{"$f":"Finalrunde!AZ$147","v":"Spanien"},{"$f":"Finalrunde!BC$147","v":"Brasilien"},{"$f":"Finalrunde!BC$149","v":"Spanien"}]
[{"$f":"Teilnehmerliste!A53","v":48},{"$f":"Teilnehmerliste!B53 &\" \"&Teilnehmerliste!C53","v":"André Lanz"},{"$f":"Finalrunde!BG$147","v":"Spanien"},{"$f":"Finalrunde!BJ$147","v":"Portugal"},{"$f":"Finalrunde!BJ$149","v":"Spanien"}]
[{"$f":"Teilnehmerliste!A54","v":49},{"$f":"Teilnehmerliste!B54 &\" \"&Teilnehmerliste!C54","v":"Franz Lischer"},{"$f":"Finalrunde!BN$147","v":"Frankreich"},{"$f":"Finalrunde!BQ$147","v":"Brasilien"},{"$f":"Finalrunde!BQ$149","v":"Frankreich"}]
[{"$f":"Teilnehmerliste!A55","v":50},{"$f":"Teilnehmerliste!B55 &\" \"&Teilnehmerliste!C55","v":"Marc Lütolf"},{"$f":"Finalrunde!BU$147","v":"Spanien"},{"$f":"Finalrunde!BX$147","v":"England"},{"$f":"Finalrunde!BX$149","v":"Spanien"}]
[{"$f":"Teilnehmerliste!A56","v":51},{"$f":"Teilnehmerliste!B56 &\" \"&Teilnehmerliste!C56","v":"Nicolas Mack"},{"$f":"Finalrunde!CB$147","v":"Spanien"},{"$f":"Finalrunde!CE$147","v":"Brasilien"},{"$f":"Finalrunde!CE$149","v":"Brasilien"}]
[{"$f":"Teilnehmerliste!A57","v":52},{"$f":"Teilnehmerliste!B57 &\" \"&Teilnehmerliste!C57","v":"Mauro Marini"},{"$f":"Finalrunde!CI$147","v":"Frankreich"},{"$f":"Finalrunde!CL$147","v":"Argentinien"},{"$f":"Finalrunde!CL$149","v":"Frankreich"}]
[{"$f":"Teilnehmerliste!A58","v":53},{"$f":"Teilnehmerliste!B58 &\" \"&Teilnehmerliste!C58","v":"Ben Marthaler"},{"$f":"Finalrunde!CP$147","v":"Japan"},{"$f":"Finalrunde!CS$147","v":"Brasilien"},{"$f":"Finalrunde!CS$149","v":"Japan"}]
[{"$f":"Teilnehmerliste!A59","v":54},{"$f":"Teilnehmerliste!B59 &\" \"&Teilnehmerliste!C59","v":"Martin Marthaler"},{"$f":"Finalrunde!CW$147","v":"Frankreich"},{"$f":"Finalrunde!CZ$147","v":"Argentinien"},{"$f":"Finalrunde!CZ$149","v":"Argentinien"}]
[{"$f":"Teilnehmerliste!A60","v":55},{"$f":"Teilnehmerliste!B60 &\" \"&Teilnehmerliste!C60","v":"Elias Marty"},{"$f":"Finalrunde!DD$147","v":"Spanien"},{"$f":"Finalrunde!DG$147","v":"Argentinien"},{"$f":"Finalrunde!DG$149","v":"Spanien"}]
[{"$f":"Teilnehmerliste!A61","v":56},{"$f":"Teilnehmerliste!B61 &\" \"&Teilnehmerliste!C61","v":"Julian Merkli"},{"$f":"Finalrunde!DK$147","v":"Spanien"},{"$f":"Finalrunde!DN$147","v":"Brasilien"},{"$f":"Finalrunde!DN$149","v":"Spanien"}]
[{"$f":"Teilnehmerliste!A62","v":57},{"$f":"Teilnehmerliste!B62 &\" \"&Teilnehmerliste!C62","v":"Philipp Meyer"},{"$f":"Finalrunde!DR$147","v":"Frankreich"},{"$f":"Finalrunde!DU$147","v":"Brasilien"},{"$f":"Finalrunde!DU$149","v":"Frankreich"}]
[{"$f":"Teilnehmerliste!A63","v":58},{"$f":"Teilnehmerliste!B63 &\" \"&Teilnehmerliste!C63","v":"Telmo Oliveira"},{"$f":"Finalrunde!DY$147","v":"Spanien"},{"$f":"Finalrunde!EB$147","v":"Portugal"},{"$f":"Finalrunde!EB$149","v":"Portugal"}]
[{"$f":"Teilnehmerliste!A64","v":59},{"$f":"Teilnehmerliste!B64 &\" \"&Teilnehmerliste!C64","v":"Martin Oroshi"},{"$f":"Finalrunde!EF$147","v":"Frankreich"},{"$f":"Finalrunde!EI$147","v":"England"},{"$f":"Finalrunde!EI$149","v":"Frankreich"}]
[{"$f":"Teilnehmerliste!A65","v":60},{"$f":"Teilnehmerliste!B65 &\" \"&Teilnehmerliste!C65","v":"Lechena Pek"},{"$f":"Finalrunde!EM$147","v":"Spanien"},{"$f":"Finalrunde!EP$147","v":"Brasilien"},{"$f":"Finalrunde!EP$149","v":"Spanien"}]
[{"$f":"Teilnehmerliste!A66","v":61},{"$f":"Teilnehmerliste!B66 &\" \"&Teilnehmerliste!C66","v":"Stefan Principe"},{"$f":"Finalrunde!J$197","v":"Frankreich"},{"$f":"Finalrunde!M$197","v":"Brasilien"},{"$f":"Finalrunde!M$199","v":"Frankreich"}]
[{"$f":"Teilnehmerliste!A67","v":62},{"$f":"Teilnehmerliste!B67 &\" \"&Teilnehmerliste!C67","v":"Michael Prucha"},{"$f":"Finalrunde!Q$197","v":"Spanien"},{"$f":"Finalrunde!T$197","v":"Argentinien"},{"$f":"Finalrunde!T$199","v":"Spanien"}]
[{"$f":"Teilnehmerliste!A68","v":63},{"$f":"Teilnehmerliste!B68 &\" \"&Teilnehmerliste!C68","v":"Petra Rauscher"},{"$f":"Finalrunde!X$197","v":"Frankreich"},{"$f":"Finalrunde!AA$197","v":"Brasilien"},{"$f":"Finalrunde!AA$199","v":"Frankreich"}]
[{"$f":"Teilnehmerliste!A69","v":64},{"$f":"Teilnehmerliste!B69 &\" \"&Teilnehmerliste!C69","v":"Martin Rohner"},{"$f":"Finalrunde!AE$197","v":"Spanien"},{"$f":"Finalrunde!AH$197","v":"Argentinien"},{"$f":"Finalrunde!AH$199","v":"Spanien"}]
[{"$f":"Teilnehmerliste!A70","v":65},{"$f":"Teilnehmerliste!B70 &\" \"&Teilnehmerliste!C70","v":"Ivo und Brigitte Rüdemann"},{"$f":"Finalrunde!AL$197","v":"Spanien"},{"$f":"Finalrunde!AO$197","v":"Brasilien"},{"$f":"Finalrunde!AO$199","v":"Spanien"}]
[{"$f":"Teilnehmerliste!A71","v":66},{"$f":"Teilnehmerliste!B71 &\" \"&Teilnehmerliste!C71","v":"Lynn Rüegg"},{"$f":"Finalrunde!AS$197","v":"Spanien"},{"$f":"Finalrunde!AV$197","v":"Portugal"},{"$f":"Finalrunde!AV$199","v":"Portugal"}]
[{"$f":"Teilnehmerliste!A72","v":67},{"$f":"Teilnehmerliste!B72 &\" \"&Teilnehmerliste!C72","v":"Michael Rüegg"},{"$f":"Finalrunde!AZ$197","v":"Spanien"},{"$f":"Finalrunde!BC$197","v":"England"},{"$f":"Finalrunde!BC$199","v":"England"}]
[{"$f":"Teilnehmerliste!A73","v":68},{"$f":"Teilnehmerliste!B73 &\" \"&Teilnehmerliste!C73","v":"Sabine Rüegg"},{"$f":"Finalrunde!BG$197","v":"Spanien"},{"$f":"Finalrunde!BJ$197","v":"England"},{"$f":"Finalrunde!BJ$199","v":"Spanien"}]
[{"$f":"Teilnehmerliste!A74","v":69},{"$f":"Teilnehmerliste!B74 &\" \"&Teilnehmerliste!C74","v":"Martin Schawalder"},{"$f":"Finalrunde!BN$197","v":"Spanien"},{"$f":"Finalrunde!BQ$197","v":"Argentinien"},{"$f":"Finalrunde!BQ$199","v":"Spanien"}]
[{"$f":"Teilnehmerliste!A75","v":70},{"$f":"Teilnehmerliste!B75 &\" \"&Teilnehmerliste!C75","v":"Evelyne Schenk"},{"$f":"Finalrunde!BU$197","v":"Spanien"},{"$f":"Finalrunde!BX$197","v":"Brasilien"},{"$f":"Finalrunde!BX$199","v":"Spanien"}]
[{"$f":"Teilnehmerliste!A76","v":71},{"$f":"Teilnehmerliste!B76 &\" \"&Teilnehmerliste!C76","v":"Yannick Schilliger"},{"$f":"Finalrunde!CB$197","v":"Spanien"},{"$f":"Finalrunde!CE$197","v":"England"},{"$f":"Finalrunde!CE$199","v":"England"}]
[{"$f":"Teilnehmerliste!A77","v":72},{"$f":"Teilnehmerliste!B77 &\" \"&Teilnehmerliste!C77","v":"Erich Schommarz"},{"$f":"Finalrunde!CI$197","v":"Deutschland"},{"$f":"Finalrunde!CL$197","v":"England"},{"$f":"Finalrunde!CL$199","v":"Deutschland"}]
[{"$f":"Teilnehmerliste!A78","v":73},{"$f":"Teilnehmerliste!B78 &\" \"&Teilnehmerliste!C78","v":"Ralph Schuster"},{"$f":"Finalrunde!CP$197","v":"Deutschland"},{"$f":"Finalrunde!CS$197","v":"Argentinien"},{"$f":"Finalrunde!CS$199","v":"Argentinien"}]
[{"$f":"Teilnehmerliste!A79","v":74},{"$f":"Teilnehmerliste!B79 &\" \"&Teilnehmerliste!C79","v":"Bruno Silva"},{"$f":"Finalrunde!CW$197","v":"Frankreich"},{"$f":"Finalrunde!CZ$197","v":"Portugal"},{"$f":"Finalrunde!CZ$199","v":"Portugal"}]
[{"$f":"Teilnehmerliste!A80","v":75},{"$f":"Teilnehmerliste!B80 &\" \"&Teilnehmerliste!C80","v":"Aleandro Silvestri"},{"$f":"Finalrunde!DD$197","v":"Spanien"},{"$f":"Finalrunde!DG$197","v":"Brasilien"},{"$f":"Finalrunde!DG$199","v":"Spanien"}]
[{"$f":"Teilnehmerliste!A81","v":76},{"$f":"Teilnehmerliste!B81 &\" \"&Teilnehmerliste!C81","v":"Armando Thormann"},{"$f":"Finalrunde!DK$197","v":"Frankreich"},{"$f":"Finalrunde!DN$197","v":"England"},{"$f":"Finalrunde!DN$199","v":"Frankreich"}]
[{"$f":"Teilnehmerliste!A82","v":77},{"$f":"Teilnehmerliste!B82 &\" \"&Teilnehmerliste!C82","v":"Lea Treichler"},{"$f":"Finalrunde!DR$197","v":"Spanien"},{"$f":"Finalrunde!DU$197","v":"Portugal"},{"$f":"Finalrunde!DU$199","v":"Portugal"}]
[{"$f":"Teilnehmerliste!A83","v":78},{"$f":"Teilnehmerliste!B83 &\" \"&Teilnehmerliste!C83","v":"Reto Treichler"},{"$f":"Finalrunde!DY$197","v":"Frankreich"},{"$f":"Finalrunde!EB$197","v":"Brasilien"},{"$f":"Finalrunde!EB$199","v":"Frankreich"}]
[{"$f":"Teilnehmerliste!A84","v":79},{"$f":"Teilnehmerliste!B84 &\" \"&Teilnehmerliste!C84","v":"Christoph Wälti"},{"$f":"Finalrunde!EF$197","v":"Frankreich"},{"$f":"Finalrunde!EI$197","v":"Brasilien"},{"$f":"Finalrunde!EI$199","v":"Frankreich"}]
[{"$f":"Teilnehmerliste!A85","v":80},{"$f":"Teilnehmerliste!B85 &\" \"&Teilnehmerliste!C85","v":"Markus Wagner"},{"$f":"Finalrunde!EM$197","v":"Spanien"},{"$f":"Finalrunde!EP$197","v":"Argentinien"},{"$f":"Finalrunde!EP$199","v":"Spanien"}]
[{"$f":"Teilnehmerliste!A86","v":81},{"$f":"Teilnehmerliste!B86 &\" \"&Teilnehmerliste!C86","v":"Marc Walthard"},{"$f":"Finalrunde!J$247","v":"Spanien"},{"$f":"Finalrunde!M$247","v":"Schweden"},{"$f":"Finalrunde!M$249","v":"Spanien"}]
[{"$f":"Teilnehmerliste!A87","v":82},{"$f":"Teilnehmerliste!B87 &\" \"&Teilnehmerliste!C87","v":"Jingwen Wang"},{"$f":"Finalrunde!Q$247","v":"Spanien"},{"$f":"Finalrunde!T$247","v":"Brasilien"},{"$f":"Finalrunde!T$249","v":"Brasilien"}]
[{"$f":"Teilnehmerliste!A88","v":83},{"$f":"Teilnehmerliste!B88 &\" \"&Teilnehmerliste!C88","v":"Stefan Wullschleger"},{"$f":"Finalrunde!X$247","v":"Spanien"},{"$f":"Finalrunde!AA$247","v":"Argentinien"},{"$f":"Finalrunde!AA$249","v":"Spanien"}]
[{"$f":"Teilnehmerliste!A89","v":84},{"$f":"Teilnehmerliste!B89 &\" \"&Teilnehmerliste!C89","v":"Stefan Zachmann"},{"$f":"Finalrunde!AE$247","v":"Deutschland"},{"$f":"Finalrunde!AH$247","v":"England"},{"$f":"Finalrunde!AH$249","v":"Deutschland"}]
[{"$f":"Teilnehmerliste!A90","v":85},{"$f":"Teilnehmerliste!B90 &\" \"&Teilnehmerliste!C90","v":" "},{"$f":"Finalrunde!AL$247","v":0},{"$f":"Finalrunde!AO$247","v":0},{"$f":"Finalrunde!AO$249","v":""}]
[{"$f":"Teilnehmerliste!A91","v":86},{"$f":"Teilnehmerliste!B91 &\" \"&Teilnehmerliste!C91","v":" "},{"$f":"Finalrunde!AS$247","v":0},{"$f":"Finalrunde!AV$247","v":0},{"$f":"Finalrunde!AV$249","v":""}]
[{"$f":"Teilnehmerliste!A92","v":87},{"$f":"Teilnehmerliste!B92 &\" \"&Teilnehmerliste!C92","v":" "},{"$f":"Finalrunde!AZ$247","v":0},{"$f":"Finalrunde!BC$247","v":0},{"$f":"Finalrunde!BC$249","v":""}]
[{"$f":"Teilnehmerliste!A93","v":88},{"$f":"Teilnehmerliste!B93 &\" \"&Teilnehmerliste!C93","v":" "},{"$f":"Finalrunde!BG$247","v":0},{"$f":"Finalrunde!BJ$247","v":0},{"$f":"Finalrunde!BJ$249","v":""}]
[{"$f":"Teilnehmerliste!A94","v":89},{"$f":"Teilnehmerliste!B94 &\" \"&Teilnehmerliste!C94","v":" "},{"$f":"Finalrunde!BN$247","v":0},{"$f":"Finalrunde!BQ$247","v":0},{"$f":"Finalrunde!BQ$249","v":""}]
[{"$f":"Teilnehmerliste!A95","v":90},{"$f":"Teilnehmerliste!B95 &\" \"&Teilnehmerliste!C95","v":" "},{"$f":"Finalrunde!BU$247","v":0},{"$f":"Finalrunde!BX$247","v":0},{"$f":"Finalrunde!BX$249","v":""}]
[{"$f":"Teilnehmerliste!A96","v":91},{"$f":"Teilnehmerliste!B96 &\" \"&Teilnehmerliste!C96","v":" "},{"$f":"Finalrunde!CB$247","v":0},{"$f":"Finalrunde!CE$247","v":0},{"$f":"Finalrunde!CE$249","v":""}]
[{"$f":"Teilnehmerliste!A97","v":92},{"$f":"Teilnehmerliste!B97 &\" \"&Teilnehmerliste!C97","v":" "},{"$f":"Finalrunde!CI$247","v":0},{"$f":"Finalrunde!CL$247","v":0},{"$f":"Finalrunde!CL$249","v":""}]
[{"$f":"Teilnehmerliste!A98","v":93},{"$f":"Teilnehmerliste!B98 &\" \"&Teilnehmerliste!C98","v":" "},{"$f":"Finalrunde!CP$247","v":0},{"$f":"Finalrunde!CS$247","v":0},{"$f":"Finalrunde!CS$249","v":""}]
[{"$f":"Teilnehmerliste!A99","v":94},{"$f":"Teilnehmerliste!B99 &\" \"&Teilnehmerliste!C99","v":" "},{"$f":"Finalrunde!CW$247","v":0},{"$f":"Finalrunde!CZ$247","v":0},{"$f":"Finalrunde!CZ$249","v":""}]
[{"$f":"Teilnehmerliste!A100","v":95},{"$f":"Teilnehmerliste!B100 &\" \"&Teilnehmerliste!C100","v":" "},{"$f":"Finalrunde!DD$247","v":0},{"$f":"Finalrunde!DG$247","v":0},{"$f":"Finalrunde!DG$249","v":""}]
[{"$f":"Teilnehmerliste!A101","v":96},{"$f":"Teilnehmerliste!B101 &\" \"&Teilnehmerliste!C101","v":" "},{"$f":"Finalrunde!DK$247","v":0},{"$f":"Finalrunde!DN$247","v":0},{"$f":"Finalrunde!DN$249","v":""}]
[{"$f":"Teilnehmerliste!A102","v":97},{"$f":"Teilnehmerliste!B102 &\" \"&Teilnehmerliste!C102","v":" "},{"$f":"Finalrunde!DR$247","v":0},{"$f":"Finalrunde!DU$247","v":0},{"$f":"Finalrunde!DU$249","v":""}]
[{"$f":"Teilnehmerliste!A103","v":98},{"$f":"Teilnehmerliste!B103 &\" \"&Teilnehmerliste!C103","v":" "},{"$f":"Finalrunde!DY$247","v":0},{"$f":"Finalrunde!EB$247","v":0},{"$f":"Finalrunde!EB$249","v":""}]
[{"$f":"Teilnehmerliste!A104","v":99},{"$f":"Teilnehmerliste!B104 &\" \"&Teilnehmerliste!C104","v":" "},{"$f":"Finalrunde!EF$247","v":0},{"$f":"Finalrunde!EI$247","v":0},{"$f":"Finalrunde!EI$249","v":""}]
[{"$f":"Teilnehmerliste!A105","v":100},{"$f":"Teilnehmerliste!B105 &\" \"&Teilnehmerliste!C105","v":" "},{"$f":"Finalrunde!EM$247","v":0},{"$f":"Finalrunde!EP$247","v":0},{"$f":"Finalrunde!EP$249","v":""}]

{"sheet":"Stat_Final_Teams","index":9,"n_rows":52,"n_cols":10,"rows_kept":52,"cut":false,"hidden":false,"merged":[[0,0,0,2]]}
[{"$f":"Teams!$B$54","v":"WM 2026 by Rogerinho (www.fcbouncer.ch)"}]
[null,null,null,null,"Statistik (Rangfolge Berechnet)",null,null,"Statistik (Rangfolge Berechnet)",null,"Sverweis"]
["Mannschaften","Anzahl ins Finale getippt","Anzahl getippt als Weltmeister",null,"Team ins Finale getippt",null,null,"Team als Weltmeister getippt",null,"Formel"]
[{"$f":"Teams!B4","v":"Mexiko"},{"$f":"COUNTIF(Stat_Final!$C$5:$D$104,A4)","v":1},{"$f":"COUNTIF(Stat_Final!$E$5:$E$104,A4)","v":0},null,{"$f":"LARGE($B$4:$B$51,1)","v":41},{"$f":"_xlfn.SINGLE(INDEX($A:$C,_xlfn.AGGREGATE(15,6,ROW($B$4:$B$51)/($B$4:$B$51=E4),COUNTIF($E$4:E4,E4)),1))","v":"Spanien"},null,{"$f":"LARGE($C$4:$C$51,1)","v":28},{"$f":"_xlfn.SINGLE(INDEX($A:$C,_xlfn.AGGREGATE(15,6,ROW($C$4:$C$51)/($C$4:$C$51=H4),COUNTIF($H$4:H4,H4)),1))","v":"Spanien"},{"$f":"VLOOKUP(I4,$A$4:$C$51,2,FALSE)","v":41}]
[{"$f":"Teams!B5","v":"Südkorea"},{"$f":"COUNTIF(Stat_Final!$C$5:$D$104,A5)","v":0},{"$f":"COUNTIF(Stat_Final!$E$5:$E$104,A5)","v":0},null,{"$f":"LARGE($B$4:$B$51,2)","v":31},{"$f":"_xlfn.SINGLE(INDEX($A:$C,_xlfn.AGGREGATE(15,6,ROW($B$4:$B$51)/($B$4:$B$51=E5),COUNTIF($E$4:E5,E5)),1))","v":"Frankreich"},null,{"$f":"LARGE($C$4:$C$51,2)","v":21},{"$f":"_xlfn.SINGLE(INDEX($A:$C,_xlfn.AGGREGATE(15,6,ROW($C$4:$C$51)/($C$4:$C$51=H5),COUNTIF($H$4:H5,H5)),1))","v":"Frankreich"},{"$f":"VLOOKUP(I5,$A$4:$C$51,2,FALSE)","v":31}]
[{"$f":"Teams!B6","v":"Tschechien"},{"$f":"COUNTIF(Stat_Final!$C$5:$D$104,A6)","v":0},{"$f":"COUNTIF(Stat_Final!$E$5:$E$104,A6)","v":0},null,{"$f":"LARGE($B$4:$B$51,3)","v":25},{"$f":"_xlfn.SINGLE(INDEX($A:$C,_xlfn.AGGREGATE(15,6,ROW($B$4:$B$51)/($B$4:$B$51=E6),COUNTIF($E$4:E6,E6)),1))","v":"Brasilien"},null,{"$f":"LARGE($C$4:$C$51,3)","v":11},{"$f":"_xlfn.SINGLE(INDEX($A:$C,_xlfn.AGGREGATE(15,6,ROW($C$4:$C$51)/($C$4:$C$51=H6),COUNTIF($H$4:H6,H6)),1))","v":"Portugal"},17]
[{"$f":"Teams!B7","v":"Südafrika"},{"$f":"COUNTIF(Stat_Final!$C$5:$D$104,A7)","v":0},{"$f":"COUNTIF(Stat_Final!$E$5:$E$104,A7)","v":0},null,{"$f":"LARGE($B$4:$B$51,4)","v":23},{"$f":"_xlfn.SINGLE(INDEX($A:$C,_xlfn.AGGREGATE(15,6,ROW($B$4:$B$51)/($B$4:$B$51=E7),COUNTIF($E$4:E7,E7)),1))","v":"England"},null,{"$f":"LARGE($C$4:$C$51,4)","v":7},{"$f":"_xlfn.SINGLE(INDEX($A:$C,_xlfn.AGGREGATE(15,6,ROW($C$4:$C$51)/($C$4:$C$51=H7),COUNTIF($H$4:H7,H7)),1))","v":"England"},23]
[{"$f":"Teams!B8","v":"Schweiz"},{"$f":"COUNTIF(Stat_Final!$C$5:$D$104,A8)","v":1},{"$f":"COUNTIF(Stat_Final!$E$5:$E$104,A8)","v":1},null,{"$f":"LARGE($B$4:$B$51,5)","v":17},{"$f":"_xlfn.SINGLE(INDEX($A:$C,_xlfn.AGGREGATE(15,6,ROW($B$4:$B$51)/($B$4:$B$51=E8),COUNTIF($E$4:E8,E8)),1))","v":"Portugal"},null,{"$f":"LARGE($C$4:$C$51,5)","v":6},{"$f":"_xlfn.SINGLE(INDEX($A:$C,_xlfn.AGGREGATE(15,6,ROW($C$4:$C$51)/($C$4:$C$51=H8),COUNTIF($H$4:H8,H8)),1))","v":"Brasilien"},25]
[{"$f":"Teams!B9","v":"Kanada"},{"$f":"COUNTIF(Stat_Final!$C$5:$D$104,A9)","v":0},{"$f":"COUNTIF(Stat_Final!$E$5:$E$104,A9)","v":0},null,{"$f":"LARGE($B$4:$B$51,6)","v":16},{"$f":"_xlfn.SINGLE(INDEX($A:$C,_xlfn.AGGREGATE(15,6,ROW($B$4:$B$51)/($B$4:$B$51=E9),COUNTIF($E$4:E9,E9)),1))","v":"Argentinien"},null,{"$f":"LARGE($C$4:$C$51,6)","v":4},{"$f":"_xlfn.SINGLE(INDEX($A:$C,_xlfn.AGGREGATE(15,6,ROW($C$4:$C$51)/($C$4:$C$51=H9),COUNTIF($H$4:H9,H9)),1))","v":"Deutschland"},5]
[{"$f":"Teams!B10","v":"Katar"},{"$f":"COUNTIF(Stat_Final!$C$5:$D$104,A10)","v":0},{"$f":"COUNTIF(Stat_Final!$E$5:$E$104,A10)","v":0},null,{"$f":"LARGE($B$4:$B$51,7)","v":5},{"$f":"_xlfn.SINGLE(INDEX($A:$C,_xlfn.AGGREGATE(15,6,ROW($B$4:$B$51)/($B$4:$B$51=E10),COUNTIF($E$4:E10,E10)),1))","v":"Deutschland"},null,{"$f":"LARGE($C$4:$C$51,7)","v":3},{"$f":"_xlfn.SINGLE(INDEX($A:$C,_xlfn.AGGREGATE(15,6,ROW($C$4:$C$51)/($C$4:$C$51=H10),COUNTIF($H$4:H10,H10)),1))","v":"Argentinien"},16]
[{"$f":"Teams!B11","v":"Bosnien-Herz."},{"$f":"COUNTIF(Stat_Final!$C$5:$D$104,A11)","v":0},{"$f":"COUNTIF(Stat_Final!$E$5:$E$104,A11)","v":0},null,{"$f":"LARGE($B$4:$B$51,8)","v":2},{"$f":"_xlfn.SINGLE(INDEX($A:$C,_xlfn.AGGREGATE(15,6,ROW($B$4:$B$51)/($B$4:$B$51=E11),COUNTIF($E$4:E11,E11)),1))","v":"Japan"},null,{"$f":"LARGE($C$4:$C$51,8)","v":1},{"$f":"_xlfn.SINGLE(INDEX($A:$C,_xlfn.AGGREGATE(15,6,ROW($C$4:$C$51)/($C$4:$C$51=H11),COUNTIF($H$4:H11,H11)),1))","v":"Schweiz"},1]
[{"$f":"Teams!B12","v":"Brasilien"},{"$f":"COUNTIF(Stat_Final!$C$5:$D$104,A12)","v":25},{"$f":"COUNTIF(Stat_Final!$E$5:$E$104,A12)","v":6},null,{"$f":"LARGE($B$4:$B$51,9)","v":2},{"$f":"_xlfn.SINGLE(INDEX($A:$C,_xlfn.AGGREGATE(15,6,ROW($B$4:$B$51)/($B$4:$B$51=E12),COUNTIF($E$4:E12,E12)),1))","v":"Kolumbien"},null,{"$f":"LARGE($C$4:$C$51,9)","v":1},{"$f":"_xlfn.SINGLE(INDEX($A:$C,_xlfn.AGGREGATE(15,6,ROW($C$4:$C$51)/($C$4:$C$51=H12),COUNTIF($H$4:H12,H12)),1))","v":"Marokko"},1]
[{"$f":"Teams!B13","v":"Marokko"},{"$f":"COUNTIF(Stat_Final!$C$5:$D$104,A13)","v":1},{"$f":"COUNTIF(Stat_Final!$E$5:$E$104,A13)","v":1},null,{"$f":"LARGE($B$4:$B$51,10)","v":1},{"$f":"_xlfn.SINGLE(INDEX($A:$C,_xlfn.AGGREGATE(15,6,ROW($B$4:$B$51)/($B$4:$B$51=E13),COUNTIF($E$4:E13,E13)),1))","v":"Mexiko"},null,{"$f":"LARGE($C$4:$C$51,10)","v":1},{"$f":"_xlfn.SINGLE(INDEX($A:$C,_xlfn.AGGREGATE(15,6,ROW($C$4:$C$51)/($C$4:$C$51=H13),COUNTIF($H$4:H13,H13)),1))","v":"Japan"},2]
[{"$f":"Teams!B14","v":"Schottland"},{"$f":"COUNTIF(Stat_Final!$C$5:$D$104,A14)","v":0},{"$f":"COUNTIF(Stat_Final!$E$5:$E$104,A14)","v":0},null,{"$f":"LARGE($B$4:$B$51,11)","v":1},{"$f":"_xlfn.SINGLE(INDEX($A:$C,_xlfn.AGGREGATE(15,6,ROW($B$4:$B$51)/($B$4:$B$51=E14),COUNTIF($E$4:E14,E14)),1))","v":"Schweiz"},null,{"$f":"LARGE($C$4:$C$51,11)","v":1},{"$f":"_xlfn.SINGLE(INDEX($A:$C,_xlfn.AGGREGATE(15,6,ROW($C$4:$C$51)/($C$4:$C$51=H14),COUNTIF($H$4:H14,H14)),1))","v":"Kolumbien"},2]
[{"$f":"Teams!B15","v":"Haiti"},{"$f":"COUNTIF(Stat_Final!$C$5:$D$104,A15)","v":0},{"$f":"COUNTIF(Stat_Final!$E$5:$E$104,A15)","v":0},null,{"$f":"LARGE($B$4:$B$51,12)","v":1},{"$f":"_xlfn.SINGLE(INDEX($A:$C,_xlfn.AGGREGATE(15,6,ROW($B$4:$B$51)/($B$4:$B$51=E15),COUNTIF($E$4:E15,E15)),1))","v":"Marokko"},null,{"$f":"LARGE($C$4:$C$51,12)","v":0},{"$f":"_xlfn.SINGLE(INDEX($A:$C,_xlfn.AGGREGATE(15,6,ROW($C$4:$C$51)/($C$4:$C$51=H15),COUNTIF($H$4:H15,H15)),1))","v":"Mexiko"},1]
[{"$f":"Teams!B16","v":"USA"},{"$f":"COUNTIF(Stat_Final!$C$5:$D$104,A16)","v":0},{"$f":"COUNTIF(Stat_Final!$E$5:$E$104,A16)","v":0},null,{"$f":"LARGE($B$4:$B$51,13)","v":1},{"$f":"_xlfn.SINGLE(INDEX($A:$C,_xlfn.AGGREGATE(15,6,ROW($B$4:$B$51)/($B$4:$B$51=E16),COUNTIF($E$4:E16,E16)),1))","v":"Türkei"},null,{"$f":"LARGE($C$4:$C$51,13)","v":0},{"$f":"_xlfn.SINGLE(INDEX($A:$C,_xlfn.AGGREGATE(15,6,ROW($C$4:$C$51)/($C$4:$C$51=H16),COUNTIF($H$4:H16,H16)),1))","v":"Südkorea"},0]
[{"$f":"Teams!B17","v":"Türkei"},{"$f":"COUNTIF(Stat_Final!$C$5:$D$104,A17)","v":1},{"$f":"COUNTIF(Stat_Final!$E$5:$E$104,A17)","v":0},null,{"$f":"LARGE($B$4:$B$51,14)","v":1},{"$f":"_xlfn.SINGLE(INDEX($A:$C,_xlfn.AGGREGATE(15,6,ROW($B$4:$B$51)/($B$4:$B$51=E17),COUNTIF($E$4:E17,E17)),1))","v":"Holland"},null,{"$f":"LARGE($C$4:$C$51,14)","v":0},{"$f":"_xlfn.SINGLE(INDEX($A:$C,_xlfn.AGGREGATE(15,6,ROW($C$4:$C$51)/($C$4:$C$51=H17),COUNTIF($H$4:H17,H17)),1))","v":"Tschechien"},0]
[{"$f":"Teams!B18","v":"Australien"},{"$f":"COUNTIF(Stat_Final!$C$5:$D$104,A18)","v":0},{"$f":"COUNTIF(Stat_Final!$E$5:$E$104,A18)","v":0},null,{"$f":"LARGE($B$4:$B$51,15)","v":1},{"$f":"_xlfn.SINGLE(INDEX($A:$C,_xlfn.AGGREGATE(15,6,ROW($B$4:$B$51)/($B$4:$B$51=E18),COUNTIF($E$4:E18,E18)),1))","v":"Schweden"},null,{"$f":"LARGE($C$4:$C$51,15)","v":0},{"$f":"_xlfn.SINGLE(INDEX($A:$C,_xlfn.AGGREGATE(15,6,ROW($C$4:$C$51)/($C$4:$C$51=H18),COUNTIF($H$4:H18,H18)),1))","v":"Südafrika"},0]
[{"$f":"Teams!B19","v":"Paraguay"},{"$f":"COUNTIF(Stat_Final!$C$5:$D$104,A19)","v":0},{"$f":"COUNTIF(Stat_Final!$E$5:$E$104,A19)","v":0},null,{"$f":"LARGE($B$4:$B$51,16)","v":0},{"$f":"_xlfn.SINGLE(INDEX($A:$C,_xlfn.AGGREGATE(15,6,ROW($B$4:$B$51)/($B$4:$B$51=E19),COUNTIF($E$4:E19,E19)),1))","v":"Südkorea"},null,{"$f":"LARGE($C$4:$C$51,16)","v":0},{"$f":"_xlfn.SINGLE(INDEX($A:$C,_xlfn.AGGREGATE(15,6,ROW($C$4:$C$51)/($C$4:$C$51=H19),COUNTIF($H$4:H19,H19)),1))","v":"Kanada"},0]
[{"$f":"Teams!B20","v":"Deutschland"},{"$f":"COUNTIF(Stat_Final!$C$5:$D$104,A20)","v":5},{"$f":"COUNTIF(Stat_Final!$E$5:$E$104,A20)","v":4},null,{"$f":"LARGE($B$4:$B$51,17)","v":0},{"$f":"_xlfn.SINGLE(INDEX($A:$C,_xlfn.AGGREGATE(15,6,ROW($B$4:$B$51)/($B$4:$B$51=E20),COUNTIF($E$4:E20,E20)),1))","v":"Tschechien"},null,{"$f":"LARGE($C$4:$C$51,17)","v":0},{"$f":"_xlfn.SINGLE(INDEX($A:$C,_xlfn.AGGREGATE(15,6,ROW($C$4:$C$51)/($C$4:$C$51=H20),COUNTIF($H$4:H20,H20)),1))","v":"Katar"},0]
[{"$f":"Teams!B21","v":"Ecuador"},{"$f":"COUNTIF(Stat_Final!$C$5:$D$104,A21)","v":0},{"$f":"COUNTIF(Stat_Final!$E$5:$E$104,A21)","v":0},null,{"$f":"LARGE($B$4:$B$51,18)","v":0},{"$f":"_xlfn.SINGLE(INDEX($A:$C,_xlfn.AGGREGATE(15,6,ROW($B$4:$B$51)/($B$4:$B$51=E21),COUNTIF($E$4:E21,E21)),1))","v":"Südafrika"},null,{"$f":"LARGE($C$4:$C$51,18)","v":0},{"$f":"_xlfn.SINGLE(INDEX($A:$C,_xlfn.AGGREGATE(15,6,ROW($C$4:$C$51)/($C$4:$C$51=H21),COUNTIF($H$4:H21,H21)),1))","v":"Bosnien-Herz."},0]
[{"$f":"Teams!B22","v":"Elfenbeinküste"},{"$f":"COUNTIF(Stat_Final!$C$5:$D$104,A22)","v":0},{"$f":"COUNTIF(Stat_Final!$E$5:$E$104,A22)","v":0},null,{"$f":"LARGE($B$4:$B$51,19)","v":0},{"$f":"_xlfn.SINGLE(INDEX($A:$C,_xlfn.AGGREGATE(15,6,ROW($B$4:$B$51)/($B$4:$B$51=E22),COUNTIF($E$4:E22,E22)),1))","v":"Kanada"},null,{"$f":"LARGE($C$4:$C$51,19)","v":0},{"$f":"_xlfn.SINGLE(INDEX($A:$C,_xlfn.AGGREGATE(15,6,ROW($C$4:$C$51)/($C$4:$C$51=H22),COUNTIF($H$4:H22,H22)),1))","v":"Schottland"},0]
[{"$f":"Teams!B23","v":"Curacao"},{"$f":"COUNTIF(Stat_Final!$C$5:$D$104,A23)","v":0},{"$f":"COUNTIF(Stat_Final!$E$5:$E$104,A23)","v":0},null,{"$f":"LARGE($B$4:$B$51,20)","v":0},{"$f":"_xlfn.SINGLE(INDEX($A:$C,_xlfn.AGGREGATE(15,6,ROW($B$4:$B$51)/($B$4:$B$51=E23),COUNTIF($E$4:E23,E23)),1))","v":"Katar"},null,{"$f":"LARGE($C$4:$C$51,20)","v":0},{"$f":"_xlfn.SINGLE(INDEX($A:$C,_xlfn.AGGREGATE(15,6,ROW($C$4:$C$51)/($C$4:$C$51=H23),COUNTIF($H$4:H23,H23)),1))","v":"Haiti"},0]
[{"$f":"Teams!B24","v":"Holland"},{"$f":"COUNTIF(Stat_Final!$C$5:$D$104,A24)","v":1},{"$f":"COUNTIF(Stat_Final!$E$5:$E$104,A24)","v":0},null,{"$f":"LARGE($B$4:$B$51,21)","v":0},{"$f":"_xlfn.SINGLE(INDEX($A:$C,_xlfn.AGGREGATE(15,6,ROW($B$4:$B$51)/($B$4:$B$51=E24),COUNTIF($E$4:E24,E24)),1))","v":"Bosnien-Herz."},null,{"$f":"LARGE($C$4:$C$51,21)","v":0},{"$f":"_xlfn.SINGLE(INDEX($A:$C,_xlfn.AGGREGATE(15,6,ROW($C$4:$C$51)/($C$4:$C$51=H24),COUNTIF($H$4:H24,H24)),1))","v":"USA"},0]
[{"$f":"Teams!B25","v":"Japan"},{"$f":"COUNTIF(Stat_Final!$C$5:$D$104,A25)","v":2},{"$f":"COUNTIF(Stat_Final!$E$5:$E$104,A25)","v":1},null,{"$f":"LARGE($B$4:$B$51,22)","v":0},{"$f":"_xlfn.SINGLE(INDEX($A:$C,_xlfn.AGGREGATE(15,6,ROW($B$4:$B$51)/($B$4:$B$51=E25),COUNTIF($E$4:E25,E25)),1))","v":"Schottland"},null,{"$f":"LARGE($C$4:$C$51,22)","v":0},{"$f":"_xlfn.SINGLE(INDEX($A:$C,_xlfn.AGGREGATE(15,6,ROW($C$4:$C$51)/($C$4:$C$51=H25),COUNTIF($H$4:H25,H25)),1))","v":"Türkei"},1]
[{"$f":"Teams!B26","v":"Schweden"},{"$f":"COUNTIF(Stat_Final!$C$5:$D$104,A26)","v":1},{"$f":"COUNTIF(Stat_Final!$E$5:$E$104,A26)","v":0},null,{"$f":"LARGE($B$4:$B$51,23)","v":0},{"$f":"_xlfn.SINGLE(INDEX($A:$C,_xlfn.AGGREGATE(15,6,ROW($B$4:$B$51)/($B$4:$B$51=E26),COUNTIF($E$4:E26,E26)),1))","v":"Haiti"},null,{"$f":"LARGE($C$4:$C$51,23)","v":0},{"$f":"_xlfn.SINGLE(INDEX($A:$C,_xlfn.AGGREGATE(15,6,ROW($C$4:$C$51)/($C$4:$C$51=H26),COUNTIF($H$4:H26,H26)),1))","v":"Australien"},0]
[{"$f":"Teams!B27","v":"Tunesien"},{"$f":"COUNTIF(Stat_Final!$C$5:$D$104,A27)","v":0},{"$f":"COUNTIF(Stat_Final!$E$5:$E$104,A27)","v":0},null,{"$f":"LARGE($B$4:$B$51,24)","v":0},{"$f":"_xlfn.SINGLE(INDEX($A:$C,_xlfn.AGGREGATE(15,6,ROW($B$4:$B$51)/($B$4:$B$51=E27),COUNTIF($E$4:E27,E27)),1))","v":"USA"},null,{"$f":"LARGE($C$4:$C$51,24)","v":0},{"$f":"_xlfn.SINGLE(INDEX($A:$C,_xlfn.AGGREGATE(15,6,ROW($C$4:$C$51)/($C$4:$C$51=H27),COUNTIF($H$4:H27,H27)),1))","v":"Paraguay"},0]
[{"$f":"Teams!B28","v":"Belgien"},{"$f":"COUNTIF(Stat_Final!$C$5:$D$104,A28)","v":0},{"$f":"COUNTIF(Stat_Final!$E$5:$E$104,A28)","v":0},null,{"$f":"LARGE($B$4:$B$51,25)","v":0},{"$f":"_xlfn.SINGLE(INDEX($A:$C,_xlfn.AGGREGATE(15,6,ROW($B$4:$B$51)/($B$4:$B$51=E28),COUNTIF($E$4:E28,E28)),1))","v":"Australien"},null,{"$f":"LARGE($C$4:$C$51,25)","v":0},{"$f":"_xlfn.SINGLE(INDEX($A:$C,_xlfn.AGGREGATE(15,6,ROW($C$4:$C$51)/($C$4:$C$51=H28),COUNTIF($H$4:H28,H28)),1))","v":"Ecuador"},0]
[{"$f":"Teams!B29","v":"Iran"},{"$f":"COUNTIF(Stat_Final!$C$5:$D$104,A29)","v":0},{"$f":"COUNTIF(Stat_Final!$E$5:$E$104,A29)","v":0},null,{"$f":"LARGE($B$4:$B$51,26)","v":0},{"$f":"_xlfn.SINGLE(INDEX($A:$C,_xlfn.AGGREGATE(15,6,ROW($B$4:$B$51)/($B$4:$B$51=E29),COUNTIF($E$4:E29,E29)),1))","v":"Paraguay"},null,{"$f":"LARGE($C$4:$C$51,26)","v":0},{"$f":"_xlfn.SINGLE(INDEX($A:$C,_xlfn.AGGREGATE(15,6,ROW($C$4:$C$51)/($C$4:$C$51=H29),COUNTIF($H$4:H29,H29)),1))","v":"Elfenbeinküste"},0]
[{"$f":"Teams!B30","v":"Ägypten"},{"$f":"COUNTIF(Stat_Final!$C$5:$D$104,A30)","v":0},{"$f":"COUNTIF(Stat_Final!$E$5:$E$104,A30)","v":0},null,{"$f":"LARGE($B$4:$B$51,27)","v":0},{"$f":"_xlfn.SINGLE(INDEX($A:$C,_xlfn.AGGREGATE(15,6,ROW($B$4:$B$51)/($B$4:$B$51=E30),COUNTIF($E$4:E30,E30)),1))","v":"Ecuador"},null,{"$f":"LARGE($C$4:$C$51,27)","v":0},{"$f":"_xlfn.SINGLE(INDEX($A:$C,_xlfn.AGGREGATE(15,6,ROW($C$4:$C$51)/($C$4:$C$51=H30),COUNTIF($H$4:H30,H30)),1))","v":"Curacao"},0]
[{"$f":"Teams!B31","v":"Neuseeland"},{"$f":"COUNTIF(Stat_Final!$C$5:$D$104,A31)","v":0},{"$f":"COUNTIF(Stat_Final!$E$5:$E$104,A31)","v":0},null,{"$f":"LARGE($B$4:$B$51,28)","v":0},{"$f":"_xlfn.SINGLE(INDEX($A:$C,_xlfn.AGGREGATE(15,6,ROW($B$4:$B$51)/($B$4:$B$51=E31),COUNTIF($E$4:E31,E31)),1))","v":"Elfenbeinküste"},null,{"$f":"LARGE($C$4:$C$51,28)","v":0},{"$f":"_xlfn.SINGLE(INDEX($A:$C,_xlfn.AGGREGATE(15,6,ROW($C$4:$C$51)/($C$4:$C$51=H31),COUNTIF($H$4:H31,H31)),1))","v":"Holland"},1]
[{"$f":"Teams!B32","v":"Spanien"},{"$f":"COUNTIF(Stat_Final!$C$5:$D$104,A32)","v":41},{"$f":"COUNTIF(Stat_Final!$E$5:$E$104,A32)","v":28},null,{"$f":"LARGE($B$4:$B$51,29)","v":0},{"$f":"_xlfn.SINGLE(INDEX($A:$C,_xlfn.AGGREGATE(15,6,ROW($B$4:$B$51)/($B$4:$B$51=E32),COUNTIF($E$4:E32,E32)),1))","v":"Curacao"},null,{"$f":"LARGE($C$4:$C$51,29)","v":0},{"$f":"_xlfn.SINGLE(INDEX($A:$C,_xlfn.AGGREGATE(15,6,ROW($C$4:$C$51)/($C$4:$C$51=H32),COUNTIF($H$4:H32,H32)),1))","v":"Schweden"},1]
[{"$f":"Teams!B33","v":"Uruguay"},{"$f":"COUNTIF(Stat_Final!$C$5:$D$104,A33)","v":0},{"$f":"COUNTIF(Stat_Final!$E$5:$E$104,A33)","v":0},null,{"$f":"LARGE($B$4:$B$51,30)","v":0},{"$f":"_xlfn.SINGLE(INDEX($A:$C,_xlfn.AGGREGATE(15,6,ROW($B$4:$B$51)/($B$4:$B$51=E33),COUNTIF($E$4:E33,E33)),1))","v":"Tunesien"},null,{"$f":"LARGE($C$4:$C$51,30)","v":0},{"$f":"_xlfn.SINGLE(INDEX($A:$C,_xlfn.AGGREGATE(15,6,ROW($C$4:$C$51)/($C$4:$C$51=H33),COUNTIF($H$4:H33,H33)),1))","v":"Tunesien"},0]
[{"$f":"Teams!B34","v":"Saudi-Arabien"},{"$f":"COUNTIF(Stat_Final!$C$5:$D$104,A34)","v":0},{"$f":"COUNTIF(Stat_Final!$E$5:$E$104,A34)","v":0},null,{"$f":"LARGE($B$4:$B$51,31)","v":0},{"$f":"_xlfn.SINGLE(INDEX($A:$C,_xlfn.AGGREGATE(15,6,ROW($B$4:$B$51)/($B$4:$B$51=E34),COUNTIF($E$4:E34,E34)),1))","v":"Belgien"},null,{"$f":"LARGE($C$4:$C$51,31)","v":0},{"$f":"_xlfn.SINGLE(INDEX($A:$C,_xlfn.AGGREGATE(15,6,ROW($C$4:$C$51)/($C$4:$C$51=H34),COUNTIF($H$4:H34,H34)),1))","v":"Belgien"},0]
[{"$f":"Teams!B35","v":"Kap Verde"},{"$f":"COUNTIF(Stat_Final!$C$5:$D$104,A35)","v":0},{"$f":"COUNTIF(Stat_Final!$E$5:$E$104,A35)","v":0},null,{"$f":"LARGE($B$4:$B$51,32)","v":0},{"$f":"_xlfn.SINGLE(INDEX($A:$C,_xlfn.AGGREGATE(15,6,ROW($B$4:$B$51)/($B$4:$B$51=E35),COUNTIF($E$4:E35,E35)),1))","v":"Iran"},null,{"$f":"LARGE($C$4:$C$51,32)","v":0},{"$f":"_xlfn.SINGLE(INDEX($A:$C,_xlfn.AGGREGATE(15,6,ROW($C$4:$C$51)/($C$4:$C$51=H35),COUNTIF($H$4:H35,H35)),1))","v":"Iran"},0]
[{"$f":"Teams!B36","v":"Frankreich"},{"$f":"COUNTIF(Stat_Final!$C$5:$D$104,A36)","v":31},{"$f":"COUNTIF(Stat_Final!$E$5:$E$104,A36)","v":21},null,{"$f":"LARGE($B$4:$B$51,33)","v":0},{"$f":"_xlfn.SINGLE(INDEX($A:$C,_xlfn.AGGREGATE(15,6,ROW($B$4:$B$51)/($B$4:$B$51=E36),COUNTIF($E$4:E36,E36)),1))","v":"Ägypten"},null,{"$f":"LARGE($C$4:$C$51,33)","v":0},{"$f":"_xlfn.SINGLE(INDEX($A:$C,_xlfn.AGGREGATE(15,6,ROW($C$4:$C$51)/($C$4:$C$51=H36),COUNTIF($H$4:H36,H36)),1))","v":"Ägypten"},0]
[{"$f":"Teams!B37","v":"Senegal"},{"$f":"COUNTIF(Stat_Final!$C$5:$D$104,A37)","v":0},{"$f":"COUNTIF(Stat_Final!$E$5:$E$104,A37)","v":0},null,{"$f":"LARGE($B$4:$B$51,34)","v":0},{"$f":"_xlfn.SINGLE(INDEX($A:$C,_xlfn.AGGREGATE(15,6,ROW($B$4:$B$51)/($B$4:$B$51=E37),COUNTIF($E$4:E37,E37)),1))","v":"Neuseeland"},null,{"$f":"LARGE($C$4:$C$51,34)","v":0},{"$f":"_xlfn.SINGLE(INDEX($A:$C,_xlfn.AGGREGATE(15,6,ROW($C$4:$C$51)/($C$4:$C$51=H37),COUNTIF($H$4:H37,H37)),1))","v":"Neuseeland"},0]
[{"$f":"Teams!B38","v":"Norwegen"},{"$f":"COUNTIF(Stat_Final!$C$5:$D$104,A38)","v":0},{"$f":"COUNTIF(Stat_Final!$E$5:$E$104,A38)","v":0},null,{"$f":"LARGE($B$4:$B$51,35)","v":0},{"$f":"_xlfn.SINGLE(INDEX($A:$C,_xlfn.AGGREGATE(15,6,ROW($B$4:$B$51)/($B$4:$B$51=E38),COUNTIF($E$4:E38,E38)),1))","v":"Uruguay"},null,{"$f":"LARGE($C$4:$C$51,35)","v":0},{"$f":"_xlfn.SINGLE(INDEX($A:$C,_xlfn.AGGREGATE(15,6,ROW($C$4:$C$51)/($C$4:$C$51=H38),COUNTIF($H$4:H38,H38)),1))","v":"Uruguay"},0]
[{"$f":"Teams!B39","v":"Irak"},{"$f":"COUNTIF(Stat_Final!$C$5:$D$104,A39)","v":0},{"$f":"COUNTIF(Stat_Final!$E$5:$E$104,A39)","v":0},null,{"$f":"LARGE($B$4:$B$51,36)","v":0},{"$f":"_xlfn.SINGLE(INDEX($A:$C,_xlfn.AGGREGATE(15,6,ROW($B$4:$B$51)/($B$4:$B$51=E39),COUNTIF($E$4:E39,E39)),1))","v":"Saudi-Arabien"},null,{"$f":"LARGE($C$4:$C$51,36)","v":0},{"$f":"_xlfn.SINGLE(INDEX($A:$C,_xlfn.AGGREGATE(15,6,ROW($C$4:$C$51)/($C$4:$C$51=H39),COUNTIF($H$4:H39,H39)),1))","v":"Saudi-Arabien"},0]
[{"$f":"Teams!B40","v":"Argentinien"},{"$f":"COUNTIF(Stat_Final!$C$5:$D$104,A40)","v":16},{"$f":"COUNTIF(Stat_Final!$E$5:$E$104,A40)","v":3},null,{"$f":"LARGE($B$4:$B$51,37)","v":0},{"$f":"_xlfn.SINGLE(INDEX($A:$C,_xlfn.AGGREGATE(15,6,ROW($B$4:$B$51)/($B$4:$B$51=E40),COUNTIF($E$4:E40,E40)),1))","v":"Kap Verde"},null,{"$f":"LARGE($C$4:$C$51,37)","v":0},{"$f":"_xlfn.SINGLE(INDEX($A:$C,_xlfn.AGGREGATE(15,6,ROW($C$4:$C$51)/($C$4:$C$51=H40),COUNTIF($H$4:H40,H40)),1))","v":"Kap Verde"},0]
[{"$f":"Teams!B41","v":"Österreich"},{"$f":"COUNTIF(Stat_Final!$C$5:$D$104,A41)","v":0},{"$f":"COUNTIF(Stat_Final!$E$5:$E$104,A41)","v":0},null,{"$f":"LARGE($B$4:$B$51,38)","v":0},{"$f":"_xlfn.SINGLE(INDEX($A:$C,_xlfn.AGGREGATE(15,6,ROW($B$4:$B$51)/($B$4:$B$51=E41),COUNTIF($E$4:E41,E41)),1))","v":"Senegal"},null,{"$f":"LARGE($C$4:$C$51,38)","v":0},{"$f":"_xlfn.SINGLE(INDEX($A:$C,_xlfn.AGGREGATE(15,6,ROW($C$4:$C$51)/($C$4:$C$51=H41),COUNTIF($H$4:H41,H41)),1))","v":"Senegal"},0]
[{"$f":"Teams!B42","v":"Algerien"},{"$f":"COUNTIF(Stat_Final!$C$5:$D$104,A42)","v":0},{"$f":"COUNTIF(Stat_Final!$E$5:$E$104,A42)","v":0},null,{"$f":"LARGE($B$4:$B$51,39)","v":0},{"$f":"_xlfn.SINGLE(INDEX($A:$C,_xlfn.AGGREGATE(15,6,ROW($B$4:$B$51)/($B$4:$B$51=E42),COUNTIF($E$4:E42,E42)),1))","v":"Norwegen"},null,{"$f":"LARGE($C$4:$C$51,39)","v":0},{"$f":"_xlfn.SINGLE(INDEX($A:$C,_xlfn.AGGREGATE(15,6,ROW($C$4:$C$51)/($C$4:$C$51=H42),COUNTIF($H$4:H42,H42)),1))","v":"Norwegen"},0]
[{"$f":"Teams!B43","v":"Jordanien"},{"$f":"COUNTIF(Stat_Final!$C$5:$D$104,A43)","v":0},{"$f":"COUNTIF(Stat_Final!$E$5:$E$104,A43)","v":0},null,{"$f":"LARGE($B$4:$B$51,40)","v":0},{"$f":"_xlfn.SINGLE(INDEX($A:$C,_xlfn.AGGREGATE(15,6,ROW($B$4:$B$51)/($B$4:$B$51=E43),COUNTIF($E$4:E43,E43)),1))","v":"Irak"},null,{"$f":"LARGE($C$4:$C$51,40)","v":0},{"$f":"_xlfn.SINGLE(INDEX($A:$C,_xlfn.AGGREGATE(15,6,ROW($C$4:$C$51)/($C$4:$C$51=H43),COUNTIF($H$4:H43,H43)),1))","v":"Irak"},0]
[{"$f":"Teams!B44","v":"Portugal"},{"$f":"COUNTIF(Stat_Final!$C$5:$D$104,A44)","v":17},{"$f":"COUNTIF(Stat_Final!$E$5:$E$104,A44)","v":11},null,{"$f":"LARGE($B$4:$B$51,41)","v":0},{"$f":"_xlfn.SINGLE(INDEX($A:$C,_xlfn.AGGREGATE(15,6,ROW($B$4:$B$51)/($B$4:$B$51=E44),COUNTIF($E$4:E44,E44)),1))","v":"Österreich"},null,{"$f":"LARGE($C$4:$C$51,41)","v":0},{"$f":"_xlfn.SINGLE(INDEX($A:$C,_xlfn.AGGREGATE(15,6,ROW($C$4:$C$51)/($C$4:$C$51=H44),COUNTIF($H$4:H44,H44)),1))","v":"Österreich"},0]
[{"$f":"Teams!B45","v":"Kolumbien"},{"$f":"COUNTIF(Stat_Final!$C$5:$D$104,A45)","v":2},{"$f":"COUNTIF(Stat_Final!$E$5:$E$104,A45)","v":1},null,{"$f":"LARGE($B$4:$B$51,42)","v":0},{"$f":"_xlfn.SINGLE(INDEX($A:$C,_xlfn.AGGREGATE(15,6,ROW($B$4:$B$51)/($B$4:$B$51=E45),COUNTIF($E$4:E45,E45)),1))","v":"Algerien"},null,{"$f":"LARGE($C$4:$C$51,42)","v":0},{"$f":"_xlfn.SINGLE(INDEX($A:$C,_xlfn.AGGREGATE(15,6,ROW($C$4:$C$51)/($C$4:$C$51=H45),COUNTIF($H$4:H45,H45)),1))","v":"Algerien"},0]
[{"$f":"Teams!B46","v":"DR Kongo"},{"$f":"COUNTIF(Stat_Final!$C$5:$D$104,A46)","v":0},{"$f":"COUNTIF(Stat_Final!$E$5:$E$104,A46)","v":0},null,{"$f":"LARGE($B$4:$B$51,43)","v":0},{"$f":"_xlfn.SINGLE(INDEX($A:$C,_xlfn.AGGREGATE(15,6,ROW($B$4:$B$51)/($B$4:$B$51=E46),COUNTIF($E$4:E46,E46)),1))","v":"Jordanien"},null,{"$f":"LARGE($C$4:$C$51,43)","v":0},{"$f":"_xlfn.SINGLE(INDEX($A:$C,_xlfn.AGGREGATE(15,6,ROW($C$4:$C$51)/($C$4:$C$51=H46),COUNTIF($H$4:H46,H46)),1))","v":"Jordanien"},0]
[{"$f":"Teams!B47","v":"Usbekistan"},{"$f":"COUNTIF(Stat_Final!$C$5:$D$104,A47)","v":0},{"$f":"COUNTIF(Stat_Final!$E$5:$E$104,A47)","v":0},null,{"$f":"LARGE($B$4:$B$51,44)","v":0},{"$f":"_xlfn.SINGLE(INDEX($A:$C,_xlfn.AGGREGATE(15,6,ROW($B$4:$B$51)/($B$4:$B$51=E47),COUNTIF($E$4:E47,E47)),1))","v":"DR Kongo"},null,{"$f":"LARGE($C$4:$C$51,44)","v":0},{"$f":"_xlfn.SINGLE(INDEX($A:$C,_xlfn.AGGREGATE(15,6,ROW($C$4:$C$51)/($C$4:$C$51=H47),COUNTIF($H$4:H47,H47)),1))","v":"DR Kongo"},0]
[{"$f":"Teams!B48","v":"England"},{"$f":"COUNTIF(Stat_Final!$C$5:$D$104,A48)","v":23},{"$f":"COUNTIF(Stat_Final!$E$5:$E$104,A48)","v":7},null,{"$f":"LARGE($B$4:$B$51,45)","v":0},{"$f":"_xlfn.SINGLE(INDEX($A:$C,_xlfn.AGGREGATE(15,6,ROW($B$4:$B$51)/($B$4:$B$51=E48),COUNTIF($E$4:E48,E48)),1))","v":"Usbekistan"},null,{"$f":"LARGE($C$4:$C$51,45)","v":0},{"$f":"_xlfn.SINGLE(INDEX($A:$C,_xlfn.AGGREGATE(15,6,ROW($C$4:$C$51)/($C$4:$C$51=H48),COUNTIF($H$4:H48,H48)),1))","v":"Usbekistan"},0]
[{"$f":"Teams!B49","v":"Kroatien"},{"$f":"COUNTIF(Stat_Final!$C$5:$D$104,A49)","v":0},{"$f":"COUNTIF(Stat_Final!$E$5:$E$104,A49)","v":0},null,{"$f":"LARGE($B$4:$B$51,46)","v":0},{"$f":"_xlfn.SINGLE(INDEX($A:$C,_xlfn.AGGREGATE(15,6,ROW($B$4:$B$51)/($B$4:$B$51=E49),COUNTIF($E$4:E49,E49)),1))","v":"Kroatien"},null,{"$f":"LARGE($C$4:$C$51,46)","v":0},{"$f":"_xlfn.SINGLE(INDEX($A:$C,_xlfn.AGGREGATE(15,6,ROW($C$4:$C$51)/($C$4:$C$51=H49),COUNTIF($H$4:H49,H49)),1))","v":"Kroatien"},0]
[{"$f":"Teams!B50","v":"Panama"},{"$f":"COUNTIF(Stat_Final!$C$5:$D$104,A50)","v":0},{"$f":"COUNTIF(Stat_Final!$E$5:$E$104,A50)","v":0},null,{"$f":"LARGE($B$4:$B$51,47)","v":0},{"$f":"_xlfn.SINGLE(INDEX($A:$C,_xlfn.AGGREGATE(15,6,ROW($B$4:$B$51)/($B$4:$B$51=E50),COUNTIF($E$4:E50,E50)),1))","v":"Panama"},null,{"$f":"LARGE($C$4:$C$51,47)","v":0},{"$f":"_xlfn.SINGLE(INDEX($A:$C,_xlfn.AGGREGATE(15,6,ROW($C$4:$C$51)/($C$4:$C$51=H50),COUNTIF($H$4:H50,H50)),1))","v":"Panama"},0]
[{"$f":"Teams!B51","v":"Ghana"},{"$f":"COUNTIF(Stat_Final!$C$5:$D$104,A51)","v":0},{"$f":"COUNTIF(Stat_Final!$E$5:$E$104,A51)","v":0},null,{"$f":"LARGE($B$4:$B$51,48)","v":0},{"$f":"_xlfn.SINGLE(INDEX($A:$C,_xlfn.AGGREGATE(15,6,ROW($B$4:$B$51)/($B$4:$B$51=E51),COUNTIF($E$4:E51,E51)),1))","v":"Ghana"},null,{"$f":"LARGE($C$4:$C$51,48)","v":0},{"$f":"_xlfn.SINGLE(INDEX($A:$C,_xlfn.AGGREGATE(15,6,ROW($C$4:$C$51)/($C$4:$C$51=H51),COUNTIF($H$4:H51,H51)),1))","v":"Ghana"},0]
["Summe",{"$f":"SUM(B4:B51)","v":168},{"$f":"SUM(C4:C51)","v":84}]

{"sheet":"Stat_Platzierung","index":10,"n_rows":51,"n_cols":13,"rows_kept":51,"cut":false,"hidden":false,"merged":[[19,3,22,3],[23,3,26,3],[27,3,30,3],[31,3,34,3],[3,3,6,3],[7,3,10,3],[11,3,14,3],[15,3,18,3],[19,0,22,0],[23,0,26,0],[27,0,30,0],[31,0,34,0],[3,0,6,0],[7,0,10,0],[11,0,14,0],[15,0,18,0],[35,0,38,0],[39,0,42,0],[43,0,46,0],[47,0,50,0],[35,3,38,3],[39,3,42,3],[43,3,46,3],[47,3,50,3]]}
[{"$f":"Teams!$B$54","v":"WM 2026 by Rogerinho (www.fcbouncer.ch)"}]
[]
[null,"Teams",null,"Statistik Teams nach Vorrunde"]
["Gruppe A",{"$f":"Teams!B4","v":"Mexiko"},null,"Gruppe A","Rang 1",{"$f":"$B$4","v":"Mexiko"},{"$f":"COUNTIF(Endplatzierung!E10:CZ10,$B$4)+COUNTIF(Endplatzierung!E68:CZ68,$B$4)","v":64},{"$f":"$B$5","v":"Südkorea"},{"$f":"COUNTIF(Endplatzierung!E10:CZ10,$B$5)+COUNTIF(Endplatzierung!E68:CZ68,$B$5)","v":10},{"$f":"$B$6","v":"Tschechien"},{"$f":"COUNTIF(Endplatzierung!E10:CZ10,$B$6)+COUNTIF(Endplatzierung!E68:CZ68,$B$6)","v":10},{"$f":"$B$7","v":"Südafrika"},{"$f":"COUNTIF(Endplatzierung!E10:CZ10,$B$7)+COUNTIF(Endplatzierung!E68:CZ68,$B$7)","v":0}]
[null,{"$f":"Teams!B5","v":"Südkorea"},null,null,"Rang 2",{"$f":"$B$4","v":"Mexiko"},{"$f":"COUNTIF(Endplatzierung!E11:CZ11,$B$4)+COUNTIF(Endplatzierung!E69:CZ69,$B$4)","v":15},{"$f":"$B$5","v":"Südkorea"},{"$f":"COUNTIF(Endplatzierung!E11:CZ11,$B$5)+COUNTIF(Endplatzierung!E69:CZ69,$B$5)","v":27},{"$f":"$B$6","v":"Tschechien"},{"$f":"COUNTIF(Endplatzierung!E11:CZ11,$B$6)+COUNTIF(Endplatzierung!E69:CZ69,$B$6)","v":33},{"$f":"$B$7","v":"Südafrika"},{"$f":"COUNTIF(Endplatzierung!E11:CZ11,$B$7)+COUNTIF(Endplatzierung!E69:CZ69,$B$7)","v":9}]
[null,{"$f":"Teams!B6","v":"Tschechien"},null,null,"Rang 3",{"$f":"$B$4","v":"Mexiko"},{"$f":"COUNTIF(Endplatzierung!E12:CZ12,$B$4)+COUNTIF(Endplatzierung!E70:CZ70,$B$4)","v":3},"Südkorea",{"$f":"COUNTIF(Endplatzierung!E12:CZ12,$B$5)+COUNTIF(Endplatzierung!E70:CZ70,$B$5)","v":33},"Tschechien",{"$f":"COUNTIF(Endplatzierung!E12:CZ12,$B$6)+COUNTIF(Endplatzierung!E70:CZ70,$B$6)","v":34},"Südafrika",{"$f":"COUNTIF(Endplatzierung!E12:CZ12,$B$7)+COUNTIF(Endplatzierung!E70:CZ70,$B$7)","v":14}]
[null,{"$f":"Teams!B7","v":"Südafrika"},null,null,"Rang 4",{"$f":"$B$4","v":"Mexiko"},{"$f":"COUNTIF(Endplatzierung!E13:CZ13,$B$4)+COUNTIF(Endplatzierung!E71:CZ71,$B$4)","v":2},"Südkorea",{"$f":"COUNTIF(Endplatzierung!E13:CZ13,$B$5)+COUNTIF(Endplatzierung!E71:CZ71,$B$5)","v":14},"Tschechien",{"$f":"COUNTIF(Endplatzierung!E13:CZ13,$B$6)+COUNTIF(Endplatzierung!E71:CZ71,$B$6)","v":7},"Südafrika",{"$f":"COUNTIF(Endplatzierung!E13:CZ13,$B$7)+COUNTIF(Endplatzierung!E71:CZ71,$B$7)","v":61}]
["Gruppe B",{"$f":"Teams!B8","v":"Schweiz"},null,"Gruppe B","Rang 1",{"$f":"$B$8","v":"Schweiz"},{"$f":"COUNTIF(Endplatzierung!E14:CZ14,$B$8)+COUNTIF(Endplatzierung!E72:CZ72,$B$8)","v":80},{"$f":"$B$9","v":"Kanada"},{"$f":"COUNTIF(Endplatzierung!E14:CZ14,$B$9)+COUNTIF(Endplatzierung!E72:CZ72,$B$9)","v":2},{"$f":"$B$10","v":"Katar"},{"$f":"COUNTIF(Endplatzierung!E14:CZ14,$B$10)+COUNTIF(Endplatzierung!E72:CZ72,$B$10)","v":0},{"$f":"$B$11","v":"Bosnien-Herz."},{"$f":"COUNTIF(Endplatzierung!E14:CZ14,$B$11)+COUNTIF(Endplatzierung!E72:CZ72,$B$11)","v":2}]
[null,{"$f":"Teams!B9","v":"Kanada"},null,null,"Rang 2",{"$f":"$B$8","v":"Schweiz"},{"$f":"COUNTIF(Endplatzierung!E15:CZ15,$B$8)+COUNTIF(Endplatzierung!E73:CZ73,$B$8)","v":3},{"$f":"$B$9","v":"Kanada"},{"$f":"COUNTIF(Endplatzierung!E15:CZ15,$B$9)+COUNTIF(Endplatzierung!E73:CZ73,$B$9)","v":49},{"$f":"$B$10","v":"Katar"},{"$f":"COUNTIF(Endplatzierung!E15:CZ15,$B$10)+COUNTIF(Endplatzierung!E73:CZ73,$B$10)","v":0},{"$f":"$B$11","v":"Bosnien-Herz."},{"$f":"COUNTIF(Endplatzierung!E15:CZ15,$B$11)+COUNTIF(Endplatzierung!E73:CZ73,$B$11)","v":32}]
[null,{"$f":"Teams!B10","v":"Katar"},null,null,"Rang 3",{"$f":"$B$8","v":"Schweiz"},{"$f":"COUNTIF(Endplatzierung!E16:CZ16,$B$8)+COUNTIF(Endplatzierung!E74:CZ74,$B$8)","v":1},"Kanada",{"$f":"COUNTIF(Endplatzierung!E16:CZ16,$B$9)+COUNTIF(Endplatzierung!E74:CZ74,$B$9)","v":30},"Katar",{"$f":"COUNTIF(Endplatzierung!E16:CZ16,$B$10)+COUNTIF(Endplatzierung!E74:CZ74,$B$10)","v":9},"Bosnien-Herz.",{"$f":"COUNTIF(Endplatzierung!E16:CZ16,$B$11)+COUNTIF(Endplatzierung!E74:CZ74,$B$11)","v":44}]
[null,{"$f":"Teams!B11","v":"Bosnien-Herz."},null,null,"Rang 4",{"$f":"$B$8","v":"Schweiz"},{"$f":"COUNTIF(Endplatzierung!E17:CZ17,$B$8)+COUNTIF(Endplatzierung!E75:CZ75,$B$8)","v":0},"Kanada",{"$f":"COUNTIF(Endplatzierung!E17:CZ17,$B$9)+COUNTIF(Endplatzierung!E75:CZ75,$B$9)","v":3},"Katar",{"$f":"COUNTIF(Endplatzierung!E17:CZ17,$B$10)+COUNTIF(Endplatzierung!E75:CZ75,$B$10)","v":75},"Bosnien-Herz.",{"$f":"COUNTIF(Endplatzierung!E17:CZ17,$B$11)+COUNTIF(Endplatzierung!E75:CZ75,$B$11)","v":6}]
["Gruppe C",{"$f":"Teams!B12","v":"Brasilien"},null,"Gruppe C","Rang 1",{"$f":"$B$12","v":"Brasilien"},{"$f":"COUNTIF(Endplatzierung!E18:CZ18,$B$12)+COUNTIF(Endplatzierung!E76:CZ76,$B$12)","v":81},{"$f":"$B$13","v":"Marokko"},{"$f":"COUNTIF(Endplatzierung!E18:CZ18,$B$13)+COUNTIF(Endplatzierung!E76:CZ76,$B$13)","v":3},{"$f":"$B$14","v":"Schottland"},{"$f":"COUNTIF(Endplatzierung!E18:CZ18,$B$14)+COUNTIF(Endplatzierung!E76:CZ76,$B$14)","v":0},{"$f":"$B$15","v":"Haiti"},{"$f":"COUNTIF(Endplatzierung!E18:CZ18,$B$15)+COUNTIF(Endplatzierung!E76:CZ76,$B$15)","v":0}]
[null,{"$f":"Teams!B13","v":"Marokko"},null,null,"Rang 2",{"$f":"$B$12","v":"Brasilien"},{"$f":"COUNTIF(Endplatzierung!E19:CZ19,$B$12)+COUNTIF(Endplatzierung!E77:CZ77,$B$12)","v":3},{"$f":"$B$13","v":"Marokko"},{"$f":"COUNTIF(Endplatzierung!E19:CZ19,$B$13)+COUNTIF(Endplatzierung!E77:CZ77,$B$13)","v":62},{"$f":"$B$14","v":"Schottland"},{"$f":"COUNTIF(Endplatzierung!E19:CZ19,$B$14)+COUNTIF(Endplatzierung!E77:CZ77,$B$14)","v":19},{"$f":"$B$15","v":"Haiti"},{"$f":"COUNTIF(Endplatzierung!E19:CZ19,$B$15)+COUNTIF(Endplatzierung!E77:CZ77,$B$15)","v":0}]
[null,{"$f":"Teams!B14","v":"Schottland"},null,null,"Rang 3","Brasilien",{"$f":"COUNTIF(Endplatzierung!E20:CZ20,$B$12)+COUNTIF(Endplatzierung!E78:CZ78,$B$12)","v":0},"Marokko",{"$f":"COUNTIF(Endplatzierung!E20:CZ20,$B$13)+COUNTIF(Endplatzierung!E78:CZ78,$B$13)","v":18},"Schottland",{"$f":"COUNTIF(Endplatzierung!E20:CZ20,$B$14)+COUNTIF(Endplatzierung!E78:CZ78,$B$14)","v":65},"Haiti",{"$f":"COUNTIF(Endplatzierung!E20:CZ20,$B$15)+COUNTIF(Endplatzierung!E78:CZ78,$B$15)","v":1}]
[null,{"$f":"Teams!B15","v":"Haiti"},null,null,"Rang 4","Brasilien",{"$f":"COUNTIF(Endplatzierung!E21:CZ21,$B$12)+COUNTIF(Endplatzierung!E79:CZ79,$B$12)","v":0},"Marokko",{"$f":"COUNTIF(Endplatzierung!E21:CZ21,$B$13)+COUNTIF(Endplatzierung!E79:CZ79,$B$13)","v":1},"Schottland",{"$f":"COUNTIF(Endplatzierung!E21:CZ21,$B$14)+COUNTIF(Endplatzierung!E79:CZ79,$B$14)","v":0},"Haiti",{"$f":"COUNTIF(Endplatzierung!E21:CZ21,$B$15)+COUNTIF(Endplatzierung!E79:CZ79,$B$15)","v":83}]
["Gruppe D",{"$f":"Teams!B16","v":"USA"},null,"Gruppe D","Rang 1",{"$f":"$B$16","v":"USA"},{"$f":"COUNTIF(Endplatzierung!E22:CZ22,$B$16)+COUNTIF(Endplatzierung!E80:CZ80,$B$16)","v":34},{"$f":"$B$17","v":"Türkei"},{"$f":"COUNTIF(Endplatzierung!E22:CZ22,$B$17)+COUNTIF(Endplatzierung!E80:CZ80,$B$17)","v":43},{"$f":"$B$18","v":"Australien"},{"$f":"COUNTIF(Endplatzierung!E22:CZ22,$B$18)+COUNTIF(Endplatzierung!E80:CZ80,$B$18)","v":2},{"$f":"$B$19","v":"Paraguay"},{"$f":"COUNTIF(Endplatzierung!E22:CZ22,$B$19)+COUNTIF(Endplatzierung!E80:CZ80,$B$19)","v":5}]
[null,{"$f":"Teams!B17","v":"Türkei"},null,null,"Rang 2",{"$f":"$B$16","v":"USA"},{"$f":"COUNTIF(Endplatzierung!E23:CZ23,$B$16)+COUNTIF(Endplatzierung!E81:CZ81,$B$16)","v":32},{"$f":"$B$17","v":"Türkei"},{"$f":"COUNTIF(Endplatzierung!E23:CZ23,$B$17)+COUNTIF(Endplatzierung!E81:CZ81,$B$17)","v":29},{"$f":"$B$18","v":"Australien"},{"$f":"COUNTIF(Endplatzierung!E23:CZ23,$B$18)+COUNTIF(Endplatzierung!E81:CZ81,$B$18)","v":6},{"$f":"$B$19","v":"Paraguay"},{"$f":"COUNTIF(Endplatzierung!E23:CZ23,$B$19)+COUNTIF(Endplatzierung!E81:CZ81,$B$19)","v":17}]
[null,{"$f":"Teams!B18","v":"Australien"},null,null,"Rang 3","USA",{"$f":"COUNTIF(Endplatzierung!E24:CZ24,$B$16)+COUNTIF(Endplatzierung!E82:CZ82,$B$16)","v":13},"Türkei",{"$f":"COUNTIF(Endplatzierung!E24:CZ24,$B$17)+COUNTIF(Endplatzierung!E82:CZ82,$B$17)","v":7},"Australien",{"$f":"COUNTIF(Endplatzierung!E24:CZ24,$B$18)+COUNTIF(Endplatzierung!E82:CZ82,$B$18)","v":38},"Paraguay",{"$f":"COUNTIF(Endplatzierung!E24:CZ24,$B$19)+COUNTIF(Endplatzierung!E82:CZ82,$B$19)","v":26}]
[null,{"$f":"Teams!B19","v":"Paraguay"},null,null,"Rang 4","USA",{"$f":"COUNTIF(Endplatzierung!E25:CZ25,$B$16)+COUNTIF(Endplatzierung!E83:CZ83,$B$16)","v":5},"Türkei",{"$f":"COUNTIF(Endplatzierung!E25:CZ25,$B$17)+COUNTIF(Endplatzierung!E83:CZ83,$B$17)","v":5},"Australien",{"$f":"COUNTIF(Endplatzierung!E25:CZ25,$B$18)+COUNTIF(Endplatzierung!E83:CZ83,$B$18)","v":38},"Paraguay",{"$f":"COUNTIF(Endplatzierung!E25:CZ25,$B$19)+COUNTIF(Endplatzierung!E83:CZ83,$B$19)","v":36}]
["Gruppe E",{"$f":"Teams!B20","v":"Deutschland"},null,"Gruppe E","Rang 1",{"$f":"$B$20","v":"Deutschland"},{"$f":"COUNTIF(Endplatzierung!E26:CZ26,$B$20)+COUNTIF(Endplatzierung!E84:CZ84,$B$20)","v":82},{"$f":"$B$21","v":"Ecuador"},{"$f":"COUNTIF(Endplatzierung!E26:CZ26,$B$21)+COUNTIF(Endplatzierung!E84:CZ84,$B$21)","v":1},{"$f":"$B$22","v":"Elfenbeinküste"},{"$f":"COUNTIF(Endplatzierung!E26:CZ26,$B$22)+COUNTIF(Endplatzierung!E84:CZ84,$B$22)","v":0},{"$f":"$B$23","v":"Curacao"},{"$f":"COUNTIF(Endplatzierung!E26:CZ26,$B$23)+COUNTIF(Endplatzierung!E84:CZ84,$B$23)","v":1}]
[null,{"$f":"Teams!B21","v":"Ecuador"},null,null,"Rang 2",{"$f":"$B$20","v":"Deutschland"},{"$f":"COUNTIF(Endplatzierung!E27:CZ27,$B$20)+COUNTIF(Endplatzierung!E85:CZ85,$B$20)","v":2},{"$f":"$B$21","v":"Ecuador"},{"$f":"COUNTIF(Endplatzierung!E27:CZ27,$B$21)+COUNTIF(Endplatzierung!E85:CZ85,$B$21)","v":56},{"$f":"$B$22","v":"Elfenbeinküste"},{"$f":"COUNTIF(Endplatzierung!E27:CZ27,$B$22)+COUNTIF(Endplatzierung!E85:CZ85,$B$22)","v":25},{"$f":"$B$23","v":"Curacao"},{"$f":"COUNTIF(Endplatzierung!E27:CZ27,$B$23)+COUNTIF(Endplatzierung!E85:CZ85,$B$23)","v":1}]
[null,{"$f":"Teams!B22","v":"Elfenbeinküste"},null,null,"Rang 3","Deutschland",{"$f":"COUNTIF(Endplatzierung!E28:CZ28,$B$20)+COUNTIF(Endplatzierung!E86:CZ86,$B$20)","v":0},"Ecuador",{"$f":"COUNTIF(Endplatzierung!E28:CZ28,$B$21)+COUNTIF(Endplatzierung!E86:CZ86,$B$21)","v":27},"Elfenbeinküste",{"$f":"COUNTIF(Endplatzierung!E28:CZ28,$B$22)+COUNTIF(Endplatzierung!E86:CZ86,$B$22)","v":52},"Curacao",{"$f":"COUNTIF(Endplatzierung!E28:CZ28,$B$23)+COUNTIF(Endplatzierung!E86:CZ86,$B$23)","v":5}]
[null,{"$f":"Teams!B23","v":"Curacao"},null,null,"Rang 4","Deutschland",{"$f":"COUNTIF(Endplatzierung!E29:CZ29,$B$20)+COUNTIF(Endplatzierung!E87:CZ87,$B$20)","v":0},"Ecuador",{"$f":"COUNTIF(Endplatzierung!E29:CZ29,$B$21)+COUNTIF(Endplatzierung!E87:CZ87,$B$21)","v":0},"Elfenbeinküste",{"$f":"COUNTIF(Endplatzierung!E29:CZ29,$B$22)+COUNTIF(Endplatzierung!E87:CZ87,$B$22)","v":7},"Curacao",{"$f":"COUNTIF(Endplatzierung!E29:CZ29,$B$23)+COUNTIF(Endplatzierung!E87:CZ87,$B$23)","v":77}]
["Gruppe F",{"$f":"Teams!B24","v":"Holland"},null,"Gruppe F","Rang 1",{"$f":"$B$24","v":"Holland"},{"$f":"COUNTIF(Endplatzierung!E30:CZ30,$B$24)+COUNTIF(Endplatzierung!E88:CZ88,$B$24)","v":71},{"$f":"$B$25","v":"Japan"},{"$f":"COUNTIF(Endplatzierung!E30:CZ30,$B$25)+COUNTIF(Endplatzierung!E88:CZ88,$B$25)","v":4},{"$f":"$B$26","v":"Schweden"},{"$f":"COUNTIF(Endplatzierung!E30:CZ30,$B$26)+COUNTIF(Endplatzierung!E88:CZ88,$B$26)","v":6},{"$f":"$B$27","v":"Tunesien"},{"$f":"COUNTIF(Endplatzierung!E30:CZ30,$B$27)+COUNTIF(Endplatzierung!E88:CZ88,$B$27)","v":3}]
[null,{"$f":"Teams!B25","v":"Japan"},null,null,"Rang 2",{"$f":"$B$24","v":"Holland"},{"$f":"COUNTIF(Endplatzierung!E31:CZ31,$B$24)+COUNTIF(Endplatzierung!E89:CZ89,$B$24)","v":7},{"$f":"$B$25","v":"Japan"},{"$f":"COUNTIF(Endplatzierung!E31:CZ31,$B$25)+COUNTIF(Endplatzierung!E89:CZ89,$B$25)","v":52},{"$f":"$B$26","v":"Schweden"},{"$f":"COUNTIF(Endplatzierung!E31:CZ31,$B$26)+COUNTIF(Endplatzierung!E89:CZ89,$B$26)","v":21},{"$f":"$B$27","v":"Tunesien"},{"$f":"COUNTIF(Endplatzierung!E31:CZ31,$B$27)+COUNTIF(Endplatzierung!E89:CZ89,$B$27)","v":4}]
[null,{"$f":"Teams!B26","v":"Schweden"},null,null,"Rang 3","Holland",{"$f":"COUNTIF(Endplatzierung!E32:CZ32,$B$24)+COUNTIF(Endplatzierung!E90:CZ90,$B$24)","v":5},"Japan",{"$f":"COUNTIF(Endplatzierung!E32:CZ32,$B$25)+COUNTIF(Endplatzierung!E90:CZ90,$B$25)","v":23},"Schweden",{"$f":"COUNTIF(Endplatzierung!E32:CZ32,$B$26)+COUNTIF(Endplatzierung!E90:CZ90,$B$26)","v":42},"Tunesien",{"$f":"COUNTIF(Endplatzierung!E32:CZ32,$B$27)+COUNTIF(Endplatzierung!E90:CZ90,$B$27)","v":14}]
[null,{"$f":"Teams!B27","v":"Tunesien"},null,null,"Rang 4","Holland",{"$f":"COUNTIF(Endplatzierung!E33:CZ33,$B$24)+COUNTIF(Endplatzierung!E91:CZ91,$B$24)","v":1},"Japan",{"$f":"COUNTIF(Endplatzierung!E33:CZ33,$B$25)+COUNTIF(Endplatzierung!E91:CZ91,$B$25)","v":5},"Schweden",{"$f":"COUNTIF(Endplatzierung!E33:CZ33,$B$26)+COUNTIF(Endplatzierung!E91:CZ91,$B$26)","v":15},"Tunesien",{"$f":"COUNTIF(Endplatzierung!E33:CZ33,$B$27)+COUNTIF(Endplatzierung!E91:CZ91,$B$27)","v":63}]
["Gruppe G",{"$f":"Teams!B28","v":"Belgien"},null,"Gruppe G","Rang 1",{"$f":"$B$28","v":"Belgien"},{"$f":"COUNTIF(Endplatzierung!E34:CZ34,$B$28)+COUNTIF(Endplatzierung!E92:CZ92,$B$28)","v":80},{"$f":"$B$29","v":"Iran"},{"$f":"COUNTIF(Endplatzierung!E34:CZ34,$B$29)+COUNTIF(Endplatzierung!E92:CZ92,$B$29)","v":2},{"$f":"$B$30","v":"Ägypten"},{"$f":"COUNTIF(Endplatzierung!E34:CZ34,$B$30)+COUNTIF(Endplatzierung!E92:CZ92,$B$30)","v":1},{"$f":"$B$31","v":"Neuseeland"},{"$f":"COUNTIF(Endplatzierung!E34:CZ34,$B$31)+COUNTIF(Endplatzierung!E92:CZ92,$B$31)","v":1}]
[null,{"$f":"Teams!B29","v":"Iran"},null,null,"Rang 2",{"$f":"$B$28","v":"Belgien"},{"$f":"COUNTIF(Endplatzierung!E35:CZ35,$B$28)+COUNTIF(Endplatzierung!E93:CZ93,$B$28)","v":1},{"$f":"$B$29","v":"Iran"},{"$f":"COUNTIF(Endplatzierung!E35:CZ35,$B$29)+COUNTIF(Endplatzierung!E93:CZ93,$B$29)","v":21},{"$f":"$B$30","v":"Ägypten"},{"$f":"COUNTIF(Endplatzierung!E35:CZ35,$B$30)+COUNTIF(Endplatzierung!E93:CZ93,$B$30)","v":54},{"$f":"$B$31","v":"Neuseeland"},{"$f":"COUNTIF(Endplatzierung!E35:CZ35,$B$31)+COUNTIF(Endplatzierung!E93:CZ93,$B$31)","v":8}]
[null,{"$f":"Teams!B30","v":"Ägypten"},null,null,"Rang 3","Belgien",{"$f":"COUNTIF(Endplatzierung!E36:CZ36,$B$28)+COUNTIF(Endplatzierung!E94:CZ94,$B$28)","v":2},"Iran",{"$f":"COUNTIF(Endplatzierung!E36:CZ36,$B$29)+COUNTIF(Endplatzierung!E94:CZ94,$B$29)","v":33},"Ägypten",{"$f":"COUNTIF(Endplatzierung!E36:CZ36,$B$30)+COUNTIF(Endplatzierung!E94:CZ94,$B$30)","v":23},"Neuseeland",{"$f":"COUNTIF(Endplatzierung!E36:CZ36,$B$31)+COUNTIF(Endplatzierung!E94:CZ94,$B$31)","v":26}]
[null,{"$f":"Teams!B31","v":"Neuseeland"},null,null,"Rang 4","Belgien",{"$f":"COUNTIF(Endplatzierung!E37:CZ37,$B$28)+COUNTIF(Endplatzierung!E95:CZ95,$B$28)","v":1},"Iran",{"$f":"COUNTIF(Endplatzierung!E37:CZ37,$B$29)+COUNTIF(Endplatzierung!E95:CZ95,$B$29)","v":28},"Ägypten",{"$f":"COUNTIF(Endplatzierung!E37:CZ37,$B$30)+COUNTIF(Endplatzierung!E95:CZ95,$B$30)","v":6},"Neuseeland",{"$f":"COUNTIF(Endplatzierung!E37:CZ37,$B$31)+COUNTIF(Endplatzierung!E95:CZ95,$B$31)","v":49}]
["Gruppe H",{"$f":"Teams!B32","v":"Spanien"},null,"Gruppe H","Rang 1",{"$f":"$B$32","v":"Spanien"},{"$f":"COUNTIF(Endplatzierung!E38:CZ38,$B$32)+COUNTIF(Endplatzierung!E96:CZ96,$B$32)","v":84},{"$f":"$B$33","v":"Uruguay"},{"$f":"COUNTIF(Endplatzierung!E38:CZ38,$B$33)+COUNTIF(Endplatzierung!E96:CZ96,$B$33)","v":0},{"$f":"$B$34","v":"Saudi-Arabien"},{"$f":"COUNTIF(Endplatzierung!E38:CZ38,$B$34)+COUNTIF(Endplatzierung!E96:CZ96,$B$34)","v":0},{"$f":"$B$35","v":"Kap Verde"},{"$f":"COUNTIF(Endplatzierung!E38:CZ38,$B$35)+COUNTIF(Endplatzierung!E96:CZ96,$B$35)","v":0}]
[null,{"$f":"Teams!B33","v":"Uruguay"},null,null,"Rang 2",{"$f":"$B$32","v":"Spanien"},{"$f":"COUNTIF(Endplatzierung!E39:CZ39,$B$32)+COUNTIF(Endplatzierung!E97:CZ97,$B$32)","v":0},{"$f":"$B$33","v":"Uruguay"},{"$f":"COUNTIF(Endplatzierung!E39:CZ39,$B$33)+COUNTIF(Endplatzierung!E97:CZ97,$B$33)","v":77},{"$f":"$B$34","v":"Saudi-Arabien"},{"$f":"COUNTIF(Endplatzierung!E39:CZ39,$B$34)+COUNTIF(Endplatzierung!E97:CZ97,$B$34)","v":6},{"$f":"$B$35","v":"Kap Verde"},{"$f":"COUNTIF(Endplatzierung!E39:CZ39,$B$35)+COUNTIF(Endplatzierung!E97:CZ97,$B$35)","v":1}]
[null,{"$f":"Teams!B34","v":"Saudi-Arabien"},null,null,"Rang 3",{"$f":"$B$32","v":"Spanien"},{"$f":"COUNTIF(Endplatzierung!E40:CZ40,$B$32)+COUNTIF(Endplatzierung!E98:CZ98,$B$32)","v":0},"Uruguay",{"$f":"COUNTIF(Endplatzierung!E40:CZ40,$B$33)+COUNTIF(Endplatzierung!E98:CZ98,$B$33)","v":5},{"$f":"$B$34","v":"Saudi-Arabien"},{"$f":"COUNTIF(Endplatzierung!E40:CZ40,$B$34)+COUNTIF(Endplatzierung!E98:CZ98,$B$34)","v":68},"Kap Verde",{"$f":"COUNTIF(Endplatzierung!E40:CZ40,$B$35)+COUNTIF(Endplatzierung!E98:CZ98,$B$35)","v":11}]
[null,{"$f":"Teams!B35","v":"Kap Verde"},null,null,"Rang 4","Spanien",{"$f":"COUNTIF(Endplatzierung!E41:CZ41,$B$32)+COUNTIF(Endplatzierung!E99:CZ99,$B$32)","v":0},"Uruguay",{"$f":"COUNTIF(Endplatzierung!E41:CZ41,$B$33)+COUNTIF(Endplatzierung!E99:CZ99,$B$33)","v":2},{"$f":"$B$34","v":"Saudi-Arabien"},{"$f":"COUNTIF(Endplatzierung!E41:CZ41,$B$34)+COUNTIF(Endplatzierung!E99:CZ99,$B$34)","v":10},"Kap Verde",{"$f":"COUNTIF(Endplatzierung!E41:CZ41,$B$35)+COUNTIF(Endplatzierung!E99:CZ99,$B$35)","v":72}]
["Gruppe I",{"$f":"Teams!B36","v":"Frankreich"},null,"Gruppe I","Rang 1",{"$f":"$B$36","v":"Frankreich"},{"$f":"COUNTIF(Endplatzierung!E42:CZ42,$B$36)+COUNTIF(Endplatzierung!E100:CZ100,$B$36)","v":80},{"$f":"$B$37","v":"Senegal"},{"$f":"COUNTIF(Endplatzierung!E42:CZ42,$B$37)+COUNTIF(Endplatzierung!E100:CZ100,$B$37)","v":1},{"$f":"$B$38","v":"Norwegen"},{"$f":"COUNTIF(Endplatzierung!E42:DB42,$B$38)+COUNTIF(Endplatzierung!G100:DB100,$B$38)","v":3},{"$f":"$B$39","v":"Irak"},{"$f":"COUNTIF(Endplatzierung!E42:CZ42,$B$39)+COUNTIF(Endplatzierung!E100:CZ100,$B$39)","v":0}]
[null,{"$f":"Teams!B37","v":"Senegal"},null,null,"Rang 2",{"$f":"$B$36","v":"Frankreich"},{"$f":"COUNTIF(Endplatzierung!E43:CZ43,$B$36)+COUNTIF(Endplatzierung!E101:CZ101,$B$36)","v":4},{"$f":"$B$37","v":"Senegal"},{"$f":"COUNTIF(Endplatzierung!E43:CZ43,$B$37)+COUNTIF(Endplatzierung!E101:CZ101,$B$37)","v":20},{"$f":"$B$38","v":"Norwegen"},{"$f":"COUNTIF(Endplatzierung!E43:DB43,$B$38)+COUNTIF(Endplatzierung!G101:DB101,$B$38)","v":58},{"$f":"$B$39","v":"Irak"},{"$f":"COUNTIF(Endplatzierung!E43:CZ43,$B$39)+COUNTIF(Endplatzierung!E101:CZ101,$B$39)","v":1}]
[null,{"$f":"Teams!B38","v":"Norwegen"},null,null,"Rang 3",{"$f":"$B$36","v":"Frankreich"},{"$f":"COUNTIF(Endplatzierung!E44:CZ44,$B$36)+COUNTIF(Endplatzierung!E102:CZ102,$B$36)","v":0},{"$f":"$B$37","v":"Senegal"},{"$f":"COUNTIF(Endplatzierung!E44:CZ44,$B$37)+COUNTIF(Endplatzierung!E102:CZ102,$B$37)","v":57},{"$f":"$B$38","v":"Norwegen"},{"$f":"COUNTIF(Endplatzierung!E44:DB44,$B$38)+COUNTIF(Endplatzierung!G102:DB102,$B$38)","v":20},"Irak",{"$f":"COUNTIF(Endplatzierung!E44:CZ44,$B$39)+COUNTIF(Endplatzierung!E102:CZ102,$B$39)","v":7}]
[null,{"$f":"Teams!B39","v":"Irak"},null,null,"Rang 4",{"$f":"$B$36","v":"Frankreich"},{"$f":"COUNTIF(Endplatzierung!E45:CZ45,$B$36)+COUNTIF(Endplatzierung!E103:CZ103,$B$36)","v":0},{"$f":"$B$37","v":"Senegal"},{"$f":"COUNTIF(Endplatzierung!E45:CZ45,$B$37)+COUNTIF(Endplatzierung!E103:CZ103,$B$37)","v":6},{"$f":"$B$38","v":"Norwegen"},{"$f":"COUNTIF(Endplatzierung!E45:DB45,$B$38)+COUNTIF(Endplatzierung!G103:DB103,$B$38)","v":2},"Irak",{"$f":"COUNTIF(Endplatzierung!E45:CZ45,$B$39)+COUNTIF(Endplatzierung!E103:CZ103,$B$39)","v":76}]
["Gruppe J",{"$f":"Teams!B40","v":"Argentinien"},null,"Gruppe J","Rang 1",{"$f":"$B$40","v":"Argentinien"},{"$f":"COUNTIF(Endplatzierung!E46:CZ46,$B$40)+COUNTIF(Endplatzierung!E104:CZ104,$B$40)","v":80},{"$f":"$B$41","v":"Österreich"},{"$f":"COUNTIF(Endplatzierung!E46:CZ46,$B$41)+COUNTIF(Endplatzierung!E104:CZ104,$B$41)","v":4},{"$f":"$B$42","v":"Algerien"},{"$f":"COUNTIF(Endplatzierung!E46:CZ46,$B$42)+COUNTIF(Endplatzierung!E104:CZ104,$B$42)","v":0},{"$f":"$B$43","v":"Jordanien"},{"$f":"COUNTIF(Endplatzierung!E46:CZ46,$B$43)+COUNTIF(Endplatzierung!E104:CZ104,$B$43)","v":0}]
[null,{"$f":"Teams!B41","v":"Österreich"},null,null,"Rang 2",{"$f":"$B$40","v":"Argentinien"},{"$f":"COUNTIF(Endplatzierung!E47:CZ47,$B$40)+COUNTIF(Endplatzierung!E105:CZ105,$B$40)","v":4},{"$f":"$B$41","v":"Österreich"},{"$f":"COUNTIF(Endplatzierung!E47:CZ47,$B$41)+COUNTIF(Endplatzierung!E105:CZ105,$B$41)","v":71},{"$f":"$B$42","v":"Algerien"},{"$f":"COUNTIF(Endplatzierung!E47:CZ47,$B$42)+COUNTIF(Endplatzierung!E105:CZ105,$B$42)","v":8},{"$f":"$B$43","v":"Jordanien"},{"$f":"COUNTIF(Endplatzierung!E47:CZ47,$B$43)+COUNTIF(Endplatzierung!E105:CZ105,$B$43)","v":1}]
[null,{"$f":"Teams!B42","v":"Algerien"},null,null,"Rang 3","Argentinien",{"$f":"COUNTIF(Endplatzierung!E48:CZ48,$B$40)+COUNTIF(Endplatzierung!E106:CZ106,$B$40)","v":0},{"$f":"$B$41","v":"Österreich"},{"$f":"COUNTIF(Endplatzierung!E48:CZ48,$B$41)+COUNTIF(Endplatzierung!E106:CZ106,$B$41)","v":8},"Algerien",{"$f":"COUNTIF(Endplatzierung!E48:CZ48,$B$42)+COUNTIF(Endplatzierung!E106:CZ106,$B$42)","v":68},"Jordanien",{"$f":"COUNTIF(Endplatzierung!E48:CZ48,$B$43)+COUNTIF(Endplatzierung!E106:CZ106,$B$43)","v":8}]
[null,{"$f":"Teams!B43","v":"Jordanien"},null,null,"Rang 4","Argentinien",{"$f":"COUNTIF(Endplatzierung!E49:CZ49,$B$40)+COUNTIF(Endplatzierung!E107:CZ107,$B$40)","v":0},{"$f":"$B$41","v":"Österreich"},{"$f":"COUNTIF(Endplatzierung!E49:CZ49,$B$41)+COUNTIF(Endplatzierung!E107:CZ107,$B$41)","v":1},"Algerien",{"$f":"COUNTIF(Endplatzierung!E49:CZ49,$B$42)+COUNTIF(Endplatzierung!E107:CZ107,$B$42)","v":8},"Jordanien",{"$f":"COUNTIF(Endplatzierung!E49:CZ49,$B$43)+COUNTIF(Endplatzierung!E107:CZ107,$B$43)","v":75}]
["Gruppe K",{"$f":"Teams!B44","v":"Portugal"},null,"Gruppe K","Rang 1",{"$f":"$B$44","v":"Portugal"},{"$f":"COUNTIF(Endplatzierung!E50:CZ50,$B$44)+COUNTIF(Endplatzierung!E108:CZ108,$B$44)","v":79},{"$f":"$B$45","v":"Kolumbien"},{"$f":"COUNTIF(Endplatzierung!E50:CZ50,$B$45)+COUNTIF(Endplatzierung!E108:CZ108,$B$45)","v":5},{"$f":"$B$46","v":"DR Kongo"},{"$f":"COUNTIF(Endplatzierung!E50:DB50,$B$46)+COUNTIF(Endplatzierung!G108:DB108,$B$46)","v":0},{"$f":"$B$47","v":"Usbekistan"},{"$f":"COUNTIF(Endplatzierung!E50:CZ50,$B$47)+COUNTIF(Endplatzierung!E108:CZ108,$B$47)","v":0}]
[null,{"$f":"Teams!B45","v":"Kolumbien"},null,null,"Rang 2",{"$f":"$B$44","v":"Portugal"},{"$f":"COUNTIF(Endplatzierung!E51:CZ51,$B$44)+COUNTIF(Endplatzierung!E109:CZ109,$B$44)","v":5},{"$f":"$B$45","v":"Kolumbien"},{"$f":"COUNTIF(Endplatzierung!E51:CZ51,$B$45)+COUNTIF(Endplatzierung!E109:CZ109,$B$45)","v":73},{"$f":"$B$46","v":"DR Kongo"},{"$f":"COUNTIF(Endplatzierung!E51:DB51,$B$46)+COUNTIF(Endplatzierung!G109:DB109,$B$46)","v":4},{"$f":"$B$47","v":"Usbekistan"},{"$f":"COUNTIF(Endplatzierung!E51:CZ51,$B$47)+COUNTIF(Endplatzierung!E109:CZ109,$B$47)","v":2}]
[null,{"$f":"Teams!B46","v":"DR Kongo"},null,null,"Rang 3","Portugal",{"$f":"COUNTIF(Endplatzierung!E52:CZ52,$B$44)+COUNTIF(Endplatzierung!E110:CZ110,$B$44)","v":0},{"$f":"$B$45","v":"Kolumbien"},{"$f":"COUNTIF(Endplatzierung!E52:CZ52,$B$45)+COUNTIF(Endplatzierung!E110:CZ110,$B$45)","v":6},"DR Kongo",{"$f":"COUNTIF(Endplatzierung!E52:DB52,$B$46)+COUNTIF(Endplatzierung!G110:DB110,$B$46)","v":62},"Usbekistan",{"$f":"COUNTIF(Endplatzierung!E52:CZ52,$B$47)+COUNTIF(Endplatzierung!E110:CZ110,$B$47)","v":16}]
[null,{"$f":"Teams!B47","v":"Usbekistan"},null,null,"Rang 4","Portugal",{"$f":"COUNTIF(Endplatzierung!E53:CZ53,$B$44)+COUNTIF(Endplatzierung!E111:CZ111,$B$44)","v":0},{"$f":"$B$45","v":"Kolumbien"},{"$f":"COUNTIF(Endplatzierung!E53:CZ53,$B$45)+COUNTIF(Endplatzierung!E111:CZ111,$B$45)","v":0},"DR Kongo",{"$f":"COUNTIF(Endplatzierung!E53:DB53,$B$46)+COUNTIF(Endplatzierung!G111:DB111,$B$46)","v":17},"Usbekistan",{"$f":"COUNTIF(Endplatzierung!E53:CZ53,$B$47)+COUNTIF(Endplatzierung!E111:CZ111,$B$47)","v":66}]
["Gruppe L",{"$f":"Teams!B48","v":"England"},null,"Gruppe L","Rang 1",{"$f":"$B$48","v":"England"},{"$f":"COUNTIF(Endplatzierung!E54:CZ54,$B$48)+COUNTIF(Endplatzierung!E112:CZ112,$B$48)","v":73},{"$f":"$B$49","v":"Kroatien"},{"$f":"COUNTIF(Endplatzierung!E54:CZ54,$B$49)+COUNTIF(Endplatzierung!E112:CZ112,$B$49)","v":11},{"$f":"$B$50","v":"Panama"},{"$f":"COUNTIF(Endplatzierung!E54:DB54,$B$50)+COUNTIF(Endplatzierung!G112:DB112,$B$50)","v":0},{"$f":"$B$51","v":"Ghana"},{"$f":"COUNTIF(Endplatzierung!E54:CZ54,$B$51)+COUNTIF(Endplatzierung!E112:CZ112,$B$51)","v":0}]
[null,{"$f":"Teams!B49","v":"Kroatien"},null,null,"Rang 2",{"$f":"$B$48","v":"England"},{"$f":"COUNTIF(Endplatzierung!E55:CZ55,$B$48)+COUNTIF(Endplatzierung!E113:CZ113,$B$48)","v":9},{"$f":"$B$49","v":"Kroatien"},{"$f":"COUNTIF(Endplatzierung!E55:CZ55,$B$49)+COUNTIF(Endplatzierung!E113:CZ113,$B$49)","v":61},{"$f":"$B$50","v":"Panama"},{"$f":"COUNTIF(Endplatzierung!E55:DB55,$B$50)+COUNTIF(Endplatzierung!G113:DB113,$B$50)","v":1},{"$f":"$B$51","v":"Ghana"},{"$f":"COUNTIF(Endplatzierung!E55:CZ55,$B$51)+COUNTIF(Endplatzierung!E113:CZ113,$B$51)","v":13}]
[null,{"$f":"Teams!B50","v":"Panama"},null,null,"Rang 3","England",{"$f":"COUNTIF(Endplatzierung!E56:CZ56,$B$48)+COUNTIF(Endplatzierung!E114:CZ114,$B$48)","v":2},{"$f":"$B$49","v":"Kroatien"},{"$f":"COUNTIF(Endplatzierung!E56:CZ56,$B$49)+COUNTIF(Endplatzierung!E114:CZ114,$B$49)","v":10},"Panama",{"$f":"COUNTIF(Endplatzierung!E56:DB56,$B$50)+COUNTIF(Endplatzierung!G114:DB114,$B$50)","v":15},"Ghana",{"$f":"COUNTIF(Endplatzierung!E56:CZ56,$B$51)+COUNTIF(Endplatzierung!E114:CZ114,$B$51)","v":56}]
[null,{"$f":"Teams!B51","v":"Ghana"},null,null,"Rang 4","England",{"$f":"COUNTIF(Endplatzierung!E57:CZ57,$B$48)+COUNTIF(Endplatzierung!E115:CZ115,$B$48)","v":0},{"$f":"$B$49","v":"Kroatien"},{"$f":"COUNTIF(Endplatzierung!E57:CZ57,$B$49)+COUNTIF(Endplatzierung!E115:CZ115,$B$49)","v":2},"Panama",{"$f":"COUNTIF(Endplatzierung!E57:DB57,$B$50)+COUNTIF(Endplatzierung!G115:DB115,$B$50)","v":67},"Ghana",{"$f":"COUNTIF(Endplatzierung!E57:CZ57,$B$51)+COUNTIF(Endplatzierung!E115:CZ115,$B$51)","v":15}]

{"sheet":"Stat_Teams_Ort","index":11,"n_rows":109,"n_cols":23,"rows_kept":109,"cut":false,"hidden":false,"merged":[[6,8,6,10],[6,14,6,16],[6,20,6,22],[0,0,0,4],[6,2,6,4]]}
[{"$f":"Teams!$B$54","v":"WM 2026 by Rogerinho (www.fcbouncer.ch)"}]
["Legende",null,null,null,null,null,"Legende",null,null,null,null,null,"Legende",null,null,null,null,null,"Legende"]
["++ = Richtiges Team am richtigen Ort",null,null,null,null,null,"++ = Richtiges Team am richtigen Ort",null,null,null,null,null,"++ = Richtiges Team am richtigen Ort",null,null,null,null,null,"++ = Richtiges Team am richtigen Ort"]
["+ = Richtiges Team am falschen Ort",null,null,null,null,null,"+ = Richtiges Team am falschen Ort",null,null,null,null,null,"+ = Richtiges Team am falschen Ort",null,null,null,null,null,"+ = Richtiges Team am falschen Ort"]
["- = Falsches Team",null,null,null,null,null,"- = Falsches Team",null,null,null,null,null,"- = Falsches Team",null,null,null,null,null,"- = Falsches Team"]
[]
["Wie gut haben alle getippt?",null,"Teams 1/16 Finale",null,null,null,"Wie gut haben alle getippt?",null,"Teams 1/8 Finale",null,null,null,"Wie gut haben alle getippt?",null,"Teams 1/4 Finale",null,null,null,"Wie gut haben alle getippt?",null,"Teams 1/2 Finale"]
[null,null,"++","+","-",null,null,null,"++","+","-",null,null,null,"++","+","-",null,null,null,"++","+","-"]
[{"$f":"Teilnehmerliste!$A$6","v":1},{"$f":"Teilnehmerliste!B6 &\" \"&Teilnehmerliste!C6","v":"Panos Agorastos"},{"$f":"SUMPRODUCT((Finalrunde!$D$11:$D$26<>\"\")*(Finalrunde!$D$11:$D$26=Finalrunde!$J$11:$J$26))\n+SUMPRODUCT((Finalrunde!$E$11:$E$26<>\"\")*(Finalrunde!$E$11:$E$26=Finalrunde!$M$11:$M$26))","v":17},{"$f":"SUM(32-C9-E9)","v":9},{"$f":"SUMPRODUCT((COUNTIF(Finalrunde!$D$11:$E$26,Finalrunde!$J$11:$J$26)=0)*1)\n+SUMPRODUCT((COUNTIF(Finalrunde!$D$11:$E$26,Finalrunde!$M$11:$M$26)=0)*1)","v":6},null,{"$f":"Teilnehmerliste!$A$6","v":1},{"$f":"Teilnehmerliste!B6 &\" \"&Teilnehmerliste!C6","v":"Panos Agorastos"},{"$f":"SUMPRODUCT((Finalrunde!$D$28:$D$35<>\"\")*(Finalrunde!$D$28:$D$35=Finalrunde!$J$28:$J$35))\n+SUMPRODUCT((Finalrunde!$E$28:$E$35<>\"\")*(Finalrunde!$E$28:$E$35=Finalrunde!$M$28:$M$35))","v":9},{"$f":"SUM(16-I9-K9)","v":1},{"$f":"SUMPRODUCT((COUNTIF(Finalrunde!$D$28:$E$35,Finalrunde!$J$28:$J$35)=0)*1)\n+SUMPRODUCT((COUNTIF(Finalrunde!$D$28:$E$35,Finalrunde!$M$28:$M$35)=0)*1)","v":6},null,{"$f":"Teilnehmerliste!$A$6","v":1},{"$f":"H9","v":"Panos Agorastos"},{"$f":"SUMPRODUCT((Finalrunde!$D$37:$D$40<>\"\")*(Finalrunde!$D$37:$D$40=Finalrunde!$J$37:$J$40))\n+SUMPRODUCT((Finalrunde!$E$37:$E$40<>\"\")*(Finalrunde!$E$37:$E$40=Finalrunde!$M$37:$M$40))","v":5},{"$f":"SUM(8-O9-Q9)","v":0},{"$f":"SUMPRODUCT((COUNTIF(Finalrunde!$D$37:$E$40,Finalrunde!$J$37:$J$40)=0)*1)\n+SUMPRODUCT((COUNTIF(Finalrunde!$D$37:$E$40,Finalrunde!$M$37:$M$40)=0)*1)","v":3},null,{"$f":"Teilnehmerliste!$A$6","v":1},{"$f":"N9","v":"Panos Agorastos"},{"$f":"SUMPRODUCT((Finalrunde!$D$42:$D$43<>\"\")*(Finalrunde!$D$42:$D$43=Finalrunde!$J$42:$J$43))\n+SUMPRODUCT((Finalrunde!$E$42:$E$43<>\"\")*(Finalrunde!$E$42:$E$43=Finalrunde!$M$42:$M$43))","v":2},{"$f":"SUM(4-U9-W9)","v":0},{"$f":"SUMPRODUCT((COUNTIF(Finalrunde!$D$42:$E$43,Finalrunde!$J$42:$J$43)=0)*1)\n+SUMPRODUCT((COUNTIF(Finalrunde!$D$42:$E$43,Finalrunde!$M$42:$M$43)=0)*1)","v":2}]
[{"$f":"Teilnehmerliste!$A$7","v":2},{"$f":"Teilnehmerliste!B7 &\" \"&Teilnehmerliste!C7","v":"Yiannis Agorastos"},{"$f":"SUMPRODUCT((Finalrunde!$D$11:$D$26<>\"\")*(Finalrunde!$D$11:$D$26=Finalrunde!$Q$11:$Q$26))\n+SUMPRODUCT((Finalrunde!$E$11:$E$26<>\"\")*(Finalrunde!$E$11:$E$26=Finalrunde!$T$11:$T$26))","v":18},{"$f":"SUM(32-C10-E10)","v":8},{"$f":"SUMPRODUCT((COUNTIF(Finalrunde!$D$11:$E$26,Finalrunde!$Q$11:$Q$26)=0)*1)\n+SUMPRODUCT((COUNTIF(Finalrunde!$D$11:$E$26,Finalrunde!$T$11:$T$26)=0)*1)","v":6},null,{"$f":"Teilnehmerliste!$A$7","v":2},{"$f":"Teilnehmerliste!B7 &\" \"&Teilnehmerliste!C7","v":"Yiannis Agorastos"},{"$f":"SUMPRODUCT((Finalrunde!$D$28:$D$35<>\"\")*(Finalrunde!$D$28:$D$35=Finalrunde!$Q$28:$Q$35))\n+SUMPRODUCT((Finalrunde!$E$28:$E$35<>\"\")*(Finalrunde!$E$28:$E$35=Finalrunde!$T$28:$T$35))","v":10},{"$f":"SUM(16-I10-K10)","v":0},{"$f":"SUMPRODUCT((COUNTIF(Finalrunde!$D$28:$E$35,Finalrunde!$Q$28:$Q$35)=0)*1)\n+SUMPRODUCT((COUNTIF(Finalrunde!$D$28:$E$35,Finalrunde!$T$28:$T$35)=0)*1)","v":6},null,{"$f":"Teilnehmerliste!$A$7","v":2},{"$f":"H10","v":"Yiannis Agorastos"},{"$f":"SUMPRODUCT((Finalrunde!$D$37:$D$40<>\"\")*(Finalrunde!$D$37:$D$40=Finalrunde!$Q$37:$Q$40))\n+SUMPRODUCT((Finalrunde!$E$37:$E$40<>\"\")*(Finalrunde!$E$37:$E$40=Finalrunde!$T$37:$T$40))","v":5},{"$f":"SUM(8-O10-Q10)","v":0},{"$f":"SUMPRODUCT((COUNTIF(Finalrunde!$D$37:$E$40,Finalrunde!$Q$37:$Q$40)=0)*1)\n+SUMPRODUCT((COUNTIF(Finalrunde!$D$37:$E$40,Finalrunde!$T$37:$T$40)=0)*1)","v":3},null,{"$f":"Teilnehmerliste!$A$7","v":2},{"$f":"N10","v":"Yiannis Agorastos"},{"$f":"SUMPRODUCT((Finalrunde!$D$42:$D$43<>\"\")*(Finalrunde!$D$42:$D$43=Finalrunde!$Q$42:$Q$43))\n+SUMPRODUCT((Finalrunde!$E$42:$E$43<>\"\")*(Finalrunde!$E$42:$E$43=Finalrunde!$T$42:$T$43))","v":1},{"$f":"SUM(4-U10-W10)","v":0},{"$f":"SUMPRODUCT((COUNTIF(Finalrunde!$D$42:$E$43,Finalrunde!$Q$42:$Q$43)=0)*1)\n+SUMPRODUCT((COUNTIF(Finalrunde!$D$42:$E$43,Finalrunde!$T$42:$T$43)=0)*1)","v":3}]
[{"$f":"Teilnehmerliste!$A$8","v":3},{"$f":"Teilnehmerliste!B8 &\" \"&Teilnehmerliste!C8","v":"Ambra Antonelli"},{"$f":"SUMPRODUCT((Finalrunde!$D$11:$D$26<>\"\")*(Finalrunde!$D$11:$D$26=Finalrunde!$X$11:$X$26))\n+SUMPRODUCT((Finalrunde!$E$11:$E$26<>\"\")*(Finalrunde!$E$11:$E$26=Finalrunde!$AA$11:$AA$26))","v":17},8,{"$f":"SUMPRODUCT((COUNTIF(Finalrunde!$D$11:$E$26,Finalrunde!$X$11:$X$26)=0)*1)\n+SUMPRODUCT((COUNTIF(Finalrunde!$D$11:$E$26,Finalrunde!$AA$11:$AA$26)=0)*1)","v":7},null,{"$f":"Teilnehmerliste!$A$8","v":3},{"$f":"Teilnehmerliste!B8 &\" \"&Teilnehmerliste!C8","v":"Ambra Antonelli"},{"$f":"SUMPRODUCT((Finalrunde!$D$28:$D$35<>\"\")*(Finalrunde!$D$28:$D$35=Finalrunde!$X$28:$X$35))\n+SUMPRODUCT((Finalrunde!$E$28:$E$35<>\"\")*(Finalrunde!$E$28:$E$35=Finalrunde!$AA$28:$AA$35))","v":8},3,{"$f":"SUMPRODUCT((COUNTIF(Finalrunde!$D$28:$E$35,Finalrunde!$X$28:$X$35)=0)*1)\n+SUMPRODUCT((COUNTIF(Finalrunde!$D$28:$E$35,Finalrunde!$AA$28:$AA$35)=0)*1)","v":5},null,{"$f":"Teilnehmerliste!$A$8","v":3},"Ambra Antonelli",{"$f":"SUMPRODUCT((Finalrunde!$D$37:$D$40<>\"\")*(Finalrunde!$D$37:$D$40=Finalrunde!$X$37:$X$40))\n+SUMPRODUCT((Finalrunde!$E$37:$E$40<>\"\")*(Finalrunde!$E$37:$E$40=Finalrunde!$AA$37:$AA$40))","v":3},0,{"$f":"SUMPRODUCT((COUNTIF(Finalrunde!$D$37:$E$40,Finalrunde!$X$37:$X$40)=0)*1)\n+SUMPRODUCT((COUNTIF(Finalrunde!$D$37:$E$40,Finalrunde!$AA$37:$AA$40)=0)*1)","v":5},null,{"$f":"Teilnehmerliste!$A$8","v":3},"Ambra Antonelli",{"$f":"SUMPRODUCT((Finalrunde!$D$42:$D$43<>\"\")*(Finalrunde!$D$42:$D$43=Finalrunde!$X$42:$X$43))\n+SUMPRODUCT((Finalrunde!$E$42:$E$43<>\"\")*(Finalrunde!$E$42:$E$43=Finalrunde!$AA$42:$AA$43))","v":1},0,{"$f":"SUMPRODUCT((COUNTIF(Finalrunde!$D$42:$E$43,Finalrunde!$X$42:$X$43)=0)*1)\n+SUMPRODUCT((COUNTIF(Finalrunde!$D$42:$E$43,Finalrunde!$AA$42:$AA$43)=0)*1)","v":3}]
[{"$f":"Teilnehmerliste!$A$9","v":4},{"$f":"Teilnehmerliste!B9 &\" \"&Teilnehmerliste!C9","v":"Marco Antonelli"},{"$f":"SUMPRODUCT((Finalrunde!$D$11:$D$26<>\"\")*(Finalrunde!$D$11:$D$26=Finalrunde!$AE$11:$AE$26))\n+SUMPRODUCT((Finalrunde!$E$11:$E$26<>\"\")*(Finalrunde!$E$11:$E$26=Finalrunde!$AH$11:$AH$26))","v":17},9,{"$f":"SUMPRODUCT((COUNTIF(Finalrunde!$D$11:$E$26,Finalrunde!$AE$11:$AE$26)=0)*1)\n+SUMPRODUCT((COUNTIF(Finalrunde!$D$11:$E$26,Finalrunde!$AH$11:$AH$26)=0)*1)","v":6},null,{"$f":"Teilnehmerliste!$A$9","v":4},{"$f":"Teilnehmerliste!B9 &\" \"&Teilnehmerliste!C9","v":"Marco Antonelli"},{"$f":"SUMPRODUCT((Finalrunde!$D$28:$D$35<>\"\")*(Finalrunde!$D$28:$D$35=Finalrunde!$AE$28:$AE$35))\n+SUMPRODUCT((Finalrunde!$E$28:$E$35<>\"\")*(Finalrunde!$E$28:$E$35=Finalrunde!$AH$28:$AH$35))","v":9},3,{"$f":"SUMPRODUCT((COUNTIF(Finalrunde!$D$28:$E$35,Finalrunde!$AE$28:$AE$35)=0)*1)\n+SUMPRODUCT((COUNTIF(Finalrunde!$D$28:$E$35,Finalrunde!$AH$28:$AH$35)=0)*1)","v":4},null,{"$f":"Teilnehmerliste!$A$9","v":4},"Marco Antonelli",{"$f":"SUMPRODUCT((Finalrunde!$D$37:$D$40<>\"\")*(Finalrunde!$D$37:$D$40=Finalrunde!$AE$37:$AE$40))\n+SUMPRODUCT((Finalrunde!$E$37:$E$40<>\"\")*(Finalrunde!$E$37:$E$40=Finalrunde!$AH$37:$AH$40))","v":6},0,{"$f":"SUMPRODUCT((COUNTIF(Finalrunde!$D$37:$E$40,Finalrunde!$AE$37:$AE$40)=0)*1)\n+SUMPRODUCT((COUNTIF(Finalrunde!$D$37:$E$40,Finalrunde!$AH$37:$AH$40)=0)*1)","v":2},null,{"$f":"Teilnehmerliste!$A$9","v":4},"Marco Antonelli",{"$f":"SUMPRODUCT((Finalrunde!$D$42:$D$43<>\"\")*(Finalrunde!$D$42:$D$43=Finalrunde!$AE$42:$AE$43))\n+SUMPRODUCT((Finalrunde!$E$42:$E$43<>\"\")*(Finalrunde!$E$42:$E$43=Finalrunde!$AH$42:$AH$43))","v":3},0,{"$f":"SUMPRODUCT((COUNTIF(Finalrunde!$D$42:$E$43,Finalrunde!$AE$42:$AE$43)=0)*1)\n+SUMPRODUCT((COUNTIF(Finalrunde!$D$42:$E$43,Finalrunde!$AH$42:$AH$43)=0)*1)","v":1}]
[{"$f":"Teilnehmerliste!$A$10","v":5},{"$f":"Teilnehmerliste!B10 &\" \"&Teilnehmerliste!C10","v":"Ruben Antonelli"},{"$f":"SUMPRODUCT((Finalrunde!$D$11:$D$26<>\"\")*(Finalrunde!$D$11:$D$26=Finalrunde!$AL$11:$AL$26))\n+SUMPRODUCT((Finalrunde!$E$11:$E$26<>\"\")*(Finalrunde!$E$11:$E$26=Finalrunde!$AO$11:$AO$26))","v":19},8,{"$f":"SUMPRODUCT((COUNTIF(Finalrunde!$D$11:$E$26,Finalrunde!$AL$11:$AL$26)=0)*1)\n+SUMPRODUCT((COUNTIF(Finalrunde!$D$11:$E$26,Finalrunde!$AO$11:$AO$26)=0)*1)","v":5},null,{"$f":"Teilnehmerliste!$A$10","v":5},{"$f":"Teilnehmerliste!B10 &\" \"&Teilnehmerliste!C10","v":"Ruben Antonelli"},{"$f":"SUMPRODUCT((Finalrunde!$D$28:$D$35<>\"\")*(Finalrunde!$D$28:$D$35=Finalrunde!$AL$28:$AL$35))\n+SUMPRODUCT((Finalrunde!$E$28:$E$35<>\"\")*(Finalrunde!$E$28:$E$35=Finalrunde!$AO$28:$AO$35))","v":8},2,{"$f":"SUMPRODUCT((COUNTIF(Finalrunde!$D$28:$E$35,Finalrunde!$AL$28:$AL$35)=0)*1)\n+SUMPRODUCT((COUNTIF(Finalrunde!$D$28:$E$35,Finalrunde!$AO$28:$AO$35)=0)*1)","v":6},null,{"$f":"Teilnehmerliste!$A$10","v":5},"Ruben Antonelli",{"$f":"SUMPRODUCT((Finalrunde!$D$37:$D$40<>\"\")*(Finalrunde!$D$37:$D$40=Finalrunde!$AL$37:$AL$40))\n+SUMPRODUCT((Finalrunde!$E$37:$E$40<>\"\")*(Finalrunde!$E$37:$E$40=Finalrunde!$AO$37:$AO$40))","v":4},0,{"$f":"SUMPRODUCT((COUNTIF(Finalrunde!$D$37:$E$40,Finalrunde!$AL$37:$AL$40)=0)*1)\n+SUMPRODUCT((COUNTIF(Finalrunde!$D$37:$E$40,Finalrunde!$AO$37:$AO$40)=0)*1)","v":4},null,{"$f":"Teilnehmerliste!$A$10","v":5},"Ruben Antonelli",{"$f":"SUMPRODUCT((Finalrunde!$D$42:$D$43<>\"\")*(Finalrunde!$D$42:$D$43=Finalrunde!$AL$42:$AL$43))\n+SUMPRODUCT((Finalrunde!$E$42:$E$43<>\"\")*(Finalrunde!$E$42:$E$43=Finalrunde!$AO$42:$AO$43))","v":2},0,{"$f":"SUMPRODUCT((COUNTIF(Finalrunde!$D$42:$E$43,Finalrunde!$AL$42:$AL$43)=0)*1)\n+SUMPRODUCT((COUNTIF(Finalrunde!$D$42:$E$43,Finalrunde!$AO$42:$AO$43)=0)*1)","v":2}]
[{"$f":"Teilnehmerliste!$A$11","v":6},{"$f":"Teilnehmerliste!B11 &\" \"&Teilnehmerliste!C11","v":"Peter Balazs"},{"$f":"SUMPRODUCT((Finalrunde!$D$11:$D$26<>\"\")*(Finalrunde!$D$11:$D$26=Finalrunde!$AS$11:$AS$26))\n+SUMPRODUCT((Finalrunde!$E$11:$E$26<>\"\")*(Finalrunde!$E$11:$E$26=Finalrunde!$AV$11:$AV$26))","v":20},6,{"$f":"SUMPRODUCT((COUNTIF(Finalrunde!$D$11:$E$26,Finalrunde!$AS$11:$AS$26)=0)*1)\n+SUMPRODUCT((COUNTIF(Finalrunde!$D$11:$E$26,Finalrunde!$AV$11:$AV$26)=0)*1)","v":6},null,{"$f":"Teilnehmerliste!$A$11","v":6},{"$f":"Teilnehmerliste!B11 &\" \"&Teilnehmerliste!C11","v":"Peter Balazs"},{"$f":"SUMPRODUCT((Finalrunde!$D$28:$D$35<>\"\")*(Finalrunde!$D$28:$D$35=Finalrunde!$AS$28:$AS$35))\n+SUMPRODUCT((Finalrunde!$E$28:$E$35<>\"\")*(Finalrunde!$E$28:$E$35=Finalrunde!$AV$28:$AV$35))","v":7},3,{"$f":"SUMPRODUCT((COUNTIF(Finalrunde!$D$28:$E$35,Finalrunde!$AS$28:$AS$35)=0)*1)\n+SUMPRODUCT((COUNTIF(Finalrunde!$D$28:$E$35,Finalrunde!$AV$28:$AV$35)=0)*1)","v":6},null,{"$f":"Teilnehmerliste!$A$11","v":6},"Peter Balazs",{"$f":"SUMPRODUCT((Finalrunde!$D$37:$D$40<>\"\")*(Finalrunde!$D$37:$D$40=Finalrunde!$AS$37:$AS$40))\n+SUMPRODUCT((Finalrunde!$E$37:$E$40<>\"\")*(Finalrunde!$E$37:$E$40=Finalrunde!$AV$37:$AV$40))","v":5},0,{"$f":"SUMPRODUCT((COUNTIF(Finalrunde!$D$37:$E$40,Finalrunde!$AS$37:$AS$40)=0)*1)\n+SUMPRODUCT((COUNTIF(Finalrunde!$D$37:$E$40,Finalrunde!$AV$37:$AV$40)=0)*1)","v":3},null,{"$f":"Teilnehmerliste!$A$11","v":6},"Peter Balazs",{"$f":"SUMPRODUCT((Finalrunde!$D$42:$D$43<>\"\")*(Finalrunde!$D$42:$D$43=Finalrunde!$AS$42:$AS$43))\n+SUMPRODUCT((Finalrunde!$E$42:$E$43<>\"\")*(Finalrunde!$E$42:$E$43=Finalrunde!$AV$42:$AV$43))","v":3},0,{"$f":"SUMPRODUCT((COUNTIF(Finalrunde!$D$42:$E$43,Finalrunde!$AS$42:$AS$43)=0)*1)\n+SUMPRODUCT((COUNTIF(Finalrunde!$D$42:$E$43,Finalrunde!$AV$42:$AV$43)=0)*1)","v":1}]
[{"$f":"Teilnehmerliste!$A$12","v":7},{"$f":"Teilnehmerliste!B12 &\" \"&Teilnehmerliste!C12","v":"André Bartholet"},{"$f":"SUMPRODUCT((Finalrunde!$D$11:$D$26<>\"\")*(Finalrunde!$D$11:$D$26=Finalrunde!$AZ$11:$AZ$26))\n+SUMPRODUCT((Finalrunde!$E$11:$E$26<>\"\")*(Finalrunde!$E$11:$E$26=Finalrunde!$BC$11:$BC$26))","v":15},9,{"$f":"SUMPRODUCT((COUNTIF(Finalrunde!$D$11:$E$26,Finalrunde!$AZ$11:$AZ$26)=0)*1)\n+SUMPRODUCT((COUNTIF(Finalrunde!$D$11:$E$26,Finalrunde!$BC$11:$BC$26)=0)*1)","v":8},null,{"$f":"Teilnehmerliste!$A$12","v":7},{"$f":"Teilnehmerliste!B12 &\" \"&Teilnehmerliste!C12","v":"André Bartholet"},{"$f":"SUMPRODUCT((Finalrunde!$D$28:$D$35<>\"\")*(Finalrunde!$D$28:$D$35=Finalrunde!$AZ$28:$AZ$35))\n+SUMPRODUCT((Finalrunde!$E$28:$E$35<>\"\")*(Finalrunde!$E$28:$E$35=Finalrunde!$BC$28:$BC$35))","v":9},3,{"$f":"SUMPRODUCT((COUNTIF(Finalrunde!$D$28:$E$35,Finalrunde!$AZ$28:$AZ$35)=0)*1)\n+SUMPRODUCT((COUNTIF(Finalrunde!$D$28:$E$35,Finalrunde!$BC$28:$BC$35)=0)*1)","v":4},null,{"$f":"Teilnehmerliste!$A$12","v":7},"André Bartholet",{"$f":"SUMPRODUCT((Finalrunde!$D$37:$D$40<>\"\")*(Finalrunde!$D$37:$D$40=Finalrunde!$AZ$37:$AZ$40))\n+SUMPRODUCT((Finalrunde!$E$37:$E$40<>\"\")*(Finalrunde!$E$37:$E$40=Finalrunde!$BC$37:$BC$40))","v":4},1,{"$f":"SUMPRODUCT((COUNTIF(Finalrunde!$D$37:$E$40,Finalrunde!$AZ$37:$AZ$40)=0)*1)\n+SUMPRODUCT((COUNTIF(Finalrunde!$D$37:$E$40,Finalrunde!$BC$37:$BC$40)=0)*1)","v":3},null,{"$f":"Teilnehmerliste!$A$12","v":7},"André Bartholet",{"$f":"SUMPRODUCT((Finalrunde!$D$42:$D$43<>\"\")*(Finalrunde!$D$42:$D$43=Finalrunde!$AZ$42:$AZ$43))\n+SUMPRODUCT((Finalrunde!$E$42:$E$43<>\"\")*(Finalrunde!$E$42:$E$43=Finalrunde!$BC$42:$BC$43))","v":2},1,{"$f":"SUMPRODUCT((COUNTIF(Finalrunde!$D$42:$E$43,Finalrunde!$AZ$42:$AZ$43)=0)*1)\n+SUMPRODUCT((COUNTIF(Finalrunde!$D$42:$E$43,Finalrunde!$BC$42:$BC$43)=0)*1)","v":1}]
[{"$f":"Teilnehmerliste!$A$13","v":8},{"$f":"Teilnehmerliste!B13 &\" \"&Teilnehmerliste!C13","v":"Aya Bartholet"},{"$f":"SUMPRODUCT((Finalrunde!$D$11:$D$26<>\"\")*(Finalrunde!$D$11:$D$26=Finalrunde!$BG$11:$BG$26))\n+SUMPRODUCT((Finalrunde!$E$11:$E$26<>\"\")*(Finalrunde!$E$11:$E$26=Finalrunde!$BJ$11:$BJ$26))","v":15},8,{"$f":"SUMPRODUCT((COUNTIF(Finalrunde!$D$11:$E$26,Finalrunde!$BG$11:$BG$26)=0)*1)\n+SUMPRODUCT((COUNTIF(Finalrunde!$D$11:$E$26,Finalrunde!$BJ$11:$BJ$26)=0)*1)","v":9},null,{"$f":"Teilnehmerliste!$A$13","v":8},{"$f":"Teilnehmerliste!B13 &\" \"&Teilnehmerliste!C13","v":"Aya Bartholet"},{"$f":"SUMPRODUCT((Finalrunde!$D$28:$D$35<>\"\")*(Finalrunde!$D$28:$D$35=Finalrunde!$BG$28:$BG$35))\n+SUMPRODUCT((Finalrunde!$E$28:$E$35<>\"\")*(Finalrunde!$E$28:$E$35=Finalrunde!$BJ$28:$BJ$35))","v":9},2,{"$f":"SUMPRODUCT((COUNTIF(Finalrunde!$D$28:$E$35,Finalrunde!$BG$28:$BG$35)=0)*1)\n+SUMPRODUCT((COUNTIF(Finalrunde!$D$28:$E$35,Finalrunde!$BJ$28:$BJ$35)=0)*1)","v":5},null,{"$f":"Teilnehmerliste!$A$13","v":8},"Aya Bartholet",{"$f":"SUMPRODUCT((Finalrunde!$D$37:$D$40<>\"\")*(Finalrunde!$D$37:$D$40=Finalrunde!$BG$37:$BG$40))\n+SUMPRODUCT((Finalrunde!$E$37:$E$40<>\"\")*(Finalrunde!$E$37:$E$40=Finalrunde!$BJ$37:$BJ$40))","v":4},0,{"$f":"SUMPRODUCT((COUNTIF(Finalrunde!$D$37:$E$40,Finalrunde!$BG$37:$BG$40)=0)*1)\n+SUMPRODUCT((COUNTIF(Finalrunde!$D$37:$E$40,Finalrunde!$BJ$37:$BJ$40)=0)*1)","v":4},null,{"$f":"Teilnehmerliste!$A$13","v":8},"Aya Bartholet",{"$f":"SUMPRODUCT((Finalrunde!$D$42:$D$43<>\"\")*(Finalrunde!$D$42:$D$43=Finalrunde!$BG$42:$BG$43))\n+SUMPRODUCT((Finalrunde!$E$42:$E$43<>\"\")*(Finalrunde!$E$42:$E$43=Finalrunde!$BJ$42:$BJ$43))","v":4},0,{"$f":"SUMPRODUCT((COUNTIF(Finalrunde!$D$42:$E$43,Finalrunde!$BG$42:$BG$43)=0)*1)\n+SUMPRODUCT((COUNTIF(Finalrunde!$D$42:$E$43,Finalrunde!$BJ$42:$BJ$43)=0)*1)","v":0}]
[{"$f":"Teilnehmerliste!$A$14","v":9},{"$f":"Teilnehmerliste!B14 &\" \"&Teilnehmerliste!C14","v":"Philippe Bartholet"},{"$f":"SUMPRODUCT((Finalrunde!$D$11:$D$26<>\"\")*(Finalrunde!$D$11:$D$26=Finalrunde!$BN$11:$BN$26))\n+SUMPRODUCT((Finalrunde!$E$11:$E$26<>\"\")*(Finalrunde!$E$11:$E$26=Finalrunde!$BQ$11:$BQ$26))","v":18},9,{"$f":"SUMPRODUCT((COUNTIF(Finalrunde!$D$11:$E$26,Finalrunde!$BN$11:$BN$26)=0)*1)\n+SUMPRODUCT((COUNTIF(Finalrunde!$D$11:$E$26,Finalrunde!$BQ$11:$BQ$26)=0)*1)","v":5},null,{"$f":"Teilnehmerliste!$A$14","v":9},{"$f":"Teilnehmerliste!B14 &\" \"&Teilnehmerliste!C14","v":"Philippe Bartholet"},{"$f":"SUMPRODUCT((Finalrunde!$D$28:$D$35<>\"\")*(Finalrunde!$D$28:$D$35=Finalrunde!$BN$28:$BN$35))\n+SUMPRODUCT((Finalrunde!$E$28:$E$35<>\"\")*(Finalrunde!$E$28:$E$35=Finalrunde!$BQ$28:$BQ$35))","v":8},2,{"$f":"SUMPRODUCT((COUNTIF(Finalrunde!$D$28:$E$35,Finalrunde!$BN$28:$BN$35)=0)*1)\n+SUMPRODUCT((COUNTIF(Finalrunde!$D$28:$E$35,Finalrunde!$BQ$28:$BQ$35)=0)*1)","v":6},null,{"$f":"Teilnehmerliste!$A$14","v":9},"Philippe Bartholet",{"$f":"SUMPRODUCT((Finalrunde!$D$37:$D$40<>\"\")*(Finalrunde!$D$37:$D$40=Finalrunde!$BN$37:$BN$40))\n+SUMPRODUCT((Finalrunde!$E$37:$E$40<>\"\")*(Finalrunde!$E$37:$E$40=Finalrunde!$BQ$37:$BQ$40))","v":6},0,{"$f":"SUMPRODUCT((COUNTIF(Finalrunde!$D$37:$E$40,Finalrunde!$BN$37:$BN$40)=0)*1)\n+SUMPRODUCT((COUNTIF(Finalrunde!$D$37:$E$40,Finalrunde!$BQ$37:$BQ$40)=0)*1)","v":2},null,{"$f":"Teilnehmerliste!$A$14","v":9},"Philippe Bartholet",{"$f":"SUMPRODUCT((Finalrunde!$D$42:$D$43<>\"\")*(Finalrunde!$D$42:$D$43=Finalrunde!$BN$42:$BN$43))\n+SUMPRODUCT((Finalrunde!$E$42:$E$43<>\"\")*(Finalrunde!$E$42:$E$43=Finalrunde!$BQ$42:$BQ$43))","v":2},0,{"$f":"SUMPRODUCT((COUNTIF(Finalrunde!$D$42:$E$43,Finalrunde!$BN$42:$BN$43)=0)*1)\n+SUMPRODUCT((COUNTIF(Finalrunde!$D$42:$E$43,Finalrunde!$BQ$42:$BQ$43)=0)*1)","v":2}]
[{"$f":"Teilnehmerliste!$A$15","v":10},{"$f":"Teilnehmerliste!B15 &\" \"&Teilnehmerliste!C15","v":"Roger Bartholet"},{"$f":"SUMPRODUCT((Finalrunde!$D$11:$D$26<>\"\")*(Finalrunde!$D$11:$D$26=Finalrunde!$BU$11:$BU$26))\n+SUMPRODUCT((Finalrunde!$E$11:$E$26<>\"\")*(Finalrunde!$E$11:$E$26=Finalrunde!$BX$11:$BX$26))","v":18},9,{"$f":"SUMPRODUCT((COUNTIF(Finalrunde!$D$11:$E$26,Finalrunde!$BU$11:$BU$26)=0)*1)\n+SUMPRODUCT((COUNTIF(Finalrunde!$D$11:$E$26,Finalrunde!$BX$11:$BX$26)=0)*1)","v":5},null,{"$f":"Teilnehmerliste!$A$15","v":10},{"$f":"Teilnehmerliste!B15 &\" \"&Teilnehmerliste!C15","v":"Roger Bartholet"},{"$f":"SUMPRODUCT((Finalrunde!$D$28:$D$35<>\"\")*(Finalrunde!$D$28:$D$35=Finalrunde!$BU$28:$BU$35))\n+SUMPRODUCT((Finalrunde!$E$28:$E$35<>\"\")*(Finalrunde!$E$28:$E$35=Finalrunde!$BX$28:$BX$35))","v":9},3,{"$f":"SUMPRODUCT((COUNTIF(Finalrunde!$D$28:$E$35,Finalrunde!$BU$28:$BU$35)=0)*1)\n+SUMPRODUCT((COUNTIF(Finalrunde!$D$28:$E$35,Finalrunde!$BX$28:$BX$35)=0)*1)","v":4},null,{"$f":"Teilnehmerliste!$A$15","v":10},"Roger Bartholet",{"$f":"SUMPRODUCT((Finalrunde!$D$37:$D$40<>\"\")*(Finalrunde!$D$37:$D$40=Finalrunde!$BU$37:$BU$40))\n+SUMPRODUCT((Finalrunde!$E$37:$E$40<>\"\")*(Finalrunde!$E$37:$E$40=Finalrunde!$BX$37:$BX$40))","v":4},0,{"$f":"SUMPRODUCT((COUNTIF(Finalrunde!$D$37:$E$40,Finalrunde!$BU$37:$BU$40)=0)*1)\n+SUMPRODUCT((COUNTIF(Finalrunde!$D$37:$E$40,Finalrunde!$BX$37:$BX$40)=0)*1)","v":4},null,{"$f":"Teilnehmerliste!$A$15","v":10},"Roger Bartholet",{"$f":"SUMPRODUCT((Finalrunde!$D$42:$D$43<>\"\")*(Finalrunde!$D$42:$D$43=Finalrunde!$BU$42:$BU$43))\n+SUMPRODUCT((Finalrunde!$E$42:$E$43<>\"\")*(Finalrunde!$E$42:$E$43=Finalrunde!$BX$42:$BX$43))","v":0},0,{"$f":"SUMPRODUCT((COUNTIF(Finalrunde!$D$42:$E$43,Finalrunde!$BU$42:$BU$43)=0)*1)\n+SUMPRODUCT((COUNTIF(Finalrunde!$D$42:$E$43,Finalrunde!$BX$42:$BX$43)=0)*1)","v":4}]
[{"$f":"Teilnehmerliste!$A$16","v":11},{"$f":"Teilnehmerliste!B16 &\" \"&Teilnehmerliste!C16","v":"Mara Beck"},{"$f":"SUMPRODUCT((Finalrunde!$D$11:$D$26<>\"\")*(Finalrunde!$D$11:$D$26=Finalrunde!$CB$11:$CB$26))\n+SUMPRODUCT((Finalrunde!$E$11:$E$26<>\"\")*(Finalrunde!$E$11:$E$26=Finalrunde!$CE$11:$CE$26))","v":15},11,{"$f":"SUMPRODUCT((COUNTIF(Finalrunde!$D$11:$E$26,Finalrunde!$CB$11:$CB$26)=0)*1)\n+SUMPRODUCT((COUNTIF(Finalrunde!$D$11:$E$26,Finalrunde!$CE$11:$CE$26)=0)*1)","v":6},null,{"$f":"Teilnehmerliste!$A$16","v":11},{"$f":"Teilnehmerliste!B16 &\" \"&Teilnehmerliste!C16","v":"Mara Beck"},{"$f":"SUMPRODUCT((Finalrunde!$D$28:$D$35<>\"\")*(Finalrunde!$D$28:$D$35=Finalrunde!$CB$28:$CB$35))\n+SUMPRODUCT((Finalrunde!$E$28:$E$35<>\"\")*(Finalrunde!$E$28:$E$35=Finalrunde!$CE$28:$CE$35))","v":10},2,{"$f":"SUMPRODUCT((COUNTIF(Finalrunde!$D$28:$E$35,Finalrunde!$CB$28:$CB$35)=0)*1)\n+SUMPRODUCT((COUNTIF(Finalrunde!$D$28:$E$35,Finalrunde!$CE$28:$CE$35)=0)*1)","v":4},null,{"$f":"Teilnehmerliste!$A$16","v":11},"Mara Beck",{"$f":"SUMPRODUCT((Finalrunde!$D$37:$D$40<>\"\")*(Finalrunde!$D$37:$D$40=Finalrunde!$CB$37:$CB$40))\n+SUMPRODUCT((Finalrunde!$E$37:$E$40<>\"\")*(Finalrunde!$E$37:$E$40=Finalrunde!$CE$37:$CE$40))","v":5},0,{"$f":"SUMPRODUCT((COUNTIF(Finalrunde!$D$37:$E$40,Finalrunde!$CB$37:$CB$40)=0)*1)\n+SUMPRODUCT((COUNTIF(Finalrunde!$D$37:$E$40,Finalrunde!$CE$37:$CE$40)=0)*1)","v":3},null,{"$f":"Teilnehmerliste!$A$16","v":11},"Mara Beck",{"$f":"SUMPRODUCT((Finalrunde!$D$42:$D$43<>\"\")*(Finalrunde!$D$42:$D$43=Finalrunde!$CB$42:$CB$43))\n+SUMPRODUCT((Finalrunde!$E$42:$E$43<>\"\")*(Finalrunde!$E$42:$E$43=Finalrunde!$CE$42:$CE$43))","v":4},0,{"$f":"SUMPRODUCT((COUNTIF(Finalrunde!$D$42:$E$43,Finalrunde!$CB$42:$CB$43)=0)*1)\n+SUMPRODUCT((COUNTIF(Finalrunde!$D$42:$E$43,Finalrunde!$CE$42:$CE$43)=0)*1)","v":0}]
[{"$f":"Teilnehmerliste!$A$17","v":12},{"$f":"Teilnehmerliste!B17 &\" \"&Teilnehmerliste!C17","v":"Pongsapat Nott Boonaek"},{"$f":"SUMPRODUCT((Finalrunde!$D$11:$D$26<>\"\")*(Finalrunde!$D$11:$D$26=Finalrunde!$CI$11:$CI$26))\n+SUMPRODUCT((Finalrunde!$E$11:$E$26<>\"\")*(Finalrunde!$E$11:$E$26=Finalrunde!$CL$11:$CL$26))","v":20},6,{"$f":"SUMPRODUCT((COUNTIF(Finalrunde!$D$11:$E$26,Finalrunde!$CI$11:$CI$26)=0)*1)\n+SUMPRODUCT((COUNTIF(Finalrunde!$D$11:$E$26,Finalrunde!$CL$11:$CL$26)=0)*1)","v":6},null,{"$f":"Teilnehmerliste!$A$17","v":12},{"$f":"Teilnehmerliste!B17 &\" \"&Teilnehmerliste!C17","v":"Pongsapat Nott Boonaek"},{"$f":"SUMPRODUCT((Finalrunde!$D$28:$D$35<>\"\")*(Finalrunde!$D$28:$D$35=Finalrunde!$CI$28:$CI$35))\n+SUMPRODUCT((Finalrunde!$E$28:$E$35<>\"\")*(Finalrunde!$E$28:$E$35=Finalrunde!$CL$28:$CL$35))","v":7},3,{"$f":"SUMPRODUCT((COUNTIF(Finalrunde!$D$28:$E$35,Finalrunde!$CI$28:$CI$35)=0)*1)\n+SUMPRODUCT((COUNTIF(Finalrunde!$D$28:$E$35,Finalrunde!$CL$28:$CL$35)=0)*1)","v":6},null,{"$f":"Teilnehmerliste!$A$17","v":12},"Pongsapat Nott Boonaek",{"$f":"SUMPRODUCT((Finalrunde!$D$37:$D$40<>\"\")*(Finalrunde!$D$37:$D$40=Finalrunde!$CI$37:$CI$40))\n+SUMPRODUCT((Finalrunde!$E$37:$E$40<>\"\")*(Finalrunde!$E$37:$E$40=Finalrunde!$CL$37:$CL$40))","v":7},0,{"$f":"SUMPRODUCT((COUNTIF(Finalrunde!$D$37:$E$40,Finalrunde!$CI$37:$CI$40)=0)*1)\n+SUMPRODUCT((COUNTIF(Finalrunde!$D$37:$E$40,Finalrunde!$CL$37:$CL$40)=0)*1)","v":1},null,{"$f":"Teilnehmerliste!$A$17","v":12},"Pongsapat Nott Boonaek",{"$f":"SUMPRODUCT((Finalrunde!$D$42:$D$43<>\"\")*(Finalrunde!$D$42:$D$43=Finalrunde!$CI$42:$CI$43))\n+SUMPRODUCT((Finalrunde!$E$42:$E$43<>\"\")*(Finalrunde!$E$42:$E$43=Finalrunde!$CL$42:$CL$43))","v":3},0,{"$f":"SUMPRODUCT((COUNTIF(Finalrunde!$D$42:$E$43,Finalrunde!$CI$42:$CI$43)=0)*1)\n+SUMPRODUCT((COUNTIF(Finalrunde!$D$42:$E$43,Finalrunde!$CL$42:$CL$43)=0)*1)","v":1}]
[{"$f":"Teilnehmerliste!$A$18","v":13},{"$f":"Teilnehmerliste!B18 &\" \"&Teilnehmerliste!C18","v":"Michael Bosshart"},{"$f":"SUMPRODUCT((Finalrunde!$D$11:$D$26<>\"\")*(Finalrunde!$D$11:$D$26=Finalrunde!$CP$11:$CP$26))\n+SUMPRODUCT((Finalrunde!$E$11:$E$26<>\"\")*(Finalrunde!$E$11:$E$26=Finalrunde!$CS$11:$CS$26))","v":21},6,{"$f":"SUMPRODUCT((COUNTIF(Finalrunde!$D$11:$E$26,Finalrunde!$CP$11:$CP$26)=0)*1)\n+SUMPRODUCT((COUNTIF(Finalrunde!$D$11:$E$26,Finalrunde!$CS$11:$CS$26)=0)*1)","v":5},null,{"$f":"Teilnehmerliste!$A$18","v":13},{"$f":"Teilnehmerliste!B18 &\" \"&Teilnehmerliste!C18","v":"Michael Bosshart"},{"$f":"SUMPRODUCT((Finalrunde!$D$28:$D$35<>\"\")*(Finalrunde!$D$28:$D$35=Finalrunde!$CP$28:$CP$35))\n+SUMPRODUCT((Finalrunde!$E$28:$E$35<>\"\")*(Finalrunde!$E$28:$E$35=Finalrunde!$CS$28:$CS$35))","v":9},2,{"$f":"SUMPRODUCT((COUNTIF(Finalrunde!$D$28:$E$35,Finalrunde!$CP$28:$CP$35)=0)*1)\n+SUMPRODUCT((COUNTIF(Finalrunde!$D$28:$E$35,Finalrunde!$CS$28:$CS$35)=0)*1)","v":5},null,{"$f":"Teilnehmerliste!$A$18","v":13},"Michael Bosshart",{"$f":"SUMPRODUCT((Finalrunde!$D$37:$D$40<>\"\")*(Finalrunde!$D$37:$D$40=Finalrunde!$CP$37:$CP$40))\n+SUMPRODUCT((Finalrunde!$E$37:$E$40<>\"\")*(Finalrunde!$E$37:$E$40=Finalrunde!$CS$37:$CS$40))","v":5},0,{"$f":"SUMPRODUCT((COUNTIF(Finalrunde!$D$37:$E$40,Finalrunde!$CP$37:$CP$40)=0)*1)\n+SUMPRODUCT((COUNTIF(Finalrunde!$D$37:$E$40,Finalrunde!$CS$37:$CS$40)=0)*1)","v":3},null,{"$f":"Teilnehmerliste!$A$18","v":13},"Michael Bosshart",{"$f":"SUMPRODUCT((Finalrunde!$D$42:$D$43<>\"\")*(Finalrunde!$D$42:$D$43=Finalrunde!$CP$42:$CP$43))\n+SUMPRODUCT((Finalrunde!$E$42:$E$43<>\"\")*(Finalrunde!$E$42:$E$43=Finalrunde!$CS$42:$CS$43))","v":4},0,{"$f":"SUMPRODUCT((COUNTIF(Finalrunde!$D$42:$E$43,Finalrunde!$CP$42:$CP$43)=0)*1)\n+SUMPRODUCT((COUNTIF(Finalrunde!$D$42:$E$43,Finalrunde!$CS$42:$CS$43)=0)*1)","v":0}]
[{"$f":"Teilnehmerliste!$A$19","v":14},{"$f":"Teilnehmerliste!B19 &\" \"&Teilnehmerliste!C19","v":"Manfred Brunner"},{"$f":"SUMPRODUCT((Finalrunde!$D$11:$D$26<>\"\")*(Finalrunde!$D$11:$D$26=Finalrunde!$CW$11:$CW$26))\n+SUMPRODUCT((Finalrunde!$E$11:$E$26<>\"\")*(Finalrunde!$E$11:$E$26=Finalrunde!$CZ$11:$CZ$26))","v":16},9,{"$f":"SUMPRODUCT((COUNTIF(Finalrunde!$D$11:$E$26,Finalrunde!$CW$11:$CW$26)=0)*1)\n+SUMPRODUCT((COUNTIF(Finalrunde!$D$11:$E$26,Finalrunde!$CZ$11:$CZ$26)=0)*1)","v":7},null,{"$f":"Teilnehmerliste!$A$19","v":14},{"$f":"Teilnehmerliste!B19 &\" \"&Teilnehmerliste!C19","v":"Manfred Brunner"},{"$f":"SUMPRODUCT((Finalrunde!$D$28:$D$35<>\"\")*(Finalrunde!$D$28:$D$35=Finalrunde!$CW$28:$CW$35))\n+SUMPRODUCT((Finalrunde!$E$28:$E$35<>\"\")*(Finalrunde!$E$28:$E$35=Finalrunde!$CZ$28:$CZ$35))","v":6},3,{"$f":"SUMPRODUCT((COUNTIF(Finalrunde!$D$28:$E$35,Finalrunde!$CW$28:$CW$35)=0)*1)\n+SUMPRODUCT((COUNTIF(Finalrunde!$D$28:$E$35,Finalrunde!$CZ$28:$CZ$35)=0)*1)","v":7},null,{"$f":"Teilnehmerliste!$A$19","v":14},"Manfred Brunner",{"$f":"SUMPRODUCT((Finalrunde!$D$37:$D$40<>\"\")*(Finalrunde!$D$37:$D$40=Finalrunde!$CW$37:$CW$40))\n+SUMPRODUCT((Finalrunde!$E$37:$E$40<>\"\")*(Finalrunde!$E$37:$E$40=Finalrunde!$CZ$37:$CZ$40))","v":3},0,{"$f":"SUMPRODUCT((COUNTIF(Finalrunde!$D$37:$E$40,Finalrunde!$CW$37:$CW$40)=0)*1)\n+SUMPRODUCT((COUNTIF(Finalrunde!$D$37:$E$40,Finalrunde!$CZ$37:$CZ$40)=0)*1)","v":5},null,{"$f":"Teilnehmerliste!$A$19","v":14},"Manfred Brunner",{"$f":"SUMPRODUCT((Finalrunde!$D$42:$D$43<>\"\")*(Finalrunde!$D$42:$D$43=Finalrunde!$CW$42:$CW$43))\n+SUMPRODUCT((Finalrunde!$E$42:$E$43<>\"\")*(Finalrunde!$E$42:$E$43=Finalrunde!$CZ$42:$CZ$43))","v":0},0,{"$f":"SUMPRODUCT((COUNTIF(Finalrunde!$D$42:$E$43,Finalrunde!$CW$42:$CW$43)=0)*1)\n+SUMPRODUCT((COUNTIF(Finalrunde!$D$42:$E$43,Finalrunde!$CZ$42:$CZ$43)=0)*1)","v":4}]
[{"$f":"Teilnehmerliste!$A$20","v":15},{"$f":"Teilnehmerliste!B20 &\" \"&Teilnehmerliste!C20","v":"Manuel Brunner"},{"$f":"SUMPRODUCT((Finalrunde!$D$11:$D$26<>\"\")*(Finalrunde!$D$11:$D$26=Finalrunde!$DD$11:$DD$26))\n+SUMPRODUCT((Finalrunde!$E$11:$E$26<>\"\")*(Finalrunde!$E$11:$E$26=Finalrunde!$DG$11:$DG$26))","v":14},11,{"$f":"SUMPRODUCT((COUNTIF(Finalrunde!$D$11:$E$26,Finalrunde!$DD$11:$DD$26)=0)*1)\n+SUMPRODUCT((COUNTIF(Finalrunde!$D$11:$E$26,Finalrunde!$DG$11:$DG$26)=0)*1)","v":7},null,{"$f":"Teilnehmerliste!$A$20","v":15},{"$f":"Teilnehmerliste!B20 &\" \"&Teilnehmerliste!C20","v":"Manuel Brunner"},{"$f":"SUMPRODUCT((Finalrunde!$D$28:$D$35<>\"\")*(Finalrunde!$D$28:$D$35=Finalrunde!$DD$28:$DD$35))\n+SUMPRODUCT((Finalrunde!$E$28:$E$35<>\"\")*(Finalrunde!$E$28:$E$35=Finalrunde!$DG$28:$DG$35))","v":9},1,{"$f":"SUMPRODUCT((COUNTIF(Finalrunde!$D$28:$E$35,Finalrunde!$DD$28:$DD$35)=0)*1)\n+SUMPRODUCT((COUNTIF(Finalrunde!$D$28:$E$35,Finalrunde!$DG$28:$DG$35)=0)*1)","v":6},null,{"$f":"Teilnehmerliste!$A$20","v":15},"Manuel Brunner",{"$f":"SUMPRODUCT((Finalrunde!$D$37:$D$40<>\"\")*(Finalrunde!$D$37:$D$40=Finalrunde!$DD$37:$DD$40))\n+SUMPRODUCT((Finalrunde!$E$37:$E$40<>\"\")*(Finalrunde!$E$37:$E$40=Finalrunde!$DG$37:$DG$40))","v":5},0,{"$f":"SUMPRODUCT((COUNTIF(Finalrunde!$D$37:$E$40,Finalrunde!$DD$37:$DD$40)=0)*1)\n+SUMPRODUCT((COUNTIF(Finalrunde!$D$37:$E$40,Finalrunde!$DG$37:$DG$40)=0)*1)","v":3},null,{"$f":"Teilnehmerliste!$A$20","v":15},"Manuel Brunner",{"$f":"SUMPRODUCT((Finalrunde!$D$42:$D$43<>\"\")*(Finalrunde!$D$42:$D$43=Finalrunde!$DD$42:$DD$43))\n+SUMPRODUCT((Finalrunde!$E$42:$E$43<>\"\")*(Finalrunde!$E$42:$E$43=Finalrunde!$DG$42:$DG$43))","v":2},0,{"$f":"SUMPRODUCT((COUNTIF(Finalrunde!$D$42:$E$43,Finalrunde!$DD$42:$DD$43)=0)*1)\n+SUMPRODUCT((COUNTIF(Finalrunde!$D$42:$E$43,Finalrunde!$DG$42:$DG$43)=0)*1)","v":2}]
[{"$f":"Teilnehmerliste!$A$21","v":16},{"$f":"Teilnehmerliste!B21 &\" \"&Teilnehmerliste!C21","v":"Nicolas Brunner"},{"$f":"SUMPRODUCT((Finalrunde!$D$11:$D$26<>\"\")*(Finalrunde!$D$11:$D$26=Finalrunde!$DK$11:$DK$26))\n+SUMPRODUCT((Finalrunde!$E$11:$E$26<>\"\")*(Finalrunde!$E$11:$E$26=Finalrunde!$DN$11:$DN$26))","v":15},12,{"$f":"SUMPRODUCT((COUNTIF(Finalrunde!$D$11:$E$26,Finalrunde!$DK$11:$DK$26)=0)*1)\n+SUMPRODUCT((COUNTIF(Finalrunde!$D$11:$E$26,Finalrunde!$DN$11:$DN$26)=0)*1)","v":5},null,{"$f":"Teilnehmerliste!$A$21","v":16},{"$f":"Teilnehmerliste!B21 &\" \"&Teilnehmerliste!C21","v":"Nicolas Brunner"},{"$f":"SUMPRODUCT((Finalrunde!$D$28:$D$35<>\"\")*(Finalrunde!$D$28:$D$35=Finalrunde!$DK$28:$DK$35))\n+SUMPRODUCT((Finalrunde!$E$28:$E$35<>\"\")*(Finalrunde!$E$28:$E$35=Finalrunde!$DN$28:$DN$35))","v":11},1,{"$f":"SUMPRODUCT((COUNTIF(Finalrunde!$D$28:$E$35,Finalrunde!$DK$28:$DK$35)=0)*1)\n+SUMPRODUCT((COUNTIF(Finalrunde!$D$28:$E$35,Finalrunde!$DN$28:$DN$35)=0)*1)","v":4},null,{"$f":"Teilnehmerliste!$A$21","v":16},"Nicolas Brunner",{"$f":"SUMPRODUCT((Finalrunde!$D$37:$D$40<>\"\")*(Finalrunde!$D$37:$D$40=Finalrunde!$DK$37:$DK$40))\n+SUMPRODUCT((Finalrunde!$E$37:$E$40<>\"\")*(Finalrunde!$E$37:$E$40=Finalrunde!$DN$37:$DN$40))","v":5},0,{"$f":"SUMPRODUCT((COUNTIF(Finalrunde!$D$37:$E$40,Finalrunde!$DK$37:$DK$40)=0)*1)\n+SUMPRODUCT((COUNTIF(Finalrunde!$D$37:$E$40,Finalrunde!$DN$37:$DN$40)=0)*1)","v":3},null,{"$f":"Teilnehmerliste!$A$21","v":16},"Nicolas Brunner",{"$f":"SUMPRODUCT((Finalrunde!$D$42:$D$43<>\"\")*(Finalrunde!$D$42:$D$43=Finalrunde!$DK$42:$DK$43))\n+SUMPRODUCT((Finalrunde!$E$42:$E$43<>\"\")*(Finalrunde!$E$42:$E$43=Finalrunde!$DN$42:$DN$43))","v":3},0,{"$f":"SUMPRODUCT((COUNTIF(Finalrunde!$D$42:$E$43,Finalrunde!$DK$42:$DK$43)=0)*1)\n+SUMPRODUCT((COUNTIF(Finalrunde!$D$42:$E$43,Finalrunde!$DN$42:$DN$43)=0)*1)","v":1}]
[{"$f":"Teilnehmerliste!$A$22","v":17},{"$f":"Teilnehmerliste!B22 &\" \"&Teilnehmerliste!C22","v":"Philip Brunner"},{"$f":"SUMPRODUCT((Finalrunde!$D$11:$D$26<>\"\")*(Finalrunde!$D$11:$D$26=Finalrunde!$DR$11:$DR$26))\n+SUMPRODUCT((Finalrunde!$E$11:$E$26<>\"\")*(Finalrunde!$E$11:$E$26=Finalrunde!$DU$11:$DU$26))","v":16},10,{"$f":"SUMPRODUCT((COUNTIF(Finalrunde!$D$11:$E$26,Finalrunde!$DR$11:$DR$26)=0)*1)\n+SUMPRODUCT((COUNTIF(Finalrunde!$D$11:$E$26,Finalrunde!$DU$11:$DU$26)=0)*1)","v":6},null,{"$f":"Teilnehmerliste!$A$22","v":17},{"$f":"Teilnehmerliste!B22 &\" \"&Teilnehmerliste!C22","v":"Philip Brunner"},{"$f":"SUMPRODUCT((Finalrunde!$D$28:$D$35<>\"\")*(Finalrunde!$D$28:$D$35=Finalrunde!$DR$28:$DR$35))\n+SUMPRODUCT((Finalrunde!$E$28:$E$35<>\"\")*(Finalrunde!$E$28:$E$35=Finalrunde!$DU$28:$DU$35))","v":9},3,{"$f":"SUMPRODUCT((COUNTIF(Finalrunde!$D$28:$E$35,Finalrunde!$DR$28:$DR$35)=0)*1)\n+SUMPRODUCT((COUNTIF(Finalrunde!$D$28:$E$35,Finalrunde!$DU$28:$DU$35)=0)*1)","v":4},null,{"$f":"Teilnehmerliste!$A$22","v":17},"Philip Brunner",{"$f":"SUMPRODUCT((Finalrunde!$D$37:$D$40<>\"\")*(Finalrunde!$D$37:$D$40=Finalrunde!$DR$37:$DR$40))\n+SUMPRODUCT((Finalrunde!$E$37:$E$40<>\"\")*(Finalrunde!$E$37:$E$40=Finalrunde!$DU$37:$DU$40))","v":5},0,{"$f":"SUMPRODUCT((COUNTIF(Finalrunde!$D$37:$E$40,Finalrunde!$DR$37:$DR$40)=0)*1)\n+SUMPRODUCT((COUNTIF(Finalrunde!$D$37:$E$40,Finalrunde!$DU$37:$DU$40)=0)*1)","v":3},null,{"$f":"Teilnehmerliste!$A$22","v":17},"Philip Brunner",{"$f":"SUMPRODUCT((Finalrunde!$D$42:$D$43<>\"\")*(Finalrunde!$D$42:$D$43=Finalrunde!$DR$42:$DR$43))\n+SUMPRODUCT((Finalrunde!$E$42:$E$43<>\"\")*(Finalrunde!$E$42:$E$43=Finalrunde!$DU$42:$DU$43))","v":2},0,{"$f":"SUMPRODUCT((COUNTIF(Finalrunde!$D$42:$E$43,Finalrunde!$DR$42:$DR$43)=0)*1)\n+SUMPRODUCT((COUNTIF(Finalrunde!$D$42:$E$43,Finalrunde!$DU$42:$DU$43)=0)*1)","v":2}]
[{"$f":"Teilnehmerliste!$A$23","v":18},{"$f":"Teilnehmerliste!B23 &\" \"&Teilnehmerliste!C23","v":"André Burkart"},{"$f":"SUMPRODUCT((Finalrunde!$D$11:$D$26<>\"\")*(Finalrunde!$D$11:$D$26=Finalrunde!$DY$11:$DY$26))\n+SUMPRODUCT((Finalrunde!$E$11:$E$26<>\"\")*(Finalrunde!$E$11:$E$26=Finalrunde!$EB$11:$EB$26))","v":15},13,{"$f":"SUMPRODUCT((COUNTIF(Finalrunde!$D$11:$E$26,Finalrunde!$DY$11:$DY$26)=0)*1)\n+SUMPRODUCT((COUNTIF(Finalrunde!$D$11:$E$26,Finalrunde!$EB$11:$EB$26)=0)*1)","v":4},null,{"$f":"Teilnehmerliste!$A$23","v":18},{"$f":"Teilnehmerliste!B23 &\" \"&Teilnehmerliste!C23","v":"André Burkart"},{"$f":"SUMPRODUCT((Finalrunde!$D$28:$D$35<>\"\")*(Finalrunde!$D$28:$D$35=Finalrunde!$DY$28:$DY$35))\n+SUMPRODUCT((Finalrunde!$E$28:$E$35<>\"\")*(Finalrunde!$E$28:$E$35=Finalrunde!$EB$28:$EB$35))","v":9},3,{"$f":"SUMPRODUCT((COUNTIF(Finalrunde!$D$28:$E$35,Finalrunde!$DY$28:$DY$35)=0)*1)\n+SUMPRODUCT((COUNTIF(Finalrunde!$D$28:$E$35,Finalrunde!$EB$28:$EB$35)=0)*1)","v":4},null,{"$f":"Teilnehmerliste!$A$23","v":18},"André Burkart",{"$f":"SUMPRODUCT((Finalrunde!$D$37:$D$40<>\"\")*(Finalrunde!$D$37:$D$40=Finalrunde!$DY$37:$DY$40))\n+SUMPRODUCT((Finalrunde!$E$37:$E$40<>\"\")*(Finalrunde!$E$37:$E$40=Finalrunde!$EB$37:$EB$40))","v":5},0,{"$f":"SUMPRODUCT((COUNTIF(Finalrunde!$D$37:$E$40,Finalrunde!$DY$37:$DY$40)=0)*1)\n+SUMPRODUCT((COUNTIF(Finalrunde!$D$37:$E$40,Finalrunde!$EB$37:$EB$40)=0)*1)","v":3},null,{"$f":"Teilnehmerliste!$A$23","v":18},"André Burkart",{"$f":"SUMPRODUCT((Finalrunde!$D$42:$D$43<>\"\")*(Finalrunde!$D$42:$D$43=Finalrunde!$DY$42:$DY$43))\n+SUMPRODUCT((Finalrunde!$E$42:$E$43<>\"\")*(Finalrunde!$E$42:$E$43=Finalrunde!$EB$42:$EB$43))","v":3},0,{"$f":"SUMPRODUCT((COUNTIF(Finalrunde!$D$42:$E$43,Finalrunde!$DY$42:$DY$43)=0)*1)\n+SUMPRODUCT((COUNTIF(Finalrunde!$D$42:$E$43,Finalrunde!$EB$42:$EB$43)=0)*1)","v":1}]
[{"$f":"Teilnehmerliste!$A$24","v":19},{"$f":"Teilnehmerliste!B24 &\" \"&Teilnehmerliste!C24","v":"Oli Christiansen"},{"$f":"SUMPRODUCT((Finalrunde!$D$11:$D$26<>\"\")*(Finalrunde!$D$11:$D$26=Finalrunde!$EF$11:$EF$26))\n+SUMPRODUCT((Finalrunde!$E$11:$E$26<>\"\")*(Finalrunde!$E$11:$E$26=Finalrunde!$EI$11:$EI$26))","v":16},8,{"$f":"SUMPRODUCT((COUNTIF(Finalrunde!$D$11:$E$26,Finalrunde!$EF$11:$EF$26)=0)*1)\n+SUMPRODUCT((COUNTIF(Finalrunde!$D$11:$E$26,Finalrunde!$EI$11:$EI$26)=0)*1)","v":8},null,{"$f":"Teilnehmerliste!$A$24","v":19},{"$f":"Teilnehmerliste!B24 &\" \"&Teilnehmerliste!C24","v":"Oli Christiansen"},{"$f":"SUMPRODUCT((Finalrunde!$D$28:$D$35<>\"\")*(Finalrunde!$D$28:$D$35=Finalrunde!$EF$28:$EF$35))\n+SUMPRODUCT((Finalrunde!$E$28:$E$35<>\"\")*(Finalrunde!$E$28:$E$35=Finalrunde!$EI$28:$EI$35))","v":7},4,{"$f":"SUMPRODUCT((COUNTIF(Finalrunde!$D$28:$E$35,Finalrunde!$EF$28:$EF$35)=0)*1)\n+SUMPRODUCT((COUNTIF(Finalrunde!$D$28:$E$35,Finalrunde!$EI$28:$EI$35)=0)*1)","v":5},null,{"$f":"Teilnehmerliste!$A$24","v":19},"Oli Christiansen",{"$f":"SUMPRODUCT((Finalrunde!$D$37:$D$40<>\"\")*(Finalrunde!$D$37:$D$40=Finalrunde!$EF$37:$EF$40))\n+SUMPRODUCT((Finalrunde!$E$37:$E$40<>\"\")*(Finalrunde!$E$37:$E$40=Finalrunde!$EI$37:$EI$40))","v":3},1,{"$f":"SUMPRODUCT((COUNTIF(Finalrunde!$D$37:$E$40,Finalrunde!$EF$37:$EF$40)=0)*1)\n+SUMPRODUCT((COUNTIF(Finalrunde!$D$37:$E$40,Finalrunde!$EI$37:$EI$40)=0)*1)","v":4},null,{"$f":"Teilnehmerliste!$A$24","v":19},"Oli Christiansen",{"$f":"SUMPRODUCT((Finalrunde!$D$42:$D$43<>\"\")*(Finalrunde!$D$42:$D$43=Finalrunde!$EF$42:$EF$43))\n+SUMPRODUCT((Finalrunde!$E$42:$E$43<>\"\")*(Finalrunde!$E$42:$E$43=Finalrunde!$EI$42:$EI$43))","v":2},1,{"$f":"SUMPRODUCT((COUNTIF(Finalrunde!$D$42:$E$43,Finalrunde!$EF$42:$EF$43)=0)*1)\n+SUMPRODUCT((COUNTIF(Finalrunde!$D$42:$E$43,Finalrunde!$EI$42:$EI$43)=0)*1)","v":1}]
[{"$f":"Teilnehmerliste!$A$25","v":20},{"$f":"Teilnehmerliste!B25 &\" \"&Teilnehmerliste!C25","v":"Javier Cruz"},{"$f":"SUMPRODUCT((Finalrunde!$D$11:$D$26<>\"\")*(Finalrunde!$D$11:$D$26=Finalrunde!$EM$11:$EM$26))\n+SUMPRODUCT((Finalrunde!$E$11:$E$26<>\"\")*(Finalrunde!$E$11:$E$26=Finalrunde!$EP$11:$EP$26))","v":15},10,{"$f":"SUMPRODUCT((COUNTIF(Finalrunde!$D$11:$E$26,Finalrunde!$EM$11:$EM$26)=0)*1)\n+SUMPRODUCT((COUNTIF(Finalrunde!$D$11:$E$26,Finalrunde!$EP$11:$EP$26)=0)*1)","v":7},null,{"$f":"Teilnehmerliste!$A$25","v":20},{"$f":"Teilnehmerliste!B25 &\" \"&Teilnehmerliste!C25","v":"Javier Cruz"},{"$f":"SUMPRODUCT((Finalrunde!$D$28:$D$35<>\"\")*(Finalrunde!$D$28:$D$35=Finalrunde!$EM$28:$EM$35))\n+SUMPRODUCT((Finalrunde!$E$28:$E$35<>\"\")*(Finalrunde!$E$28:$E$35=Finalrunde!$EP$28:$EP$35))","v":8},5,{"$f":"SUMPRODUCT((COUNTIF(Finalrunde!$D$28:$E$35,Finalrunde!$EM$28:$EM$35)=0)*1)\n+SUMPRODUCT((COUNTIF(Finalrunde!$D$28:$E$35,Finalrunde!$EP$28:$EP$35)=0)*1)","v":3},null,{"$f":"Teilnehmerliste!$A$25","v":20},"Javier Cruz",{"$f":"SUMPRODUCT((Finalrunde!$D$37:$D$40<>\"\")*(Finalrunde!$D$37:$D$40=Finalrunde!$EM$37:$EM$40))\n+SUMPRODUCT((Finalrunde!$E$37:$E$40<>\"\")*(Finalrunde!$E$37:$E$40=Finalrunde!$EP$37:$EP$40))","v":5},1,{"$f":"SUMPRODUCT((COUNTIF(Finalrunde!$D$37:$E$40,Finalrunde!$EM$37:$EM$40)=0)*1)\n+SUMPRODUCT((COUNTIF(Finalrunde!$D$37:$E$40,Finalrunde!$EP$37:$EP$40)=0)*1)","v":2},null,{"$f":"Teilnehmerliste!$A$25","v":20},"Javier Cruz",{"$f":"SUMPRODUCT((Finalrunde!$D$42:$D$43<>\"\")*(Finalrunde!$D$42:$D$43=Finalrunde!$EM$42:$EM$43))\n+SUMPRODUCT((Finalrunde!$E$42:$E$43<>\"\")*(Finalrunde!$E$42:$E$43=Finalrunde!$EP$42:$EP$43))","v":3},0,{"$f":"SUMPRODUCT((COUNTIF(Finalrunde!$D$42:$E$43,Finalrunde!$EM$42:$EM$43)=0)*1)\n+SUMPRODUCT((COUNTIF(Finalrunde!$D$42:$E$43,Finalrunde!$EP$42:$EP$43)=0)*1)","v":1}]
[{"$f":"Teilnehmerliste!$A$26","v":21},{"$f":"Teilnehmerliste!B26 &\" \"&Teilnehmerliste!C26","v":"Leo Rodrigues da Costa"},{"$f":"SUMPRODUCT((Finalrunde!$D$61:$D$76<>\"\")*(Finalrunde!$D$61:$D$76=Finalrunde!$J$61:$J$76))\n+SUMPRODUCT((Finalrunde!$E$61:$E$76<>\"\")*(Finalrunde!$E$61:$E$76=Finalrunde!$M$61:$M$76))","v":20},6,{"$f":"SUMPRODUCT((COUNTIF(Finalrunde!$D$61:$E$76,Finalrunde!$J$61:$J$76)=0)*1)\n+SUMPRODUCT((COUNTIF(Finalrunde!$D$61:$E$76,Finalrunde!$M$61:$M$76)=0)*1)","v":6},null,{"$f":"Teilnehmerliste!$A$26","v":21},{"$f":"Teilnehmerliste!B26 &\" \"&Teilnehmerliste!C26","v":"Leo Rodrigues da Costa"},{"$f":"SUMPRODUCT((Finalrunde!$D$78:$D$85<>\"\")*(Finalrunde!$D$78:$D$85=Finalrunde!$J$78:$J$85))\n+SUMPRODUCT((Finalrunde!$E$78:$E$85<>\"\")*(Finalrunde!$E$78:$E$85=Finalrunde!$M$78:$M$85))","v":10},{"$f":"SUM(16-I29-K29)","v":2},{"$f":"SUMPRODUCT((COUNTIF(Finalrunde!$D$78:$E$85,Finalrunde!$J$78:$J$85)=0)*1)\n+SUMPRODUCT((COUNTIF(Finalrunde!$D$78:$E$85,Finalrunde!$M$78:$M$85)=0)*1)","v":4},null,{"$f":"Teilnehmerliste!$A$26","v":21},"Leo Rodrigues da Costa",{"$f":"SUMPRODUCT((Finalrunde!$D$87:$D$90<>\"\")*(Finalrunde!$D$87:$D$90=Finalrunde!$J$87:$J$90))\n+SUMPRODUCT((Finalrunde!$E$87:$E$90<>\"\")*(Finalrunde!$E$87:$E$90=Finalrunde!$M$87:$M$90))","v":6},{"$f":"SUM(8-O29-Q29)","v":0},{"$f":"SUMPRODUCT((COUNTIF(Finalrunde!$D$87:$E$90,Finalrunde!$J$87:$J$90)=0)*1)\n+SUMPRODUCT((COUNTIF(Finalrunde!$D$87:$E$90,Finalrunde!$M$87:$M$90)=0)*1)","v":2},null,{"$f":"Teilnehmerliste!$A$26","v":21},"Leo Rodrigues da Costa",{"$f":"SUMPRODUCT((Finalrunde!$D$92:$D$93<>\"\")*(Finalrunde!$D$92:$D$93=Finalrunde!$J$92:$J$93))\n+SUMPRODUCT((Finalrunde!$E$92:$E$93<>\"\")*(Finalrunde!$E$92:$E$93=Finalrunde!$M$92:$M$93))","v":2},0,{"$f":"SUMPRODUCT((COUNTIF(Finalrunde!$D$92:$E$93,Finalrunde!$J$92:$J$93)=0)*1)\n+SUMPRODUCT((COUNTIF(Finalrunde!$D$92:$E$93,Finalrunde!$M$92:$M$93)=0)*1)","v":2}]
[{"$f":"Teilnehmerliste!$A$27","v":22},{"$f":"Teilnehmerliste!B27 &\" \"&Teilnehmerliste!C27","v":"Lisa D'Acunto"},{"$f":"SUMPRODUCT((Finalrunde!$D$61:$D$76<>\"\")*(Finalrunde!$D$61:$D$76=Finalrunde!$Q$61:$Q$76))\n+SUMPRODUCT((Finalrunde!$E$61:$E$76<>\"\")*(Finalrunde!$E$61:$E$76=Finalrunde!$T$61:$T$76))","v":16},10,{"$f":"SUMPRODUCT((COUNTIF(Finalrunde!$D$61:$E$76,Finalrunde!$Q$61:$Q$76)=0)*1)\n+SUMPRODUCT((COUNTIF(Finalrunde!$D$61:$E$76,Finalrunde!$T$61:$T$76)=0)*1)","v":6},null,{"$f":"Teilnehmerliste!$A$27","v":22},{"$f":"Teilnehmerliste!B27 &\" \"&Teilnehmerliste!C27","v":"Lisa D'Acunto"},{"$f":"SUMPRODUCT((Finalrunde!$D$78:$D$85<>\"\")*(Finalrunde!$D$78:$D$85=Finalrunde!$Q$78:$Q$85))\n+SUMPRODUCT((Finalrunde!$E$78:$E$85<>\"\")*(Finalrunde!$E$78:$E$85=Finalrunde!$T$78:$T$85))","v":10},{"$f":"SUM(16-I30-K30)","v":2},{"$f":"SUMPRODUCT((COUNTIF(Finalrunde!$D$78:$E$85,Finalrunde!$Q$78:$Q$85)=0)*1)\n+SUMPRODUCT((COUNTIF(Finalrunde!$D$78:$E$85,Finalrunde!$T$78:$T$85)=0)*1)","v":4},null,{"$f":"Teilnehmerliste!$A$27","v":22},"Lisa D'Acunto",{"$f":"SUMPRODUCT((Finalrunde!$D$87:$D$90<>\"\")*(Finalrunde!$D$87:$D$90=Finalrunde!$Q$87:$Q$90))\n+SUMPRODUCT((Finalrunde!$E$87:$E$90<>\"\")*(Finalrunde!$E$87:$E$90=Finalrunde!$T$87:$T$90))","v":6},{"$f":"SUM(8-O30-Q30)","v":0},{"$f":"SUMPRODUCT((COUNTIF(Finalrunde!$D$87:$E$90,Finalrunde!$Q$87:$Q$90)=0)*1)\n+SUMPRODUCT((COUNTIF(Finalrunde!$D$87:$E$90,Finalrunde!$T$87:$T$90)=0)*1)","v":2},null,{"$f":"Teilnehmerliste!$A$27","v":22},"Lisa D'Acunto",{"$f":"SUMPRODUCT((Finalrunde!$D$92:$D$93<>\"\")*(Finalrunde!$D$92:$D$93=Finalrunde!$Q$92:$Q$93))\n+SUMPRODUCT((Finalrunde!$E$92:$E$93<>\"\")*(Finalrunde!$E$92:$E$93=Finalrunde!$T$92:$T$93))","v":4},0,{"$f":"SUMPRODUCT((COUNTIF(Finalrunde!$D$92:$E$93,Finalrunde!$Q$92:$Q$93)=0)*1)\n+SUMPRODUCT((COUNTIF(Finalrunde!$D$92:$E$93,Finalrunde!$T$92:$T$93)=0)*1)","v":0}]
[{"$f":"Teilnehmerliste!$A$28","v":23},{"$f":"Teilnehmerliste!B28 &\" \"&Teilnehmerliste!C28","v":"Niva D'Acunto"},{"$f":"SUMPRODUCT((Finalrunde!$D$61:$D$76<>\"\")*(Finalrunde!$D$61:$D$76=Finalrunde!$X$61:$X$76))\n+SUMPRODUCT((Finalrunde!$E$61:$E$76<>\"\")*(Finalrunde!$E$61:$E$76=Finalrunde!$AA$61:$AA$76))","v":15},10,{"$f":"SUMPRODUCT((COUNTIF(Finalrunde!$D$61:$E$76,Finalrunde!$X$61:$X$76)=0)*1)\n+SUMPRODUCT((COUNTIF(Finalrunde!$D$61:$E$76,Finalrunde!$AA$61:$AA$76)=0)*1)","v":7},null,{"$f":"Teilnehmerliste!$A$28","v":23},{"$f":"Teilnehmerliste!B28 &\" \"&Teilnehmerliste!C28","v":"Niva D'Acunto"},{"$f":"SUMPRODUCT((Finalrunde!$D$78:$D$85<>\"\")*(Finalrunde!$D$78:$D$85=Finalrunde!$X$78:$X$85))\n+SUMPRODUCT((Finalrunde!$E$78:$E$85<>\"\")*(Finalrunde!$E$78:$E$85=Finalrunde!$AA$78:$AA$85))","v":8},3,{"$f":"SUMPRODUCT((COUNTIF(Finalrunde!$D$78:$E$85,Finalrunde!$X$78:$X$85)=0)*1)\n+SUMPRODUCT((COUNTIF(Finalrunde!$D$78:$E$85,Finalrunde!$AA$78:$AA$85)=0)*1)","v":5},null,{"$f":"Teilnehmerliste!$A$28","v":23},"Niva D'Acunto",{"$f":"SUMPRODUCT((Finalrunde!$D$87:$D$90<>\"\")*(Finalrunde!$D$87:$D$90=Finalrunde!$X$87:$X$90))\n+SUMPRODUCT((Finalrunde!$E$87:$E$90<>\"\")*(Finalrunde!$E$87:$E$90=Finalrunde!$AA$87:$AA$90))","v":4},1,{"$f":"SUMPRODUCT((COUNTIF(Finalrunde!$D$87:$E$90,Finalrunde!$X$87:$X$90)=0)*1)\n+SUMPRODUCT((COUNTIF(Finalrunde!$D$87:$E$90,Finalrunde!$AA$87:$AA$90)=0)*1)","v":3},null,{"$f":"Teilnehmerliste!$A$28","v":23},"Niva D'Acunto",{"$f":"SUMPRODUCT((Finalrunde!$D$92:$D$93<>\"\")*(Finalrunde!$D$92:$D$93=Finalrunde!$X$92:$X$93))\n+SUMPRODUCT((Finalrunde!$E$92:$E$93<>\"\")*(Finalrunde!$E$92:$E$93=Finalrunde!$AA$92:$AA$93))","v":1},1,{"$f":"SUMPRODUCT((COUNTIF(Finalrunde!$D$92:$E$93,Finalrunde!$X$92:$X$93)=0)*1)\n+SUMPRODUCT((COUNTIF(Finalrunde!$D$92:$E$93,Finalrunde!$AA$92:$AA$93)=0)*1)","v":2}]
[{"$f":"Teilnehmerliste!$A$29","v":24},{"$f":"Teilnehmerliste!B29 &\" \"&Teilnehmerliste!C29","v":"Vinci D'Acunto"},{"$f":"SUMPRODUCT((Finalrunde!$D$61:$D$76<>\"\")*(Finalrunde!$D$61:$D$76=Finalrunde!$AE$61:$AE$76))\n+SUMPRODUCT((Finalrunde!$E$61:$E$76<>\"\")*(Finalrunde!$E$61:$E$76=Finalrunde!$AH$61:$AH$76))","v":22},5,{"$f":"SUMPRODUCT((COUNTIF(Finalrunde!$D$61:$E$76,Finalrunde!$AE$61:$AE$76)=0)*1)\n+SUMPRODUCT((COUNTIF(Finalrunde!$D$61:$E$76,Finalrunde!$AH$61:$AH$76)=0)*1)","v":5},null,{"$f":"Teilnehmerliste!$A$29","v":24},{"$f":"Teilnehmerliste!B29 &\" \"&Teilnehmerliste!C29","v":"Vinci D'Acunto"},{"$f":"SUMPRODUCT((Finalrunde!$D$78:$D$85<>\"\")*(Finalrunde!$D$78:$D$85=Finalrunde!$AE$78:$AE$85))\n+SUMPRODUCT((Finalrunde!$E$78:$E$85<>\"\")*(Finalrunde!$E$78:$E$85=Finalrunde!$AH$78:$AH$85))","v":8},3,{"$f":"SUMPRODUCT((COUNTIF(Finalrunde!$D$78:$E$85,Finalrunde!$AE$78:$AE$85)=0)*1)\n+SUMPRODUCT((COUNTIF(Finalrunde!$D$78:$E$85,Finalrunde!$AH$78:$AH$85)=0)*1)","v":5},null,{"$f":"Teilnehmerliste!$A$29","v":24},"Vinci D'Acunto",{"$f":"SUMPRODUCT((Finalrunde!$D$87:$D$90<>\"\")*(Finalrunde!$D$87:$D$90=Finalrunde!$AE$87:$AE$90))\n+SUMPRODUCT((Finalrunde!$E$87:$E$90<>\"\")*(Finalrunde!$E$87:$E$90=Finalrunde!$AH$87:$AH$90))","v":3},0,{"$f":"SUMPRODUCT((COUNTIF(Finalrunde!$D$87:$E$90,Finalrunde!$AE$87:$AE$90)=0)*1)\n+SUMPRODUCT((COUNTIF(Finalrunde!$D$87:$E$90,Finalrunde!$AH$87:$AH$90)=0)*1)","v":5},null,{"$f":"Teilnehmerliste!$A$29","v":24},"Vinci D'Acunto",{"$f":"SUMPRODUCT((Finalrunde!$D$92:$D$93<>\"\")*(Finalrunde!$D$92:$D$93=Finalrunde!$AE$92:$AE$93))\n+SUMPRODUCT((Finalrunde!$E$92:$E$93<>\"\")*(Finalrunde!$E$92:$E$93=Finalrunde!$AH$92:$AH$93))","v":1},0,{"$f":"SUMPRODUCT((COUNTIF(Finalrunde!$D$92:$E$93,Finalrunde!$AE$92:$AE$93)=0)*1)\n+SUMPRODUCT((COUNTIF(Finalrunde!$D$92:$E$93,Finalrunde!$AH$92:$AH$93)=0)*1)","v":3}]
[{"$f":"Teilnehmerliste!$A$30","v":25},{"$f":"Teilnehmerliste!B30 &\" \"&Teilnehmerliste!C30","v":"Rafael Derungs"},{"$f":"SUMPRODUCT((Finalrunde!$D$61:$D$76<>\"\")*(Finalrunde!$D$61:$D$76=Finalrunde!$AL$61:$AL$76))\n+SUMPRODUCT((Finalrunde!$E$61:$E$76<>\"\")*(Finalrunde!$E$61:$E$76=Finalrunde!$AO$61:$AO$76))","v":16},11,{"$f":"SUMPRODUCT((COUNTIF(Finalrunde!$D$61:$E$76,Finalrunde!$AL$61:$AL$76)=0)*1)\n+SUMPRODUCT((COUNTIF(Finalrunde!$D$61:$E$76,Finalrunde!$AO$61:$AO$76)=0)*1)","v":5},null,{"$f":"Teilnehmerliste!$A$30","v":25},{"$f":"Teilnehmerliste!B30 &\" \"&Teilnehmerliste!C30","v":"Rafael Derungs"},{"$f":"SUMPRODUCT((Finalrunde!$D$78:$D$85<>\"\")*(Finalrunde!$D$78:$D$85=Finalrunde!$AL$78:$AL$85))\n+SUMPRODUCT((Finalrunde!$E$78:$E$85<>\"\")*(Finalrunde!$E$78:$E$85=Finalrunde!$AO$78:$AO$85))","v":7},4,{"$f":"SUMPRODUCT((COUNTIF(Finalrunde!$D$78:$E$85,Finalrunde!$AL$78:$AL$85)=0)*1)\n+SUMPRODUCT((COUNTIF(Finalrunde!$D$78:$E$85,Finalrunde!$AO$78:$AO$85)=0)*1)","v":5},null,{"$f":"Teilnehmerliste!$A$30","v":25},"Rafael Derungs",{"$f":"SUMPRODUCT((Finalrunde!$D$87:$D$90<>\"\")*(Finalrunde!$D$87:$D$90=Finalrunde!$AL$87:$AL$90))\n+SUMPRODUCT((Finalrunde!$E$87:$E$90<>\"\")*(Finalrunde!$E$87:$E$90=Finalrunde!$AO$87:$AO$90))","v":4},2,{"$f":"SUMPRODUCT((COUNTIF(Finalrunde!$D$87:$E$90,Finalrunde!$AL$87:$AL$90)=0)*1)\n+SUMPRODUCT((COUNTIF(Finalrunde!$D$87:$E$90,Finalrunde!$AO$87:$AO$90)=0)*1)","v":2},null,{"$f":"Teilnehmerliste!$A$30","v":25},"Rafael Derungs",{"$f":"SUMPRODUCT((Finalrunde!$D$92:$D$93<>\"\")*(Finalrunde!$D$92:$D$93=Finalrunde!$AL$92:$AL$93))\n+SUMPRODUCT((Finalrunde!$E$92:$E$93<>\"\")*(Finalrunde!$E$92:$E$93=Finalrunde!$AO$92:$AO$93))","v":2},1,{"$f":"SUMPRODUCT((COUNTIF(Finalrunde!$D$92:$E$93,Finalrunde!$AL$92:$AL$93)=0)*1)\n+SUMPRODUCT((COUNTIF(Finalrunde!$D$92:$E$93,Finalrunde!$AO$92:$AO$93)=0)*1)","v":1}]
[{"$f":"Teilnehmerliste!$A$31","v":26},{"$f":"Teilnehmerliste!B31 &\" \"&Teilnehmerliste!C31","v":"Goran Djukic"},{"$f":"SUMPRODUCT((Finalrunde!$D$61:$D$76<>\"\")*(Finalrunde!$D$61:$D$76=Finalrunde!$AS$61:$AS$76))\n+SUMPRODUCT((Finalrunde!$E$61:$E$76<>\"\")*(Finalrunde!$E$61:$E$76=Finalrunde!$AV$61:$AV$76))","v":18},6,{"$f":"SUMPRODUCT((COUNTIF(Finalrunde!$D$61:$E$76,Finalrunde!$AS$61:$AS$76)=0)*1)\n+SUMPRODUCT((COUNTIF(Finalrunde!$D$61:$E$76,Finalrunde!$AV$61:$AV$76)=0)*1)","v":8},null,{"$f":"Teilnehmerliste!$A$31","v":26},{"$f":"Teilnehmerliste!B31 &\" \"&Teilnehmerliste!C31","v":"Goran Djukic"},{"$f":"SUMPRODUCT((Finalrunde!$D$78:$D$85<>\"\")*(Finalrunde!$D$78:$D$85=Finalrunde!$AS$78:$AS$85))\n+SUMPRODUCT((Finalrunde!$E$78:$E$85<>\"\")*(Finalrunde!$E$78:$E$85=Finalrunde!$AV$78:$AV$85))","v":8},2,{"$f":"SUMPRODUCT((COUNTIF(Finalrunde!$D$78:$E$85,Finalrunde!$AS$78:$AS$85)=0)*1)\n+SUMPRODUCT((COUNTIF(Finalrunde!$D$78:$E$85,Finalrunde!$AV$78:$AV$85)=0)*1)","v":6},null,{"$f":"Teilnehmerliste!$A$31","v":26},"Goran Djukic",{"$f":"SUMPRODUCT((Finalrunde!$D$87:$D$90<>\"\")*(Finalrunde!$D$87:$D$90=Finalrunde!$AS$87:$AS$90))\n+SUMPRODUCT((Finalrunde!$E$87:$E$90<>\"\")*(Finalrunde!$E$87:$E$90=Finalrunde!$AV$87:$AV$90))","v":4},0,{"$f":"SUMPRODUCT((COUNTIF(Finalrunde!$D$87:$E$90,Finalrunde!$AS$87:$AS$90)=0)*1)\n+SUMPRODUCT((COUNTIF(Finalrunde!$D$87:$E$90,Finalrunde!$AV$87:$AV$90)=0)*1)","v":4},null,{"$f":"Teilnehmerliste!$A$31","v":26},"Goran Djukic",{"$f":"SUMPRODUCT((Finalrunde!$D$92:$D$93<>\"\")*(Finalrunde!$D$92:$D$93=Finalrunde!$AS$92:$AS$93))\n+SUMPRODUCT((Finalrunde!$E$92:$E$93<>\"\")*(Finalrunde!$E$92:$E$93=Finalrunde!$AV$92:$AV$93))","v":2},0,{"$f":"SUMPRODUCT((COUNTIF(Finalrunde!$D$92:$E$93,Finalrunde!$AS$92:$AS$93)=0)*1)\n+SUMPRODUCT((COUNTIF(Finalrunde!$D$92:$E$93,Finalrunde!$AV$92:$AV$93)=0)*1)","v":2}]
[{"$f":"Teilnehmerliste!$A$32","v":27},{"$f":"Teilnehmerliste!B32 &\" \"&Teilnehmerliste!C32","v":"Armin Duvnjak"},{"$f":"SUMPRODUCT((Finalrunde!$D$61:$D$76<>\"\")*(Finalrunde!$D$61:$D$76=Finalrunde!$AZ$61:$AZ$76))\n+SUMPRODUCT((Finalrunde!$E$61:$E$76<>\"\")*(Finalrunde!$E$61:$E$76=Finalrunde!$BC$61:$BC$76))","v":17},9,{"$f":"SUMPRODUCT((COUNTIF(Finalrunde!$D$61:$E$76,Finalrunde!$AZ$61:$AZ$76)=0)*1)\n+SUMPRODUCT((COUNTIF(Finalrunde!$D$61:$E$76,Finalrunde!$BC$61:$BC$76)=0)*1)","v":6},null,{"$f":"Teilnehmerliste!$A$32","v":27},{"$f":"Teilnehmerliste!B32 &\" \"&Teilnehmerliste!C32","v":"Armin Duvnjak"},{"$f":"SUMPRODUCT((Finalrunde!$D$78:$D$85<>\"\")*(Finalrunde!$D$78:$D$85=Finalrunde!$AZ$78:$AZ$85))\n+SUMPRODUCT((Finalrunde!$E$78:$E$85<>\"\")*(Finalrunde!$E$78:$E$85=Finalrunde!$BC$78:$BC$85))","v":10},1,{"$f":"SUMPRODUCT((COUNTIF(Finalrunde!$D$78:$E$85,Finalrunde!$AZ$78:$AZ$85)=0)*1)\n+SUMPRODUCT((COUNTIF(Finalrunde!$D$78:$E$85,Finalrunde!$BC$78:$BC$85)=0)*1)","v":5},null,{"$f":"Teilnehmerliste!$A$32","v":27},"Armin Duvnjak",{"$f":"SUMPRODUCT((Finalrunde!$D$87:$D$90<>\"\")*(Finalrunde!$D$87:$D$90=Finalrunde!$AZ$87:$AZ$90))\n+SUMPRODUCT((Finalrunde!$E$87:$E$90<>\"\")*(Finalrunde!$E$87:$E$90=Finalrunde!$BC$87:$BC$90))","v":5},0,{"$f":"SUMPRODUCT((COUNTIF(Finalrunde!$D$87:$E$90,Finalrunde!$AZ$87:$AZ$90)=0)*1)\n+SUMPRODUCT((COUNTIF(Finalrunde!$D$87:$E$90,Finalrunde!$BC$87:$BC$90)=0)*1)","v":3},null,{"$f":"Teilnehmerliste!$A$32","v":27},"Armin Duvnjak",{"$f":"SUMPRODUCT((Finalrunde!$D$92:$D$93<>\"\")*(Finalrunde!$D$92:$D$93=Finalrunde!$AZ$92:$AZ$93))\n+SUMPRODUCT((Finalrunde!$E$92:$E$93<>\"\")*(Finalrunde!$E$92:$E$93=Finalrunde!$BC$92:$BC$93))","v":2},0,{"$f":"SUMPRODUCT((COUNTIF(Finalrunde!$D$92:$E$93,Finalrunde!$AZ$92:$AZ$93)=0)*1)\n+SUMPRODUCT((COUNTIF(Finalrunde!$D$92:$E$93,Finalrunde!$BC$92:$BC$93)=0)*1)","v":2}]
[{"$f":"Teilnehmerliste!$A$33","v":28},{"$f":"Teilnehmerliste!B33 &\" \"&Teilnehmerliste!C33","v":"Dino Duvnjak"},{"$f":"SUMPRODUCT((Finalrunde!$D$61:$D$76<>\"\")*(Finalrunde!$D$61:$D$76=Finalrunde!$BG$61:$BG$76))\n+SUMPRODUCT((Finalrunde!$E$61:$E$76<>\"\")*(Finalrunde!$E$61:$E$76=Finalrunde!$BJ$61:$BJ$76))","v":19},8,{"$f":"SUMPRODUCT((COUNTIF(Finalrunde!$D$61:$E$76,Finalrunde!$BG$61:$BG$76)=0)*1)\n+SUMPRODUCT((COUNTIF(Finalrunde!$D$61:$E$76,Finalrunde!$BJ$61:$BJ$76)=0)*1)","v":5},null,{"$f":"Teilnehmerliste!$A$33","v":28},{"$f":"Teilnehmerliste!B33 &\" \"&Teilnehmerliste!C33","v":"Dino Duvnjak"},{"$f":"SUMPRODUCT((Finalrunde!$D$78:$D$85<>\"\")*(Finalrunde!$D$78:$D$85=Finalrunde!$BG$78:$BG$85))\n+SUMPRODUCT((Finalrunde!$E$78:$E$85<>\"\")*(Finalrunde!$E$78:$E$85=Finalrunde!$BJ$78:$BJ$85))","v":8},3,{"$f":"SUMPRODUCT((COUNTIF(Finalrunde!$D$78:$E$85,Finalrunde!$BG$78:$BG$85)=0)*1)\n+SUMPRODUCT((COUNTIF(Finalrunde!$D$78:$E$85,Finalrunde!$BJ$78:$BJ$85)=0)*1)","v":5},null,{"$f":"Teilnehmerliste!$A$33","v":28},"Dino Duvnjak",{"$f":"SUMPRODUCT((Finalrunde!$D$87:$D$90<>\"\")*(Finalrunde!$D$87:$D$90=Finalrunde!$BG$87:$BG$90))\n+SUMPRODUCT((Finalrunde!$E$87:$E$90<>\"\")*(Finalrunde!$E$87:$E$90=Finalrunde!$BJ$87:$BJ$90))","v":5},0,{"$f":"SUMPRODUCT((COUNTIF(Finalrunde!$D$87:$E$90,Finalrunde!$BG$87:$BG$90)=0)*1)\n+SUMPRODUCT((COUNTIF(Finalrunde!$D$87:$E$90,Finalrunde!$BJ$87:$BJ$90)=0)*1)","v":3},null,{"$f":"Teilnehmerliste!$A$33","v":28},"Dino Duvnjak",{"$f":"SUMPRODUCT((Finalrunde!$D$92:$D$93<>\"\")*(Finalrunde!$D$92:$D$93=Finalrunde!$BG$92:$BG$93))\n+SUMPRODUCT((Finalrunde!$E$92:$E$93<>\"\")*(Finalrunde!$E$92:$E$93=Finalrunde!$BJ$92:$BJ$93))","v":3},0,{"$f":"SUMPRODUCT((COUNTIF(Finalrunde!$D$92:$E$93,Finalrunde!$BG$92:$BG$93)=0)*1)\n+SUMPRODUCT((COUNTIF(Finalrunde!$D$92:$E$93,Finalrunde!$BJ$92:$BJ$93)=0)*1)","v":1}]
[{"$f":"Teilnehmerliste!$A$34","v":29},{"$f":"Teilnehmerliste!B34 &\" \"&Teilnehmerliste!C34","v":"Djuma Duvnjak"},{"$f":"SUMPRODUCT((Finalrunde!$D$61:$D$76<>\"\")*(Finalrunde!$D$61:$D$76=Finalrunde!$BN$61:$BN$76))\n+SUMPRODUCT((Finalrunde!$E$61:$E$76<>\"\")*(Finalrunde!$E$61:$E$76=Finalrunde!$BQ$61:$BQ$76))","v":19},9,{"$f":"SUMPRODUCT((COUNTIF(Finalrunde!$D$61:$E$76,Finalrunde!$BN$61:$BN$76)=0)*1)\n+SUMPRODUCT((COUNTIF(Finalrunde!$D$61:$E$76,Finalrunde!$BQ$61:$BQ$76)=0)*1)","v":4},null,{"$f":"Teilnehmerliste!$A$34","v":29},{"$f":"Teilnehmerliste!B34 &\" \"&Teilnehmerliste!C34","v":"Djuma Duvnjak"},{"$f":"SUMPRODUCT((Finalrunde!$D$78:$D$85<>\"\")*(Finalrunde!$D$78:$D$85=Finalrunde!$BN$78:$BN$85))\n+SUMPRODUCT((Finalrunde!$E$78:$E$85<>\"\")*(Finalrunde!$E$78:$E$85=Finalrunde!$BQ$78:$BQ$85))","v":8},2,{"$f":"SUMPRODUCT((COUNTIF(Finalrunde!$D$78:$E$85,Finalrunde!$BN$78:$BN$85)=0)*1)\n+SUMPRODUCT((COUNTIF(Finalrunde!$D$78:$E$85,Finalrunde!$BQ$78:$BQ$85)=0)*1)","v":6},null,{"$f":"Teilnehmerliste!$A$34","v":29},"Djuma Duvnjak",{"$f":"SUMPRODUCT((Finalrunde!$D$87:$D$90<>\"\")*(Finalrunde!$D$87:$D$90=Finalrunde!$BN$87:$BN$90))\n+SUMPRODUCT((Finalrunde!$E$87:$E$90<>\"\")*(Finalrunde!$E$87:$E$90=Finalrunde!$BQ$87:$BQ$90))","v":5},0,{"$f":"SUMPRODUCT((COUNTIF(Finalrunde!$D$87:$E$90,Finalrunde!$BN$87:$BN$90)=0)*1)\n+SUMPRODUCT((COUNTIF(Finalrunde!$D$87:$E$90,Finalrunde!$BQ$87:$BQ$90)=0)*1)","v":3},null,{"$f":"Teilnehmerliste!$A$34","v":29},"Djuma Duvnjak",{"$f":"SUMPRODUCT((Finalrunde!$D$92:$D$93<>\"\")*(Finalrunde!$D$92:$D$93=Finalrunde!$BN$92:$BN$93))\n+SUMPRODUCT((Finalrunde!$E$92:$E$93<>\"\")*(Finalrunde!$E$92:$E$93=Finalrunde!$BQ$92:$BQ$93))","v":3},0,{"$f":"SUMPRODUCT((COUNTIF(Finalrunde!$D$92:$E$93,Finalrunde!$BN$92:$BN$93)=0)*1)\n+SUMPRODUCT((COUNTIF(Finalrunde!$D$92:$E$93,Finalrunde!$BQ$92:$BQ$93)=0)*1)","v":1}]
[{"$f":"Teilnehmerliste!$A$35","v":30},{"$f":"Teilnehmerliste!B35 &\" \"&Teilnehmerliste!C35","v":"Andreia Gomes"},{"$f":"SUMPRODUCT((Finalrunde!$D$61:$D$76<>\"\")*(Finalrunde!$D$61:$D$76=Finalrunde!$BU$61:$BU$76))\n+SUMPRODUCT((Finalrunde!$E$61:$E$76<>\"\")*(Finalrunde!$E$61:$E$76=Finalrunde!$BX$61:$BX$76))","v":12},14,{"$f":"SUMPRODUCT((COUNTIF(Finalrunde!$D$61:$E$76,Finalrunde!$BU$61:$BU$76)=0)*1)\n+SUMPRODUCT((COUNTIF(Finalrunde!$D$61:$E$76,Finalrunde!$BX$61:$BX$76)=0)*1)","v":6},null,{"$f":"Teilnehmerliste!$A$35","v":30},{"$f":"Teilnehmerliste!B35 &\" \"&Teilnehmerliste!C35","v":"Andreia Gomes"},{"$f":"SUMPRODUCT((Finalrunde!$D$78:$D$85<>\"\")*(Finalrunde!$D$78:$D$85=Finalrunde!$BU$78:$BU$85))\n+SUMPRODUCT((Finalrunde!$E$78:$E$85<>\"\")*(Finalrunde!$E$78:$E$85=Finalrunde!$BX$78:$BX$85))","v":7},4,{"$f":"SUMPRODUCT((COUNTIF(Finalrunde!$D$78:$E$85,Finalrunde!$BU$78:$BU$85)=0)*1)\n+SUMPRODUCT((COUNTIF(Finalrunde!$D$78:$E$85,Finalrunde!$BX$78:$BX$85)=0)*1)","v":5},null,{"$f":"Teilnehmerliste!$A$35","v":30},"Andreia Gomes",{"$f":"SUMPRODUCT((Finalrunde!$D$87:$D$90<>\"\")*(Finalrunde!$D$87:$D$90=Finalrunde!$BU$87:$BU$90))\n+SUMPRODUCT((Finalrunde!$E$87:$E$90<>\"\")*(Finalrunde!$E$87:$E$90=Finalrunde!$BX$87:$BX$90))","v":3},0,{"$f":"SUMPRODUCT((COUNTIF(Finalrunde!$D$87:$E$90,Finalrunde!$BU$87:$BU$90)=0)*1)\n+SUMPRODUCT((COUNTIF(Finalrunde!$D$87:$E$90,Finalrunde!$BX$87:$BX$90)=0)*1)","v":5},null,{"$f":"Teilnehmerliste!$A$35","v":30},"Andreia Gomes",{"$f":"SUMPRODUCT((Finalrunde!$D$92:$D$93<>\"\")*(Finalrunde!$D$92:$D$93=Finalrunde!$BU$92:$BU$93))\n+SUMPRODUCT((Finalrunde!$E$92:$E$93<>\"\")*(Finalrunde!$E$92:$E$93=Finalrunde!$BX$92:$BX$93))","v":1},0,{"$f":"SUMPRODUCT((COUNTIF(Finalrunde!$D$92:$E$93,Finalrunde!$BU$92:$BU$93)=0)*1)\n+SUMPRODUCT((COUNTIF(Finalrunde!$D$92:$E$93,Finalrunde!$BX$92:$BX$93)=0)*1)","v":3}]
[{"$f":"Teilnehmerliste!$A$36","v":31},{"$f":"Teilnehmerliste!B36 &\" \"&Teilnehmerliste!C36","v":"Rui Gomes"},{"$f":"SUMPRODUCT((Finalrunde!$D$61:$D$76<>\"\")*(Finalrunde!$D$61:$D$76=Finalrunde!$CB$61:$CB$76))\n+SUMPRODUCT((Finalrunde!$E$61:$E$76<>\"\")*(Finalrunde!$E$61:$E$76=Finalrunde!$CE$61:$CE$76))","v":15},12,{"$f":"SUMPRODUCT((COUNTIF(Finalrunde!$D$61:$E$76,Finalrunde!$CB$61:$CB$76)=0)*1)\n+SUMPRODUCT((COUNTIF(Finalrunde!$D$61:$E$76,Finalrunde!$CE$61:$CE$76)=0)*1)","v":5},null,{"$f":"Teilnehmerliste!$A$36","v":31},{"$f":"Teilnehmerliste!B36 &\" \"&Teilnehmerliste!C36","v":"Rui Gomes"},{"$f":"SUMPRODUCT((Finalrunde!$D$78:$D$85<>\"\")*(Finalrunde!$D$78:$D$85=Finalrunde!$CB$78:$CB$85))\n+SUMPRODUCT((Finalrunde!$E$78:$E$85<>\"\")*(Finalrunde!$E$78:$E$85=Finalrunde!$CE$78:$CE$85))","v":8},4,{"$f":"SUMPRODUCT((COUNTIF(Finalrunde!$D$78:$E$85,Finalrunde!$CB$78:$CB$85)=0)*1)\n+SUMPRODUCT((COUNTIF(Finalrunde!$D$78:$E$85,Finalrunde!$CE$78:$CE$85)=0)*1)","v":4},null,{"$f":"Teilnehmerliste!$A$36","v":31},"Rui Gomes",{"$f":"SUMPRODUCT((Finalrunde!$D$87:$D$90<>\"\")*(Finalrunde!$D$87:$D$90=Finalrunde!$CB$87:$CB$90))\n+SUMPRODUCT((Finalrunde!$E$87:$E$90<>\"\")*(Finalrunde!$E$87:$E$90=Finalrunde!$CE$87:$CE$90))","v":5},0,{"$f":"SUMPRODUCT((COUNTIF(Finalrunde!$D$87:$E$90,Finalrunde!$CB$87:$CB$90)=0)*1)\n+SUMPRODUCT((COUNTIF(Finalrunde!$D$87:$E$90,Finalrunde!$CE$87:$CE$90)=0)*1)","v":3},null,{"$f":"Teilnehmerliste!$A$36","v":31},"Rui Gomes",{"$f":"SUMPRODUCT((Finalrunde!$D$92:$D$93<>\"\")*(Finalrunde!$D$92:$D$93=Finalrunde!$CB$92:$CB$93))\n+SUMPRODUCT((Finalrunde!$E$92:$E$93<>\"\")*(Finalrunde!$E$92:$E$93=Finalrunde!$CE$92:$CE$93))","v":2},0,{"$f":"SUMPRODUCT((COUNTIF(Finalrunde!$D$92:$E$93,Finalrunde!$CB$92:$CB$93)=0)*1)\n+SUMPRODUCT((COUNTIF(Finalrunde!$D$92:$E$93,Finalrunde!$CE$92:$CE$93)=0)*1)","v":2}]
[{"$f":"Teilnehmerliste!$A$37","v":32},{"$f":"Teilnehmerliste!B37 &\" \"&Teilnehmerliste!C37","v":"Deliz González"},{"$f":"SUMPRODUCT((Finalrunde!$D$61:$D$76<>\"\")*(Finalrunde!$D$61:$D$76=Finalrunde!$CI$61:$CI$76))\n+SUMPRODUCT((Finalrunde!$E$61:$E$76<>\"\")*(Finalrunde!$E$61:$E$76=Finalrunde!$CL$61:$CL$76))","v":14},9,{"$f":"SUMPRODUCT((COUNTIF(Finalrunde!$D$61:$E$76,Finalrunde!$CI$61:$CI$76)=0)*1)\n+SUMPRODUCT((COUNTIF(Finalrunde!$D$61:$E$76,Finalrunde!$CL$61:$CL$76)=0)*1)","v":9},null,{"$f":"Teilnehmerliste!$A$37","v":32},{"$f":"Teilnehmerliste!B37 &\" \"&Teilnehmerliste!C37","v":"Deliz González"},{"$f":"SUMPRODUCT((Finalrunde!$D$78:$D$85<>\"\")*(Finalrunde!$D$78:$D$85=Finalrunde!$CI$78:$CI$85))\n+SUMPRODUCT((Finalrunde!$E$78:$E$85<>\"\")*(Finalrunde!$E$78:$E$85=Finalrunde!$CL$78:$CL$85))","v":10},1,{"$f":"SUMPRODUCT((COUNTIF(Finalrunde!$D$78:$E$85,Finalrunde!$CI$78:$CI$85)=0)*1)\n+SUMPRODUCT((COUNTIF(Finalrunde!$D$78:$E$85,Finalrunde!$CL$78:$CL$85)=0)*1)","v":5},null,{"$f":"Teilnehmerliste!$A$37","v":32},"Deliz González",{"$f":"SUMPRODUCT((Finalrunde!$D$87:$D$90<>\"\")*(Finalrunde!$D$87:$D$90=Finalrunde!$CI$87:$CI$90))\n+SUMPRODUCT((Finalrunde!$E$87:$E$90<>\"\")*(Finalrunde!$E$87:$E$90=Finalrunde!$CL$87:$CL$90))","v":4},0,{"$f":"SUMPRODUCT((COUNTIF(Finalrunde!$D$87:$E$90,Finalrunde!$CI$87:$CI$90)=0)*1)\n+SUMPRODUCT((COUNTIF(Finalrunde!$D$87:$E$90,Finalrunde!$CL$87:$CL$90)=0)*1)","v":4},null,{"$f":"Teilnehmerliste!$A$37","v":32},"Deliz González",{"$f":"SUMPRODUCT((Finalrunde!$D$92:$D$93<>\"\")*(Finalrunde!$D$92:$D$93=Finalrunde!$CI$92:$CI$93))\n+SUMPRODUCT((Finalrunde!$E$92:$E$93<>\"\")*(Finalrunde!$E$92:$E$93=Finalrunde!$CL$92:$CL$93))","v":3},0,{"$f":"SUMPRODUCT((COUNTIF(Finalrunde!$D$92:$E$93,Finalrunde!$CI$92:$CI$93)=0)*1)\n+SUMPRODUCT((COUNTIF(Finalrunde!$D$92:$E$93,Finalrunde!$CL$92:$CL$93)=0)*1)","v":1}]
[{"$f":"Teilnehmerliste!$A$38","v":33},{"$f":"Teilnehmerliste!B38 &\" \"&Teilnehmerliste!C38","v":"Florian González"},{"$f":"SUMPRODUCT((Finalrunde!$D$61:$D$76<>\"\")*(Finalrunde!$D$61:$D$76=Finalrunde!$CP$61:$CP$76))\n+SUMPRODUCT((Finalrunde!$E$61:$E$76<>\"\")*(Finalrunde!$E$61:$E$76=Finalrunde!$CS$61:$CS$76))","v":17},9,{"$f":"SUMPRODUCT((COUNTIF(Finalrunde!$D$61:$E$76,Finalrunde!$CP$61:$CP$76)=0)*1)\n+SUMPRODUCT((COUNTIF(Finalrunde!$D$61:$E$76,Finalrunde!$CS$61:$CS$76)=0)*1)","v":6},null,{"$f":"Teilnehmerliste!$A$38","v":33},{"$f":"Teilnehmerliste!B38 &\" \"&Teilnehmerliste!C38","v":"Florian González"},{"$f":"SUMPRODUCT((Finalrunde!$D$78:$D$85<>\"\")*(Finalrunde!$D$78:$D$85=Finalrunde!$CP$78:$CP$85))\n+SUMPRODUCT((Finalrunde!$E$78:$E$85<>\"\")*(Finalrunde!$E$78:$E$85=Finalrunde!$CS$78:$CS$85))","v":10},3,{"$f":"SUMPRODUCT((COUNTIF(Finalrunde!$D$78:$E$85,Finalrunde!$CP$78:$CP$85)=0)*1)\n+SUMPRODUCT((COUNTIF(Finalrunde!$D$78:$E$85,Finalrunde!$CS$78:$CS$85)=0)*1)","v":3},null,{"$f":"Teilnehmerliste!$A$38","v":33},"Florian González",{"$f":"SUMPRODUCT((Finalrunde!$D$87:$D$90<>\"\")*(Finalrunde!$D$87:$D$90=Finalrunde!$CP$87:$CP$90))\n+SUMPRODUCT((Finalrunde!$E$87:$E$90<>\"\")*(Finalrunde!$E$87:$E$90=Finalrunde!$CS$87:$CS$90))","v":6},0,{"$f":"SUMPRODUCT((COUNTIF(Finalrunde!$D$87:$E$90,Finalrunde!$CP$87:$CP$90)=0)*1)\n+SUMPRODUCT((COUNTIF(Finalrunde!$D$87:$E$90,Finalrunde!$CS$87:$CS$90)=0)*1)","v":2},null,{"$f":"Teilnehmerliste!$A$38","v":33},"Florian González",{"$f":"SUMPRODUCT((Finalrunde!$D$92:$D$93<>\"\")*(Finalrunde!$D$92:$D$93=Finalrunde!$CP$92:$CP$93))\n+SUMPRODUCT((Finalrunde!$E$92:$E$93<>\"\")*(Finalrunde!$E$92:$E$93=Finalrunde!$CS$92:$CS$93))","v":2},0,{"$f":"SUMPRODUCT((COUNTIF(Finalrunde!$D$92:$E$93,Finalrunde!$CP$92:$CP$93)=0)*1)\n+SUMPRODUCT((COUNTIF(Finalrunde!$D$92:$E$93,Finalrunde!$CS$92:$CS$93)=0)*1)","v":2}]
[{"$f":"Teilnehmerliste!$A$39","v":34},{"$f":"Teilnehmerliste!B39 &\" \"&Teilnehmerliste!C39","v":"Laurent Grosse"},{"$f":"SUMPRODUCT((Finalrunde!$D$61:$D$76<>\"\")*(Finalrunde!$D$61:$D$76=Finalrunde!$CW$61:$CW$76))\n+SUMPRODUCT((Finalrunde!$E$61:$E$76<>\"\")*(Finalrunde!$E$61:$E$76=Finalrunde!$CZ$61:$CZ$76))","v":15},11,{"$f":"SUMPRODUCT((COUNTIF(Finalrunde!$D$61:$E$76,Finalrunde!$CW$61:$CW$76)=0)*1)\n+SUMPRODUCT((COUNTIF(Finalrunde!$D$61:$E$76,Finalrunde!$CZ$61:$CZ$76)=0)*1)","v":6},null,{"$f":"Teilnehmerliste!$A$39","v":34},{"$f":"Teilnehmerliste!B39 &\" \"&Teilnehmerliste!C39","v":"Laurent Grosse"},{"$f":"SUMPRODUCT((Finalrunde!$D$78:$D$85<>\"\")*(Finalrunde!$D$78:$D$85=Finalrunde!$CW$78:$CW$85))\n+SUMPRODUCT((Finalrunde!$E$78:$E$85<>\"\")*(Finalrunde!$E$78:$E$85=Finalrunde!$CZ$78:$CZ$85))","v":8},3,{"$f":"SUMPRODUCT((COUNTIF(Finalrunde!$D$78:$E$85,Finalrunde!$CW$78:$CW$85)=0)*1)\n+SUMPRODUCT((COUNTIF(Finalrunde!$D$78:$E$85,Finalrunde!$CZ$78:$CZ$85)=0)*1)","v":5},null,{"$f":"Teilnehmerliste!$A$39","v":34},"Laurent Grosse",{"$f":"SUMPRODUCT((Finalrunde!$D$87:$D$90<>\"\")*(Finalrunde!$D$87:$D$90=Finalrunde!$CW$87:$CW$90))\n+SUMPRODUCT((Finalrunde!$E$87:$E$90<>\"\")*(Finalrunde!$E$87:$E$90=Finalrunde!$CZ$87:$CZ$90))","v":4},0,{"$f":"SUMPRODUCT((COUNTIF(Finalrunde!$D$87:$E$90,Finalrunde!$CW$87:$CW$90)=0)*1)\n+SUMPRODUCT((COUNTIF(Finalrunde!$D$87:$E$90,Finalrunde!$CZ$87:$CZ$90)=0)*1)","v":4},null,{"$f":"Teilnehmerliste!$A$39","v":34},"Laurent Grosse",{"$f":"SUMPRODUCT((Finalrunde!$D$92:$D$93<>\"\")*(Finalrunde!$D$92:$D$93=Finalrunde!$CW$92:$CW$93))\n+SUMPRODUCT((Finalrunde!$E$92:$E$93<>\"\")*(Finalrunde!$E$92:$E$93=Finalrunde!$CZ$92:$CZ$93))","v":2},0,{"$f":"SUMPRODUCT((COUNTIF(Finalrunde!$D$92:$E$93,Finalrunde!$CW$92:$CW$93)=0)*1)\n+SUMPRODUCT((COUNTIF(Finalrunde!$D$92:$E$93,Finalrunde!$CZ$92:$CZ$93)=0)*1)","v":2}]
[{"$f":"Teilnehmerliste!$A$40","v":35},{"$f":"Teilnehmerliste!B40 &\" \"&Teilnehmerliste!C40","v":"Reto Gygli"},{"$f":"SUMPRODUCT((Finalrunde!$D$61:$D$76<>\"\")*(Finalrunde!$D$61:$D$76=Finalrunde!$DD$61:$DD$76))\n+SUMPRODUCT((Finalrunde!$E$61:$E$76<>\"\")*(Finalrunde!$E$61:$E$76=Finalrunde!$DG$61:$DG$76))","v":19},8,{"$f":"SUMPRODUCT((COUNTIF(Finalrunde!$D$61:$E$76,Finalrunde!$DD$61:$DD$76)=0)*1)\n+SUMPRODUCT((COUNTIF(Finalrunde!$D$61:$E$76,Finalrunde!$DG$61:$DG$76)=0)*1)","v":5},null,{"$f":"Teilnehmerliste!$A$40","v":35},{"$f":"Teilnehmerliste!B40 &\" \"&Teilnehmerliste!C40","v":"Reto Gygli"},{"$f":"SUMPRODUCT((Finalrunde!$D$78:$D$85<>\"\")*(Finalrunde!$D$78:$D$85=Finalrunde!$DD$78:$DD$85))\n+SUMPRODUCT((Finalrunde!$E$78:$E$85<>\"\")*(Finalrunde!$E$78:$E$85=Finalrunde!$DG$78:$DG$85))","v":10},3,{"$f":"SUMPRODUCT((COUNTIF(Finalrunde!$D$78:$E$85,Finalrunde!$DD$78:$DD$85)=0)*1)\n+SUMPRODUCT((COUNTIF(Finalrunde!$D$78:$E$85,Finalrunde!$DG$78:$DG$85)=0)*1)","v":3},null,{"$f":"Teilnehmerliste!$A$40","v":35},"Reto Gygli",{"$f":"SUMPRODUCT((Finalrunde!$D$87:$D$90<>\"\")*(Finalrunde!$D$87:$D$90=Finalrunde!$DD$87:$DD$90))\n+SUMPRODUCT((Finalrunde!$E$87:$E$90<>\"\")*(Finalrunde!$E$87:$E$90=Finalrunde!$DG$87:$DG$90))","v":5},0,{"$f":"SUMPRODUCT((COUNTIF(Finalrunde!$D$87:$E$90,Finalrunde!$DD$87:$DD$90)=0)*1)\n+SUMPRODUCT((COUNTIF(Finalrunde!$D$87:$E$90,Finalrunde!$DG$87:$DG$90)=0)*1)","v":3},null,{"$f":"Teilnehmerliste!$A$40","v":35},"Reto Gygli",{"$f":"SUMPRODUCT((Finalrunde!$D$92:$D$93<>\"\")*(Finalrunde!$D$92:$D$93=Finalrunde!$DD$92:$DD$93))\n+SUMPRODUCT((Finalrunde!$E$92:$E$93<>\"\")*(Finalrunde!$E$92:$E$93=Finalrunde!$DG$92:$DG$93))","v":4},0,{"$f":"SUMPRODUCT((COUNTIF(Finalrunde!$D$92:$E$93,Finalrunde!$DD$92:$DD$93)=0)*1)\n+SUMPRODUCT((COUNTIF(Finalrunde!$D$92:$E$93,Finalrunde!$DG$92:$DG$93)=0)*1)","v":0}]
[{"$f":"Teilnehmerliste!$A$41","v":36},{"$f":"Teilnehmerliste!B41 &\" \"&Teilnehmerliste!C41","v":"Robin Gygli"},{"$f":"SUMPRODUCT((Finalrunde!$D$61:$D$76<>\"\")*(Finalrunde!$D$61:$D$76=Finalrunde!$DK$61:$DK$76))\n+SUMPRODUCT((Finalrunde!$E$61:$E$76<>\"\")*(Finalrunde!$E$61:$E$76=Finalrunde!$DN$61:$DN$76))","v":20},8,{"$f":"SUMPRODUCT((COUNTIF(Finalrunde!$D$61:$E$76,Finalrunde!$DK$61:$DK$76)=0)*1)\n+SUMPRODUCT((COUNTIF(Finalrunde!$D$61:$E$76,Finalrunde!$DN$61:$DN$76)=0)*1)","v":4},null,{"$f":"Teilnehmerliste!$A$41","v":36},{"$f":"Teilnehmerliste!B41 &\" \"&Teilnehmerliste!C41","v":"Robin Gygli"},{"$f":"SUMPRODUCT((Finalrunde!$D$78:$D$85<>\"\")*(Finalrunde!$D$78:$D$85=Finalrunde!$DK$78:$DK$85))\n+SUMPRODUCT((Finalrunde!$E$78:$E$85<>\"\")*(Finalrunde!$E$78:$E$85=Finalrunde!$DN$78:$DN$85))","v":10},3,{"$f":"SUMPRODUCT((COUNTIF(Finalrunde!$D$78:$E$85,Finalrunde!$DK$78:$DK$85)=0)*1)\n+SUMPRODUCT((COUNTIF(Finalrunde!$D$78:$E$85,Finalrunde!$DN$78:$DN$85)=0)*1)","v":3},null,{"$f":"Teilnehmerliste!$A$41","v":36},"Robin Gygli",{"$f":"SUMPRODUCT((Finalrunde!$D$87:$D$90<>\"\")*(Finalrunde!$D$87:$D$90=Finalrunde!$DK$87:$DK$90))\n+SUMPRODUCT((Finalrunde!$E$87:$E$90<>\"\")*(Finalrunde!$E$87:$E$90=Finalrunde!$DN$87:$DN$90))","v":5},0,{"$f":"SUMPRODUCT((COUNTIF(Finalrunde!$D$87:$E$90,Finalrunde!$DK$87:$DK$90)=0)*1)\n+SUMPRODUCT((COUNTIF(Finalrunde!$D$87:$E$90,Finalrunde!$DN$87:$DN$90)=0)*1)","v":3},null,{"$f":"Teilnehmerliste!$A$41","v":36},"Robin Gygli",{"$f":"SUMPRODUCT((Finalrunde!$D$92:$D$93<>\"\")*(Finalrunde!$D$92:$D$93=Finalrunde!$DK$92:$DK$93))\n+SUMPRODUCT((Finalrunde!$E$92:$E$93<>\"\")*(Finalrunde!$E$92:$E$93=Finalrunde!$DN$92:$DN$93))","v":4},0,{"$f":"SUMPRODUCT((COUNTIF(Finalrunde!$D$92:$E$93,Finalrunde!$DK$92:$DK$93)=0)*1)\n+SUMPRODUCT((COUNTIF(Finalrunde!$D$92:$E$93,Finalrunde!$DN$92:$DN$93)=0)*1)","v":0}]
[{"$f":"Teilnehmerliste!$A$42","v":37},{"$f":"Teilnehmerliste!B42 &\" \"&Teilnehmerliste!C42","v":"Sarina Gygli"},{"$f":"SUMPRODUCT((Finalrunde!$D$61:$D$76<>\"\")*(Finalrunde!$D$61:$D$76=Finalrunde!$DR$61:$DR$76))\n+SUMPRODUCT((Finalrunde!$E$61:$E$76<>\"\")*(Finalrunde!$E$61:$E$76=Finalrunde!$DU$61:$DU$76))","v":15},8,{"$f":"SUMPRODUCT((COUNTIF(Finalrunde!$D$61:$E$76,Finalrunde!$DR$61:$DR$76)=0)*1)\n+SUMPRODUCT((COUNTIF(Finalrunde!$D$61:$E$76,Finalrunde!$DU$61:$DU$76)=0)*1)","v":9},null,{"$f":"Teilnehmerliste!$A$42","v":37},{"$f":"Teilnehmerliste!B42 &\" \"&Teilnehmerliste!C42","v":"Sarina Gygli"},{"$f":"SUMPRODUCT((Finalrunde!$D$78:$D$85<>\"\")*(Finalrunde!$D$78:$D$85=Finalrunde!$DR$78:$DR$85))\n+SUMPRODUCT((Finalrunde!$E$78:$E$85<>\"\")*(Finalrunde!$E$78:$E$85=Finalrunde!$DU$78:$DU$85))","v":10},2,{"$f":"SUMPRODUCT((COUNTIF(Finalrunde!$D$78:$E$85,Finalrunde!$DR$78:$DR$85)=0)*1)\n+SUMPRODUCT((COUNTIF(Finalrunde!$D$78:$E$85,Finalrunde!$DU$78:$DU$85)=0)*1)","v":4},null,{"$f":"Teilnehmerliste!$A$42","v":37},"Sarina Gygli",{"$f":"SUMPRODUCT((Finalrunde!$D$87:$D$90<>\"\")*(Finalrunde!$D$87:$D$90=Finalrunde!$DR$87:$DR$90))\n+SUMPRODUCT((Finalrunde!$E$87:$E$90<>\"\")*(Finalrunde!$E$87:$E$90=Finalrunde!$DU$87:$DU$90))","v":4},0,{"$f":"SUMPRODUCT((COUNTIF(Finalrunde!$D$87:$E$90,Finalrunde!$DR$87:$DR$90)=0)*1)\n+SUMPRODUCT((COUNTIF(Finalrunde!$D$87:$E$90,Finalrunde!$DU$87:$DU$90)=0)*1)","v":4},null,{"$f":"Teilnehmerliste!$A$42","v":37},"Sarina Gygli",{"$f":"SUMPRODUCT((Finalrunde!$D$92:$D$93<>\"\")*(Finalrunde!$D$92:$D$93=Finalrunde!$DR$92:$DR$93))\n+SUMPRODUCT((Finalrunde!$E$92:$E$93<>\"\")*(Finalrunde!$E$92:$E$93=Finalrunde!$DU$92:$DU$93))","v":3},0,{"$f":"SUMPRODUCT((COUNTIF(Finalrunde!$D$92:$E$93,Finalrunde!$DR$92:$DR$93)=0)*1)\n+SUMPRODUCT((COUNTIF(Finalrunde!$D$92:$E$93,Finalrunde!$DU$92:$DU$93)=0)*1)","v":1}]
[{"$f":"Teilnehmerliste!$A$43","v":38},{"$f":"Teilnehmerliste!B43 &\" \"&Teilnehmerliste!C43","v":"Selina Gygli"},{"$f":"SUMPRODUCT((Finalrunde!$D$61:$D$76<>\"\")*(Finalrunde!$D$61:$D$76=Finalrunde!$DY$61:$DY$76))\n+SUMPRODUCT((Finalrunde!$E$61:$E$76<>\"\")*(Finalrunde!$E$61:$E$76=Finalrunde!$EB$61:$EB$76))","v":14},12,{"$f":"SUMPRODUCT((COUNTIF(Finalrunde!$D$61:$E$76,Finalrunde!$DY$61:$DY$76)=0)*1)\n+SUMPRODUCT((COUNTIF(Finalrunde!$D$61:$E$76,Finalrunde!$EB$61:$EB$76)=0)*1)","v":6},null,{"$f":"Teilnehmerliste!$A$43","v":38},{"$f":"Teilnehmerliste!B43 &\" \"&Teilnehmerliste!C43","v":"Selina Gygli"},{"$f":"SUMPRODUCT((Finalrunde!$D$78:$D$85<>\"\")*(Finalrunde!$D$78:$D$85=Finalrunde!$DY$78:$DY$85))\n+SUMPRODUCT((Finalrunde!$E$78:$E$85<>\"\")*(Finalrunde!$E$78:$E$85=Finalrunde!$EB$78:$EB$85))","v":9},{"$f":"SUM(16-I46-K46)","v":2},{"$f":"SUMPRODUCT((COUNTIF(Finalrunde!$D$78:$E$85,Finalrunde!$DY$78:$DY$85)=0)*1)\n+SUMPRODUCT((COUNTIF(Finalrunde!$D$78:$E$85,Finalrunde!$EB$78:$EB$85)=0)*1)","v":5},null,{"$f":"Teilnehmerliste!$A$43","v":38},"Selina Gygli",{"$f":"SUMPRODUCT((Finalrunde!$D$87:$D$90<>\"\")*(Finalrunde!$D$87:$D$90=Finalrunde!$DY$87:$DY$90))\n+SUMPRODUCT((Finalrunde!$E$87:$E$90<>\"\")*(Finalrunde!$E$87:$E$90=Finalrunde!$EB$87:$EB$90))","v":4},0,{"$f":"SUMPRODUCT((COUNTIF(Finalrunde!$D$87:$E$90,Finalrunde!$DY$87:$DY$90)=0)*1)\n+SUMPRODUCT((COUNTIF(Finalrunde!$D$87:$E$90,Finalrunde!$EB$87:$EB$90)=0)*1)","v":4},null,{"$f":"Teilnehmerliste!$A$43","v":38},"Selina Gygli",{"$f":"SUMPRODUCT((Finalrunde!$D$92:$D$93<>\"\")*(Finalrunde!$D$92:$D$93=Finalrunde!$DY$92:$DY$93))\n+SUMPRODUCT((Finalrunde!$E$92:$E$93<>\"\")*(Finalrunde!$E$92:$E$93=Finalrunde!$EB$92:$EB$93))","v":2},0,{"$f":"SUMPRODUCT((COUNTIF(Finalrunde!$D$92:$E$93,Finalrunde!$DY$92:$DY$93)=0)*1)\n+SUMPRODUCT((COUNTIF(Finalrunde!$D$92:$E$93,Finalrunde!$EB$92:$EB$93)=0)*1)","v":2}]
[{"$f":"Teilnehmerliste!$A$44","v":39},{"$f":"Teilnehmerliste!B44 &\" \"&Teilnehmerliste!C44","v":"Stefan Gygli"},{"$f":"SUMPRODUCT((Finalrunde!$D$61:$D$76<>\"\")*(Finalrunde!$D$61:$D$76=Finalrunde!$EF$61:$EF$76))\n+SUMPRODUCT((Finalrunde!$E$61:$E$76<>\"\")*(Finalrunde!$E$61:$E$76=Finalrunde!$EI$61:$EI$76))","v":19},8,{"$f":"SUMPRODUCT((COUNTIF(Finalrunde!$D$61:$E$76,Finalrunde!$EF$61:$EF$76)=0)*1)\n+SUMPRODUCT((COUNTIF(Finalrunde!$D$61:$E$76,Finalrunde!$EI$61:$EI$76)=0)*1)","v":5},null,{"$f":"Teilnehmerliste!$A$44","v":39},{"$f":"Teilnehmerliste!B44 &\" \"&Teilnehmerliste!C44","v":"Stefan Gygli"},{"$f":"SUMPRODUCT((Finalrunde!$D$78:$D$85<>\"\")*(Finalrunde!$D$78:$D$85=Finalrunde!$EF$78:$EF$85))\n+SUMPRODUCT((Finalrunde!$E$78:$E$85<>\"\")*(Finalrunde!$E$78:$E$85=Finalrunde!$EI$78:$EI$85))","v":8},{"$f":"SUM(16-I47-K47)","v":4},{"$f":"SUMPRODUCT((COUNTIF(Finalrunde!$D$78:$E$85,Finalrunde!$EF$78:$EF$85)=0)*1)\n+SUMPRODUCT((COUNTIF(Finalrunde!$D$78:$E$85,Finalrunde!$EI$78:$EI$85)=0)*1)","v":4},null,{"$f":"Teilnehmerliste!$A$44","v":39},"Stefan Gygli",{"$f":"SUMPRODUCT((Finalrunde!$D$87:$D$90<>\"\")*(Finalrunde!$D$87:$D$90=Finalrunde!$EF$87:$EF$90))\n+SUMPRODUCT((Finalrunde!$E$87:$E$90<>\"\")*(Finalrunde!$E$87:$E$90=Finalrunde!$EI$87:$EI$90))","v":4},1,{"$f":"SUMPRODUCT((COUNTIF(Finalrunde!$D$87:$E$90,Finalrunde!$EF$87:$EF$90)=0)*1)\n+SUMPRODUCT((COUNTIF(Finalrunde!$D$87:$E$90,Finalrunde!$EI$87:$EI$90)=0)*1)","v":3},null,{"$f":"Teilnehmerliste!$A$44","v":39},"Stefan Gygli",{"$f":"SUMPRODUCT((Finalrunde!$D$92:$D$93<>\"\")*(Finalrunde!$D$92:$D$93=Finalrunde!$EF$92:$EF$93))\n+SUMPRODUCT((Finalrunde!$E$92:$E$93<>\"\")*(Finalrunde!$E$92:$E$93=Finalrunde!$EI$92:$EI$93))","v":3},0,{"$f":"SUMPRODUCT((COUNTIF(Finalrunde!$D$92:$E$93,Finalrunde!$EF$92:$EF$93)=0)*1)\n+SUMPRODUCT((COUNTIF(Finalrunde!$D$92:$E$93,Finalrunde!$EI$92:$EI$93)=0)*1)","v":1}]
[{"$f":"Teilnehmerliste!$A$45","v":40},{"$f":"Teilnehmerliste!B45 &\" \"&Teilnehmerliste!C45","v":"Timothy Gygli"},{"$f":"SUMPRODUCT((Finalrunde!$D$61:$D$76<>\"\")*(Finalrunde!$D$61:$D$76=Finalrunde!$EM$61:$EM$76))\n+SUMPRODUCT((Finalrunde!$E$61:$E$76<>\"\")*(Finalrunde!$E$61:$E$76=Finalrunde!$EP$61:$EP$76))","v":18},10,{"$f":"SUMPRODUCT((COUNTIF(Finalrunde!$D$61:$E$76,Finalrunde!$EM$61:$EM$76)=0)*1)\n+SUMPRODUCT((COUNTIF(Finalrunde!$D$61:$E$76,Finalrunde!$EP$61:$EP$76)=0)*1)","v":4},null,{"$f":"Teilnehmerliste!$A$45","v":40},{"$f":"Teilnehmerliste!B45 &\" \"&Teilnehmerliste!C45","v":"Timothy Gygli"},{"$f":"SUMPRODUCT((Finalrunde!$D$78:$D$85<>\"\")*(Finalrunde!$D$78:$D$85=Finalrunde!$EM$78:$EM$85))\n+SUMPRODUCT((Finalrunde!$E$78:$E$85<>\"\")*(Finalrunde!$E$78:$E$85=Finalrunde!$EP$78:$EP$85))","v":8},{"$f":"SUM(16-I48-K48)","v":3},{"$f":"SUMPRODUCT((COUNTIF(Finalrunde!$D$78:$E$85,Finalrunde!$EM$78:$EM$85)=0)*1)\n+SUMPRODUCT((COUNTIF(Finalrunde!$D$78:$E$85,Finalrunde!$EP$78:$EP$85)=0)*1)","v":5},null,{"$f":"Teilnehmerliste!$A$45","v":40},"Timothy Gygli",{"$f":"SUMPRODUCT((Finalrunde!$D$87:$D$90<>\"\")*(Finalrunde!$D$87:$D$90=Finalrunde!$EM$87:$EM$90))\n+SUMPRODUCT((Finalrunde!$E$87:$E$90<>\"\")*(Finalrunde!$E$87:$E$90=Finalrunde!$EP$87:$EP$90))","v":5},2,{"$f":"SUMPRODUCT((COUNTIF(Finalrunde!$D$87:$E$90,Finalrunde!$EM$87:$EM$90)=0)*1)\n+SUMPRODUCT((COUNTIF(Finalrunde!$D$87:$E$90,Finalrunde!$EP$87:$EP$90)=0)*1)","v":1},null,{"$f":"Teilnehmerliste!$A$45","v":40},"Timothy Gygli",{"$f":"SUMPRODUCT((Finalrunde!$D$92:$D$93<>\"\")*(Finalrunde!$D$92:$D$93=Finalrunde!$EM$92:$EM$93))\n+SUMPRODUCT((Finalrunde!$E$92:$E$93<>\"\")*(Finalrunde!$E$92:$E$93=Finalrunde!$EP$92:$EP$93))","v":4},0,{"$f":"SUMPRODUCT((COUNTIF(Finalrunde!$D$92:$E$93,Finalrunde!$EM$92:$EM$93)=0)*1)\n+SUMPRODUCT((COUNTIF(Finalrunde!$D$92:$E$93,Finalrunde!$EP$92:$EP$93)=0)*1)","v":0}]
[{"$f":"Teilnehmerliste!$A$46","v":41},{"$f":"Teilnehmerliste!B46 &\" \"&Teilnehmerliste!C46","v":"Florian Haab"},{"$f":"SUMPRODUCT((Finalrunde!$D$111:$D$126<>\"\")*(Finalrunde!$D$111:$D$126=Finalrunde!$J$111:$J$126))\n+SUMPRODUCT((Finalrunde!$E$111:$E$126<>\"\")*(Finalrunde!$E$111:$E$126=Finalrunde!$M$111:$M$126))","v":20},6,{"$f":"SUMPRODUCT((COUNTIF(Finalrunde!$D$111:$E$126,Finalrunde!$J$111:$J$126)=0)*1)\n+SUMPRODUCT((COUNTIF(Finalrunde!$D$111:$E$126,Finalrunde!$M$111:$M$126)=0)*1)","v":6},null,{"$f":"Teilnehmerliste!$A$46","v":41},{"$f":"Teilnehmerliste!B46 &\" \"&Teilnehmerliste!C46","v":"Florian Haab"},{"$f":"SUMPRODUCT((Finalrunde!$D$128:$D$135<>\"\")*(Finalrunde!$D$128:$D$135=Finalrunde!$J$128:$J$135))\n+SUMPRODUCT((Finalrunde!$E$128:$E$135<>\"\")*(Finalrunde!$E$128:$E$135=Finalrunde!$M$128:$M$135))","v":10},2,{"$f":"SUMPRODUCT((COUNTIF(Finalrunde!$D$128:$E$135,Finalrunde!$J$128:$J$135)=0)*1)\n+SUMPRODUCT((COUNTIF(Finalrunde!$D$128:$E$135,Finalrunde!$M$128:$M$135)=0)*1)","v":4},null,{"$f":"Teilnehmerliste!$A$46","v":41},"Florian Haab",{"$f":"SUMPRODUCT((Finalrunde!$D$137:$D$140<>\"\")*(Finalrunde!$D$137:$D$140=Finalrunde!$J$137:$J$140))\n+SUMPRODUCT((Finalrunde!$E$137:$E$140<>\"\")*(Finalrunde!$E$137:$E$140=Finalrunde!$M$137:$M$140))","v":5},0,{"$f":"SUMPRODUCT((COUNTIF(Finalrunde!$D$137:$E$140,Finalrunde!$J$137:$J$140)=0)*1)\n+SUMPRODUCT((COUNTIF(Finalrunde!$D$137:$E$140,Finalrunde!$M$137:$M$140)=0)*1)","v":3},null,{"$f":"Teilnehmerliste!$A$46","v":41},"Florian Haab",{"$f":"SUMPRODUCT((Finalrunde!$D$142:$D$143<>\"\")*(Finalrunde!$D$142:$D$143=Finalrunde!$J$142:$J$143))\n+SUMPRODUCT((Finalrunde!$E$142:$E$143<>\"\")*(Finalrunde!$E$142:$E$143=Finalrunde!$M$142:$M$143))","v":4},0,{"$f":"SUMPRODUCT((COUNTIF(Finalrunde!$D$142:$E$143,Finalrunde!$J$142:$J$143)=0)*1)\n+SUMPRODUCT((COUNTIF(Finalrunde!$D$142:$E$143,Finalrunde!$M$142:$M$143)=0)*1)","v":0}]
[{"$f":"Teilnehmerliste!$A$47","v":42},{"$f":"Teilnehmerliste!B47 &\" \"&Teilnehmerliste!C47","v":"Agnes Isenschmid"},{"$f":"SUMPRODUCT((Finalrunde!$D$111:$D$126<>\"\")*(Finalrunde!$D$111:$D$126=Finalrunde!$Q$111:$Q$126))\n+SUMPRODUCT((Finalrunde!$E$111:$E$126<>\"\")*(Finalrunde!$E$111:$E$126=Finalrunde!$T$111:$T$126))","v":20},7,{"$f":"SUMPRODUCT((COUNTIF(Finalrunde!$D$111:$E$126,Finalrunde!$Q$111:$Q$126)=0)*1)\n+SUMPRODUCT((COUNTIF(Finalrunde!$D$111:$E$126,Finalrunde!$T$111:$T$126)=0)*1)","v":5},null,{"$f":"Teilnehmerliste!$A$47","v":42},{"$f":"Teilnehmerliste!B47 &\" \"&Teilnehmerliste!C47","v":"Agnes Isenschmid"},{"$f":"SUMPRODUCT((Finalrunde!$D$128:$D$135<>\"\")*(Finalrunde!$D$128:$D$135=Finalrunde!$Q$128:$Q$135))\n+SUMPRODUCT((Finalrunde!$E$128:$E$135<>\"\")*(Finalrunde!$E$128:$E$135=Finalrunde!$T$128:$T$135))","v":9},2,{"$f":"SUMPRODUCT((COUNTIF(Finalrunde!$D$128:$E$135,Finalrunde!$Q$128:$Q$135)=0)*1)\n+SUMPRODUCT((COUNTIF(Finalrunde!$D$128:$E$135,Finalrunde!$T$128:$T$135)=0)*1)","v":5},null,{"$f":"Teilnehmerliste!$A$47","v":42},"Agnes Isenschmid",{"$f":"SUMPRODUCT((Finalrunde!$D$137:$D$140<>\"\")*(Finalrunde!$D$137:$D$140=Finalrunde!$Q$137:$Q$140))\n+SUMPRODUCT((Finalrunde!$E$137:$E$140<>\"\")*(Finalrunde!$E$137:$E$140=Finalrunde!$T$137:$T$140))","v":6},0,{"$f":"SUMPRODUCT((COUNTIF(Finalrunde!$D$137:$E$140,Finalrunde!$Q$137:$Q$140)=0)*1)\n+SUMPRODUCT((COUNTIF(Finalrunde!$D$137:$E$140,Finalrunde!$T$137:$T$140)=0)*1)","v":2},null,{"$f":"Teilnehmerliste!$A$47","v":42},"Agnes Isenschmid",{"$f":"SUMPRODUCT((Finalrunde!$D$142:$D$143<>\"\")*(Finalrunde!$D$142:$D$143=Finalrunde!$Q$142:$Q$143))\n+SUMPRODUCT((Finalrunde!$E$142:$E$143<>\"\")*(Finalrunde!$E$142:$E$143=Finalrunde!$T$142:$T$143))","v":4},0,{"$f":"SUMPRODUCT((COUNTIF(Finalrunde!$D$142:$E$143,Finalrunde!$Q$142:$Q$143)=0)*1)\n+SUMPRODUCT((COUNTIF(Finalrunde!$D$142:$E$143,Finalrunde!$T$142:$T$143)=0)*1)","v":0}]
[{"$f":"Teilnehmerliste!$A$48","v":43},{"$f":"Teilnehmerliste!B48 &\" \"&Teilnehmerliste!C48","v":"Andreas Isenschmid"},{"$f":"SUMPRODUCT((Finalrunde!$D$111:$D$126<>\"\")*(Finalrunde!$D$111:$D$126=Finalrunde!$X$111:$X$126))\n+SUMPRODUCT((Finalrunde!$E$111:$E$126<>\"\")*(Finalrunde!$E$111:$E$126=Finalrunde!$AA$111:$AA$126))","v":19},8,{"$f":"SUMPRODUCT((COUNTIF(Finalrunde!$D$111:$E$126,Finalrunde!$X$111:$X$126)=0)*1)\n+SUMPRODUCT((COUNTIF(Finalrunde!$D$111:$E$126,Finalrunde!$AA$111:$AA$126)=0)*1)","v":5},null,{"$f":"Teilnehmerliste!$A$48","v":43},{"$f":"Teilnehmerliste!B48 &\" \"&Teilnehmerliste!C48","v":"Andreas Isenschmid"},{"$f":"SUMPRODUCT((Finalrunde!$D$128:$D$135<>\"\")*(Finalrunde!$D$128:$D$135=Finalrunde!$X$128:$X$135))\n+SUMPRODUCT((Finalrunde!$E$128:$E$135<>\"\")*(Finalrunde!$E$128:$E$135=Finalrunde!$AA$128:$AA$135))","v":9},2,{"$f":"SUMPRODUCT((COUNTIF(Finalrunde!$D$128:$E$135,Finalrunde!$X$128:$X$135)=0)*1)\n+SUMPRODUCT((COUNTIF(Finalrunde!$D$128:$E$135,Finalrunde!$AA$128:$AA$135)=0)*1)","v":5},null,{"$f":"Teilnehmerliste!$A$48","v":43},"Andreas Isenschmid",{"$f":"SUMPRODUCT((Finalrunde!$D$137:$D$140<>\"\")*(Finalrunde!$D$137:$D$140=Finalrunde!$X$137:$X$140))\n+SUMPRODUCT((Finalrunde!$E$137:$E$140<>\"\")*(Finalrunde!$E$137:$E$140=Finalrunde!$AA$137:$AA$140))","v":5},0,{"$f":"SUMPRODUCT((COUNTIF(Finalrunde!$D$137:$E$140,Finalrunde!$X$137:$X$140)=0)*1)\n+SUMPRODUCT((COUNTIF(Finalrunde!$D$137:$E$140,Finalrunde!$AA$137:$AA$140)=0)*1)","v":3},null,{"$f":"Teilnehmerliste!$A$48","v":43},"Andreas Isenschmid",{"$f":"SUMPRODUCT((Finalrunde!$D$142:$D$143<>\"\")*(Finalrunde!$D$142:$D$143=Finalrunde!$X$142:$X$143))\n+SUMPRODUCT((Finalrunde!$E$142:$E$143<>\"\")*(Finalrunde!$E$142:$E$143=Finalrunde!$AA$142:$AA$143))","v":3},0,{"$f":"SUMPRODUCT((COUNTIF(Finalrunde!$D$142:$E$143,Finalrunde!$X$142:$X$143)=0)*1)\n+SUMPRODUCT((COUNTIF(Finalrunde!$D$142:$E$143,Finalrunde!$AA$142:$AA$143)=0)*1)","v":1}]
[{"$f":"Teilnehmerliste!$A$49","v":44},{"$f":"Teilnehmerliste!B49 &\" \"&Teilnehmerliste!C49","v":"Michael Isenschmid"},{"$f":"SUMPRODUCT((Finalrunde!$D$111:$D$126<>\"\")*(Finalrunde!$D$111:$D$126=Finalrunde!$AE$111:$AE$126))\n+SUMPRODUCT((Finalrunde!$E$111:$E$126<>\"\")*(Finalrunde!$E$111:$E$126=Finalrunde!$AH$111:$AH$126))","v":18},9,{"$f":"SUMPRODUCT((COUNTIF(Finalrunde!$D$111:$E$126,Finalrunde!$AE$111:$AE$126)=0)*1)\n+SUMPRODUCT((COUNTIF(Finalrunde!$D$111:$E$126,Finalrunde!$AH$111:$AH$126)=0)*1)","v":5},null,{"$f":"Teilnehmerliste!$A$49","v":44},{"$f":"Teilnehmerliste!B49 &\" \"&Teilnehmerliste!C49","v":"Michael Isenschmid"},{"$f":"SUMPRODUCT((Finalrunde!$D$128:$D$135<>\"\")*(Finalrunde!$D$128:$D$135=Finalrunde!$AE$128:$AE$135))\n+SUMPRODUCT((Finalrunde!$E$128:$E$135<>\"\")*(Finalrunde!$E$128:$E$135=Finalrunde!$AH$128:$AH$135))","v":9},2,{"$f":"SUMPRODUCT((COUNTIF(Finalrunde!$D$128:$E$135,Finalrunde!$AE$128:$AE$135)=0)*1)\n+SUMPRODUCT((COUNTIF(Finalrunde!$D$128:$E$135,Finalrunde!$AH$128:$AH$135)=0)*1)","v":5},null,{"$f":"Teilnehmerliste!$A$49","v":44},"Michael Isenschmid",{"$f":"SUMPRODUCT((Finalrunde!$D$137:$D$140<>\"\")*(Finalrunde!$D$137:$D$140=Finalrunde!$AE$137:$AE$140))\n+SUMPRODUCT((Finalrunde!$E$137:$E$140<>\"\")*(Finalrunde!$E$137:$E$140=Finalrunde!$AH$137:$AH$140))","v":5},0,{"$f":"SUMPRODUCT((COUNTIF(Finalrunde!$D$137:$E$140,Finalrunde!$AE$137:$AE$140)=0)*1)\n+SUMPRODUCT((COUNTIF(Finalrunde!$D$137:$E$140,Finalrunde!$AH$137:$AH$140)=0)*1)","v":3},null,{"$f":"Teilnehmerliste!$A$49","v":44},"Michael Isenschmid",{"$f":"SUMPRODUCT((Finalrunde!$D$142:$D$143<>\"\")*(Finalrunde!$D$142:$D$143=Finalrunde!$AE$142:$AE$143))\n+SUMPRODUCT((Finalrunde!$E$142:$E$143<>\"\")*(Finalrunde!$E$142:$E$143=Finalrunde!$AH$142:$AH$143))","v":4},0,{"$f":"SUMPRODUCT((COUNTIF(Finalrunde!$D$142:$E$143,Finalrunde!$AE$142:$AE$143)=0)*1)\n+SUMPRODUCT((COUNTIF(Finalrunde!$D$142:$E$143,Finalrunde!$AH$142:$AH$143)=0)*1)","v":0}]
[{"$f":"Teilnehmerliste!$A$50","v":45},{"$f":"Teilnehmerliste!B50 &\" \"&Teilnehmerliste!C50","v":"Aiden Jones"},{"$f":"SUMPRODUCT((Finalrunde!$D$111:$D$126<>\"\")*(Finalrunde!$D$111:$D$126=Finalrunde!$AL$111:$AL$126))\n+SUMPRODUCT((Finalrunde!$E$111:$E$126<>\"\")*(Finalrunde!$E$111:$E$126=Finalrunde!$AO$111:$AO$126))","v":15},11,{"$f":"SUMPRODUCT((COUNTIF(Finalrunde!$D$111:$E$126,Finalrunde!$AL$111:$AL$126)=0)*1)\n+SUMPRODUCT((COUNTIF(Finalrunde!$D$111:$E$126,Finalrunde!$AO$111:$AO$126)=0)*1)","v":6},null,{"$f":"Teilnehmerliste!$A$50","v":45},{"$f":"Teilnehmerliste!B50 &\" \"&Teilnehmerliste!C50","v":"Aiden Jones"},{"$f":"SUMPRODUCT((Finalrunde!$D$128:$D$135<>\"\")*(Finalrunde!$D$128:$D$135=Finalrunde!$AL$128:$AL$135))\n+SUMPRODUCT((Finalrunde!$E$128:$E$135<>\"\")*(Finalrunde!$E$128:$E$135=Finalrunde!$AO$128:$AO$135))","v":9},3,{"$f":"SUMPRODUCT((COUNTIF(Finalrunde!$D$128:$E$135,Finalrunde!$AL$128:$AL$135)=0)*1)\n+SUMPRODUCT((COUNTIF(Finalrunde!$D$128:$E$135,Finalrunde!$AO$128:$AO$135)=0)*1)","v":4},null,{"$f":"Teilnehmerliste!$A$50","v":45},"Aiden Jones",{"$f":"SUMPRODUCT((Finalrunde!$D$137:$D$140<>\"\")*(Finalrunde!$D$137:$D$140=Finalrunde!$AL$137:$AL$140))\n+SUMPRODUCT((Finalrunde!$E$137:$E$140<>\"\")*(Finalrunde!$E$137:$E$140=Finalrunde!$AO$137:$AO$140))","v":4},0,{"$f":"SUMPRODUCT((COUNTIF(Finalrunde!$D$137:$E$140,Finalrunde!$AL$137:$AL$140)=0)*1)\n+SUMPRODUCT((COUNTIF(Finalrunde!$D$137:$E$140,Finalrunde!$AO$137:$AO$140)=0)*1)","v":4},null,{"$f":"Teilnehmerliste!$A$50","v":45},"Aiden Jones",{"$f":"SUMPRODUCT((Finalrunde!$D$142:$D$143<>\"\")*(Finalrunde!$D$142:$D$143=Finalrunde!$AL$142:$AL$143))\n+SUMPRODUCT((Finalrunde!$E$142:$E$143<>\"\")*(Finalrunde!$E$142:$E$143=Finalrunde!$AO$142:$AO$143))","v":2},0,{"$f":"SUMPRODUCT((COUNTIF(Finalrunde!$D$142:$E$143,Finalrunde!$AL$142:$AL$143)=0)*1)\n+SUMPRODUCT((COUNTIF(Finalrunde!$D$142:$E$143,Finalrunde!$AO$142:$AO$143)=0)*1)","v":2}]
[{"$f":"Teilnehmerliste!$A$51","v":46},{"$f":"Teilnehmerliste!B51 &\" \"&Teilnehmerliste!C51","v":"Pascal Keller"},{"$f":"SUMPRODUCT((Finalrunde!$D$111:$D$126<>\"\")*(Finalrunde!$D$111:$D$126=Finalrunde!$AS$111:$AS$126))\n+SUMPRODUCT((Finalrunde!$E$111:$E$126<>\"\")*(Finalrunde!$E$111:$E$126=Finalrunde!$AV$111:$AV$126))","v":18},6,{"$f":"SUMPRODUCT((COUNTIF(Finalrunde!$D$111:$E$126,Finalrunde!$AS$111:$AS$126)=0)*1)\n+SUMPRODUCT((COUNTIF(Finalrunde!$D$111:$E$126,Finalrunde!$AV$111:$AV$126)=0)*1)","v":8},null,{"$f":"Teilnehmerliste!$A$51","v":46},{"$f":"Teilnehmerliste!B51 &\" \"&Teilnehmerliste!C51","v":"Pascal Keller"},{"$f":"SUMPRODUCT((Finalrunde!$D$128:$D$135<>\"\")*(Finalrunde!$D$128:$D$135=Finalrunde!$AS$128:$AS$135))\n+SUMPRODUCT((Finalrunde!$E$128:$E$135<>\"\")*(Finalrunde!$E$128:$E$135=Finalrunde!$AV$128:$AV$135))","v":9},1,{"$f":"SUMPRODUCT((COUNTIF(Finalrunde!$D$128:$E$135,Finalrunde!$AS$128:$AS$135)=0)*1)\n+SUMPRODUCT((COUNTIF(Finalrunde!$D$128:$E$135,Finalrunde!$AV$128:$AV$135)=0)*1)","v":6},null,{"$f":"Teilnehmerliste!$A$51","v":46},"Pascal Keller",{"$f":"SUMPRODUCT((Finalrunde!$D$137:$D$140<>\"\")*(Finalrunde!$D$137:$D$140=Finalrunde!$AS$137:$AS$140))\n+SUMPRODUCT((Finalrunde!$E$137:$E$140<>\"\")*(Finalrunde!$E$137:$E$140=Finalrunde!$AV$137:$AV$140))","v":6},0,{"$f":"SUMPRODUCT((COUNTIF(Finalrunde!$D$137:$E$140,Finalrunde!$AS$137:$AS$140)=0)*1)\n+SUMPRODUCT((COUNTIF(Finalrunde!$D$137:$E$140,Finalrunde!$AV$137:$AV$140)=0)*1)","v":2},null,{"$f":"Teilnehmerliste!$A$51","v":46},"Pascal Keller",{"$f":"SUMPRODUCT((Finalrunde!$D$142:$D$143<>\"\")*(Finalrunde!$D$142:$D$143=Finalrunde!$AS$142:$AS$143))\n+SUMPRODUCT((Finalrunde!$E$142:$E$143<>\"\")*(Finalrunde!$E$142:$E$143=Finalrunde!$AV$142:$AV$143))","v":3},0,{"$f":"SUMPRODUCT((COUNTIF(Finalrunde!$D$142:$E$143,Finalrunde!$AS$142:$AS$143)=0)*1)\n+SUMPRODUCT((COUNTIF(Finalrunde!$D$142:$E$143,Finalrunde!$AV$142:$AV$143)=0)*1)","v":1}]
[{"$f":"Teilnehmerliste!$A$52","v":47},{"$f":"Teilnehmerliste!B52 &\" \"&Teilnehmerliste!C52","v":"Tanja Kistler"},{"$f":"SUMPRODUCT((Finalrunde!$D$111:$D$126<>\"\")*(Finalrunde!$D$111:$D$126=Finalrunde!$AZ$111:$AZ$126))\n+SUMPRODUCT((Finalrunde!$E$111:$E$126<>\"\")*(Finalrunde!$E$111:$E$126=Finalrunde!$BC$111:$BC$126))","v":16},10,{"$f":"SUMPRODUCT((COUNTIF(Finalrunde!$D$111:$E$126,Finalrunde!$AZ$111:$AZ$126)=0)*1)\n+SUMPRODUCT((COUNTIF(Finalrunde!$D$111:$E$126,Finalrunde!$BC$111:$BC$126)=0)*1)","v":6},null,{"$f":"Teilnehmerliste!$A$52","v":47},{"$f":"Teilnehmerliste!B52 &\" \"&Teilnehmerliste!C52","v":"Tanja Kistler"},{"$f":"SUMPRODUCT((Finalrunde!$D$128:$D$135<>\"\")*(Finalrunde!$D$128:$D$135=Finalrunde!$AZ$128:$AZ$135))\n+SUMPRODUCT((Finalrunde!$E$128:$E$135<>\"\")*(Finalrunde!$E$128:$E$135=Finalrunde!$BC$128:$BC$135))","v":9},3,{"$f":"SUMPRODUCT((COUNTIF(Finalrunde!$D$128:$E$135,Finalrunde!$AZ$128:$AZ$135)=0)*1)\n+SUMPRODUCT((COUNTIF(Finalrunde!$D$128:$E$135,Finalrunde!$BC$128:$BC$135)=0)*1)","v":4},null,{"$f":"Teilnehmerliste!$A$52","v":47},"Tanja Kistler",{"$f":"SUMPRODUCT((Finalrunde!$D$137:$D$140<>\"\")*(Finalrunde!$D$137:$D$140=Finalrunde!$AZ$137:$AZ$140))\n+SUMPRODUCT((Finalrunde!$E$137:$E$140<>\"\")*(Finalrunde!$E$137:$E$140=Finalrunde!$BC$137:$BC$140))","v":5},0,{"$f":"SUMPRODUCT((COUNTIF(Finalrunde!$D$137:$E$140,Finalrunde!$AZ$137:$AZ$140)=0)*1)\n+SUMPRODUCT((COUNTIF(Finalrunde!$D$137:$E$140,Finalrunde!$BC$137:$BC$140)=0)*1)","v":3},null,{"$f":"Teilnehmerliste!$A$52","v":47},"Tanja Kistler",{"$f":"SUMPRODUCT((Finalrunde!$D$142:$D$143<>\"\")*(Finalrunde!$D$142:$D$143=Finalrunde!$AZ$142:$AZ$143))\n+SUMPRODUCT((Finalrunde!$E$142:$E$143<>\"\")*(Finalrunde!$E$142:$E$143=Finalrunde!$BC$142:$BC$143))","v":1},0,{"$f":"SUMPRODUCT((COUNTIF(Finalrunde!$D$142:$E$143,Finalrunde!$AZ$142:$AZ$143)=0)*1)\n+SUMPRODUCT((COUNTIF(Finalrunde!$D$142:$E$143,Finalrunde!$BC$142:$BC$143)=0)*1)","v":3}]
[{"$f":"Teilnehmerliste!$A$53","v":48},{"$f":"Teilnehmerliste!B53 &\" \"&Teilnehmerliste!C53","v":"André Lanz"},{"$f":"SUMPRODUCT((Finalrunde!$D$111:$D$126<>\"\")*(Finalrunde!$D$111:$D$126=Finalrunde!$BG$111:$BG$126))\n+SUMPRODUCT((Finalrunde!$E$111:$E$126<>\"\")*(Finalrunde!$E$111:$E$126=Finalrunde!$BJ$111:$BJ$126))","v":19},6,{"$f":"SUMPRODUCT((COUNTIF(Finalrunde!$D$111:$E$126,Finalrunde!$BG$111:$BG$126)=0)*1)\n+SUMPRODUCT((COUNTIF(Finalrunde!$D$111:$E$126,Finalrunde!$BJ$111:$BJ$126)=0)*1)","v":7},null,{"$f":"Teilnehmerliste!$A$53","v":48},{"$f":"Teilnehmerliste!B53 &\" \"&Teilnehmerliste!C53","v":"André Lanz"},{"$f":"SUMPRODUCT((Finalrunde!$D$128:$D$135<>\"\")*(Finalrunde!$D$128:$D$135=Finalrunde!$BG$128:$BG$135))\n+SUMPRODUCT((Finalrunde!$E$128:$E$135<>\"\")*(Finalrunde!$E$128:$E$135=Finalrunde!$BJ$128:$BJ$135))","v":11},2,{"$f":"SUMPRODUCT((COUNTIF(Finalrunde!$D$128:$E$135,Finalrunde!$BG$128:$BG$135)=0)*1)\n+SUMPRODUCT((COUNTIF(Finalrunde!$D$128:$E$135,Finalrunde!$BJ$128:$BJ$135)=0)*1)","v":3},null,{"$f":"Teilnehmerliste!$A$53","v":48},"André Lanz",{"$f":"SUMPRODUCT((Finalrunde!$D$137:$D$140<>\"\")*(Finalrunde!$D$137:$D$140=Finalrunde!$BG$137:$BG$140))\n+SUMPRODUCT((Finalrunde!$E$137:$E$140<>\"\")*(Finalrunde!$E$137:$E$140=Finalrunde!$BJ$137:$BJ$140))","v":6},0,{"$f":"SUMPRODUCT((COUNTIF(Finalrunde!$D$137:$E$140,Finalrunde!$BG$137:$BG$140)=0)*1)\n+SUMPRODUCT((COUNTIF(Finalrunde!$D$137:$E$140,Finalrunde!$BJ$137:$BJ$140)=0)*1)","v":2},null,{"$f":"Teilnehmerliste!$A$53","v":48},"André Lanz",{"$f":"SUMPRODUCT((Finalrunde!$D$142:$D$143<>\"\")*(Finalrunde!$D$142:$D$143=Finalrunde!$BG$142:$BG$143))\n+SUMPRODUCT((Finalrunde!$E$142:$E$143<>\"\")*(Finalrunde!$E$142:$E$143=Finalrunde!$BJ$142:$BJ$143))","v":3},0,{"$f":"SUMPRODUCT((COUNTIF(Finalrunde!$D$142:$E$143,Finalrunde!$BG$142:$BG$143)=0)*1)\n+SUMPRODUCT((COUNTIF(Finalrunde!$D$142:$E$143,Finalrunde!$BJ$142:$BJ$143)=0)*1)","v":1}]
[{"$f":"Teilnehmerliste!$A$54","v":49},{"$f":"Teilnehmerliste!B54 &\" \"&Teilnehmerliste!C54","v":"Franz Lischer"},{"$f":"SUMPRODUCT((Finalrunde!$D$111:$D$126<>\"\")*(Finalrunde!$D$111:$D$126=Finalrunde!$BN$111:$BN$126))\n+SUMPRODUCT((Finalrunde!$E$111:$E$126<>\"\")*(Finalrunde!$E$111:$E$126=Finalrunde!$BQ$111:$BQ$126))","v":17},9,{"$f":"SUMPRODUCT((COUNTIF(Finalrunde!$D$111:$E$126,Finalrunde!$BN$111:$BN$126)=0)*1)\n+SUMPRODUCT((COUNTIF(Finalrunde!$D$111:$E$126,Finalrunde!$BQ$111:$BQ$126)=0)*1)","v":6},null,{"$f":"Teilnehmerliste!$A$54","v":49},{"$f":"Teilnehmerliste!B54 &\" \"&Teilnehmerliste!C54","v":"Franz Lischer"},{"$f":"SUMPRODUCT((Finalrunde!$D$128:$D$135<>\"\")*(Finalrunde!$D$128:$D$135=Finalrunde!$BN$128:$BN$135))\n+SUMPRODUCT((Finalrunde!$E$128:$E$135<>\"\")*(Finalrunde!$E$128:$E$135=Finalrunde!$BQ$128:$BQ$135))","v":7},4,{"$f":"SUMPRODUCT((COUNTIF(Finalrunde!$D$128:$E$135,Finalrunde!$BN$128:$BN$135)=0)*1)\n+SUMPRODUCT((COUNTIF(Finalrunde!$D$128:$E$135,Finalrunde!$BQ$128:$BQ$135)=0)*1)","v":5},null,{"$f":"Teilnehmerliste!$A$54","v":49},"Franz Lischer",{"$f":"SUMPRODUCT((Finalrunde!$D$137:$D$140<>\"\")*(Finalrunde!$D$137:$D$140=Finalrunde!$BN$137:$BN$140))\n+SUMPRODUCT((Finalrunde!$E$137:$E$140<>\"\")*(Finalrunde!$E$137:$E$140=Finalrunde!$BQ$137:$BQ$140))","v":5},0,{"$f":"SUMPRODUCT((COUNTIF(Finalrunde!$D$137:$E$140,Finalrunde!$BN$137:$BN$140)=0)*1)\n+SUMPRODUCT((COUNTIF(Finalrunde!$D$137:$E$140,Finalrunde!$BQ$137:$BQ$140)=0)*1)","v":3},null,{"$f":"Teilnehmerliste!$A$54","v":49},"Franz Lischer",{"$f":"SUMPRODUCT((Finalrunde!$D$142:$D$143<>\"\")*(Finalrunde!$D$142:$D$143=Finalrunde!$BN$142:$BN$143))\n+SUMPRODUCT((Finalrunde!$E$142:$E$143<>\"\")*(Finalrunde!$E$142:$E$143=Finalrunde!$BQ$142:$BQ$143))","v":3},0,{"$f":"SUMPRODUCT((COUNTIF(Finalrunde!$D$142:$E$143,Finalrunde!$BN$142:$BN$143)=0)*1)\n+SUMPRODUCT((COUNTIF(Finalrunde!$D$142:$E$143,Finalrunde!$BQ$142:$BQ$143)=0)*1)","v":1}]
[{"$f":"Teilnehmerliste!$A$55","v":50},{"$f":"Teilnehmerliste!B55 &\" \"&Teilnehmerliste!C55","v":"Marc Lütolf"},{"$f":"SUMPRODUCT((Finalrunde!$D$111:$D$126<>\"\")*(Finalrunde!$D$111:$D$126=Finalrunde!$BU$111:$BU$126))\n+SUMPRODUCT((Finalrunde!$E$111:$E$126<>\"\")*(Finalrunde!$E$111:$E$126=Finalrunde!$BX$111:$BX$126))","v":21},5,{"$f":"SUMPRODUCT((COUNTIF(Finalrunde!$D$111:$E$126,Finalrunde!$BU$111:$BU$126)=0)*1)\n+SUMPRODUCT((COUNTIF(Finalrunde!$D$111:$E$126,Finalrunde!$BX$111:$BX$126)=0)*1)","v":6},null,{"$f":"Teilnehmerliste!$A$55","v":50},{"$f":"Teilnehmerliste!B55 &\" \"&Teilnehmerliste!C55","v":"Marc Lütolf"},{"$f":"SUMPRODUCT((Finalrunde!$D$128:$D$135<>\"\")*(Finalrunde!$D$128:$D$135=Finalrunde!$BU$128:$BU$135))\n+SUMPRODUCT((Finalrunde!$E$128:$E$135<>\"\")*(Finalrunde!$E$128:$E$135=Finalrunde!$BX$128:$BX$135))","v":9},1,{"$f":"SUMPRODUCT((COUNTIF(Finalrunde!$D$128:$E$135,Finalrunde!$BU$128:$BU$135)=0)*1)\n+SUMPRODUCT((COUNTIF(Finalrunde!$D$128:$E$135,Finalrunde!$BX$128:$BX$135)=0)*1)","v":6},null,{"$f":"Teilnehmerliste!$A$55","v":50},"Marc Lütolf",{"$f":"SUMPRODUCT((Finalrunde!$D$137:$D$140<>\"\")*(Finalrunde!$D$137:$D$140=Finalrunde!$BU$137:$BU$140))\n+SUMPRODUCT((Finalrunde!$E$137:$E$140<>\"\")*(Finalrunde!$E$137:$E$140=Finalrunde!$BX$137:$BX$140))","v":6},0,{"$f":"SUMPRODUCT((COUNTIF(Finalrunde!$D$137:$E$140,Finalrunde!$BU$137:$BU$140)=0)*1)\n+SUMPRODUCT((COUNTIF(Finalrunde!$D$137:$E$140,Finalrunde!$BX$137:$BX$140)=0)*1)","v":2},null,{"$f":"Teilnehmerliste!$A$55","v":50},"Marc Lütolf",{"$f":"SUMPRODUCT((Finalrunde!$D$142:$D$143<>\"\")*(Finalrunde!$D$142:$D$143=Finalrunde!$BU$142:$BU$143))\n+SUMPRODUCT((Finalrunde!$E$142:$E$143<>\"\")*(Finalrunde!$E$142:$E$143=Finalrunde!$BX$142:$BX$143))","v":4},0,{"$f":"SUMPRODUCT((COUNTIF(Finalrunde!$D$142:$E$143,Finalrunde!$BU$142:$BU$143)=0)*1)\n+SUMPRODUCT((COUNTIF(Finalrunde!$D$142:$E$143,Finalrunde!$BX$142:$BX$143)=0)*1)","v":0}]
[{"$f":"Teilnehmerliste!$A$56","v":51},{"$f":"Teilnehmerliste!B56 &\" \"&Teilnehmerliste!C56","v":"Nicolas Mack"},{"$f":"SUMPRODUCT((Finalrunde!$D$111:$D$126<>\"\")*(Finalrunde!$D$111:$D$126=Finalrunde!$CB$111:$CB$126))\n+SUMPRODUCT((Finalrunde!$E$111:$E$126<>\"\")*(Finalrunde!$E$111:$E$126=Finalrunde!$CE$111:$CE$126))","v":17},9,{"$f":"SUMPRODUCT((COUNTIF(Finalrunde!$D$111:$E$126,Finalrunde!$CB$111:$CB$126)=0)*1)\n+SUMPRODUCT((COUNTIF(Finalrunde!$D$111:$E$126,Finalrunde!$CE$111:$CE$126)=0)*1)","v":6},null,{"$f":"Teilnehmerliste!$A$56","v":51},{"$f":"Teilnehmerliste!B56 &\" \"&Teilnehmerliste!C56","v":"Nicolas Mack"},{"$f":"SUMPRODUCT((Finalrunde!$D$128:$D$135<>\"\")*(Finalrunde!$D$128:$D$135=Finalrunde!$CB$128:$CB$135))\n+SUMPRODUCT((Finalrunde!$E$128:$E$135<>\"\")*(Finalrunde!$E$128:$E$135=Finalrunde!$CE$128:$CE$135))","v":11},2,{"$f":"SUMPRODUCT((COUNTIF(Finalrunde!$D$128:$E$135,Finalrunde!$CB$128:$CB$135)=0)*1)\n+SUMPRODUCT((COUNTIF(Finalrunde!$D$128:$E$135,Finalrunde!$CE$128:$CE$135)=0)*1)","v":3},null,{"$f":"Teilnehmerliste!$A$56","v":51},"Nicolas Mack",{"$f":"SUMPRODUCT((Finalrunde!$D$137:$D$140<>\"\")*(Finalrunde!$D$137:$D$140=Finalrunde!$CB$137:$CB$140))\n+SUMPRODUCT((Finalrunde!$E$137:$E$140<>\"\")*(Finalrunde!$E$137:$E$140=Finalrunde!$CE$137:$CE$140))","v":5},0,{"$f":"SUMPRODUCT((COUNTIF(Finalrunde!$D$137:$E$140,Finalrunde!$CB$137:$CB$140)=0)*1)\n+SUMPRODUCT((COUNTIF(Finalrunde!$D$137:$E$140,Finalrunde!$CE$137:$CE$140)=0)*1)","v":3},null,{"$f":"Teilnehmerliste!$A$56","v":51},"Nicolas Mack",{"$f":"SUMPRODUCT((Finalrunde!$D$142:$D$143<>\"\")*(Finalrunde!$D$142:$D$143=Finalrunde!$CB$142:$CB$143))\n+SUMPRODUCT((Finalrunde!$E$142:$E$143<>\"\")*(Finalrunde!$E$142:$E$143=Finalrunde!$CE$142:$CE$143))","v":3},0,{"$f":"SUMPRODUCT((COUNTIF(Finalrunde!$D$142:$E$143,Finalrunde!$CB$142:$CB$143)=0)*1)\n+SUMPRODUCT((COUNTIF(Finalrunde!$D$142:$E$143,Finalrunde!$CE$142:$CE$143)=0)*1)","v":1}]
[{"$f":"Teilnehmerliste!$A$57","v":52},{"$f":"Teilnehmerliste!B57 &\" \"&Teilnehmerliste!C57","v":"Mauro Marini"},{"$f":"SUMPRODUCT((Finalrunde!$D$111:$D$126<>\"\")*(Finalrunde!$D$111:$D$126=Finalrunde!$CI$111:$CI$126))\n+SUMPRODUCT((Finalrunde!$E$111:$E$126<>\"\")*(Finalrunde!$E$111:$E$126=Finalrunde!$CL$111:$CL$126))","v":16},9,{"$f":"SUMPRODUCT((COUNTIF(Finalrunde!$D$111:$E$126,Finalrunde!$CI$111:$CI$126)=0)*1)\n+SUMPRODUCT((COUNTIF(Finalrunde!$D$111:$E$126,Finalrunde!$CL$111:$CL$126)=0)*1)","v":7},null,{"$f":"Teilnehmerliste!$A$57","v":52},{"$f":"Teilnehmerliste!B57 &\" \"&Teilnehmerliste!C57","v":"Mauro Marini"},{"$f":"SUMPRODUCT((Finalrunde!$D$128:$D$135<>\"\")*(Finalrunde!$D$128:$D$135=Finalrunde!$CI$128:$CI$135))\n+SUMPRODUCT((Finalrunde!$E$128:$E$135<>\"\")*(Finalrunde!$E$128:$E$135=Finalrunde!$CL$128:$CL$135))","v":10},2,{"$f":"SUMPRODUCT((COUNTIF(Finalrunde!$D$128:$E$135,Finalrunde!$CI$128:$CI$135)=0)*1)\n+SUMPRODUCT((COUNTIF(Finalrunde!$D$128:$E$135,Finalrunde!$CL$128:$CL$135)=0)*1)","v":4},null,{"$f":"Teilnehmerliste!$A$57","v":52},"Mauro Marini",{"$f":"SUMPRODUCT((Finalrunde!$D$137:$D$140<>\"\")*(Finalrunde!$D$137:$D$140=Finalrunde!$CI$137:$CI$140))\n+SUMPRODUCT((Finalrunde!$E$137:$E$140<>\"\")*(Finalrunde!$E$137:$E$140=Finalrunde!$CL$137:$CL$140))","v":5},0,{"$f":"SUMPRODUCT((COUNTIF(Finalrunde!$D$137:$E$140,Finalrunde!$CI$137:$CI$140)=0)*1)\n+SUMPRODUCT((COUNTIF(Finalrunde!$D$137:$E$140,Finalrunde!$CL$137:$CL$140)=0)*1)","v":3},null,{"$f":"Teilnehmerliste!$A$57","v":52},"Mauro Marini",{"$f":"SUMPRODUCT((Finalrunde!$D$142:$D$143<>\"\")*(Finalrunde!$D$142:$D$143=Finalrunde!$CI$142:$CI$143))\n+SUMPRODUCT((Finalrunde!$E$142:$E$143<>\"\")*(Finalrunde!$E$142:$E$143=Finalrunde!$CL$142:$CL$143))","v":2},0,{"$f":"SUMPRODUCT((COUNTIF(Finalrunde!$D$142:$E$143,Finalrunde!$CI$142:$CI$143)=0)*1)\n+SUMPRODUCT((COUNTIF(Finalrunde!$D$142:$E$143,Finalrunde!$CL$142:$CL$143)=0)*1)","v":2}]
[{"$f":"Teilnehmerliste!$A$58","v":53},{"$f":"Teilnehmerliste!B58 &\" \"&Teilnehmerliste!C58","v":"Ben Marthaler"},{"$f":"SUMPRODUCT((Finalrunde!$D$111:$D$126<>\"\")*(Finalrunde!$D$111:$D$126=Finalrunde!$CP$111:$CP$126))\n+SUMPRODUCT((Finalrunde!$E$111:$E$126<>\"\")*(Finalrunde!$E$111:$E$126=Finalrunde!$CS$111:$CS$126))","v":13},10,{"$f":"SUMPRODUCT((COUNTIF(Finalrunde!$D$111:$E$126,Finalrunde!$CP$111:$CP$126)=0)*1)\n+SUMPRODUCT((COUNTIF(Finalrunde!$D$111:$E$126,Finalrunde!$CS$111:$CS$126)=0)*1)","v":9},null,{"$f":"Teilnehmerliste!$A$58","v":53},{"$f":"Teilnehmerliste!B58 &\" \"&Teilnehmerliste!C58","v":"Ben Marthaler"},{"$f":"SUMPRODUCT((Finalrunde!$D$128:$D$135<>\"\")*(Finalrunde!$D$128:$D$135=Finalrunde!$CP$128:$CP$135))\n+SUMPRODUCT((Finalrunde!$E$128:$E$135<>\"\")*(Finalrunde!$E$128:$E$135=Finalrunde!$CS$128:$CS$135))","v":5},1,{"$f":"SUMPRODUCT((COUNTIF(Finalrunde!$D$128:$E$135,Finalrunde!$CP$128:$CP$135)=0)*1)\n+SUMPRODUCT((COUNTIF(Finalrunde!$D$128:$E$135,Finalrunde!$CS$128:$CS$135)=0)*1)","v":10},null,{"$f":"Teilnehmerliste!$A$58","v":53},"Ben Marthaler",{"$f":"SUMPRODUCT((Finalrunde!$D$137:$D$140<>\"\")*(Finalrunde!$D$137:$D$140=Finalrunde!$CP$137:$CP$140))\n+SUMPRODUCT((Finalrunde!$E$137:$E$140<>\"\")*(Finalrunde!$E$137:$E$140=Finalrunde!$CS$137:$CS$140))","v":1},1,{"$f":"SUMPRODUCT((COUNTIF(Finalrunde!$D$137:$E$140,Finalrunde!$CP$137:$CP$140)=0)*1)\n+SUMPRODUCT((COUNTIF(Finalrunde!$D$137:$E$140,Finalrunde!$CS$137:$CS$140)=0)*1)","v":6},null,{"$f":"Teilnehmerliste!$A$58","v":53},"Ben Marthaler",{"$f":"SUMPRODUCT((Finalrunde!$D$142:$D$143<>\"\")*(Finalrunde!$D$142:$D$143=Finalrunde!$CP$142:$CP$143))\n+SUMPRODUCT((Finalrunde!$E$142:$E$143<>\"\")*(Finalrunde!$E$142:$E$143=Finalrunde!$CS$142:$CS$143))","v":0},1,{"$f":"SUMPRODUCT((COUNTIF(Finalrunde!$D$142:$E$143,Finalrunde!$CP$142:$CP$143)=0)*1)\n+SUMPRODUCT((COUNTIF(Finalrunde!$D$142:$E$143,Finalrunde!$CS$142:$CS$143)=0)*1)","v":3}]
[{"$f":"Teilnehmerliste!$A$59","v":54},{"$f":"Teilnehmerliste!B59 &\" \"&Teilnehmerliste!C59","v":"Martin Marthaler"},{"$f":"SUMPRODUCT((Finalrunde!$D$111:$D$126<>\"\")*(Finalrunde!$D$111:$D$126=Finalrunde!$CW$111:$CW$126))\n+SUMPRODUCT((Finalrunde!$E$111:$E$126<>\"\")*(Finalrunde!$E$111:$E$126=Finalrunde!$CZ$111:$CZ$126))","v":16},6,{"$f":"SUMPRODUCT((COUNTIF(Finalrunde!$D$111:$E$126,Finalrunde!$CW$111:$CW$126)=0)*1)\n+SUMPRODUCT((COUNTIF(Finalrunde!$D$111:$E$126,Finalrunde!$CZ$111:$CZ$126)=0)*1)","v":10},null,{"$f":"Teilnehmerliste!$A$59","v":54},{"$f":"Teilnehmerliste!B59 &\" \"&Teilnehmerliste!C59","v":"Martin Marthaler"},{"$f":"SUMPRODUCT((Finalrunde!$D$128:$D$135<>\"\")*(Finalrunde!$D$128:$D$135=Finalrunde!$CW$128:$CW$135))\n+SUMPRODUCT((Finalrunde!$E$128:$E$135<>\"\")*(Finalrunde!$E$128:$E$135=Finalrunde!$CZ$128:$CZ$135))","v":11},1,{"$f":"SUMPRODUCT((COUNTIF(Finalrunde!$D$128:$E$135,Finalrunde!$CW$128:$CW$135)=0)*1)\n+SUMPRODUCT((COUNTIF(Finalrunde!$D$128:$E$135,Finalrunde!$CZ$128:$CZ$135)=0)*1)","v":4},null,{"$f":"Teilnehmerliste!$A$59","v":54},"Martin Marthaler",{"$f":"SUMPRODUCT((Finalrunde!$D$137:$D$140<>\"\")*(Finalrunde!$D$137:$D$140=Finalrunde!$CW$137:$CW$140))\n+SUMPRODUCT((Finalrunde!$E$137:$E$140<>\"\")*(Finalrunde!$E$137:$E$140=Finalrunde!$CZ$137:$CZ$140))","v":4},0,{"$f":"SUMPRODUCT((COUNTIF(Finalrunde!$D$137:$E$140,Finalrunde!$CW$137:$CW$140)=0)*1)\n+SUMPRODUCT((COUNTIF(Finalrunde!$D$137:$E$140,Finalrunde!$CZ$137:$CZ$140)=0)*1)","v":4},null,{"$f":"Teilnehmerliste!$A$59","v":54},"Martin Marthaler",{"$f":"SUMPRODUCT((Finalrunde!$D$142:$D$143<>\"\")*(Finalrunde!$D$142:$D$143=Finalrunde!$CW$142:$CW$143))\n+SUMPRODUCT((Finalrunde!$E$142:$E$143<>\"\")*(Finalrunde!$E$142:$E$143=Finalrunde!$CZ$142:$CZ$143))","v":4},0,{"$f":"SUMPRODUCT((COUNTIF(Finalrunde!$D$142:$E$143,Finalrunde!$CW$142:$CW$143)=0)*1)\n+SUMPRODUCT((COUNTIF(Finalrunde!$D$142:$E$143,Finalrunde!$CZ$142:$CZ$143)=0)*1)","v":0}]
[{"$f":"Teilnehmerliste!$A$60","v":55},{"$f":"Teilnehmerliste!B60 &\" \"&Teilnehmerliste!C60","v":"Elias Marty"},{"$f":"SUMPRODUCT((Finalrunde!$D$111:$D$126<>\"\")*(Finalrunde!$D$111:$D$126=Finalrunde!$DD$111:$DD$126))\n+SUMPRODUCT((Finalrunde!$E$111:$E$126<>\"\")*(Finalrunde!$E$111:$E$126=Finalrunde!$DG$111:$DG$126))","v":13},13,{"$f":"SUMPRODUCT((COUNTIF(Finalrunde!$D$111:$E$126,Finalrunde!$DD$111:$DD$126)=0)*1)\n+SUMPRODUCT((COUNTIF(Finalrunde!$D$111:$E$126,Finalrunde!$DG$111:$DG$126)=0)*1)","v":6},null,{"$f":"Teilnehmerliste!$A$60","v":55},{"$f":"Teilnehmerliste!B60 &\" \"&Teilnehmerliste!C60","v":"Elias Marty"},{"$f":"SUMPRODUCT((Finalrunde!$D$128:$D$135<>\"\")*(Finalrunde!$D$128:$D$135=Finalrunde!$DD$128:$DD$135))\n+SUMPRODUCT((Finalrunde!$E$128:$E$135<>\"\")*(Finalrunde!$E$128:$E$135=Finalrunde!$DG$128:$DG$135))","v":8},2,{"$f":"SUMPRODUCT((COUNTIF(Finalrunde!$D$128:$E$135,Finalrunde!$DD$128:$DD$135)=0)*1)\n+SUMPRODUCT((COUNTIF(Finalrunde!$D$128:$E$135,Finalrunde!$DG$128:$DG$135)=0)*1)","v":6},null,{"$f":"Teilnehmerliste!$A$60","v":55},"Elias Marty",{"$f":"SUMPRODUCT((Finalrunde!$D$137:$D$140<>\"\")*(Finalrunde!$D$137:$D$140=Finalrunde!$DD$137:$DD$140))\n+SUMPRODUCT((Finalrunde!$E$137:$E$140<>\"\")*(Finalrunde!$E$137:$E$140=Finalrunde!$DG$137:$DG$140))","v":5},0,{"$f":"SUMPRODUCT((COUNTIF(Finalrunde!$D$137:$E$140,Finalrunde!$DD$137:$DD$140)=0)*1)\n+SUMPRODUCT((COUNTIF(Finalrunde!$D$137:$E$140,Finalrunde!$DG$137:$DG$140)=0)*1)","v":3},null,{"$f":"Teilnehmerliste!$A$60","v":55},"Elias Marty",{"$f":"SUMPRODUCT((Finalrunde!$D$142:$D$143<>\"\")*(Finalrunde!$D$142:$D$143=Finalrunde!$DD$142:$DD$143))\n+SUMPRODUCT((Finalrunde!$E$142:$E$143<>\"\")*(Finalrunde!$E$142:$E$143=Finalrunde!$DG$142:$DG$143))","v":3},0,{"$f":"SUMPRODUCT((COUNTIF(Finalrunde!$D$142:$E$143,Finalrunde!$DD$142:$DD$143)=0)*1)\n+SUMPRODUCT((COUNTIF(Finalrunde!$D$142:$E$143,Finalrunde!$DG$142:$DG$143)=0)*1)","v":1}]
[{"$f":"Teilnehmerliste!$A$61","v":56},{"$f":"Teilnehmerliste!B61 &\" \"&Teilnehmerliste!C61","v":"Julian Merkli"},{"$f":"SUMPRODUCT((Finalrunde!$D$111:$D$126<>\"\")*(Finalrunde!$D$111:$D$126=Finalrunde!$DK$111:$DK$126))\n+SUMPRODUCT((Finalrunde!$E$111:$E$126<>\"\")*(Finalrunde!$E$111:$E$126=Finalrunde!$DN$111:$DN$126))","v":16},9,{"$f":"SUMPRODUCT((COUNTIF(Finalrunde!$D$111:$E$126,Finalrunde!$DK$111:$DK$126)=0)*1)\n+SUMPRODUCT((COUNTIF(Finalrunde!$D$111:$E$126,Finalrunde!$DN$111:$DN$126)=0)*1)","v":7},null,{"$f":"Teilnehmerliste!$A$61","v":56},{"$f":"Teilnehmerliste!B61 &\" \"&Teilnehmerliste!C61","v":"Julian Merkli"},{"$f":"SUMPRODUCT((Finalrunde!$D$128:$D$135<>\"\")*(Finalrunde!$D$128:$D$135=Finalrunde!$DK$128:$DK$135))\n+SUMPRODUCT((Finalrunde!$E$128:$E$135<>\"\")*(Finalrunde!$E$128:$E$135=Finalrunde!$DN$128:$DN$135))","v":9},3,{"$f":"SUMPRODUCT((COUNTIF(Finalrunde!$D$128:$E$135,Finalrunde!$DK$128:$DK$135)=0)*1)\n+SUMPRODUCT((COUNTIF(Finalrunde!$D$128:$E$135,Finalrunde!$DN$128:$DN$135)=0)*1)","v":4},null,{"$f":"Teilnehmerliste!$A$61","v":56},"Julian Merkli",{"$f":"SUMPRODUCT((Finalrunde!$D$137:$D$140<>\"\")*(Finalrunde!$D$137:$D$140=Finalrunde!$DK$137:$DK$140))\n+SUMPRODUCT((Finalrunde!$E$137:$E$140<>\"\")*(Finalrunde!$E$137:$E$140=Finalrunde!$DN$137:$DN$140))","v":5},0,{"$f":"SUMPRODUCT((COUNTIF(Finalrunde!$D$137:$E$140,Finalrunde!$DK$137:$DK$140)=0)*1)\n+SUMPRODUCT((COUNTIF(Finalrunde!$D$137:$E$140,Finalrunde!$DN$137:$DN$140)=0)*1)","v":3},null,{"$f":"Teilnehmerliste!$A$61","v":56},"Julian Merkli",{"$f":"SUMPRODUCT((Finalrunde!$D$142:$D$143<>\"\")*(Finalrunde!$D$142:$D$143=Finalrunde!$DK$142:$DK$143))\n+SUMPRODUCT((Finalrunde!$E$142:$E$143<>\"\")*(Finalrunde!$E$142:$E$143=Finalrunde!$DN$142:$DN$143))","v":3},0,{"$f":"SUMPRODUCT((COUNTIF(Finalrunde!$D$142:$E$143,Finalrunde!$DK$142:$DK$143)=0)*1)\n+SUMPRODUCT((COUNTIF(Finalrunde!$D$142:$E$143,Finalrunde!$DN$142:$DN$143)=0)*1)","v":1}]
[{"$f":"Teilnehmerliste!$A$62","v":57},{"$f":"Teilnehmerliste!B62 &\" \"&Teilnehmerliste!C62","v":"Philipp Meyer"},{"$f":"SUMPRODUCT((Finalrunde!$D$111:$D$126<>\"\")*(Finalrunde!$D$111:$D$126=Finalrunde!$DR$111:$DR$126))\n+SUMPRODUCT((Finalrunde!$E$111:$E$126<>\"\")*(Finalrunde!$E$111:$E$126=Finalrunde!$DU$111:$DU$126))","v":14},13,{"$f":"SUMPRODUCT((COUNTIF(Finalrunde!$D$111:$E$126,Finalrunde!$DR$111:$DR$126)=0)*1)\n+SUMPRODUCT((COUNTIF(Finalrunde!$D$111:$E$126,Finalrunde!$DU$111:$DU$126)=0)*1)","v":5},null,{"$f":"Teilnehmerliste!$A$62","v":57},{"$f":"Teilnehmerliste!B62 &\" \"&Teilnehmerliste!C62","v":"Philipp Meyer"},{"$f":"SUMPRODUCT((Finalrunde!$D$128:$D$135<>\"\")*(Finalrunde!$D$128:$D$135=Finalrunde!$DR$128:$DR$135))\n+SUMPRODUCT((Finalrunde!$E$128:$E$135<>\"\")*(Finalrunde!$E$128:$E$135=Finalrunde!$DU$128:$DU$135))","v":7},3,{"$f":"SUMPRODUCT((COUNTIF(Finalrunde!$D$128:$E$135,Finalrunde!$DR$128:$DR$135)=0)*1)\n+SUMPRODUCT((COUNTIF(Finalrunde!$D$128:$E$135,Finalrunde!$DU$128:$DU$135)=0)*1)","v":6},null,{"$f":"Teilnehmerliste!$A$62","v":57},"Philipp Meyer",{"$f":"SUMPRODUCT((Finalrunde!$D$137:$D$140<>\"\")*(Finalrunde!$D$137:$D$140=Finalrunde!$DR$137:$DR$140))\n+SUMPRODUCT((Finalrunde!$E$137:$E$140<>\"\")*(Finalrunde!$E$137:$E$140=Finalrunde!$DU$137:$DU$140))","v":4},0,{"$f":"SUMPRODUCT((COUNTIF(Finalrunde!$D$137:$E$140,Finalrunde!$DR$137:$DR$140)=0)*1)\n+SUMPRODUCT((COUNTIF(Finalrunde!$D$137:$E$140,Finalrunde!$DU$137:$DU$140)=0)*1)","v":4},null,{"$f":"Teilnehmerliste!$A$62","v":57},"Philipp Meyer",{"$f":"SUMPRODUCT((Finalrunde!$D$142:$D$143<>\"\")*(Finalrunde!$D$142:$D$143=Finalrunde!$DR$142:$DR$143))\n+SUMPRODUCT((Finalrunde!$E$142:$E$143<>\"\")*(Finalrunde!$E$142:$E$143=Finalrunde!$DU$142:$DU$143))","v":3},0,{"$f":"SUMPRODUCT((COUNTIF(Finalrunde!$D$142:$E$143,Finalrunde!$DR$142:$DR$143)=0)*1)\n+SUMPRODUCT((COUNTIF(Finalrunde!$D$142:$E$143,Finalrunde!$DU$142:$DU$143)=0)*1)","v":1}]
[{"$f":"Teilnehmerliste!$A$63","v":58},{"$f":"Teilnehmerliste!B63 &\" \"&Teilnehmerliste!C63","v":"Telmo Oliveira"},{"$f":"SUMPRODUCT((Finalrunde!$D$111:$D$126<>\"\")*(Finalrunde!$D$111:$D$126=Finalrunde!$DY$111:$DY$126))\n+SUMPRODUCT((Finalrunde!$E$111:$E$126<>\"\")*(Finalrunde!$E$111:$E$126=Finalrunde!$EB$111:$EB$126))","v":13},14,{"$f":"SUMPRODUCT((COUNTIF(Finalrunde!$D$111:$E$126,Finalrunde!$DY$111:$DY$126)=0)*1)\n+SUMPRODUCT((COUNTIF(Finalrunde!$D$111:$E$126,Finalrunde!$EB$111:$EB$126)=0)*1)","v":5},null,{"$f":"Teilnehmerliste!$A$63","v":58},{"$f":"Teilnehmerliste!B63 &\" \"&Teilnehmerliste!C63","v":"Telmo Oliveira"},{"$f":"SUMPRODUCT((Finalrunde!$D$128:$D$135<>\"\")*(Finalrunde!$D$128:$D$135=Finalrunde!$DY$128:$DY$135))\n+SUMPRODUCT((Finalrunde!$E$128:$E$135<>\"\")*(Finalrunde!$E$128:$E$135=Finalrunde!$EB$128:$EB$135))","v":9},4,{"$f":"SUMPRODUCT((COUNTIF(Finalrunde!$D$128:$E$135,Finalrunde!$DY$128:$DY$135)=0)*1)\n+SUMPRODUCT((COUNTIF(Finalrunde!$D$128:$E$135,Finalrunde!$EB$128:$EB$135)=0)*1)","v":3},null,{"$f":"Teilnehmerliste!$A$63","v":58},"Telmo Oliveira",{"$f":"SUMPRODUCT((Finalrunde!$D$137:$D$140<>\"\")*(Finalrunde!$D$137:$D$140=Finalrunde!$DY$137:$DY$140))\n+SUMPRODUCT((Finalrunde!$E$137:$E$140<>\"\")*(Finalrunde!$E$137:$E$140=Finalrunde!$EB$137:$EB$140))","v":5},1,{"$f":"SUMPRODUCT((COUNTIF(Finalrunde!$D$137:$E$140,Finalrunde!$DY$137:$DY$140)=0)*1)\n+SUMPRODUCT((COUNTIF(Finalrunde!$D$137:$E$140,Finalrunde!$EB$137:$EB$140)=0)*1)","v":2},null,{"$f":"Teilnehmerliste!$A$63","v":58},"Telmo Oliveira",{"$f":"SUMPRODUCT((Finalrunde!$D$142:$D$143<>\"\")*(Finalrunde!$D$142:$D$143=Finalrunde!$DY$142:$DY$143))\n+SUMPRODUCT((Finalrunde!$E$142:$E$143<>\"\")*(Finalrunde!$E$142:$E$143=Finalrunde!$EB$142:$EB$143))","v":2},0,{"$f":"SUMPRODUCT((COUNTIF(Finalrunde!$D$142:$E$143,Finalrunde!$DY$142:$DY$143)=0)*1)\n+SUMPRODUCT((COUNTIF(Finalrunde!$D$142:$E$143,Finalrunde!$EB$142:$EB$143)=0)*1)","v":2}]
[{"$f":"Teilnehmerliste!$A$64","v":59},{"$f":"Teilnehmerliste!B64 &\" \"&Teilnehmerliste!C64","v":"Martin Oroshi"},{"$f":"SUMPRODUCT((Finalrunde!$D$111:$D$126<>\"\")*(Finalrunde!$D$111:$D$126=Finalrunde!$EF$111:$EF$126))\n+SUMPRODUCT((Finalrunde!$E$111:$E$126<>\"\")*(Finalrunde!$E$111:$E$126=Finalrunde!$EI$111:$EI$126))","v":14},12,{"$f":"SUMPRODUCT((COUNTIF(Finalrunde!$D$111:$E$126,Finalrunde!$EF$111:$EF$126)=0)*1)\n+SUMPRODUCT((COUNTIF(Finalrunde!$D$111:$E$126,Finalrunde!$EI$111:$EI$126)=0)*1)","v":6},null,{"$f":"Teilnehmerliste!$A$64","v":59},{"$f":"Teilnehmerliste!B64 &\" \"&Teilnehmerliste!C64","v":"Martin Oroshi"},{"$f":"SUMPRODUCT((Finalrunde!$D$128:$D$135<>\"\")*(Finalrunde!$D$128:$D$135=Finalrunde!$EF$128:$EF$135))\n+SUMPRODUCT((Finalrunde!$E$128:$E$135<>\"\")*(Finalrunde!$E$128:$E$135=Finalrunde!$EI$128:$EI$135))","v":8},1,{"$f":"SUMPRODUCT((COUNTIF(Finalrunde!$D$128:$E$135,Finalrunde!$EF$128:$EF$135)=0)*1)\n+SUMPRODUCT((COUNTIF(Finalrunde!$D$128:$E$135,Finalrunde!$EI$128:$EI$135)=0)*1)","v":7},null,{"$f":"Teilnehmerliste!$A$64","v":59},"Martin Oroshi",{"$f":"SUMPRODUCT((Finalrunde!$D$137:$D$140<>\"\")*(Finalrunde!$D$137:$D$140=Finalrunde!$EF$137:$EF$140))\n+SUMPRODUCT((Finalrunde!$E$137:$E$140<>\"\")*(Finalrunde!$E$137:$E$140=Finalrunde!$EI$137:$EI$140))","v":4},0,{"$f":"SUMPRODUCT((COUNTIF(Finalrunde!$D$137:$E$140,Finalrunde!$EF$137:$EF$140)=0)*1)\n+SUMPRODUCT((COUNTIF(Finalrunde!$D$137:$E$140,Finalrunde!$EI$137:$EI$140)=0)*1)","v":4},null,{"$f":"Teilnehmerliste!$A$64","v":59},"Martin Oroshi",{"$f":"SUMPRODUCT((Finalrunde!$D$142:$D$143<>\"\")*(Finalrunde!$D$142:$D$143=Finalrunde!$EF$142:$EF$143))\n+SUMPRODUCT((Finalrunde!$E$142:$E$143<>\"\")*(Finalrunde!$E$142:$E$143=Finalrunde!$EI$142:$EI$143))","v":3},0,{"$f":"SUMPRODUCT((COUNTIF(Finalrunde!$D$142:$E$143,Finalrunde!$EF$142:$EF$143)=0)*1)\n+SUMPRODUCT((COUNTIF(Finalrunde!$D$142:$E$143,Finalrunde!$EI$142:$EI$143)=0)*1)","v":1}]
[{"$f":"Teilnehmerliste!$A$65","v":60},{"$f":"Teilnehmerliste!B65 &\" \"&Teilnehmerliste!C65","v":"Lechena Pek"},{"$f":"SUMPRODUCT((Finalrunde!$D$111:$D$126<>\"\")*(Finalrunde!$D$111:$D$126=Finalrunde!$EM$111:$EM$126))\n+SUMPRODUCT((Finalrunde!$E$111:$E$126<>\"\")*(Finalrunde!$E$111:$E$126=Finalrunde!$EP$111:$EP$126))","v":17},8,{"$f":"SUMPRODUCT((COUNTIF(Finalrunde!$D$111:$E$126,Finalrunde!$EM$111:$EM$126)=0)*1)\n+SUMPRODUCT((COUNTIF(Finalrunde!$D$111:$E$126,Finalrunde!$EP$111:$EP$126)=0)*1)","v":7},null,{"$f":"Teilnehmerliste!$A$65","v":60},{"$f":"Teilnehmerliste!B65 &\" \"&Teilnehmerliste!C65","v":"Lechena Pek"},{"$f":"SUMPRODUCT((Finalrunde!$D$128:$D$135<>\"\")*(Finalrunde!$D$128:$D$135=Finalrunde!$EM$128:$EM$135))\n+SUMPRODUCT((Finalrunde!$E$128:$E$135<>\"\")*(Finalrunde!$E$128:$E$135=Finalrunde!$EP$128:$EP$135))","v":8},1,{"$f":"SUMPRODUCT((COUNTIF(Finalrunde!$D$128:$E$135,Finalrunde!$EM$128:$EM$135)=0)*1)\n+SUMPRODUCT((COUNTIF(Finalrunde!$D$128:$E$135,Finalrunde!$EP$128:$EP$135)=0)*1)","v":7},null,{"$f":"Teilnehmerliste!$A$65","v":60},"Lechena Pek",{"$f":"SUMPRODUCT((Finalrunde!$D$137:$D$140<>\"\")*(Finalrunde!$D$137:$D$140=Finalrunde!$EM$137:$EM$140))\n+SUMPRODUCT((Finalrunde!$E$137:$E$140<>\"\")*(Finalrunde!$E$137:$E$140=Finalrunde!$EP$137:$EP$140))","v":6},0,{"$f":"SUMPRODUCT((COUNTIF(Finalrunde!$D$137:$E$140,Finalrunde!$EM$137:$EM$140)=0)*1)\n+SUMPRODUCT((COUNTIF(Finalrunde!$D$137:$E$140,Finalrunde!$EP$137:$EP$140)=0)*1)","v":2},null,{"$f":"Teilnehmerliste!$A$65","v":60},"Lechena Pek",{"$f":"SUMPRODUCT((Finalrunde!$D$142:$D$143<>\"\")*(Finalrunde!$D$142:$D$143=Finalrunde!$EM$142:$EM$143))\n+SUMPRODUCT((Finalrunde!$E$142:$E$143<>\"\")*(Finalrunde!$E$142:$E$143=Finalrunde!$EP$142:$EP$143))","v":3},0,{"$f":"SUMPRODUCT((COUNTIF(Finalrunde!$D$142:$E$143,Finalrunde!$EM$142:$EM$143)=0)*1)\n+SUMPRODUCT((COUNTIF(Finalrunde!$D$142:$E$143,Finalrunde!$EP$142:$EP$143)=0)*1)","v":1}]
[{"$f":"Teilnehmerliste!$A$66","v":61},{"$f":"Teilnehmerliste!B66 &\" \"&Teilnehmerliste!C66","v":"Stefan Principe"},{"$f":"SUMPRODUCT((Finalrunde!$D$161:$D$176<>\"\")*(Finalrunde!$D$161:$D$176=Finalrunde!$J$161:$J$176))\n+SUMPRODUCT((Finalrunde!$E$161:$E$176<>\"\")*(Finalrunde!$E$161:$E$176=Finalrunde!$M$161:$M$176))","v":17},9,{"$f":"SUMPRODUCT((COUNTIF(Finalrunde!$D$161:$E$176,Finalrunde!$J$161:$J$176)=0)*1)\n+SUMPRODUCT((COUNTIF(Finalrunde!$D$161:$E$176,Finalrunde!$M$161:$M$176)=0)*1)","v":6},null,{"$f":"Teilnehmerliste!$A$66","v":61},{"$f":"Teilnehmerliste!B66 &\" \"&Teilnehmerliste!C66","v":"Stefan Principe"},{"$f":"SUMPRODUCT((Finalrunde!$D$178:$D$185<>\"\")*(Finalrunde!$D$178:$D$185=Finalrunde!$J$178:$J$185))\n+SUMPRODUCT((Finalrunde!$E$178:$E$185<>\"\")*(Finalrunde!$E$178:$E$185=Finalrunde!$M$178:$M$185))","v":8},2,{"$f":"SUMPRODUCT((COUNTIF(Finalrunde!$D$178:$E$185,Finalrunde!$J$178:$J$185)=0)*1)\n+SUMPRODUCT((COUNTIF(Finalrunde!$D$178:$E$185,Finalrunde!$M$178:$M$185)=0)*1)","v":6},null,{"$f":"Teilnehmerliste!$A$66","v":61},"Stefan Principe",{"$f":"SUMPRODUCT((Finalrunde!$D$187:$D$190<>\"\")*(Finalrunde!$D$187:$D$190=Finalrunde!$J$187:$J$190))\n+SUMPRODUCT((Finalrunde!$E$187:$E$190<>\"\")*(Finalrunde!$E$187:$E$190=Finalrunde!$M$187:$M$190))","v":5},0,{"$f":"SUMPRODUCT((COUNTIF(Finalrunde!$D$187:$E$190,Finalrunde!$J$187:$J$190)=0)*1)\n+SUMPRODUCT((COUNTIF(Finalrunde!$D$187:$E$190,Finalrunde!$M$187:$M$190)=0)*1)","v":3},null,{"$f":"Teilnehmerliste!$A$66","v":61},"Stefan Principe",{"$f":"SUMPRODUCT((Finalrunde!$D$192:$D$193<>\"\")*(Finalrunde!$D$192:$D$193=Finalrunde!$J$192:$J$193))\n+SUMPRODUCT((Finalrunde!$E$192:$E$193<>\"\")*(Finalrunde!$E$192:$E$193=Finalrunde!$M$192:$M$193))","v":3},0,{"$f":"SUMPRODUCT((COUNTIF(Finalrunde!$D$192:$E$193,Finalrunde!$J$192:$J$193)=0)*1)\n+SUMPRODUCT((COUNTIF(Finalrunde!$D$192:$E$193,Finalrunde!$M$192:$M$193)=0)*1)","v":1}]
[{"$f":"Teilnehmerliste!$A$67","v":62},{"$f":"Teilnehmerliste!B67 &\" \"&Teilnehmerliste!C67","v":"Michael Prucha"},{"$f":"SUMPRODUCT((Finalrunde!$D$161:$D$176<>\"\")*(Finalrunde!$D$161:$D$176=Finalrunde!$Q$161:$Q$176))\n+SUMPRODUCT((Finalrunde!$E$161:$E$176<>\"\")*(Finalrunde!$E$161:$E$176=Finalrunde!$T$161:$T$176))","v":17},9,{"$f":"SUMPRODUCT((COUNTIF(Finalrunde!$D$161:$E$176,Finalrunde!$Q$161:$Q$176)=0)*1)\n+SUMPRODUCT((COUNTIF(Finalrunde!$D$161:$E$176,Finalrunde!$T$161:$T$176)=0)*1)","v":6},null,{"$f":"Teilnehmerliste!$A$67","v":62},{"$f":"Teilnehmerliste!B67 &\" \"&Teilnehmerliste!C67","v":"Michael Prucha"},{"$f":"SUMPRODUCT((Finalrunde!$D$178:$D$185<>\"\")*(Finalrunde!$D$178:$D$185=Finalrunde!$Q$178:$Q$185))\n+SUMPRODUCT((Finalrunde!$E$178:$E$185<>\"\")*(Finalrunde!$E$178:$E$185=Finalrunde!$T$178:$T$185))","v":9},3,{"$f":"SUMPRODUCT((COUNTIF(Finalrunde!$D$178:$E$185,Finalrunde!$Q$178:$Q$185)=0)*1)\n+SUMPRODUCT((COUNTIF(Finalrunde!$D$178:$E$185,Finalrunde!$T$178:$T$185)=0)*1)","v":4},null,{"$f":"Teilnehmerliste!$A$67","v":62},"Michael Prucha",{"$f":"SUMPRODUCT((Finalrunde!$D$187:$D$190<>\"\")*(Finalrunde!$D$187:$D$190=Finalrunde!$Q$187:$Q$190))\n+SUMPRODUCT((Finalrunde!$E$187:$E$190<>\"\")*(Finalrunde!$E$187:$E$190=Finalrunde!$T$187:$T$190))","v":4},1,{"$f":"SUMPRODUCT((COUNTIF(Finalrunde!$D$187:$E$190,Finalrunde!$Q$187:$Q$190)=0)*1)\n+SUMPRODUCT((COUNTIF(Finalrunde!$D$187:$E$190,Finalrunde!$T$187:$T$190)=0)*1)","v":3},null,{"$f":"Teilnehmerliste!$A$67","v":62},"Michael Prucha",{"$f":"SUMPRODUCT((Finalrunde!$D$192:$D$193<>\"\")*(Finalrunde!$D$192:$D$193=Finalrunde!$Q$192:$Q$193))\n+SUMPRODUCT((Finalrunde!$E$192:$E$193<>\"\")*(Finalrunde!$E$192:$E$193=Finalrunde!$T$192:$T$193))","v":3},0,{"$f":"SUMPRODUCT((COUNTIF(Finalrunde!$D$192:$E$193,Finalrunde!$Q$192:$Q$193)=0)*1)\n+SUMPRODUCT((COUNTIF(Finalrunde!$D$192:$E$193,Finalrunde!$T$192:$T$193)=0)*1)","v":1}]
[{"$f":"Teilnehmerliste!$A$68","v":63},{"$f":"Teilnehmerliste!B68 &\" \"&Teilnehmerliste!C68","v":"Petra Rauscher"},{"$f":"SUMPRODUCT((Finalrunde!$D$161:$D$176<>\"\")*(Finalrunde!$D$161:$D$176=Finalrunde!$X$161:$X$176))\n+SUMPRODUCT((Finalrunde!$E$161:$E$176<>\"\")*(Finalrunde!$E$161:$E$176=Finalrunde!$AA$161:$AA$176))","v":19},7,{"$f":"SUMPRODUCT((COUNTIF(Finalrunde!$D$161:$E$176,Finalrunde!$X$161:$X$176)=0)*1)\n+SUMPRODUCT((COUNTIF(Finalrunde!$D$161:$E$176,Finalrunde!$AA$161:$AA$176)=0)*1)","v":6},null,{"$f":"Teilnehmerliste!$A$68","v":63},{"$f":"Teilnehmerliste!B68 &\" \"&Teilnehmerliste!C68","v":"Petra Rauscher"},{"$f":"SUMPRODUCT((Finalrunde!$D$178:$D$185<>\"\")*(Finalrunde!$D$178:$D$185=Finalrunde!$X$178:$X$185))\n+SUMPRODUCT((Finalrunde!$E$178:$E$185<>\"\")*(Finalrunde!$E$178:$E$185=Finalrunde!$AA$178:$AA$185))","v":10},2,{"$f":"SUMPRODUCT((COUNTIF(Finalrunde!$D$178:$E$185,Finalrunde!$X$178:$X$185)=0)*1)\n+SUMPRODUCT((COUNTIF(Finalrunde!$D$178:$E$185,Finalrunde!$AA$178:$AA$185)=0)*1)","v":4},null,{"$f":"Teilnehmerliste!$A$68","v":63},"Petra Rauscher",{"$f":"SUMPRODUCT((Finalrunde!$D$187:$D$190<>\"\")*(Finalrunde!$D$187:$D$190=Finalrunde!$X$187:$X$190))\n+SUMPRODUCT((Finalrunde!$E$187:$E$190<>\"\")*(Finalrunde!$E$187:$E$190=Finalrunde!$AA$187:$AA$190))","v":4},0,{"$f":"SUMPRODUCT((COUNTIF(Finalrunde!$D$187:$E$190,Finalrunde!$X$187:$X$190)=0)*1)\n+SUMPRODUCT((COUNTIF(Finalrunde!$D$187:$E$190,Finalrunde!$AA$187:$AA$190)=0)*1)","v":4},null,{"$f":"Teilnehmerliste!$A$68","v":63},"Petra Rauscher",{"$f":"SUMPRODUCT((Finalrunde!$D$192:$D$193<>\"\")*(Finalrunde!$D$192:$D$193=Finalrunde!$X$192:$X$193))\n+SUMPRODUCT((Finalrunde!$E$192:$E$193<>\"\")*(Finalrunde!$E$192:$E$193=Finalrunde!$AA$192:$AA$193))","v":3},0,{"$f":"SUMPRODUCT((COUNTIF(Finalrunde!$D$192:$E$193,Finalrunde!$X$192:$X$193)=0)*1)\n+SUMPRODUCT((COUNTIF(Finalrunde!$D$192:$E$193,Finalrunde!$AA$192:$AA$193)=0)*1)","v":1}]
[{"$f":"Teilnehmerliste!$A$69","v":64},{"$f":"Teilnehmerliste!B69 &\" \"&Teilnehmerliste!C69","v":"Martin Rohner"},{"$f":"SUMPRODUCT((Finalrunde!$D$161:$D$176<>\"\")*(Finalrunde!$D$161:$D$176=Finalrunde!$AE$161:$AE$176))\n+SUMPRODUCT((Finalrunde!$E$161:$E$176<>\"\")*(Finalrunde!$E$161:$E$176=Finalrunde!$AH$161:$AH$176))","v":16},9,{"$f":"SUMPRODUCT((COUNTIF(Finalrunde!$D$161:$E$176,Finalrunde!$AE$161:$AE$176)=0)*1)\n+SUMPRODUCT((COUNTIF(Finalrunde!$D$161:$E$176,Finalrunde!$AH$161:$AH$176)=0)*1)","v":7},null,{"$f":"Teilnehmerliste!$A$69","v":64},{"$f":"Teilnehmerliste!B69 &\" \"&Teilnehmerliste!C69","v":"Martin Rohner"},{"$f":"SUMPRODUCT((Finalrunde!$D$178:$D$185<>\"\")*(Finalrunde!$D$178:$D$185=Finalrunde!$AE$178:$AE$185))\n+SUMPRODUCT((Finalrunde!$E$178:$E$185<>\"\")*(Finalrunde!$E$178:$E$185=Finalrunde!$AH$178:$AH$185))","v":8},4,{"$f":"SUMPRODUCT((COUNTIF(Finalrunde!$D$178:$E$185,Finalrunde!$AE$178:$AE$185)=0)*1)\n+SUMPRODUCT((COUNTIF(Finalrunde!$D$178:$E$185,Finalrunde!$AH$178:$AH$185)=0)*1)","v":4},null,{"$f":"Teilnehmerliste!$A$69","v":64},"Martin Rohner",{"$f":"SUMPRODUCT((Finalrunde!$D$187:$D$190<>\"\")*(Finalrunde!$D$187:$D$190=Finalrunde!$AE$187:$AE$190))\n+SUMPRODUCT((Finalrunde!$E$187:$E$190<>\"\")*(Finalrunde!$E$187:$E$190=Finalrunde!$AH$187:$AH$190))","v":5},0,{"$f":"SUMPRODUCT((COUNTIF(Finalrunde!$D$187:$E$190,Finalrunde!$AE$187:$AE$190)=0)*1)\n+SUMPRODUCT((COUNTIF(Finalrunde!$D$187:$E$190,Finalrunde!$AH$187:$AH$190)=0)*1)","v":3},null,{"$f":"Teilnehmerliste!$A$69","v":64},"Martin Rohner",{"$f":"SUMPRODUCT((Finalrunde!$D$192:$D$193<>\"\")*(Finalrunde!$D$192:$D$193=Finalrunde!$AE$192:$AE$193))\n+SUMPRODUCT((Finalrunde!$E$192:$E$193<>\"\")*(Finalrunde!$E$192:$E$193=Finalrunde!$AH$192:$AH$193))","v":4},0,{"$f":"SUMPRODUCT((COUNTIF(Finalrunde!$D$192:$E$193,Finalrunde!$AE$192:$AE$193)=0)*1)\n+SUMPRODUCT((COUNTIF(Finalrunde!$D$192:$E$193,Finalrunde!$AH$192:$AH$193)=0)*1)","v":0}]
[{"$f":"Teilnehmerliste!$A$70","v":65},{"$f":"Teilnehmerliste!B70 &\" \"&Teilnehmerliste!C70","v":"Ivo und Brigitte Rüdemann"},{"$f":"SUMPRODUCT((Finalrunde!$D$161:$D$176<>\"\")*(Finalrunde!$D$161:$D$176=Finalrunde!$AL$161:$AL$176))\n+SUMPRODUCT((Finalrunde!$E$161:$E$176<>\"\")*(Finalrunde!$E$161:$E$176=Finalrunde!$AO$161:$AO$176))","v":15},13,{"$f":"SUMPRODUCT((COUNTIF(Finalrunde!$D$161:$E$176,Finalrunde!$AL$161:$AL$176)=0)*1)\n+SUMPRODUCT((COUNTIF(Finalrunde!$D$161:$E$176,Finalrunde!$AO$161:$AO$176)=0)*1)","v":4},null,{"$f":"Teilnehmerliste!$A$70","v":65},{"$f":"Teilnehmerliste!B70 &\" \"&Teilnehmerliste!C70","v":"Ivo und Brigitte Rüdemann"},{"$f":"SUMPRODUCT((Finalrunde!$D$178:$D$185<>\"\")*(Finalrunde!$D$178:$D$185=Finalrunde!$AL$178:$AL$185))\n+SUMPRODUCT((Finalrunde!$E$178:$E$185<>\"\")*(Finalrunde!$E$178:$E$185=Finalrunde!$AO$178:$AO$185))","v":9},3,{"$f":"SUMPRODUCT((COUNTIF(Finalrunde!$D$178:$E$185,Finalrunde!$AL$178:$AL$185)=0)*1)\n+SUMPRODUCT((COUNTIF(Finalrunde!$D$178:$E$185,Finalrunde!$AO$178:$AO$185)=0)*1)","v":4},null,{"$f":"Teilnehmerliste!$A$70","v":65},"Ivo und Brigitte Rüdemann",{"$f":"SUMPRODUCT((Finalrunde!$D$187:$D$190<>\"\")*(Finalrunde!$D$187:$D$190=Finalrunde!$AL$187:$AL$190))\n+SUMPRODUCT((Finalrunde!$E$187:$E$190<>\"\")*(Finalrunde!$E$187:$E$190=Finalrunde!$AO$187:$AO$190))","v":5},0,{"$f":"SUMPRODUCT((COUNTIF(Finalrunde!$D$187:$E$190,Finalrunde!$AL$187:$AL$190)=0)*1)\n+SUMPRODUCT((COUNTIF(Finalrunde!$D$187:$E$190,Finalrunde!$AO$187:$AO$190)=0)*1)","v":3},null,{"$f":"Teilnehmerliste!$A$70","v":65},"Ivo und Brigitte Rüdemann",{"$f":"SUMPRODUCT((Finalrunde!$D$192:$D$193<>\"\")*(Finalrunde!$D$192:$D$193=Finalrunde!$AL$192:$AL$193))\n+SUMPRODUCT((Finalrunde!$E$192:$E$193<>\"\")*(Finalrunde!$E$192:$E$193=Finalrunde!$AO$192:$AO$193))","v":3},0,{"$f":"SUMPRODUCT((COUNTIF(Finalrunde!$D$192:$E$193,Finalrunde!$AL$192:$AL$193)=0)*1)\n+SUMPRODUCT((COUNTIF(Finalrunde!$D$192:$E$193,Finalrunde!$AO$192:$AO$193)=0)*1)","v":1}]
[{"$f":"Teilnehmerliste!$A$71","v":66},{"$f":"Teilnehmerliste!B71 &\" \"&Teilnehmerliste!C71","v":"Lynn Rüegg"},{"$f":"SUMPRODUCT((Finalrunde!$D$161:$D$176<>\"\")*(Finalrunde!$D$161:$D$176=Finalrunde!$AS$161:$AS$176))\n+SUMPRODUCT((Finalrunde!$E$161:$E$176<>\"\")*(Finalrunde!$E$161:$E$176=Finalrunde!$AV$161:$AV$176))","v":17},{"$f":"SUM(32-C74-E74)","v":10},{"$f":"SUMPRODUCT((COUNTIF(Finalrunde!$D$161:$E$176,Finalrunde!$AS$161:$AS$176)=0)*1)\n+SUMPRODUCT((COUNTIF(Finalrunde!$D$161:$E$176,Finalrunde!$AV$161:$AV$176)=0)*1)","v":5},null,{"$f":"Teilnehmerliste!$A$71","v":66},{"$f":"Teilnehmerliste!B71 &\" \"&Teilnehmerliste!C71","v":"Lynn Rüegg"},{"$f":"SUMPRODUCT((Finalrunde!$D$178:$D$185<>\"\")*(Finalrunde!$D$178:$D$185=Finalrunde!$AS$178:$AS$185))\n+SUMPRODUCT((Finalrunde!$E$178:$E$185<>\"\")*(Finalrunde!$E$178:$E$185=Finalrunde!$AV$178:$AV$185))","v":7},2,{"$f":"SUMPRODUCT((COUNTIF(Finalrunde!$D$178:$E$185,Finalrunde!$AS$178:$AS$185)=0)*1)\n+SUMPRODUCT((COUNTIF(Finalrunde!$D$178:$E$185,Finalrunde!$AV$178:$AV$185)=0)*1)","v":7},null,{"$f":"Teilnehmerliste!$A$71","v":66},{"$f":"H74","v":"Lynn Rüegg"},{"$f":"SUMPRODUCT((Finalrunde!$D$187:$D$190<>\"\")*(Finalrunde!$D$187:$D$190=Finalrunde!$AS$187:$AS$190))\n+SUMPRODUCT((Finalrunde!$E$187:$E$190<>\"\")*(Finalrunde!$E$187:$E$190=Finalrunde!$AV$187:$AV$190))","v":3},1,{"$f":"SUMPRODUCT((COUNTIF(Finalrunde!$D$187:$E$190,Finalrunde!$AS$187:$AS$190)=0)*1)\n+SUMPRODUCT((COUNTIF(Finalrunde!$D$187:$E$190,Finalrunde!$AV$187:$AV$190)=0)*1)","v":4},null,{"$f":"Teilnehmerliste!$A$71","v":66},{"$f":"N74","v":"Lynn Rüegg"},{"$f":"SUMPRODUCT((Finalrunde!$D$192:$D$193<>\"\")*(Finalrunde!$D$192:$D$193=Finalrunde!$AS$192:$AS$193))\n+SUMPRODUCT((Finalrunde!$E$192:$E$193<>\"\")*(Finalrunde!$E$192:$E$193=Finalrunde!$AV$192:$AV$193))","v":2},{"$f":"SUM(4-U74-W74)","v":0},{"$f":"SUMPRODUCT((COUNTIF(Finalrunde!$D$192:$E$193,Finalrunde!$AS$192:$AS$193)=0)*1)\n+SUMPRODUCT((COUNTIF(Finalrunde!$D$192:$E$193,Finalrunde!$AV$192:$AV$193)=0)*1)","v":2}]
[{"$f":"Teilnehmerliste!$A$72","v":67},{"$f":"Teilnehmerliste!B72 &\" \"&Teilnehmerliste!C72","v":"Michael Rüegg"},{"$f":"SUMPRODUCT((Finalrunde!$D$161:$D$176<>\"\")*(Finalrunde!$D$161:$D$176=Finalrunde!$AZ$161:$AZ$176))\n+SUMPRODUCT((Finalrunde!$E$161:$E$176<>\"\")*(Finalrunde!$E$161:$E$176=Finalrunde!$BC$161:$BC$176))","v":15},10,{"$f":"SUMPRODUCT((COUNTIF(Finalrunde!$D$161:$E$176,Finalrunde!$AZ$161:$AZ$176)=0)*1)\n+SUMPRODUCT((COUNTIF(Finalrunde!$D$161:$E$176,Finalrunde!$BC$161:$BC$176)=0)*1)","v":7},null,{"$f":"Teilnehmerliste!$A$72","v":67},{"$f":"Teilnehmerliste!B72 &\" \"&Teilnehmerliste!C72","v":"Michael Rüegg"},{"$f":"SUMPRODUCT((Finalrunde!$D$178:$D$185<>\"\")*(Finalrunde!$D$178:$D$185=Finalrunde!$AZ$178:$AZ$185))\n+SUMPRODUCT((Finalrunde!$E$178:$E$185<>\"\")*(Finalrunde!$E$178:$E$185=Finalrunde!$BC$178:$BC$185))","v":9},1,{"$f":"SUMPRODUCT((COUNTIF(Finalrunde!$D$178:$E$185,Finalrunde!$AZ$178:$AZ$185)=0)*1)\n+SUMPRODUCT((COUNTIF(Finalrunde!$D$178:$E$185,Finalrunde!$BC$178:$BC$185)=0)*1)","v":6},null,{"$f":"Teilnehmerliste!$A$72","v":67},"Michael Rüegg",{"$f":"SUMPRODUCT((Finalrunde!$D$187:$D$190<>\"\")*(Finalrunde!$D$187:$D$190=Finalrunde!$AZ$187:$AZ$190))\n+SUMPRODUCT((Finalrunde!$E$187:$E$190<>\"\")*(Finalrunde!$E$187:$E$190=Finalrunde!$BC$187:$BC$190))","v":4},0,{"$f":"SUMPRODUCT((COUNTIF(Finalrunde!$D$187:$E$190,Finalrunde!$AZ$187:$AZ$190)=0)*1)\n+SUMPRODUCT((COUNTIF(Finalrunde!$D$187:$E$190,Finalrunde!$BC$187:$BC$190)=0)*1)","v":4},null,{"$f":"Teilnehmerliste!$A$72","v":67},"Michael Rüegg",{"$f":"SUMPRODUCT((Finalrunde!$D$192:$D$193<>\"\")*(Finalrunde!$D$192:$D$193=Finalrunde!$AZ$192:$AZ$193))\n+SUMPRODUCT((Finalrunde!$E$192:$E$193<>\"\")*(Finalrunde!$E$192:$E$193=Finalrunde!$BC$192:$BC$193))","v":3},0,{"$f":"SUMPRODUCT((COUNTIF(Finalrunde!$D$192:$E$193,Finalrunde!$AZ$192:$AZ$193)=0)*1)\n+SUMPRODUCT((COUNTIF(Finalrunde!$D$192:$E$193,Finalrunde!$BC$192:$BC$193)=0)*1)","v":1}]
[{"$f":"Teilnehmerliste!$A$73","v":68},{"$f":"Teilnehmerliste!B73 &\" \"&Teilnehmerliste!C73","v":"Sabine Rüegg"},{"$f":"SUMPRODUCT((Finalrunde!$D$161:$D$176<>\"\")*(Finalrunde!$D$161:$D$176=Finalrunde!$BG$161:$BG$176))\n+SUMPRODUCT((Finalrunde!$E$161:$E$176<>\"\")*(Finalrunde!$E$161:$E$176=Finalrunde!$BJ$161:$BJ$176))","v":19},6,{"$f":"SUMPRODUCT((COUNTIF(Finalrunde!$D$161:$E$176,Finalrunde!$BG$161:$BG$176)=0)*1)\n+SUMPRODUCT((COUNTIF(Finalrunde!$D$161:$E$176,Finalrunde!$BJ$161:$BJ$176)=0)*1)","v":7},null,{"$f":"Teilnehmerliste!$A$73","v":68},{"$f":"Teilnehmerliste!B73 &\" \"&Teilnehmerliste!C73","v":"Sabine Rüegg"},{"$f":"SUMPRODUCT((Finalrunde!$D$178:$D$185<>\"\")*(Finalrunde!$D$178:$D$185=Finalrunde!$BG$178:$BG$185))\n+SUMPRODUCT((Finalrunde!$E$178:$E$185<>\"\")*(Finalrunde!$E$178:$E$185=Finalrunde!$BJ$178:$BJ$185))","v":10},2,{"$f":"SUMPRODUCT((COUNTIF(Finalrunde!$D$178:$E$185,Finalrunde!$BG$178:$BG$185)=0)*1)\n+SUMPRODUCT((COUNTIF(Finalrunde!$D$178:$E$185,Finalrunde!$BJ$178:$BJ$185)=0)*1)","v":4},null,{"$f":"Teilnehmerliste!$A$73","v":68},"Sabine Rüegg",{"$f":"SUMPRODUCT((Finalrunde!$D$187:$D$190<>\"\")*(Finalrunde!$D$187:$D$190=Finalrunde!$BG$187:$BG$190))\n+SUMPRODUCT((Finalrunde!$E$187:$E$190<>\"\")*(Finalrunde!$E$187:$E$190=Finalrunde!$BJ$187:$BJ$190))","v":7},0,{"$f":"SUMPRODUCT((COUNTIF(Finalrunde!$D$187:$E$190,Finalrunde!$BG$187:$BG$190)=0)*1)\n+SUMPRODUCT((COUNTIF(Finalrunde!$D$187:$E$190,Finalrunde!$BJ$187:$BJ$190)=0)*1)","v":1},null,{"$f":"Teilnehmerliste!$A$73","v":68},"Sabine Rüegg",{"$f":"SUMPRODUCT((Finalrunde!$D$192:$D$193<>\"\")*(Finalrunde!$D$192:$D$193=Finalrunde!$BG$192:$BG$193))\n+SUMPRODUCT((Finalrunde!$E$192:$E$193<>\"\")*(Finalrunde!$E$192:$E$193=Finalrunde!$BJ$192:$BJ$193))","v":3},0,{"$f":"SUMPRODUCT((COUNTIF(Finalrunde!$D$192:$E$193,Finalrunde!$BG$192:$BG$193)=0)*1)\n+SUMPRODUCT((COUNTIF(Finalrunde!$D$192:$E$193,Finalrunde!$BJ$192:$BJ$193)=0)*1)","v":1}]
[{"$f":"Teilnehmerliste!$A$74","v":69},{"$f":"Teilnehmerliste!B74 &\" \"&Teilnehmerliste!C74","v":"Martin Schawalder"},{"$f":"SUMPRODUCT((Finalrunde!$D$161:$D$176<>\"\")*(Finalrunde!$D$161:$D$176=Finalrunde!$BN$161:$BN$176))\n+SUMPRODUCT((Finalrunde!$E$161:$E$176<>\"\")*(Finalrunde!$E$161:$E$176=Finalrunde!$BQ$161:$BQ$176))","v":17},8,{"$f":"SUMPRODUCT((COUNTIF(Finalrunde!$D$161:$E$176,Finalrunde!$BN$161:$BN$176)=0)*1)\n+SUMPRODUCT((COUNTIF(Finalrunde!$D$161:$E$176,Finalrunde!$BQ$161:$BQ$176)=0)*1)","v":7},null,{"$f":"Teilnehmerliste!$A$74","v":69},{"$f":"Teilnehmerliste!B74 &\" \"&Teilnehmerliste!C74","v":"Martin Schawalder"},{"$f":"SUMPRODUCT((Finalrunde!$D$178:$D$185<>\"\")*(Finalrunde!$D$178:$D$185=Finalrunde!$BN$178:$BN$185))\n+SUMPRODUCT((Finalrunde!$E$178:$E$185<>\"\")*(Finalrunde!$E$178:$E$185=Finalrunde!$BQ$178:$BQ$185))","v":9},1,{"$f":"SUMPRODUCT((COUNTIF(Finalrunde!$D$178:$E$185,Finalrunde!$BN$178:$BN$185)=0)*1)\n+SUMPRODUCT((COUNTIF(Finalrunde!$D$178:$E$185,Finalrunde!$BQ$178:$BQ$185)=0)*1)","v":6},null,{"$f":"Teilnehmerliste!$A$74","v":69},"Martin Schawalder",{"$f":"SUMPRODUCT((Finalrunde!$D$187:$D$190<>\"\")*(Finalrunde!$D$187:$D$190=Finalrunde!$BN$187:$BN$190))\n+SUMPRODUCT((Finalrunde!$E$187:$E$190<>\"\")*(Finalrunde!$E$187:$E$190=Finalrunde!$BQ$187:$BQ$190))","v":5},0,{"$f":"SUMPRODUCT((COUNTIF(Finalrunde!$D$187:$E$190,Finalrunde!$BN$187:$BN$190)=0)*1)\n+SUMPRODUCT((COUNTIF(Finalrunde!$D$187:$E$190,Finalrunde!$BQ$187:$BQ$190)=0)*1)","v":3},null,{"$f":"Teilnehmerliste!$A$74","v":69},"Martin Schawalder",{"$f":"SUMPRODUCT((Finalrunde!$D$192:$D$193<>\"\")*(Finalrunde!$D$192:$D$193=Finalrunde!$BN$192:$BN$193))\n+SUMPRODUCT((Finalrunde!$E$192:$E$193<>\"\")*(Finalrunde!$E$192:$E$193=Finalrunde!$BQ$192:$BQ$193))","v":3},0,{"$f":"SUMPRODUCT((COUNTIF(Finalrunde!$D$192:$E$193,Finalrunde!$BN$192:$BN$193)=0)*1)\n+SUMPRODUCT((COUNTIF(Finalrunde!$D$192:$E$193,Finalrunde!$BQ$192:$BQ$193)=0)*1)","v":1}]
[{"$f":"Teilnehmerliste!$A$75","v":70},{"$f":"Teilnehmerliste!B75 &\" \"&Teilnehmerliste!C75","v":"Evelyne Schenk"},{"$f":"SUMPRODUCT((Finalrunde!$D$161:$D$176<>\"\")*(Finalrunde!$D$161:$D$176=Finalrunde!$BU$161:$BU$176))\n+SUMPRODUCT((Finalrunde!$E$161:$E$176<>\"\")*(Finalrunde!$E$161:$E$176=Finalrunde!$BX$161:$BX$176))","v":18},8,{"$f":"SUMPRODUCT((COUNTIF(Finalrunde!$D$161:$E$176,Finalrunde!$BU$161:$BU$176)=0)*1)\n+SUMPRODUCT((COUNTIF(Finalrunde!$D$161:$E$176,Finalrunde!$BX$161:$BX$176)=0)*1)","v":6},null,{"$f":"Teilnehmerliste!$A$75","v":70},{"$f":"Teilnehmerliste!B75 &\" \"&Teilnehmerliste!C75","v":"Evelyne Schenk"},{"$f":"SUMPRODUCT((Finalrunde!$D$178:$D$185<>\"\")*(Finalrunde!$D$178:$D$185=Finalrunde!$BU$178:$BU$185))\n+SUMPRODUCT((Finalrunde!$E$178:$E$185<>\"\")*(Finalrunde!$E$178:$E$185=Finalrunde!$BX$178:$BX$185))","v":10},1,{"$f":"SUMPRODUCT((COUNTIF(Finalrunde!$D$178:$E$185,Finalrunde!$BU$178:$BU$185)=0)*1)\n+SUMPRODUCT((COUNTIF(Finalrunde!$D$178:$E$185,Finalrunde!$BX$178:$BX$185)=0)*1)","v":5},null,{"$f":"Teilnehmerliste!$A$75","v":70},"Evelyne Schenk",{"$f":"SUMPRODUCT((Finalrunde!$D$187:$D$190<>\"\")*(Finalrunde!$D$187:$D$190=Finalrunde!$BU$187:$BU$190))\n+SUMPRODUCT((Finalrunde!$E$187:$E$190<>\"\")*(Finalrunde!$E$187:$E$190=Finalrunde!$BX$187:$BX$190))","v":5},0,{"$f":"SUMPRODUCT((COUNTIF(Finalrunde!$D$187:$E$190,Finalrunde!$BU$187:$BU$190)=0)*1)\n+SUMPRODUCT((COUNTIF(Finalrunde!$D$187:$E$190,Finalrunde!$BX$187:$BX$190)=0)*1)","v":3},null,{"$f":"Teilnehmerliste!$A$75","v":70},"Evelyne Schenk",{"$f":"SUMPRODUCT((Finalrunde!$D$192:$D$193<>\"\")*(Finalrunde!$D$192:$D$193=Finalrunde!$BU$192:$BU$193))\n+SUMPRODUCT((Finalrunde!$E$192:$E$193<>\"\")*(Finalrunde!$E$192:$E$193=Finalrunde!$BX$192:$BX$193))","v":2},0,{"$f":"SUMPRODUCT((COUNTIF(Finalrunde!$D$192:$E$193,Finalrunde!$BU$192:$BU$193)=0)*1)\n+SUMPRODUCT((COUNTIF(Finalrunde!$D$192:$E$193,Finalrunde!$BX$192:$BX$193)=0)*1)","v":2}]
[{"$f":"Teilnehmerliste!$A$76","v":71},{"$f":"Teilnehmerliste!B76 &\" \"&Teilnehmerliste!C76","v":"Yannick Schilliger"},{"$f":"SUMPRODUCT((Finalrunde!$D$161:$D$176<>\"\")*(Finalrunde!$D$161:$D$176=Finalrunde!$CB$161:$CB$176))\n+SUMPRODUCT((Finalrunde!$E$161:$E$176<>\"\")*(Finalrunde!$E$161:$E$176=Finalrunde!$CE$161:$CE$176))","v":19},8,{"$f":"SUMPRODUCT((COUNTIF(Finalrunde!$D$161:$E$176,Finalrunde!$CB$161:$CB$176)=0)*1)\n+SUMPRODUCT((COUNTIF(Finalrunde!$D$161:$E$176,Finalrunde!$CE$161:$CE$176)=0)*1)","v":5},null,{"$f":"Teilnehmerliste!$A$76","v":71},{"$f":"Teilnehmerliste!B76 &\" \"&Teilnehmerliste!C76","v":"Yannick Schilliger"},{"$f":"SUMPRODUCT((Finalrunde!$D$178:$D$185<>\"\")*(Finalrunde!$D$178:$D$185=Finalrunde!$CB$178:$CB$185))\n+SUMPRODUCT((Finalrunde!$E$178:$E$185<>\"\")*(Finalrunde!$E$178:$E$185=Finalrunde!$CE$178:$CE$185))","v":11},2,{"$f":"SUMPRODUCT((COUNTIF(Finalrunde!$D$178:$E$185,Finalrunde!$CB$178:$CB$185)=0)*1)\n+SUMPRODUCT((COUNTIF(Finalrunde!$D$178:$E$185,Finalrunde!$CE$178:$CE$185)=0)*1)","v":3},null,{"$f":"Teilnehmerliste!$A$76","v":71},"Yannick Schilliger",{"$f":"SUMPRODUCT((Finalrunde!$D$187:$D$190<>\"\")*(Finalrunde!$D$187:$D$190=Finalrunde!$CB$187:$CB$190))\n+SUMPRODUCT((Finalrunde!$E$187:$E$190<>\"\")*(Finalrunde!$E$187:$E$190=Finalrunde!$CE$187:$CE$190))","v":5},0,{"$f":"SUMPRODUCT((COUNTIF(Finalrunde!$D$187:$E$190,Finalrunde!$CB$187:$CB$190)=0)*1)\n+SUMPRODUCT((COUNTIF(Finalrunde!$D$187:$E$190,Finalrunde!$CE$187:$CE$190)=0)*1)","v":3},null,{"$f":"Teilnehmerliste!$A$76","v":71},"Yannick Schilliger",{"$f":"SUMPRODUCT((Finalrunde!$D$192:$D$193<>\"\")*(Finalrunde!$D$192:$D$193=Finalrunde!$CB$192:$CB$193))\n+SUMPRODUCT((Finalrunde!$E$192:$E$193<>\"\")*(Finalrunde!$E$192:$E$193=Finalrunde!$CE$192:$CE$193))","v":3},0,{"$f":"SUMPRODUCT((COUNTIF(Finalrunde!$D$192:$E$193,Finalrunde!$CB$192:$CB$193)=0)*1)\n+SUMPRODUCT((COUNTIF(Finalrunde!$D$192:$E$193,Finalrunde!$CE$192:$CE$193)=0)*1)","v":1}]
[{"$f":"Teilnehmerliste!$A$77","v":72},{"$f":"Teilnehmerliste!B77 &\" \"&Teilnehmerliste!C77","v":"Erich Schommarz"},{"$f":"SUMPRODUCT((Finalrunde!$D$161:$D$176<>\"\")*(Finalrunde!$D$161:$D$176=Finalrunde!$CI$161:$CI$176))\n+SUMPRODUCT((Finalrunde!$E$161:$E$176<>\"\")*(Finalrunde!$E$161:$E$176=Finalrunde!$CL$161:$CL$176))","v":19},7,{"$f":"SUMPRODUCT((COUNTIF(Finalrunde!$D$161:$E$176,Finalrunde!$CI$161:$CI$176)=0)*1)\n+SUMPRODUCT((COUNTIF(Finalrunde!$D$161:$E$176,Finalrunde!$CL$161:$CL$176)=0)*1)","v":6},null,{"$f":"Teilnehmerliste!$A$77","v":72},{"$f":"Teilnehmerliste!B77 &\" \"&Teilnehmerliste!C77","v":"Erich Schommarz"},{"$f":"SUMPRODUCT((Finalrunde!$D$178:$D$185<>\"\")*(Finalrunde!$D$178:$D$185=Finalrunde!$CI$178:$CI$185))\n+SUMPRODUCT((Finalrunde!$E$178:$E$185<>\"\")*(Finalrunde!$E$178:$E$185=Finalrunde!$CL$178:$CL$185))","v":10},2,{"$f":"SUMPRODUCT((COUNTIF(Finalrunde!$D$178:$E$185,Finalrunde!$CI$178:$CI$185)=0)*1)\n+SUMPRODUCT((COUNTIF(Finalrunde!$D$178:$E$185,Finalrunde!$CL$178:$CL$185)=0)*1)","v":4},null,{"$f":"Teilnehmerliste!$A$77","v":72},"Erich Schommarz",{"$f":"SUMPRODUCT((Finalrunde!$D$187:$D$190<>\"\")*(Finalrunde!$D$187:$D$190=Finalrunde!$CI$187:$CI$190))\n+SUMPRODUCT((Finalrunde!$E$187:$E$190<>\"\")*(Finalrunde!$E$187:$E$190=Finalrunde!$CL$187:$CL$190))","v":4},0,{"$f":"SUMPRODUCT((COUNTIF(Finalrunde!$D$187:$E$190,Finalrunde!$CI$187:$CI$190)=0)*1)\n+SUMPRODUCT((COUNTIF(Finalrunde!$D$187:$E$190,Finalrunde!$CL$187:$CL$190)=0)*1)","v":4},null,{"$f":"Teilnehmerliste!$A$77","v":72},"Erich Schommarz",{"$f":"SUMPRODUCT((Finalrunde!$D$192:$D$193<>\"\")*(Finalrunde!$D$192:$D$193=Finalrunde!$CI$192:$CI$193))\n+SUMPRODUCT((Finalrunde!$E$192:$E$193<>\"\")*(Finalrunde!$E$192:$E$193=Finalrunde!$CL$192:$CL$193))","v":3},0,{"$f":"SUMPRODUCT((COUNTIF(Finalrunde!$D$192:$E$193,Finalrunde!$CI$192:$CI$193)=0)*1)\n+SUMPRODUCT((COUNTIF(Finalrunde!$D$192:$E$193,Finalrunde!$CL$192:$CL$193)=0)*1)","v":1}]
[{"$f":"Teilnehmerliste!$A$78","v":73},{"$f":"Teilnehmerliste!B78 &\" \"&Teilnehmerliste!C78","v":"Ralph Schuster"},{"$f":"SUMPRODUCT((Finalrunde!$D$161:$D$176<>\"\")*(Finalrunde!$D$161:$D$176=Finalrunde!$CP$161:$CP$176))\n+SUMPRODUCT((Finalrunde!$E$161:$E$176<>\"\")*(Finalrunde!$E$161:$E$176=Finalrunde!$CS$161:$CS$176))","v":16},12,{"$f":"SUMPRODUCT((COUNTIF(Finalrunde!$D$161:$E$176,Finalrunde!$CP$161:$CP$176)=0)*1)\n+SUMPRODUCT((COUNTIF(Finalrunde!$D$161:$E$176,Finalrunde!$CS$161:$CS$176)=0)*1)","v":4},null,{"$f":"Teilnehmerliste!$A$78","v":73},{"$f":"Teilnehmerliste!B78 &\" \"&Teilnehmerliste!C78","v":"Ralph Schuster"},{"$f":"SUMPRODUCT((Finalrunde!$D$178:$D$185<>\"\")*(Finalrunde!$D$178:$D$185=Finalrunde!$CP$178:$CP$185))\n+SUMPRODUCT((Finalrunde!$E$178:$E$185<>\"\")*(Finalrunde!$E$178:$E$185=Finalrunde!$CS$178:$CS$185))","v":8},2,{"$f":"SUMPRODUCT((COUNTIF(Finalrunde!$D$178:$E$185,Finalrunde!$CP$178:$CP$185)=0)*1)\n+SUMPRODUCT((COUNTIF(Finalrunde!$D$178:$E$185,Finalrunde!$CS$178:$CS$185)=0)*1)","v":6},null,{"$f":"Teilnehmerliste!$A$78","v":73},"Ralph Schuster",{"$f":"SUMPRODUCT((Finalrunde!$D$187:$D$190<>\"\")*(Finalrunde!$D$187:$D$190=Finalrunde!$CP$187:$CP$190))\n+SUMPRODUCT((Finalrunde!$E$187:$E$190<>\"\")*(Finalrunde!$E$187:$E$190=Finalrunde!$CS$187:$CS$190))","v":2},0,{"$f":"SUMPRODUCT((COUNTIF(Finalrunde!$D$187:$E$190,Finalrunde!$CP$187:$CP$190)=0)*1)\n+SUMPRODUCT((COUNTIF(Finalrunde!$D$187:$E$190,Finalrunde!$CS$187:$CS$190)=0)*1)","v":6},null,{"$f":"Teilnehmerliste!$A$78","v":73},"Ralph Schuster",{"$f":"SUMPRODUCT((Finalrunde!$D$192:$D$193<>\"\")*(Finalrunde!$D$192:$D$193=Finalrunde!$CP$192:$CP$193))\n+SUMPRODUCT((Finalrunde!$E$192:$E$193<>\"\")*(Finalrunde!$E$192:$E$193=Finalrunde!$CS$192:$CS$193))","v":2},0,{"$f":"SUMPRODUCT((COUNTIF(Finalrunde!$D$192:$E$193,Finalrunde!$CP$192:$CP$193)=0)*1)\n+SUMPRODUCT((COUNTIF(Finalrunde!$D$192:$E$193,Finalrunde!$CS$192:$CS$193)=0)*1)","v":2}]
[{"$f":"Teilnehmerliste!$A$79","v":74},{"$f":"Teilnehmerliste!B79 &\" \"&Teilnehmerliste!C79","v":"Bruno Silva"},{"$f":"SUMPRODUCT((Finalrunde!$D$161:$D$176<>\"\")*(Finalrunde!$D$161:$D$176=Finalrunde!$CW$161:$CW$176))\n+SUMPRODUCT((Finalrunde!$E$161:$E$176<>\"\")*(Finalrunde!$E$161:$E$176=Finalrunde!$CZ$161:$CZ$176))","v":21},7,{"$f":"SUMPRODUCT((COUNTIF(Finalrunde!$D$161:$E$176,Finalrunde!$CW$161:$CW$176)=0)*1)\n+SUMPRODUCT((COUNTIF(Finalrunde!$D$161:$E$176,Finalrunde!$CZ$161:$CZ$176)=0)*1)","v":4},null,{"$f":"Teilnehmerliste!$A$79","v":74},{"$f":"Teilnehmerliste!B79 &\" \"&Teilnehmerliste!C79","v":"Bruno Silva"},{"$f":"SUMPRODUCT((Finalrunde!$D$178:$D$185<>\"\")*(Finalrunde!$D$178:$D$185=Finalrunde!$CW$178:$CW$185))\n+SUMPRODUCT((Finalrunde!$E$178:$E$185<>\"\")*(Finalrunde!$E$178:$E$185=Finalrunde!$CZ$178:$CZ$185))","v":11},1,{"$f":"SUMPRODUCT((COUNTIF(Finalrunde!$D$178:$E$185,Finalrunde!$CW$178:$CW$185)=0)*1)\n+SUMPRODUCT((COUNTIF(Finalrunde!$D$178:$E$185,Finalrunde!$CZ$178:$CZ$185)=0)*1)","v":4},null,{"$f":"Teilnehmerliste!$A$79","v":74},"Bruno Silva",{"$f":"SUMPRODUCT((Finalrunde!$D$187:$D$190<>\"\")*(Finalrunde!$D$187:$D$190=Finalrunde!$CW$187:$CW$190))\n+SUMPRODUCT((Finalrunde!$E$187:$E$190<>\"\")*(Finalrunde!$E$187:$E$190=Finalrunde!$CZ$187:$CZ$190))","v":5},0,{"$f":"SUMPRODUCT((COUNTIF(Finalrunde!$D$187:$E$190,Finalrunde!$CW$187:$CW$190)=0)*1)\n+SUMPRODUCT((COUNTIF(Finalrunde!$D$187:$E$190,Finalrunde!$CZ$187:$CZ$190)=0)*1)","v":3},null,{"$f":"Teilnehmerliste!$A$79","v":74},"Bruno Silva",{"$f":"SUMPRODUCT((Finalrunde!$D$192:$D$193<>\"\")*(Finalrunde!$D$192:$D$193=Finalrunde!$CW$192:$CW$193))\n+SUMPRODUCT((Finalrunde!$E$192:$E$193<>\"\")*(Finalrunde!$E$192:$E$193=Finalrunde!$CZ$192:$CZ$193))","v":3},0,{"$f":"SUMPRODUCT((COUNTIF(Finalrunde!$D$192:$E$193,Finalrunde!$CW$192:$CW$193)=0)*1)\n+SUMPRODUCT((COUNTIF(Finalrunde!$D$192:$E$193,Finalrunde!$CZ$192:$CZ$193)=0)*1)","v":1}]
[{"$f":"Teilnehmerliste!$A$80","v":75},{"$f":"Teilnehmerliste!B80 &\" \"&Teilnehmerliste!C80","v":"Aleandro Silvestri"},{"$f":"SUMPRODUCT((Finalrunde!$D$161:$D$176<>\"\")*(Finalrunde!$D$161:$D$176=Finalrunde!$DD$161:$DD$176))\n+SUMPRODUCT((Finalrunde!$E$161:$E$176<>\"\")*(Finalrunde!$E$161:$E$176=Finalrunde!$DG$161:$DG$176))","v":19},7,{"$f":"SUMPRODUCT((COUNTIF(Finalrunde!$D$161:$E$176,Finalrunde!$DD$161:$DD$176)=0)*1)\n+SUMPRODUCT((COUNTIF(Finalrunde!$D$161:$E$176,Finalrunde!$DG$161:$DG$176)=0)*1)","v":6},null,{"$f":"Teilnehmerliste!$A$80","v":75},{"$f":"Teilnehmerliste!B80 &\" \"&Teilnehmerliste!C80","v":"Aleandro Silvestri"},{"$f":"SUMPRODUCT((Finalrunde!$D$178:$D$185<>\"\")*(Finalrunde!$D$178:$D$185=Finalrunde!$DD$178:$DD$185))\n+SUMPRODUCT((Finalrunde!$E$178:$E$185<>\"\")*(Finalrunde!$E$178:$E$185=Finalrunde!$DG$178:$DG$185))","v":10},2,{"$f":"SUMPRODUCT((COUNTIF(Finalrunde!$D$178:$E$185,Finalrunde!$DD$178:$DD$185)=0)*1)\n+SUMPRODUCT((COUNTIF(Finalrunde!$D$178:$E$185,Finalrunde!$DG$178:$DG$185)=0)*1)","v":4},null,{"$f":"Teilnehmerliste!$A$80","v":75},"Aleandro Silvestri",{"$f":"SUMPRODUCT((Finalrunde!$D$187:$D$190<>\"\")*(Finalrunde!$D$187:$D$190=Finalrunde!$DD$187:$DD$190))\n+SUMPRODUCT((Finalrunde!$E$187:$E$190<>\"\")*(Finalrunde!$E$187:$E$190=Finalrunde!$DG$187:$DG$190))","v":5},0,{"$f":"SUMPRODUCT((COUNTIF(Finalrunde!$D$187:$E$190,Finalrunde!$DD$187:$DD$190)=0)*1)\n+SUMPRODUCT((COUNTIF(Finalrunde!$D$187:$E$190,Finalrunde!$DG$187:$DG$190)=0)*1)","v":3},null,{"$f":"Teilnehmerliste!$A$80","v":75},"Aleandro Silvestri",{"$f":"SUMPRODUCT((Finalrunde!$D$192:$D$193<>\"\")*(Finalrunde!$D$192:$D$193=Finalrunde!$DD$192:$DD$193))\n+SUMPRODUCT((Finalrunde!$E$192:$E$193<>\"\")*(Finalrunde!$E$192:$E$193=Finalrunde!$DG$192:$DG$193))","v":2},0,{"$f":"SUMPRODUCT((COUNTIF(Finalrunde!$D$192:$E$193,Finalrunde!$DD$192:$DD$193)=0)*1)\n+SUMPRODUCT((COUNTIF(Finalrunde!$D$192:$E$193,Finalrunde!$DG$192:$DG$193)=0)*1)","v":2}]
[{"$f":"Teilnehmerliste!$A$81","v":76},{"$f":"Teilnehmerliste!B81 &\" \"&Teilnehmerliste!C81","v":"Armando Thormann"},{"$f":"SUMPRODUCT((Finalrunde!$D$161:$D$176<>\"\")*(Finalrunde!$D$161:$D$176=Finalrunde!$DK$161:$DK$176))\n+SUMPRODUCT((Finalrunde!$E$161:$E$176<>\"\")*(Finalrunde!$E$161:$E$176=Finalrunde!$DN$161:$DN$176))","v":23},4,{"$f":"SUMPRODUCT((COUNTIF(Finalrunde!$D$161:$E$176,Finalrunde!$DK$161:$DK$176)=0)*1)\n+SUMPRODUCT((COUNTIF(Finalrunde!$D$161:$E$176,Finalrunde!$DN$161:$DN$176)=0)*1)","v":5},null,{"$f":"Teilnehmerliste!$A$81","v":76},{"$f":"Teilnehmerliste!B81 &\" \"&Teilnehmerliste!C81","v":"Armando Thormann"},{"$f":"SUMPRODUCT((Finalrunde!$D$178:$D$185<>\"\")*(Finalrunde!$D$178:$D$185=Finalrunde!$DK$178:$DK$185))\n+SUMPRODUCT((Finalrunde!$E$178:$E$185<>\"\")*(Finalrunde!$E$178:$E$185=Finalrunde!$DN$178:$DN$185))","v":12},2,{"$f":"SUMPRODUCT((COUNTIF(Finalrunde!$D$178:$E$185,Finalrunde!$DK$178:$DK$185)=0)*1)\n+SUMPRODUCT((COUNTIF(Finalrunde!$D$178:$E$185,Finalrunde!$DN$178:$DN$185)=0)*1)","v":2},null,{"$f":"Teilnehmerliste!$A$81","v":76},"Armando Thormann",{"$f":"SUMPRODUCT((Finalrunde!$D$187:$D$190<>\"\")*(Finalrunde!$D$187:$D$190=Finalrunde!$DK$187:$DK$190))\n+SUMPRODUCT((Finalrunde!$E$187:$E$190<>\"\")*(Finalrunde!$E$187:$E$190=Finalrunde!$DN$187:$DN$190))","v":6},0,{"$f":"SUMPRODUCT((COUNTIF(Finalrunde!$D$187:$E$190,Finalrunde!$DK$187:$DK$190)=0)*1)\n+SUMPRODUCT((COUNTIF(Finalrunde!$D$187:$E$190,Finalrunde!$DN$187:$DN$190)=0)*1)","v":2},null,{"$f":"Teilnehmerliste!$A$81","v":76},"Armando Thormann",{"$f":"SUMPRODUCT((Finalrunde!$D$192:$D$193<>\"\")*(Finalrunde!$D$192:$D$193=Finalrunde!$DK$192:$DK$193))\n+SUMPRODUCT((Finalrunde!$E$192:$E$193<>\"\")*(Finalrunde!$E$192:$E$193=Finalrunde!$DN$192:$DN$193))","v":4},0,{"$f":"SUMPRODUCT((COUNTIF(Finalrunde!$D$192:$E$193,Finalrunde!$DK$192:$DK$193)=0)*1)\n+SUMPRODUCT((COUNTIF(Finalrunde!$D$192:$E$193,Finalrunde!$DN$192:$DN$193)=0)*1)","v":0}]
[{"$f":"Teilnehmerliste!$A$82","v":77},{"$f":"Teilnehmerliste!B82 &\" \"&Teilnehmerliste!C82","v":"Lea Treichler"},{"$f":"SUMPRODUCT((Finalrunde!$D$161:$D$176<>\"\")*(Finalrunde!$D$161:$D$176=Finalrunde!$DR$161:$DR$176))\n+SUMPRODUCT((Finalrunde!$E$161:$E$176<>\"\")*(Finalrunde!$E$161:$E$176=Finalrunde!$DU$161:$DU$176))","v":17},9,{"$f":"SUMPRODUCT((COUNTIF(Finalrunde!$D$161:$E$176,Finalrunde!$DR$161:$DR$176)=0)*1)\n+SUMPRODUCT((COUNTIF(Finalrunde!$D$161:$E$176,Finalrunde!$DU$161:$DU$176)=0)*1)","v":6},null,{"$f":"Teilnehmerliste!$A$82","v":77},{"$f":"Teilnehmerliste!B82 &\" \"&Teilnehmerliste!C82","v":"Lea Treichler"},{"$f":"SUMPRODUCT((Finalrunde!$D$178:$D$185<>\"\")*(Finalrunde!$D$178:$D$185=Finalrunde!$DR$178:$DR$185))\n+SUMPRODUCT((Finalrunde!$E$178:$E$185<>\"\")*(Finalrunde!$E$178:$E$185=Finalrunde!$DU$178:$DU$185))","v":9},3,{"$f":"SUMPRODUCT((COUNTIF(Finalrunde!$D$178:$E$185,Finalrunde!$DR$178:$DR$185)=0)*1)\n+SUMPRODUCT((COUNTIF(Finalrunde!$D$178:$E$185,Finalrunde!$DU$178:$DU$185)=0)*1)","v":4},null,{"$f":"Teilnehmerliste!$A$82","v":77},"Lea Treichler",{"$f":"SUMPRODUCT((Finalrunde!$D$187:$D$190<>\"\")*(Finalrunde!$D$187:$D$190=Finalrunde!$DR$187:$DR$190))\n+SUMPRODUCT((Finalrunde!$E$187:$E$190<>\"\")*(Finalrunde!$E$187:$E$190=Finalrunde!$DU$187:$DU$190))","v":3},0,{"$f":"SUMPRODUCT((COUNTIF(Finalrunde!$D$187:$E$190,Finalrunde!$DR$187:$DR$190)=0)*1)\n+SUMPRODUCT((COUNTIF(Finalrunde!$D$187:$E$190,Finalrunde!$DU$187:$DU$190)=0)*1)","v":5},null,{"$f":"Teilnehmerliste!$A$82","v":77},"Lea Treichler",{"$f":"SUMPRODUCT((Finalrunde!$D$192:$D$193<>\"\")*(Finalrunde!$D$192:$D$193=Finalrunde!$DR$192:$DR$193))\n+SUMPRODUCT((Finalrunde!$E$192:$E$193<>\"\")*(Finalrunde!$E$192:$E$193=Finalrunde!$DU$192:$DU$193))","v":1},0,{"$f":"SUMPRODUCT((COUNTIF(Finalrunde!$D$192:$E$193,Finalrunde!$DR$192:$DR$193)=0)*1)\n+SUMPRODUCT((COUNTIF(Finalrunde!$D$192:$E$193,Finalrunde!$DU$192:$DU$193)=0)*1)","v":3}]
[{"$f":"Teilnehmerliste!$A$83","v":78},{"$f":"Teilnehmerliste!B83 &\" \"&Teilnehmerliste!C83","v":"Reto Treichler"},{"$f":"SUMPRODUCT((Finalrunde!$D$161:$D$176<>\"\")*(Finalrunde!$D$161:$D$176=Finalrunde!$DY$161:$DY$176))\n+SUMPRODUCT((Finalrunde!$E$161:$E$176<>\"\")*(Finalrunde!$E$161:$E$176=Finalrunde!$EB$161:$EB$176))","v":19},7,{"$f":"SUMPRODUCT((COUNTIF(Finalrunde!$D$161:$E$176,Finalrunde!$DY$161:$DY$176)=0)*1)\n+SUMPRODUCT((COUNTIF(Finalrunde!$D$161:$E$176,Finalrunde!$EB$161:$EB$176)=0)*1)","v":6},null,{"$f":"Teilnehmerliste!$A$83","v":78},{"$f":"Teilnehmerliste!B83 &\" \"&Teilnehmerliste!C83","v":"Reto Treichler"},{"$f":"SUMPRODUCT((Finalrunde!$D$178:$D$185<>\"\")*(Finalrunde!$D$178:$D$185=Finalrunde!$DY$178:$DY$185))\n+SUMPRODUCT((Finalrunde!$E$178:$E$185<>\"\")*(Finalrunde!$E$178:$E$185=Finalrunde!$EB$178:$EB$185))","v":11},1,{"$f":"SUMPRODUCT((COUNTIF(Finalrunde!$D$178:$E$185,Finalrunde!$DY$178:$DY$185)=0)*1)\n+SUMPRODUCT((COUNTIF(Finalrunde!$D$178:$E$185,Finalrunde!$EB$178:$EB$185)=0)*1)","v":4},null,{"$f":"Teilnehmerliste!$A$83","v":78},"Reto Treichler",{"$f":"SUMPRODUCT((Finalrunde!$D$187:$D$190<>\"\")*(Finalrunde!$D$187:$D$190=Finalrunde!$DY$187:$DY$190))\n+SUMPRODUCT((Finalrunde!$E$187:$E$190<>\"\")*(Finalrunde!$E$187:$E$190=Finalrunde!$EB$187:$EB$190))","v":4},0,{"$f":"SUMPRODUCT((COUNTIF(Finalrunde!$D$187:$E$190,Finalrunde!$DY$187:$DY$190)=0)*1)\n+SUMPRODUCT((COUNTIF(Finalrunde!$D$187:$E$190,Finalrunde!$EB$187:$EB$190)=0)*1)","v":4},null,{"$f":"Teilnehmerliste!$A$83","v":78},"Reto Treichler",{"$f":"SUMPRODUCT((Finalrunde!$D$192:$D$193<>\"\")*(Finalrunde!$D$192:$D$193=Finalrunde!$DY$192:$DY$193))\n+SUMPRODUCT((Finalrunde!$E$192:$E$193<>\"\")*(Finalrunde!$E$192:$E$193=Finalrunde!$EB$192:$EB$193))","v":3},0,{"$f":"SUMPRODUCT((COUNTIF(Finalrunde!$D$192:$E$193,Finalrunde!$DY$192:$DY$193)=0)*1)\n+SUMPRODUCT((COUNTIF(Finalrunde!$D$192:$E$193,Finalrunde!$EB$192:$EB$193)=0)*1)","v":1}]
[{"$f":"Teilnehmerliste!$A$84","v":79},{"$f":"Teilnehmerliste!B84 &\" \"&Teilnehmerliste!C84","v":"Christoph Wälti"},{"$f":"SUMPRODUCT((Finalrunde!$D$161:$D$176<>\"\")*(Finalrunde!$D$161:$D$176=Finalrunde!$EF$161:$EF$176))\n+SUMPRODUCT((Finalrunde!$E$161:$E$176<>\"\")*(Finalrunde!$E$161:$E$176=Finalrunde!$EI$161:$EI$176))","v":18},9,{"$f":"SUMPRODUCT((COUNTIF(Finalrunde!$D$161:$E$176,Finalrunde!$EF$161:$EF$176)=0)*1)\n+SUMPRODUCT((COUNTIF(Finalrunde!$D$161:$E$176,Finalrunde!$EI$161:$EI$176)=0)*1)","v":5},null,{"$f":"Teilnehmerliste!$A$84","v":79},{"$f":"Teilnehmerliste!B84 &\" \"&Teilnehmerliste!C84","v":"Christoph Wälti"},{"$f":"SUMPRODUCT((Finalrunde!$D$178:$D$185<>\"\")*(Finalrunde!$D$178:$D$185=Finalrunde!$EF$178:$EF$185))\n+SUMPRODUCT((Finalrunde!$E$178:$E$185<>\"\")*(Finalrunde!$E$178:$E$185=Finalrunde!$EI$178:$EI$185))","v":11},2,{"$f":"SUMPRODUCT((COUNTIF(Finalrunde!$D$178:$E$185,Finalrunde!$EF$178:$EF$185)=0)*1)\n+SUMPRODUCT((COUNTIF(Finalrunde!$D$178:$E$185,Finalrunde!$EI$178:$EI$185)=0)*1)","v":3},null,{"$f":"Teilnehmerliste!$A$84","v":79},"Christoph Wälti",{"$f":"SUMPRODUCT((Finalrunde!$D$187:$D$190<>\"\")*(Finalrunde!$D$187:$D$190=Finalrunde!$EF$187:$EF$190))\n+SUMPRODUCT((Finalrunde!$E$187:$E$190<>\"\")*(Finalrunde!$E$187:$E$190=Finalrunde!$EI$187:$EI$190))","v":5},0,{"$f":"SUMPRODUCT((COUNTIF(Finalrunde!$D$187:$E$190,Finalrunde!$EF$187:$EF$190)=0)*1)\n+SUMPRODUCT((COUNTIF(Finalrunde!$D$187:$E$190,Finalrunde!$EI$187:$EI$190)=0)*1)","v":3},null,{"$f":"Teilnehmerliste!$A$84","v":79},"Christoph Wälti",{"$f":"SUMPRODUCT((Finalrunde!$D$192:$D$193<>\"\")*(Finalrunde!$D$192:$D$193=Finalrunde!$EF$192:$EF$193))\n+SUMPRODUCT((Finalrunde!$E$192:$E$193<>\"\")*(Finalrunde!$E$192:$E$193=Finalrunde!$EI$192:$EI$193))","v":2},0,{"$f":"SUMPRODUCT((COUNTIF(Finalrunde!$D$192:$E$193,Finalrunde!$EF$192:$EF$193)=0)*1)\n+SUMPRODUCT((COUNTIF(Finalrunde!$D$192:$E$193,Finalrunde!$EI$192:$EI$193)=0)*1)","v":2}]
[{"$f":"Teilnehmerliste!$A$85","v":80},{"$f":"Teilnehmerliste!B85 &\" \"&Teilnehmerliste!C85","v":"Markus Wagner"},{"$f":"SUMPRODUCT((Finalrunde!$D$161:$D$176<>\"\")*(Finalrunde!$D$161:$D$176=Finalrunde!$EM$161:$EM$176))\n+SUMPRODUCT((Finalrunde!$E$161:$E$176<>\"\")*(Finalrunde!$E$161:$E$176=Finalrunde!$EP$161:$EP$176))","v":18},8,{"$f":"SUMPRODUCT((COUNTIF(Finalrunde!$D$161:$E$176,Finalrunde!$EM$161:$EM$176)=0)*1)\n+SUMPRODUCT((COUNTIF(Finalrunde!$D$161:$E$176,Finalrunde!$EP$161:$EP$176)=0)*1)","v":6},null,{"$f":"Teilnehmerliste!$A$85","v":80},{"$f":"Teilnehmerliste!B85 &\" \"&Teilnehmerliste!C85","v":"Markus Wagner"},{"$f":"SUMPRODUCT((Finalrunde!$D$178:$D$185<>\"\")*(Finalrunde!$D$178:$D$185=Finalrunde!$EM$178:$EM$185))\n+SUMPRODUCT((Finalrunde!$E$178:$E$185<>\"\")*(Finalrunde!$E$178:$E$185=Finalrunde!$EP$178:$EP$185))","v":10},1,{"$f":"SUMPRODUCT((COUNTIF(Finalrunde!$D$178:$E$185,Finalrunde!$EM$178:$EM$185)=0)*1)\n+SUMPRODUCT((COUNTIF(Finalrunde!$D$178:$E$185,Finalrunde!$EP$178:$EP$185)=0)*1)","v":5},null,{"$f":"Teilnehmerliste!$A$85","v":80},"Markus Wagner",{"$f":"SUMPRODUCT((Finalrunde!$D$187:$D$190<>\"\")*(Finalrunde!$D$187:$D$190=Finalrunde!$EM$187:$EM$190))\n+SUMPRODUCT((Finalrunde!$E$187:$E$190<>\"\")*(Finalrunde!$E$187:$E$190=Finalrunde!$EP$187:$EP$190))","v":5},0,{"$f":"SUMPRODUCT((COUNTIF(Finalrunde!$D$187:$E$190,Finalrunde!$EM$187:$EM$190)=0)*1)\n+SUMPRODUCT((COUNTIF(Finalrunde!$D$187:$E$190,Finalrunde!$EP$187:$EP$190)=0)*1)","v":3},null,{"$f":"Teilnehmerliste!$A$85","v":80},"Markus Wagner",{"$f":"SUMPRODUCT((Finalrunde!$D$192:$D$193<>\"\")*(Finalrunde!$D$192:$D$193=Finalrunde!$EM$192:$EM$193))\n+SUMPRODUCT((Finalrunde!$E$192:$E$193<>\"\")*(Finalrunde!$E$192:$E$193=Finalrunde!$EP$192:$EP$193))","v":3},0,{"$f":"SUMPRODUCT((COUNTIF(Finalrunde!$D$192:$E$193,Finalrunde!$EM$192:$EM$193)=0)*1)\n+SUMPRODUCT((COUNTIF(Finalrunde!$D$192:$E$193,Finalrunde!$EP$192:$EP$193)=0)*1)","v":1}]
[{"$f":"Teilnehmerliste!$A$86","v":81},{"$f":"Teilnehmerliste!B86 &\" \"&Teilnehmerliste!C86","v":"Marc Walthard"},{"$f":"SUMPRODUCT((Finalrunde!$D$211:$D$226<>\"\")*(Finalrunde!$D$211:$D$226=Finalrunde!$J$211:$J$226))\n+SUMPRODUCT((Finalrunde!$E$211:$E$226<>\"\")*(Finalrunde!$E$211:$E$226=Finalrunde!$M$211:$M$226))","v":17},10,{"$f":"SUMPRODUCT((COUNTIF(Finalrunde!$D$211:$E$226,Finalrunde!$J$211:$J$226)=0)*1)\n+SUMPRODUCT((COUNTIF(Finalrunde!$D$211:$E$226,Finalrunde!$M$211:$M$226)=0)*1)","v":5},null,{"$f":"Teilnehmerliste!$A$86","v":81},{"$f":"Teilnehmerliste!B86 &\" \"&Teilnehmerliste!C86","v":"Marc Walthard"},{"$f":"SUMPRODUCT((Finalrunde!$D$228:$D$235<>\"\")*(Finalrunde!$D$228:$D$235=Finalrunde!$J$228:$J$235))\n+SUMPRODUCT((Finalrunde!$E$228:$E$235<>\"\")*(Finalrunde!$E$228:$E$235=Finalrunde!$M$228:$M$235))","v":9},1,{"$f":"SUMPRODUCT((COUNTIF(Finalrunde!$D$228:$E$235,Finalrunde!$J$228:$J$235)=0)*1)\n+SUMPRODUCT((COUNTIF(Finalrunde!$D$228:$E$235,Finalrunde!$M$228:$M$235)=0)*1)","v":6},null,{"$f":"Teilnehmerliste!$A$86","v":81},"Marc Walthard",{"$f":"SUMPRODUCT((Finalrunde!$D$237:$D$240<>\"\")*(Finalrunde!$D$237:$D$240=Finalrunde!$J$237:$J$240))\n+SUMPRODUCT((Finalrunde!$E$237:$E$240<>\"\")*(Finalrunde!$E$237:$E$240=Finalrunde!$M$237:$M$240))","v":3},0,{"$f":"SUMPRODUCT((COUNTIF(Finalrunde!$D$237:$E$240,Finalrunde!$J$237:$J$240)=0)*1)\n+SUMPRODUCT((COUNTIF(Finalrunde!$D$237:$E$240,Finalrunde!$M$237:$M$240)=0)*1)","v":5},null,{"$f":"Teilnehmerliste!$A$86","v":81},"Marc Walthard",{"$f":"SUMPRODUCT((Finalrunde!$D$242:$D$243<>\"\")*(Finalrunde!$D$242:$D$243=Finalrunde!$J$242:$J$243))\n+SUMPRODUCT((Finalrunde!$E$242:$E$243<>\"\")*(Finalrunde!$E$242:$E$243=Finalrunde!$M$242:$M$243))","v":1},0,{"$f":"SUMPRODUCT((COUNTIF(Finalrunde!$D$242:$E$243,Finalrunde!$J$242:$J$243)=0)*1)\n+SUMPRODUCT((COUNTIF(Finalrunde!$D$242:$E$243,Finalrunde!$M$242:$M$243)=0)*1)","v":3}]
[{"$f":"Teilnehmerliste!$A$87","v":82},{"$f":"Teilnehmerliste!B87 &\" \"&Teilnehmerliste!C87","v":"Jingwen Wang"},{"$f":"SUMPRODUCT((Finalrunde!$D$211:$D$226<>\"\")*(Finalrunde!$D$211:$D$226=Finalrunde!$Q$211:$Q$226))\n+SUMPRODUCT((Finalrunde!$E$211:$E$226<>\"\")*(Finalrunde!$E$211:$E$226=Finalrunde!$T$211:$T$226))","v":12},12,{"$f":"SUMPRODUCT((COUNTIF(Finalrunde!$D$211:$E$226,Finalrunde!$Q$211:$Q$226)=0)*1)\n+SUMPRODUCT((COUNTIF(Finalrunde!$D$211:$E$226,Finalrunde!$T$211:$T$226)=0)*1)","v":8},null,{"$f":"Teilnehmerliste!$A$87","v":82},{"$f":"Teilnehmerliste!B87 &\" \"&Teilnehmerliste!C87","v":"Jingwen Wang"},{"$f":"SUMPRODUCT((Finalrunde!$D$228:$D$235<>\"\")*(Finalrunde!$D$228:$D$235=Finalrunde!$Q$228:$Q$235))\n+SUMPRODUCT((Finalrunde!$E$228:$E$235<>\"\")*(Finalrunde!$E$228:$E$235=Finalrunde!$T$228:$T$235))","v":7},3,{"$f":"SUMPRODUCT((COUNTIF(Finalrunde!$D$228:$E$235,Finalrunde!$Q$228:$Q$235)=0)*1)\n+SUMPRODUCT((COUNTIF(Finalrunde!$D$228:$E$235,Finalrunde!$T$228:$T$235)=0)*1)","v":6},null,{"$f":"Teilnehmerliste!$A$87","v":82},"Jingwen Wang",{"$f":"SUMPRODUCT((Finalrunde!$D$237:$D$240<>\"\")*(Finalrunde!$D$237:$D$240=Finalrunde!$Q$237:$Q$240))\n+SUMPRODUCT((Finalrunde!$E$237:$E$240<>\"\")*(Finalrunde!$E$237:$E$240=Finalrunde!$T$237:$T$240))","v":3},0,{"$f":"SUMPRODUCT((COUNTIF(Finalrunde!$D$237:$E$240,Finalrunde!$Q$237:$Q$240)=0)*1)\n+SUMPRODUCT((COUNTIF(Finalrunde!$D$237:$E$240,Finalrunde!$T$237:$T$240)=0)*1)","v":5},null,{"$f":"Teilnehmerliste!$A$87","v":82},"Jingwen Wang",{"$f":"SUMPRODUCT((Finalrunde!$D$242:$D$243<>\"\")*(Finalrunde!$D$242:$D$243=Finalrunde!$Q$242:$Q$243))\n+SUMPRODUCT((Finalrunde!$E$242:$E$243<>\"\")*(Finalrunde!$E$242:$E$243=Finalrunde!$T$242:$T$243))","v":3},0,{"$f":"SUMPRODUCT((COUNTIF(Finalrunde!$D$242:$E$243,Finalrunde!$Q$242:$Q$243)=0)*1)\n+SUMPRODUCT((COUNTIF(Finalrunde!$D$242:$E$243,Finalrunde!$T$242:$T$243)=0)*1)","v":1}]
[{"$f":"Teilnehmerliste!$A$88","v":83},{"$f":"Teilnehmerliste!B88 &\" \"&Teilnehmerliste!C88","v":"Stefan Wullschleger"},{"$f":"SUMPRODUCT((Finalrunde!$D$211:$D$226<>\"\")*(Finalrunde!$D$211:$D$226=Finalrunde!$X$211:$X$226))\n+SUMPRODUCT((Finalrunde!$E$211:$E$226<>\"\")*(Finalrunde!$E$211:$E$226=Finalrunde!$AA$211:$AA$226))","v":21},5,{"$f":"SUMPRODUCT((COUNTIF(Finalrunde!$D$211:$E$226,Finalrunde!$X$211:$X$226)=0)*1)\n+SUMPRODUCT((COUNTIF(Finalrunde!$D$211:$E$226,Finalrunde!$AA$211:$AA$226)=0)*1)","v":6},null,{"$f":"Teilnehmerliste!$A$88","v":83},{"$f":"Teilnehmerliste!B88 &\" \"&Teilnehmerliste!C88","v":"Stefan Wullschleger"},{"$f":"SUMPRODUCT((Finalrunde!$D$228:$D$235<>\"\")*(Finalrunde!$D$228:$D$235=Finalrunde!$X$228:$X$235))\n+SUMPRODUCT((Finalrunde!$E$228:$E$235<>\"\")*(Finalrunde!$E$228:$E$235=Finalrunde!$AA$228:$AA$235))","v":10},2,{"$f":"SUMPRODUCT((COUNTIF(Finalrunde!$D$228:$E$235,Finalrunde!$X$228:$X$235)=0)*1)\n+SUMPRODUCT((COUNTIF(Finalrunde!$D$228:$E$235,Finalrunde!$AA$228:$AA$235)=0)*1)","v":4},null,{"$f":"Teilnehmerliste!$A$88","v":83},"Stefan Wullschleger",{"$f":"SUMPRODUCT((Finalrunde!$D$237:$D$240<>\"\")*(Finalrunde!$D$237:$D$240=Finalrunde!$X$237:$X$240))\n+SUMPRODUCT((Finalrunde!$E$237:$E$240<>\"\")*(Finalrunde!$E$237:$E$240=Finalrunde!$AA$237:$AA$240))","v":5},0,{"$f":"SUMPRODUCT((COUNTIF(Finalrunde!$D$237:$E$240,Finalrunde!$X$237:$X$240)=0)*1)\n+SUMPRODUCT((COUNTIF(Finalrunde!$D$237:$E$240,Finalrunde!$AA$237:$AA$240)=0)*1)","v":3},null,{"$f":"Teilnehmerliste!$A$88","v":83},"Stefan Wullschleger",{"$f":"SUMPRODUCT((Finalrunde!$D$242:$D$243<>\"\")*(Finalrunde!$D$242:$D$243=Finalrunde!$X$242:$X$243))\n+SUMPRODUCT((Finalrunde!$E$242:$E$243<>\"\")*(Finalrunde!$E$242:$E$243=Finalrunde!$AA$242:$AA$243))","v":4},0,{"$f":"SUMPRODUCT((COUNTIF(Finalrunde!$D$242:$E$243,Finalrunde!$X$242:$X$243)=0)*1)\n+SUMPRODUCT((COUNTIF(Finalrunde!$D$242:$E$243,Finalrunde!$AA$242:$AA$243)=0)*1)","v":0}]
[{"$f":"Teilnehmerliste!$A$89","v":84},{"$f":"Teilnehmerliste!B89 &\" \"&Teilnehmerliste!C89","v":"Stefan Zachmann"},{"$f":"SUMPRODUCT((Finalrunde!$D$211:$D$226<>\"\")*(Finalrunde!$D$211:$D$226=Finalrunde!$AE$211:$AE$226))\n+SUMPRODUCT((Finalrunde!$E$211:$E$226<>\"\")*(Finalrunde!$E$211:$E$226=Finalrunde!$AH$211:$AH$226))","v":17},6,{"$f":"SUMPRODUCT((COUNTIF(Finalrunde!$D$211:$E$226,Finalrunde!$AE$211:$AE$226)=0)*1)\n+SUMPRODUCT((COUNTIF(Finalrunde!$D$211:$E$226,Finalrunde!$AH$211:$AH$226)=0)*1)","v":9},null,{"$f":"Teilnehmerliste!$A$89","v":84},{"$f":"Teilnehmerliste!B89 &\" \"&Teilnehmerliste!C89","v":"Stefan Zachmann"},{"$f":"SUMPRODUCT((Finalrunde!$D$228:$D$235<>\"\")*(Finalrunde!$D$228:$D$235=Finalrunde!$AE$228:$AE$235))\n+SUMPRODUCT((Finalrunde!$E$228:$E$235<>\"\")*(Finalrunde!$E$228:$E$235=Finalrunde!$AH$228:$AH$235))","v":9},1,{"$f":"SUMPRODUCT((COUNTIF(Finalrunde!$D$228:$E$235,Finalrunde!$AE$228:$AE$235)=0)*1)\n+SUMPRODUCT((COUNTIF(Finalrunde!$D$228:$E$235,Finalrunde!$AH$228:$AH$235)=0)*1)","v":6},null,{"$f":"Teilnehmerliste!$A$89","v":84},"Stefan Zachmann",{"$f":"SUMPRODUCT((Finalrunde!$D$237:$D$240<>\"\")*(Finalrunde!$D$237:$D$240=Finalrunde!$AE$237:$AE$240))\n+SUMPRODUCT((Finalrunde!$E$237:$E$240<>\"\")*(Finalrunde!$E$237:$E$240=Finalrunde!$AH$237:$AH$240))","v":4},0,{"$f":"SUMPRODUCT((COUNTIF(Finalrunde!$D$237:$E$240,Finalrunde!$AE$237:$AE$240)=0)*1)\n+SUMPRODUCT((COUNTIF(Finalrunde!$D$237:$E$240,Finalrunde!$AH$237:$AH$240)=0)*1)","v":4},null,{"$f":"Teilnehmerliste!$A$89","v":84},"Stefan Zachmann",{"$f":"SUMPRODUCT((Finalrunde!$D$242:$D$243<>\"\")*(Finalrunde!$D$242:$D$243=Finalrunde!$AE$242:$AE$243))\n+SUMPRODUCT((Finalrunde!$E$242:$E$243<>\"\")*(Finalrunde!$E$242:$E$243=Finalrunde!$AH$242:$AH$243))","v":2},0,{"$f":"SUMPRODUCT((COUNTIF(Finalrunde!$D$242:$E$243,Finalrunde!$AE$242:$AE$243)=0)*1)\n+SUMPRODUCT((COUNTIF(Finalrunde!$D$242:$E$243,Finalrunde!$AH$242:$AH$243)=0)*1)","v":2}]
[{"$f":"Teilnehmerliste!$A$90","v":85},{"$f":"Teilnehmerliste!B90 &\" \"&Teilnehmerliste!C90","v":" "},{"$f":"SUMPRODUCT((Finalrunde!$D$211:$D$226<>\"\")*(Finalrunde!$D$211:$D$226=Finalrunde!$AL$211:$AL$226))\n+SUMPRODUCT((Finalrunde!$E$211:$E$226<>\"\")*(Finalrunde!$E$211:$E$226=Finalrunde!$AO$211:$AO$226))","v":0},0,{"$f":"SUMPRODUCT((COUNTIF(Finalrunde!$D$211:$E$226,Finalrunde!$AL$211:$AL$226)=0)*1)\n+SUMPRODUCT((COUNTIF(Finalrunde!$D$211:$E$226,Finalrunde!$AO$211:$AO$226)=0)*1)","v":32},null,{"$f":"Teilnehmerliste!$A$90","v":85},{"$f":"Teilnehmerliste!B90 &\" \"&Teilnehmerliste!C90","v":" "},{"$f":"SUMPRODUCT((Finalrunde!$D$228:$D$235<>\"\")*(Finalrunde!$D$228:$D$235=Finalrunde!$AL$228:$AL$235))\n+SUMPRODUCT((Finalrunde!$E$228:$E$235<>\"\")*(Finalrunde!$E$228:$E$235=Finalrunde!$AO$228:$AO$235))","v":0},0,{"$f":"SUMPRODUCT((COUNTIF(Finalrunde!$D$228:$E$235,Finalrunde!$AL$228:$AL$235)=0)*1)\n+SUMPRODUCT((COUNTIF(Finalrunde!$D$228:$E$235,Finalrunde!$AO$228:$AO$235)=0)*1)","v":16},null,{"$f":"Teilnehmerliste!$A$90","v":85}," ",{"$f":"SUMPRODUCT((Finalrunde!$D$237:$D$240<>\"\")*(Finalrunde!$D$237:$D$240=Finalrunde!$AL$237:$AL$240))\n+SUMPRODUCT((Finalrunde!$E$237:$E$240<>\"\")*(Finalrunde!$E$237:$E$240=Finalrunde!$AO$237:$AO$240))","v":0},0,{"$f":"SUMPRODUCT((COUNTIF(Finalrunde!$D$237:$E$240,Finalrunde!$AL$237:$AL$240)=0)*1)\n+SUMPRODUCT((COUNTIF(Finalrunde!$D$237:$E$240,Finalrunde!$AO$237:$AO$240)=0)*1)","v":8},null,{"$f":"Teilnehmerliste!$A$90","v":85}," ",{"$f":"SUMPRODUCT((Finalrunde!$D$242:$D$243<>\"\")*(Finalrunde!$D$242:$D$243=Finalrunde!$AL$242:$AL$243))\n+SUMPRODUCT((Finalrunde!$E$242:$E$243<>\"\")*(Finalrunde!$E$242:$E$243=Finalrunde!$AO$242:$AO$243))","v":0},0,{"$f":"SUMPRODUCT((COUNTIF(Finalrunde!$D$242:$E$243,Finalrunde!$AL$242:$AL$243)=0)*1)\n+SUMPRODUCT((COUNTIF(Finalrunde!$D$242:$E$243,Finalrunde!$AO$242:$AO$243)=0)*1)","v":4}]
[{"$f":"Teilnehmerliste!$A$91","v":86},{"$f":"Teilnehmerliste!B91 &\" \"&Teilnehmerliste!C91","v":" "},{"$f":"SUMPRODUCT((Finalrunde!$D$211:$D$226<>\"\")*(Finalrunde!$D$211:$D$226=Finalrunde!$AS$211:$AS$226))\n+SUMPRODUCT((Finalrunde!$E$211:$E$226<>\"\")*(Finalrunde!$E$211:$E$226=Finalrunde!$AV$211:$AV$226))","v":0},0,{"$f":"SUMPRODUCT((COUNTIF(Finalrunde!$D$211:$E$226,Finalrunde!$AS$211:$AS$226)=0)*1)\n+SUMPRODUCT((COUNTIF(Finalrunde!$D$211:$E$226,Finalrunde!$AV$211:$AV$226)=0)*1)","v":32},null,{"$f":"Teilnehmerliste!$A$91","v":86},{"$f":"Teilnehmerliste!B91 &\" \"&Teilnehmerliste!C91","v":" "},{"$f":"SUMPRODUCT((Finalrunde!$D$228:$D$235<>\"\")*(Finalrunde!$D$228:$D$235=Finalrunde!$AS$228:$AS$235))\n+SUMPRODUCT((Finalrunde!$E$228:$E$235<>\"\")*(Finalrunde!$E$228:$E$235=Finalrunde!$AV$228:$AV$235))","v":0},0,{"$f":"SUMPRODUCT((COUNTIF(Finalrunde!$D$228:$E$235,Finalrunde!$AS$228:$AS$235)=0)*1)\n+SUMPRODUCT((COUNTIF(Finalrunde!$D$228:$E$235,Finalrunde!$AV$228:$AV$235)=0)*1)","v":16},null,{"$f":"Teilnehmerliste!$A$91","v":86}," ",{"$f":"SUMPRODUCT((Finalrunde!$D$237:$D$240<>\"\")*(Finalrunde!$D$237:$D$240=Finalrunde!$AS$237:$AS$240))\n+SUMPRODUCT((Finalrunde!$E$237:$E$240<>\"\")*(Finalrunde!$E$237:$E$240=Finalrunde!$AV$237:$AV$240))","v":0},{"$f":"SUM(8-O94-Q94)","v":0},{"$f":"SUMPRODUCT((COUNTIF(Finalrunde!$D$237:$E$240,Finalrunde!$AS$237:$AS$240)=0)*1)\n+SUMPRODUCT((COUNTIF(Finalrunde!$D$237:$E$240,Finalrunde!$AV$237:$AV$240)=0)*1)","v":8},null,{"$f":"Teilnehmerliste!$A$91","v":86}," ",{"$f":"SUMPRODUCT((Finalrunde!$D$242:$D$243<>\"\")*(Finalrunde!$D$242:$D$243=Finalrunde!$AS$242:$AS$243))\n+SUMPRODUCT((Finalrunde!$E$242:$E$243<>\"\")*(Finalrunde!$E$242:$E$243=Finalrunde!$AV$242:$AV$243))","v":0},0,{"$f":"SUMPRODUCT((COUNTIF(Finalrunde!$D$242:$E$243,Finalrunde!$AS$242:$AS$243)=0)*1)\n+SUMPRODUCT((COUNTIF(Finalrunde!$D$242:$E$243,Finalrunde!$AV$242:$AV$243)=0)*1)","v":4}]
[{"$f":"Teilnehmerliste!$A$92","v":87},{"$f":"Teilnehmerliste!B92 &\" \"&Teilnehmerliste!C92","v":" "},{"$f":"SUMPRODUCT((Finalrunde!$D$211:$D$226<>\"\")*(Finalrunde!$D$211:$D$226=Finalrunde!$AZ$211:$AZ$226))\n+SUMPRODUCT((Finalrunde!$E$211:$E$226<>\"\")*(Finalrunde!$E$211:$E$226=Finalrunde!$BC$211:$BC$226))","v":0},0,{"$f":"SUMPRODUCT((COUNTIF(Finalrunde!$D$211:$E$226,Finalrunde!$AZ$211:$AZ$226)=0)*1)\n+SUMPRODUCT((COUNTIF(Finalrunde!$D$211:$E$226,Finalrunde!$BC$211:$BC$226)=0)*1)","v":32},null,{"$f":"Teilnehmerliste!$A$92","v":87},{"$f":"Teilnehmerliste!B92 &\" \"&Teilnehmerliste!C92","v":" "},{"$f":"SUMPRODUCT((Finalrunde!$D$228:$D$235<>\"\")*(Finalrunde!$D$228:$D$235=Finalrunde!$AZ$228:$AZ$235))\n+SUMPRODUCT((Finalrunde!$E$228:$E$235<>\"\")*(Finalrunde!$E$228:$E$235=Finalrunde!$BC$228:$BC$235))","v":0},0,{"$f":"SUMPRODUCT((COUNTIF(Finalrunde!$D$228:$E$235,Finalrunde!$AZ$228:$AZ$235)=0)*1)\n+SUMPRODUCT((COUNTIF(Finalrunde!$D$228:$E$235,Finalrunde!$BC$228:$BC$235)=0)*1)","v":16},null,{"$f":"Teilnehmerliste!$A$92","v":87}," ",{"$f":"SUMPRODUCT((Finalrunde!$D$237:$D$240<>\"\")*(Finalrunde!$D$237:$D$240=Finalrunde!$AZ$237:$AZ$240))\n+SUMPRODUCT((Finalrunde!$E$237:$E$240<>\"\")*(Finalrunde!$E$237:$E$240=Finalrunde!$BC$237:$BC$240))","v":0},0,{"$f":"SUMPRODUCT((COUNTIF(Finalrunde!$D$237:$E$240,Finalrunde!$AZ$237:$AZ$240)=0)*1)\n+SUMPRODUCT((COUNTIF(Finalrunde!$D$237:$E$240,Finalrunde!$BC$237:$BC$240)=0)*1)","v":8},null,{"$f":"Teilnehmerliste!$A$92","v":87}," ",{"$f":"SUMPRODUCT((Finalrunde!$D$242:$D$243<>\"\")*(Finalrunde!$D$242:$D$243=Finalrunde!$AZ$242:$AZ$243))\n+SUMPRODUCT((Finalrunde!$E$242:$E$243<>\"\")*(Finalrunde!$E$242:$E$243=Finalrunde!$BC$242:$BC$243))","v":0},0,{"$f":"SUMPRODUCT((COUNTIF(Finalrunde!$D$242:$E$243,Finalrunde!$AZ$242:$AZ$243)=0)*1)\n+SUMPRODUCT((COUNTIF(Finalrunde!$D$242:$E$243,Finalrunde!$BC$242:$BC$243)=0)*1)","v":4}]
[{"$f":"Teilnehmerliste!$A$93","v":88},{"$f":"Teilnehmerliste!B93 &\" \"&Teilnehmerliste!C93","v":" "},{"$f":"SUMPRODUCT((Finalrunde!$D$211:$D$226<>\"\")*(Finalrunde!$D$211:$D$226=Finalrunde!$BG$211:$BG$226))\n+SUMPRODUCT((Finalrunde!$E$211:$E$226<>\"\")*(Finalrunde!$E$211:$E$226=Finalrunde!$BJ$211:$BJ$226))","v":0},0,{"$f":"SUMPRODUCT((COUNTIF(Finalrunde!$D$211:$E$226,Finalrunde!$BG$211:$BG$226)=0)*1)\n+SUMPRODUCT((COUNTIF(Finalrunde!$D$211:$E$226,Finalrunde!$BJ$211:$BJ$226)=0)*1)","v":32},null,{"$f":"Teilnehmerliste!$A$93","v":88},{"$f":"Teilnehmerliste!B93 &\" \"&Teilnehmerliste!C93","v":" "},{"$f":"SUMPRODUCT((Finalrunde!$D$228:$D$235<>\"\")*(Finalrunde!$D$228:$D$235=Finalrunde!$BG$228:$BG$235))\n+SUMPRODUCT((Finalrunde!$E$228:$E$235<>\"\")*(Finalrunde!$E$228:$E$235=Finalrunde!$BJ$228:$BJ$235))","v":0},0,{"$f":"SUMPRODUCT((COUNTIF(Finalrunde!$D$228:$E$235,Finalrunde!$BG$228:$BG$235)=0)*1)\n+SUMPRODUCT((COUNTIF(Finalrunde!$D$228:$E$235,Finalrunde!$BJ$228:$BJ$235)=0)*1)","v":16},null,{"$f":"Teilnehmerliste!$A$93","v":88}," ",{"$f":"SUMPRODUCT((Finalrunde!$D$237:$D$240<>\"\")*(Finalrunde!$D$237:$D$240=Finalrunde!$BG$237:$BG$240))\n+SUMPRODUCT((Finalrunde!$E$237:$E$240<>\"\")*(Finalrunde!$E$237:$E$240=Finalrunde!$BJ$237:$BJ$240))","v":0},0,{"$f":"SUMPRODUCT((COUNTIF(Finalrunde!$D$237:$E$240,Finalrunde!$BG$237:$BG$240)=0)*1)\n+SUMPRODUCT((COUNTIF(Finalrunde!$D$237:$E$240,Finalrunde!$BJ$237:$BJ$240)=0)*1)","v":8},null,{"$f":"Teilnehmerliste!$A$93","v":88}," ",{"$f":"SUMPRODUCT((Finalrunde!$D$242:$D$243<>\"\")*(Finalrunde!$D$242:$D$243=Finalrunde!$BG$242:$BG$243))\n+SUMPRODUCT((Finalrunde!$E$242:$E$243<>\"\")*(Finalrunde!$E$242:$E$243=Finalrunde!$BJ$242:$BJ$243))","v":0},0,{"$f":"SUMPRODUCT((COUNTIF(Finalrunde!$D$242:$E$243,Finalrunde!$BG$242:$BG$243)=0)*1)\n+SUMPRODUCT((COUNTIF(Finalrunde!$D$242:$E$243,Finalrunde!$BJ$242:$BJ$243)=0)*1)","v":4}]
[{"$f":"Teilnehmerliste!$A$94","v":89},{"$f":"Teilnehmerliste!B94 &\" \"&Teilnehmerliste!C94","v":" "},{"$f":"SUMPRODUCT((Finalrunde!$D$211:$D$226<>\"\")*(Finalrunde!$D$211:$D$226=Finalrunde!$BN$211:$BN$226))\n+SUMPRODUCT((Finalrunde!$E$211:$E$226<>\"\")*(Finalrunde!$E$211:$E$226=Finalrunde!$BQ$211:$BQ$226))","v":0},0,{"$f":"SUMPRODUCT((COUNTIF(Finalrunde!$D$211:$E$226,Finalrunde!$BN$211:$BN$226)=0)*1)\n+SUMPRODUCT((COUNTIF(Finalrunde!$D$211:$E$226,Finalrunde!$BQ$211:$BQ$226)=0)*1)","v":32},null,{"$f":"Teilnehmerliste!$A$94","v":89},{"$f":"Teilnehmerliste!B94 &\" \"&Teilnehmerliste!C94","v":" "},{"$f":"SUMPRODUCT((Finalrunde!$D$228:$D$235<>\"\")*(Finalrunde!$D$228:$D$235=Finalrunde!$BN$228:$BN$235))\n+SUMPRODUCT((Finalrunde!$E$228:$E$235<>\"\")*(Finalrunde!$E$228:$E$235=Finalrunde!$BQ$228:$BQ$235))","v":0},0,{"$f":"SUMPRODUCT((COUNTIF(Finalrunde!$D$228:$E$235,Finalrunde!$BN$228:$BN$235)=0)*1)\n+SUMPRODUCT((COUNTIF(Finalrunde!$D$228:$E$235,Finalrunde!$BQ$228:$BQ$235)=0)*1)","v":16},null,{"$f":"Teilnehmerliste!$A$94","v":89}," ",{"$f":"SUMPRODUCT((Finalrunde!$D$237:$D$240<>\"\")*(Finalrunde!$D$237:$D$240=Finalrunde!$BN$237:$BN$240))\n+SUMPRODUCT((Finalrunde!$E$237:$E$240<>\"\")*(Finalrunde!$E$237:$E$240=Finalrunde!$BQ$237:$BQ$240))","v":0},0,{"$f":"SUMPRODUCT((COUNTIF(Finalrunde!$D$237:$E$240,Finalrunde!$BN$237:$BN$240)=0)*1)\n+SUMPRODUCT((COUNTIF(Finalrunde!$D$237:$E$240,Finalrunde!$BQ$237:$BQ$240)=0)*1)","v":8},null,{"$f":"Teilnehmerliste!$A$94","v":89}," ",{"$f":"SUMPRODUCT((Finalrunde!$D$242:$D$243<>\"\")*(Finalrunde!$D$242:$D$243=Finalrunde!$BN$242:$BN$243))\n+SUMPRODUCT((Finalrunde!$E$242:$E$243<>\"\")*(Finalrunde!$E$242:$E$243=Finalrunde!$BQ$242:$BQ$243))","v":0},0,{"$f":"SUMPRODUCT((COUNTIF(Finalrunde!$D$242:$E$243,Finalrunde!$BN$242:$BN$243)=0)*1)\n+SUMPRODUCT((COUNTIF(Finalrunde!$D$242:$E$243,Finalrunde!$BQ$242:$BQ$243)=0)*1)","v":4}]
[{"$f":"Teilnehmerliste!$A$95","v":90},{"$f":"Teilnehmerliste!B95 &\" \"&Teilnehmerliste!C95","v":" "},{"$f":"SUMPRODUCT((Finalrunde!$D$211:$D$226<>\"\")*(Finalrunde!$D$211:$D$226=Finalrunde!$BU$211:$BU$226))\n+SUMPRODUCT((Finalrunde!$E$211:$E$226<>\"\")*(Finalrunde!$E$211:$E$226=Finalrunde!$BX$211:$BX$226))","v":0},0,{"$f":"SUMPRODUCT((COUNTIF(Finalrunde!$D$211:$E$226,Finalrunde!$BU$211:$BU$226)=0)*1)\n+SUMPRODUCT((COUNTIF(Finalrunde!$D$211:$E$226,Finalrunde!$BX$211:$BX$226)=0)*1)","v":32},null,{"$f":"Teilnehmerliste!$A$95","v":90},{"$f":"Teilnehmerliste!B95 &\" \"&Teilnehmerliste!C95","v":" "},{"$f":"SUMPRODUCT((Finalrunde!$D$228:$D$235<>\"\")*(Finalrunde!$D$228:$D$235=Finalrunde!$BU$228:$BU$235))\n+SUMPRODUCT((Finalrunde!$E$228:$E$235<>\"\")*(Finalrunde!$E$228:$E$235=Finalrunde!$BX$228:$BX$235))","v":0},0,{"$f":"SUMPRODUCT((COUNTIF(Finalrunde!$D$228:$E$235,Finalrunde!$BU$228:$BU$235)=0)*1)\n+SUMPRODUCT((COUNTIF(Finalrunde!$D$228:$E$235,Finalrunde!$BX$228:$BX$235)=0)*1)","v":16},null,{"$f":"Teilnehmerliste!$A$95","v":90}," ",{"$f":"SUMPRODUCT((Finalrunde!$D$237:$D$240<>\"\")*(Finalrunde!$D$237:$D$240=Finalrunde!$BU$237:$BU$240))\n+SUMPRODUCT((Finalrunde!$E$237:$E$240<>\"\")*(Finalrunde!$E$237:$E$240=Finalrunde!$BX$237:$BX$240))","v":0},0,{"$f":"SUMPRODUCT((COUNTIF(Finalrunde!$D$237:$E$240,Finalrunde!$BU$237:$BU$240)=0)*1)\n+SUMPRODUCT((COUNTIF(Finalrunde!$D$237:$E$240,Finalrunde!$BX$237:$BX$240)=0)*1)","v":8},null,{"$f":"Teilnehmerliste!$A$95","v":90}," ",{"$f":"SUMPRODUCT((Finalrunde!$D$242:$D$243<>\"\")*(Finalrunde!$D$242:$D$243=Finalrunde!$BU$242:$BU$243))\n+SUMPRODUCT((Finalrunde!$E$242:$E$243<>\"\")*(Finalrunde!$E$242:$E$243=Finalrunde!$BX$242:$BX$243))","v":0},0,{"$f":"SUMPRODUCT((COUNTIF(Finalrunde!$D$242:$E$243,Finalrunde!$BU$242:$BU$243)=0)*1)\n+SUMPRODUCT((COUNTIF(Finalrunde!$D$242:$E$243,Finalrunde!$BX$242:$BX$243)=0)*1)","v":4}]
[{"$f":"Teilnehmerliste!$A$96","v":91},{"$f":"Teilnehmerliste!B96 &\" \"&Teilnehmerliste!C96","v":" "},{"$f":"SUMPRODUCT((Finalrunde!$D$211:$D$226<>\"\")*(Finalrunde!$D$211:$D$226=Finalrunde!$CB$211:$CB$226))\n+SUMPRODUCT((Finalrunde!$E$211:$E$226<>\"\")*(Finalrunde!$E$211:$E$226=Finalrunde!$CE$211:$CE$226))","v":0},0,{"$f":"SUMPRODUCT((COUNTIF(Finalrunde!$D$211:$E$226,Finalrunde!$CB$211:$CB$226)=0)*1)\n+SUMPRODUCT((COUNTIF(Finalrunde!$D$211:$E$226,Finalrunde!$CE$211:$CE$226)=0)*1)","v":32},null,{"$f":"Teilnehmerliste!$A$96","v":91},{"$f":"Teilnehmerliste!B96 &\" \"&Teilnehmerliste!C96","v":" "},{"$f":"SUMPRODUCT((Finalrunde!$D$228:$D$235<>\"\")*(Finalrunde!$D$228:$D$235=Finalrunde!$CB$228:$CB$235))\n+SUMPRODUCT((Finalrunde!$E$228:$E$235<>\"\")*(Finalrunde!$E$228:$E$235=Finalrunde!$CE$228:$CE$235))","v":0},0,{"$f":"SUMPRODUCT((COUNTIF(Finalrunde!$D$228:$E$235,Finalrunde!$CB$228:$CB$235)=0)*1)\n+SUMPRODUCT((COUNTIF(Finalrunde!$D$228:$E$235,Finalrunde!$CE$228:$CE$235)=0)*1)","v":16},null,{"$f":"Teilnehmerliste!$A$96","v":91}," ",{"$f":"SUMPRODUCT((Finalrunde!$D$237:$D$240<>\"\")*(Finalrunde!$D$237:$D$240=Finalrunde!$CB$237:$CB$240))\n+SUMPRODUCT((Finalrunde!$E$237:$E$240<>\"\")*(Finalrunde!$E$237:$E$240=Finalrunde!$CE$237:$CE$240))","v":0},0,{"$f":"SUMPRODUCT((COUNTIF(Finalrunde!$D$237:$E$240,Finalrunde!$CB$237:$CB$240)=0)*1)\n+SUMPRODUCT((COUNTIF(Finalrunde!$D$237:$E$240,Finalrunde!$CE$237:$CE$240)=0)*1)","v":8},null,{"$f":"Teilnehmerliste!$A$96","v":91}," ",{"$f":"SUMPRODUCT((Finalrunde!$D$242:$D$243<>\"\")*(Finalrunde!$D$242:$D$243=Finalrunde!$CB$242:$CB$243))\n+SUMPRODUCT((Finalrunde!$E$242:$E$243<>\"\")*(Finalrunde!$E$242:$E$243=Finalrunde!$CE$242:$CE$243))","v":0},0,{"$f":"SUMPRODUCT((COUNTIF(Finalrunde!$D$242:$E$243,Finalrunde!$CB$242:$CB$243)=0)*1)\n+SUMPRODUCT((COUNTIF(Finalrunde!$D$242:$E$243,Finalrunde!$CE$242:$CE$243)=0)*1)","v":4}]
[{"$f":"Teilnehmerliste!$A$97","v":92},{"$f":"Teilnehmerliste!B97 &\" \"&Teilnehmerliste!C97","v":" "},{"$f":"SUMPRODUCT((Finalrunde!$D$211:$D$226<>\"\")*(Finalrunde!$D$211:$D$226=Finalrunde!$CI$211:$CI$226))\n+SUMPRODUCT((Finalrunde!$E$211:$E$226<>\"\")*(Finalrunde!$E$211:$E$226=Finalrunde!$CL$211:$CL$226))","v":0},0,{"$f":"SUMPRODUCT((COUNTIF(Finalrunde!$D$211:$E$226,Finalrunde!$CI$211:$CI$226)=0)*1)\n+SUMPRODUCT((COUNTIF(Finalrunde!$D$211:$E$226,Finalrunde!$CL$211:$CL$226)=0)*1)","v":32},null,{"$f":"Teilnehmerliste!$A$97","v":92},{"$f":"Teilnehmerliste!B97 &\" \"&Teilnehmerliste!C97","v":" "},{"$f":"SUMPRODUCT((Finalrunde!$D$228:$D$235<>\"\")*(Finalrunde!$D$228:$D$235=Finalrunde!$CI$228:$CI$235))\n+SUMPRODUCT((Finalrunde!$E$228:$E$235<>\"\")*(Finalrunde!$E$228:$E$235=Finalrunde!$CL$228:$CL$235))","v":0},0,{"$f":"SUMPRODUCT((COUNTIF(Finalrunde!$D$228:$E$235,Finalrunde!$CI$228:$CI$235)=0)*1)\n+SUMPRODUCT((COUNTIF(Finalrunde!$D$228:$E$235,Finalrunde!$CL$228:$CL$235)=0)*1)","v":16},null,{"$f":"Teilnehmerliste!$A$97","v":92}," ",{"$f":"SUMPRODUCT((Finalrunde!$D$237:$D$240<>\"\")*(Finalrunde!$D$237:$D$240=Finalrunde!$CI$237:$CI$240))\n+SUMPRODUCT((Finalrunde!$E$237:$E$240<>\"\")*(Finalrunde!$E$237:$E$240=Finalrunde!$CL$237:$CL$240))","v":0},0,{"$f":"SUMPRODUCT((COUNTIF(Finalrunde!$D$237:$E$240,Finalrunde!$CI$237:$CI$240)=0)*1)\n+SUMPRODUCT((COUNTIF(Finalrunde!$D$237:$E$240,Finalrunde!$CL$237:$CL$240)=0)*1)","v":8},null,{"$f":"Teilnehmerliste!$A$97","v":92}," ",{"$f":"SUMPRODUCT((Finalrunde!$D$242:$D$243<>\"\")*(Finalrunde!$D$242:$D$243=Finalrunde!$CI$242:$CI$243))\n+SUMPRODUCT((Finalrunde!$E$242:$E$243<>\"\")*(Finalrunde!$E$242:$E$243=Finalrunde!$CL$242:$CL$243))","v":0},0,{"$f":"SUMPRODUCT((COUNTIF(Finalrunde!$D$242:$E$243,Finalrunde!$CI$242:$CI$243)=0)*1)\n+SUMPRODUCT((COUNTIF(Finalrunde!$D$242:$E$243,Finalrunde!$CL$242:$CL$243)=0)*1)","v":4}]
[{"$f":"Teilnehmerliste!$A$98","v":93},{"$f":"Teilnehmerliste!B98 &\" \"&Teilnehmerliste!C98","v":" "},{"$f":"SUMPRODUCT((Finalrunde!$D$211:$D$226<>\"\")*(Finalrunde!$D$211:$D$226=Finalrunde!$CP$211:$CP$226))\n+SUMPRODUCT((Finalrunde!$E$211:$E$226<>\"\")*(Finalrunde!$E$211:$E$226=Finalrunde!$CS$211:$CS$226))","v":0},0,{"$f":"SUMPRODUCT((COUNTIF(Finalrunde!$D$211:$E$226,Finalrunde!$CP$211:$CP$226)=0)*1)\n+SUMPRODUCT((COUNTIF(Finalrunde!$D$211:$E$226,Finalrunde!$CS$211:$CS$226)=0)*1)","v":32},null,{"$f":"Teilnehmerliste!$A$98","v":93},{"$f":"Teilnehmerliste!B98 &\" \"&Teilnehmerliste!C98","v":" "},{"$f":"SUMPRODUCT((Finalrunde!$D$228:$D$235<>\"\")*(Finalrunde!$D$228:$D$235=Finalrunde!$CP$228:$CP$235))\n+SUMPRODUCT((Finalrunde!$E$228:$E$235<>\"\")*(Finalrunde!$E$228:$E$235=Finalrunde!$CS$228:$CS$235))","v":0},0,{"$f":"SUMPRODUCT((COUNTIF(Finalrunde!$D$228:$E$235,Finalrunde!$CP$228:$CP$235)=0)*1)\n+SUMPRODUCT((COUNTIF(Finalrunde!$D$228:$E$235,Finalrunde!$CS$228:$CS$235)=0)*1)","v":16},null,{"$f":"Teilnehmerliste!$A$98","v":93}," ",{"$f":"SUMPRODUCT((Finalrunde!$D$237:$D$240<>\"\")*(Finalrunde!$D$237:$D$240=Finalrunde!$CP$237:$CP$240))\n+SUMPRODUCT((Finalrunde!$E$237:$E$240<>\"\")*(Finalrunde!$E$237:$E$240=Finalrunde!$CS$237:$CS$240))","v":0},0,{"$f":"SUMPRODUCT((COUNTIF(Finalrunde!$D$237:$E$240,Finalrunde!$CP$237:$CP$240)=0)*1)\n+SUMPRODUCT((COUNTIF(Finalrunde!$D$237:$E$240,Finalrunde!$CS$237:$CS$240)=0)*1)","v":8},null,{"$f":"Teilnehmerliste!$A$98","v":93}," ",{"$f":"SUMPRODUCT((Finalrunde!$D$242:$D$243<>\"\")*(Finalrunde!$D$242:$D$243=Finalrunde!$CP$242:$CP$243))\n+SUMPRODUCT((Finalrunde!$E$242:$E$243<>\"\")*(Finalrunde!$E$242:$E$243=Finalrunde!$CS$242:$CS$243))","v":0},0,{"$f":"SUMPRODUCT((COUNTIF(Finalrunde!$D$242:$E$243,Finalrunde!$CP$242:$CP$243)=0)*1)\n+SUMPRODUCT((COUNTIF(Finalrunde!$D$242:$E$243,Finalrunde!$CS$242:$CS$243)=0)*1)","v":4}]
[{"$f":"Teilnehmerliste!$A$99","v":94},{"$f":"Teilnehmerliste!B99 &\" \"&Teilnehmerliste!C99","v":" "},{"$f":"SUMPRODUCT((Finalrunde!$D$211:$D$226<>\"\")*(Finalrunde!$D$211:$D$226=Finalrunde!$CW$211:$CW$226))\n+SUMPRODUCT((Finalrunde!$E$211:$E$226<>\"\")*(Finalrunde!$E$211:$E$226=Finalrunde!$CZ$211:$CZ$226))","v":0},0,{"$f":"SUMPRODUCT((COUNTIF(Finalrunde!$D$211:$E$226,Finalrunde!$CW$211:$CW$226)=0)*1)\n+SUMPRODUCT((COUNTIF(Finalrunde!$D$211:$E$226,Finalrunde!$CZ$211:$CZ$226)=0)*1)","v":32},null,{"$f":"Teilnehmerliste!$A$99","v":94},{"$f":"Teilnehmerliste!B99 &\" \"&Teilnehmerliste!C99","v":" "},{"$f":"SUMPRODUCT((Finalrunde!$D$228:$D$235<>\"\")*(Finalrunde!$D$228:$D$235=Finalrunde!$CW$228:$CW$235))\n+SUMPRODUCT((Finalrunde!$E$228:$E$235<>\"\")*(Finalrunde!$E$228:$E$235=Finalrunde!$CZ$228:$CZ$235))","v":0},0,{"$f":"SUMPRODUCT((COUNTIF(Finalrunde!$D$228:$E$235,Finalrunde!$CW$228:$CW$235)=0)*1)\n+SUMPRODUCT((COUNTIF(Finalrunde!$D$228:$E$235,Finalrunde!$CZ$228:$CZ$235)=0)*1)","v":16},null,{"$f":"Teilnehmerliste!$A$99","v":94}," ",{"$f":"SUMPRODUCT((Finalrunde!$D$237:$D$240<>\"\")*(Finalrunde!$D$237:$D$240=Finalrunde!$CW$237:$CW$240))\n+SUMPRODUCT((Finalrunde!$E$237:$E$240<>\"\")*(Finalrunde!$E$237:$E$240=Finalrunde!$CZ$237:$CZ$240))","v":0},0,{"$f":"SUMPRODUCT((COUNTIF(Finalrunde!$D$237:$E$240,Finalrunde!$CW$237:$CW$240)=0)*1)\n+SUMPRODUCT((COUNTIF(Finalrunde!$D$237:$E$240,Finalrunde!$CZ$237:$CZ$240)=0)*1)","v":8},null,{"$f":"Teilnehmerliste!$A$99","v":94}," ",{"$f":"SUMPRODUCT((Finalrunde!$D$242:$D$243<>\"\")*(Finalrunde!$D$242:$D$243=Finalrunde!$CW$242:$CW$243))\n+SUMPRODUCT((Finalrunde!$E$242:$E$243<>\"\")*(Finalrunde!$E$242:$E$243=Finalrunde!$CZ$242:$CZ$243))","v":0},0,{"$f":"SUMPRODUCT((COUNTIF(Finalrunde!$D$242:$E$243,Finalrunde!$CW$242:$CW$243)=0)*1)\n+SUMPRODUCT((COUNTIF(Finalrunde!$D$242:$E$243,Finalrunde!$CZ$242:$CZ$243)=0)*1)","v":4}]
[{"$f":"Teilnehmerliste!$A$100","v":95},{"$f":"Teilnehmerliste!B100 &\" \"&Teilnehmerliste!C100","v":" "},{"$f":"SUMPRODUCT((Finalrunde!$D$211:$D$226<>\"\")*(Finalrunde!$D$211:$D$226=Finalrunde!$DD$211:$DD$226))\n+SUMPRODUCT((Finalrunde!$E$211:$E$226<>\"\")*(Finalrunde!$E$211:$E$226=Finalrunde!$DG$211:$DG$226))","v":0},0,{"$f":"SUMPRODUCT((COUNTIF(Finalrunde!$D$211:$E$226,Finalrunde!$DD$211:$DD$226)=0)*1)\n+SUMPRODUCT((COUNTIF(Finalrunde!$D$211:$E$226,Finalrunde!$DG$211:$DG$226)=0)*1)","v":32},null,{"$f":"Teilnehmerliste!$A$100","v":95},{"$f":"Teilnehmerliste!B100 &\" \"&Teilnehmerliste!C100","v":" "},{"$f":"SUMPRODUCT((Finalrunde!$D$228:$D$235<>\"\")*(Finalrunde!$D$228:$D$235=Finalrunde!$DD$228:$DD$235))\n+SUMPRODUCT((Finalrunde!$E$228:$E$235<>\"\")*(Finalrunde!$E$228:$E$235=Finalrunde!$DG$228:$DG$235))","v":0},0,{"$f":"SUMPRODUCT((COUNTIF(Finalrunde!$D$228:$E$235,Finalrunde!$DD$228:$DD$235)=0)*1)\n+SUMPRODUCT((COUNTIF(Finalrunde!$D$228:$E$235,Finalrunde!$DG$228:$DG$235)=0)*1)","v":16},null,{"$f":"Teilnehmerliste!$A$100","v":95}," ",{"$f":"SUMPRODUCT((Finalrunde!$D$237:$D$240<>\"\")*(Finalrunde!$D$237:$D$240=Finalrunde!$DD$237:$DD$240))\n+SUMPRODUCT((Finalrunde!$E$237:$E$240<>\"\")*(Finalrunde!$E$237:$E$240=Finalrunde!$DG$237:$DG$240))","v":0},0,{"$f":"SUMPRODUCT((COUNTIF(Finalrunde!$D$237:$E$240,Finalrunde!$DD$237:$DD$240)=0)*1)\n+SUMPRODUCT((COUNTIF(Finalrunde!$D$237:$E$240,Finalrunde!$DG$237:$DG$240)=0)*1)","v":8},null,{"$f":"Teilnehmerliste!$A$100","v":95}," ",{"$f":"SUMPRODUCT((Finalrunde!$D$242:$D$243<>\"\")*(Finalrunde!$D$242:$D$243=Finalrunde!$DD$242:$DD$243))\n+SUMPRODUCT((Finalrunde!$E$242:$E$243<>\"\")*(Finalrunde!$E$242:$E$243=Finalrunde!$DG$242:$DG$243))","v":0},0,{"$f":"SUMPRODUCT((COUNTIF(Finalrunde!$D$242:$E$243,Finalrunde!$DD$242:$DD$243)=0)*1)\n+SUMPRODUCT((COUNTIF(Finalrunde!$D$242:$E$243,Finalrunde!$DG$242:$DG$243)=0)*1)","v":4}]
[{"$f":"Teilnehmerliste!$A$101","v":96},{"$f":"Teilnehmerliste!B101 &\" \"&Teilnehmerliste!C101","v":" "},{"$f":"SUMPRODUCT((Finalrunde!$D$211:$D$226<>\"\")*(Finalrunde!$D$211:$D$226=Finalrunde!$DK$211:$DK$226))\n+SUMPRODUCT((Finalrunde!$E$211:$E$226<>\"\")*(Finalrunde!$E$211:$E$226=Finalrunde!$DN$211:$DN$226))","v":0},0,{"$f":"SUMPRODUCT((COUNTIF(Finalrunde!$D$211:$E$226,Finalrunde!$DK$211:$DK$226)=0)*1)\n+SUMPRODUCT((COUNTIF(Finalrunde!$D$211:$E$226,Finalrunde!$DN$211:$DN$226)=0)*1)","v":32},null,{"$f":"Teilnehmerliste!$A$101","v":96},{"$f":"Teilnehmerliste!B101 &\" \"&Teilnehmerliste!C101","v":" "},{"$f":"SUMPRODUCT((Finalrunde!$D$228:$D$235<>\"\")*(Finalrunde!$D$228:$D$235=Finalrunde!$DK$228:$DK$235))\n+SUMPRODUCT((Finalrunde!$E$228:$E$235<>\"\")*(Finalrunde!$E$228:$E$235=Finalrunde!$DN$228:$DN$235))","v":0},0,{"$f":"SUMPRODUCT((COUNTIF(Finalrunde!$D$228:$E$235,Finalrunde!$DK$228:$DK$235)=0)*1)\n+SUMPRODUCT((COUNTIF(Finalrunde!$D$228:$E$235,Finalrunde!$DN$228:$DN$235)=0)*1)","v":16},null,{"$f":"Teilnehmerliste!$A$101","v":96}," ",{"$f":"SUMPRODUCT((Finalrunde!$D$237:$D$240<>\"\")*(Finalrunde!$D$237:$D$240=Finalrunde!$DK$237:$DK$240))\n+SUMPRODUCT((Finalrunde!$E$237:$E$240<>\"\")*(Finalrunde!$E$237:$E$240=Finalrunde!$DN$237:$DN$240))","v":0},0,{"$f":"SUMPRODUCT((COUNTIF(Finalrunde!$D$237:$E$240,Finalrunde!$DK$237:$DK$240)=0)*1)\n+SUMPRODUCT((COUNTIF(Finalrunde!$D$237:$E$240,Finalrunde!$DN$237:$DN$240)=0)*1)","v":8},null,{"$f":"Teilnehmerliste!$A$101","v":96}," ",{"$f":"SUMPRODUCT((Finalrunde!$D$242:$D$243<>\"\")*(Finalrunde!$D$242:$D$243=Finalrunde!$DK$242:$DK$243))\n+SUMPRODUCT((Finalrunde!$E$242:$E$243<>\"\")*(Finalrunde!$E$242:$E$243=Finalrunde!$DN$242:$DN$243))","v":0},0,{"$f":"SUMPRODUCT((COUNTIF(Finalrunde!$D$242:$E$243,Finalrunde!$DK$242:$DK$243)=0)*1)\n+SUMPRODUCT((COUNTIF(Finalrunde!$D$242:$E$243,Finalrunde!$DN$242:$DN$243)=0)*1)","v":4}]
[{"$f":"Teilnehmerliste!$A$102","v":97},{"$f":"Teilnehmerliste!B102 &\" \"&Teilnehmerliste!C102","v":" "},{"$f":"SUMPRODUCT((Finalrunde!$D$211:$D$226<>\"\")*(Finalrunde!$D$211:$D$226=Finalrunde!$DR$211:$DR$226))\n+SUMPRODUCT((Finalrunde!$E$211:$E$226<>\"\")*(Finalrunde!$E$211:$E$226=Finalrunde!$DU$211:$DU$226))","v":0},0,{"$f":"SUMPRODUCT((COUNTIF(Finalrunde!$D$211:$E$226,Finalrunde!$DR$211:$DR$226)=0)*1)\n+SUMPRODUCT((COUNTIF(Finalrunde!$D$211:$E$226,Finalrunde!$DU$211:$DU$226)=0)*1)","v":32},null,{"$f":"Teilnehmerliste!$A$102","v":97},{"$f":"Teilnehmerliste!B102 &\" \"&Teilnehmerliste!C102","v":" "},{"$f":"SUMPRODUCT((Finalrunde!$D$228:$D$235<>\"\")*(Finalrunde!$D$228:$D$235=Finalrunde!$DR$228:$DR$235))\n+SUMPRODUCT((Finalrunde!$E$228:$E$235<>\"\")*(Finalrunde!$E$228:$E$235=Finalrunde!$DU$228:$DU$235))","v":0},0,{"$f":"SUMPRODUCT((COUNTIF(Finalrunde!$D$228:$E$235,Finalrunde!$DR$228:$DR$235)=0)*1)\n+SUMPRODUCT((COUNTIF(Finalrunde!$D$228:$E$235,Finalrunde!$DU$228:$DU$235)=0)*1)","v":16},null,{"$f":"Teilnehmerliste!$A$102","v":97}," ",{"$f":"SUMPRODUCT((Finalrunde!$D$237:$D$240<>\"\")*(Finalrunde!$D$237:$D$240=Finalrunde!$DR$237:$DR$240))\n+SUMPRODUCT((Finalrunde!$E$237:$E$240<>\"\")*(Finalrunde!$E$237:$E$240=Finalrunde!$DU$237:$DU$240))","v":0},0,{"$f":"SUMPRODUCT((COUNTIF(Finalrunde!$D$237:$E$240,Finalrunde!$DR$237:$DR$240)=0)*1)\n+SUMPRODUCT((COUNTIF(Finalrunde!$D$237:$E$240,Finalrunde!$DU$237:$DU$240)=0)*1)","v":8},null,{"$f":"Teilnehmerliste!$A$102","v":97}," ",{"$f":"SUMPRODUCT((Finalrunde!$D$242:$D$243<>\"\")*(Finalrunde!$D$242:$D$243=Finalrunde!$DR$242:$DR$243))\n+SUMPRODUCT((Finalrunde!$E$242:$E$243<>\"\")*(Finalrunde!$E$242:$E$243=Finalrunde!$DU$242:$DU$243))","v":0},0,{"$f":"SUMPRODUCT((COUNTIF(Finalrunde!$D$242:$E$243,Finalrunde!$DR$242:$DR$243)=0)*1)\n+SUMPRODUCT((COUNTIF(Finalrunde!$D$242:$E$243,Finalrunde!$DU$242:$DU$243)=0)*1)","v":4}]
[{"$f":"Teilnehmerliste!$A$103","v":98},{"$f":"Teilnehmerliste!B103 &\" \"&Teilnehmerliste!C103","v":" "},{"$f":"SUMPRODUCT((Finalrunde!$D$211:$D$226<>\"\")*(Finalrunde!$D$211:$D$226=Finalrunde!$DY$211:$DY$226))\n+SUMPRODUCT((Finalrunde!$E$211:$E$226<>\"\")*(Finalrunde!$E$211:$E$226=Finalrunde!$EB$211:$EB$226))","v":0},0,{"$f":"SUMPRODUCT((COUNTIF(Finalrunde!$D$211:$E$226,Finalrunde!$DY$211:$DY$226)=0)*1)\n+SUMPRODUCT((COUNTIF(Finalrunde!$D$211:$E$226,Finalrunde!$EB$211:$EB$226)=0)*1)","v":32},null,{"$f":"Teilnehmerliste!$A$103","v":98},{"$f":"Teilnehmerliste!B103 &\" \"&Teilnehmerliste!C103","v":" "},{"$f":"SUMPRODUCT((Finalrunde!$D$228:$D$235<>\"\")*(Finalrunde!$D$228:$D$235=Finalrunde!$DY$228:$DY$235))\n+SUMPRODUCT((Finalrunde!$E$228:$E$235<>\"\")*(Finalrunde!$E$228:$E$235=Finalrunde!$EB$228:$EB$235))","v":0},0,{"$f":"SUMPRODUCT((COUNTIF(Finalrunde!$D$228:$E$235,Finalrunde!$DY$228:$DY$235)=0)*1)\n+SUMPRODUCT((COUNTIF(Finalrunde!$D$228:$E$235,Finalrunde!$EB$228:$EB$235)=0)*1)","v":16},null,{"$f":"Teilnehmerliste!$A$103","v":98}," ",{"$f":"SUMPRODUCT((Finalrunde!$D$237:$D$240<>\"\")*(Finalrunde!$D$237:$D$240=Finalrunde!$DY$237:$DY$240))\n+SUMPRODUCT((Finalrunde!$E$237:$E$240<>\"\")*(Finalrunde!$E$237:$E$240=Finalrunde!$EB$237:$EB$240))","v":0},0,{"$f":"SUMPRODUCT((COUNTIF(Finalrunde!$D$237:$E$240,Finalrunde!$DY$237:$DY$240)=0)*1)\n+SUMPRODUCT((COUNTIF(Finalrunde!$D$237:$E$240,Finalrunde!$EB$237:$EB$240)=0)*1)","v":8},null,{"$f":"Teilnehmerliste!$A$103","v":98}," ",{"$f":"SUMPRODUCT((Finalrunde!$D$242:$D$243<>\"\")*(Finalrunde!$D$242:$D$243=Finalrunde!$DY$242:$DY$243))\n+SUMPRODUCT((Finalrunde!$E$242:$E$243<>\"\")*(Finalrunde!$E$242:$E$243=Finalrunde!$EB$242:$EB$243))","v":0},0,{"$f":"SUMPRODUCT((COUNTIF(Finalrunde!$D$242:$E$243,Finalrunde!$DY$242:$DY$243)=0)*1)\n+SUMPRODUCT((COUNTIF(Finalrunde!$D$242:$E$243,Finalrunde!$EB$242:$EB$243)=0)*1)","v":4}]
[{"$f":"Teilnehmerliste!$A$104","v":99},{"$f":"Teilnehmerliste!B104 &\" \"&Teilnehmerliste!C104","v":" "},{"$f":"SUMPRODUCT((Finalrunde!$D$211:$D$226<>\"\")*(Finalrunde!$D$211:$D$226=Finalrunde!$EF$211:$EF$226))\n+SUMPRODUCT((Finalrunde!$E$211:$E$226<>\"\")*(Finalrunde!$E$211:$E$226=Finalrunde!$EI$211:$EI$226))","v":0},0,{"$f":"SUMPRODUCT((COUNTIF(Finalrunde!$D$211:$E$226,Finalrunde!$EF$211:$EF$226)=0)*1)\n+SUMPRODUCT((COUNTIF(Finalrunde!$D$211:$E$226,Finalrunde!$EI$211:$EI$226)=0)*1)","v":32},null,{"$f":"Teilnehmerliste!$A$104","v":99},{"$f":"Teilnehmerliste!B104 &\" \"&Teilnehmerliste!C104","v":" "},{"$f":"SUMPRODUCT((Finalrunde!$D$228:$D$235<>\"\")*(Finalrunde!$D$228:$D$235=Finalrunde!$EF$228:$EF$235))\n+SUMPRODUCT((Finalrunde!$E$228:$E$235<>\"\")*(Finalrunde!$E$228:$E$235=Finalrunde!$EI$228:$EI$235))","v":0},0,{"$f":"SUMPRODUCT((COUNTIF(Finalrunde!$D$228:$E$235,Finalrunde!$EF$228:$EF$235)=0)*1)\n+SUMPRODUCT((COUNTIF(Finalrunde!$D$228:$E$235,Finalrunde!$EI$228:$EI$235)=0)*1)","v":16},null,{"$f":"Teilnehmerliste!$A$104","v":99}," ",{"$f":"SUMPRODUCT((Finalrunde!$D$237:$D$240<>\"\")*(Finalrunde!$D$237:$D$240=Finalrunde!$EF$237:$EF$240))\n+SUMPRODUCT((Finalrunde!$E$237:$E$240<>\"\")*(Finalrunde!$E$237:$E$240=Finalrunde!$EI$237:$EI$240))","v":0},0,{"$f":"SUMPRODUCT((COUNTIF(Finalrunde!$D$237:$E$240,Finalrunde!$EF$237:$EF$240)=0)*1)\n+SUMPRODUCT((COUNTIF(Finalrunde!$D$237:$E$240,Finalrunde!$EI$237:$EI$240)=0)*1)","v":8},null,{"$f":"Teilnehmerliste!$A$104","v":99}," ",{"$f":"SUMPRODUCT((Finalrunde!$D$242:$D$243<>\"\")*(Finalrunde!$D$242:$D$243=Finalrunde!$EF$242:$EF$243))\n+SUMPRODUCT((Finalrunde!$E$242:$E$243<>\"\")*(Finalrunde!$E$242:$E$243=Finalrunde!$EI$242:$EI$243))","v":0},0,{"$f":"SUMPRODUCT((COUNTIF(Finalrunde!$D$242:$E$243,Finalrunde!$EF$242:$EF$243)=0)*1)\n+SUMPRODUCT((COUNTIF(Finalrunde!$D$242:$E$243,Finalrunde!$EI$242:$EI$243)=0)*1)","v":4}]
[{"$f":"Teilnehmerliste!$A$105","v":100},{"$f":"Teilnehmerliste!B105 &\" \"&Teilnehmerliste!C105","v":" "},{"$f":"SUMPRODUCT((Finalrunde!$D$211:$D$226<>\"\")*(Finalrunde!$D$211:$D$226=Finalrunde!$EM$211:$EM$226))\n+SUMPRODUCT((Finalrunde!$E$211:$E$226<>\"\")*(Finalrunde!$E$211:$E$226=Finalrunde!$EP$211:$EP$226))","v":0},0,{"$f":"SUMPRODUCT((COUNTIF(Finalrunde!$D$211:$E$226,Finalrunde!$EM$211:$EM$226)=0)*1)\n+SUMPRODUCT((COUNTIF(Finalrunde!$D$211:$E$226,Finalrunde!$EP$211:$EP$226)=0)*1)","v":32},null,{"$f":"Teilnehmerliste!$A$105","v":100},{"$f":"Teilnehmerliste!B105 &\" \"&Teilnehmerliste!C105","v":" "},{"$f":"SUMPRODUCT((Finalrunde!$D$228:$D$235<>\"\")*(Finalrunde!$D$228:$D$235=Finalrunde!$EM$228:$EM$235))\n+SUMPRODUCT((Finalrunde!$E$228:$E$235<>\"\")*(Finalrunde!$E$228:$E$235=Finalrunde!$EP$228:$EP$235))","v":0},0,{"$f":"SUMPRODUCT((COUNTIF(Finalrunde!$D$228:$E$235,Finalrunde!$EM$228:$EM$235)=0)*1)\n+SUMPRODUCT((COUNTIF(Finalrunde!$D$228:$E$235,Finalrunde!$EP$228:$EP$235)=0)*1)","v":16},null,{"$f":"Teilnehmerliste!$A$105","v":100}," ",{"$f":"SUMPRODUCT((Finalrunde!$D$237:$D$240<>\"\")*(Finalrunde!$D$237:$D$240=Finalrunde!$EM$237:$EM$240))\n+SUMPRODUCT((Finalrunde!$E$237:$E$240<>\"\")*(Finalrunde!$E$237:$E$240=Finalrunde!$EP$237:$EP$240))","v":0},0,{"$f":"SUMPRODUCT((COUNTIF(Finalrunde!$D$237:$E$240,Finalrunde!$EM$237:$EM$240)=0)*1)\n+SUMPRODUCT((COUNTIF(Finalrunde!$D$237:$E$240,Finalrunde!$EP$237:$EP$240)=0)*1)","v":8},null,{"$f":"Teilnehmerliste!$A$105","v":100}," ",{"$f":"SUMPRODUCT((Finalrunde!$D$242:$D$243<>\"\")*(Finalrunde!$D$242:$D$243=Finalrunde!$EM$242:$EM$243))\n+SUMPRODUCT((Finalrunde!$E$242:$E$243<>\"\")*(Finalrunde!$E$242:$E$243=Finalrunde!$EP$242:$EP$243))","v":0},0,{"$f":"SUMPRODUCT((COUNTIF(Finalrunde!$D$242:$E$243,Finalrunde!$EM$242:$EM$243)=0)*1)\n+SUMPRODUCT((COUNTIF(Finalrunde!$D$242:$E$243,Finalrunde!$EP$242:$EP$243)=0)*1)","v":4}]
[null,"Summe:",{"$f":"SUM(C9:C108)","v":1435},{"$f":"SUM(D9:D108)","v":742},{"$f":"SUM(E9:E108)","v":1023},null,null,"Summe:",{"$f":"SUM(I9:I108)","v":750},{"$f":"SUM(J9:J108)","v":191},{"$f":"SUM(K9:K108)","v":659},null,null,"Summe:",{"$f":"SUM(O9:O108)","v":388},{"$f":"SUM(P9:P108)","v":13},{"$f":"SUM(Q9:Q108)","v":399},null,null,"Summe:",{"$f":"SUM(U9:U108)","v":218},{"$f":"SUM(V9:V108)","v":5},{"$f":"SUM(W9:W108)","v":177}]